{"text_format":"1","workbook":"xlsx","n_sheets":126,"sheets":["BL OECD total 2050","BL OECD total 2030","Introduction","Goals and Energy Consumption","Front Page","TOC","Overview - 2018","Result - Tendency","Overview - The Calculation","Total Consumption","Share of Consumption","Share of Consumption - Deeper","Consumption - Transport","Consumption - Industry","Consumption - Other","Transport Losses","Conversion","Conversion - Deeper","Conversion - Electricity","Conversion - Heat","Conversion - Refinieres","Conversion - Industry Own Use","Future Emissions","Results - Scenario","BL World 2030","BL World 2050","KF World - Values","Static Data to Tendency","KF World (simplified)","BL World 2030 (forenklet)","BL World 2050 (forenklet)","Emissionsfaktorer","World 1995","World 2000","World 2005","World 2010","World 2015","World 2018","BL Non OECD total 2050","BL Non OECD total 2030","Non OECD total 1995","Non OECD total 2000","Non OECD total 2005","Non OECD total 2010","Non OECD total 2015","Non OECD total 2018","BL Middle East 2050","BL Middle East 2030","Middle East 1995","Middle East 2000","Middle East 2005","Middle East 2010","Middle East 2015","Middle East 2018","BL Africa 2050","BL Africa 2030","Africa 1995","Africa 2000","Africa 2005","Africa 2010","Africa 2015","Africa 2018","BL China 2050","BL China 2030","China 1995","China 2000","China 2005","China 2010","China 2015","China 2018","BL Asia excluding China 2050","BL Asia excluding China 2030","Asia excluding China 1995","Asia excluding China 2000","Asia excluding China 2005","Asia excluding China 2010","Asia excluding China 2015","Asia excluding China 2018","BL Non-OECD Americas 2050","BL Non-OECD Americas 2030","Non-OECD Americas 1995","Non-OECD Americas 2000","Non-OECD Americas 2005","Non-OECD Americas 2010","Non-OECD Americas 2015","Non-OECD Americas 2018","BL Non-OECD Europe Eurasia 2050","BL Non-OECD Europe Aurasia 2030","Non-OECD Europe Eurasia 1995","Non-OECD Europe Eurasia 2000","Non-OECD Europe Eurasia 2005","Non-OECD Europe Eurasia 2010","Non-OECD Europe Eurasia 2015","Non-OECD Europe Eurasia 2018","OECD total 1995","OECD total 2000","OECD total 2005","OECD total 2010","OECD total 2015","OECD total 2018","BL OECD Europe 2050","BL OECD Europe 2030","OECD Europe 1995","OECD Europe 2000","OECD Europe 2005","OECD Europe 2010","OECD Europe 2015","OECD Europe 2018","BL OECD Asia Oceania 2030","BL OECD Asia Oceania 2050","OECD Asia Oceania 1995","OECD Asia Oceania 2000","OECD Asia Oceania 2005","OECD Asia Oceania 2010","OECD Asia Oceania 2015","OECD Asia Oceania 2018","BL OECD Americas 2030","BL OECD Americas 2050","OECD Americas 1995","OECD Americas 2000","OECD Americas 2005","OECD Americas 2010","OECD Americas 2015","OECD Americas 2018","Meta data","Størrelse på strømme"],"not_rendered":{"charts":41,"images":54,"macros":1,"external_links":0,"defined_names":0,"comments":0,"pivot_tables":0},"unopened":[],"bounds":{"document_bytes":16777216,"sheet_cells":100000,"rows_first":2000,"rows_last":500,"rows_between":2000,"halvings":0,"cell_chars":16384,"cell_head_chars":4096},"cells_cut":0,"cells_raw":0,"read":"whole","date_system":"1900"}

{"sheet":"BL OECD total 2050","index":0,"n_rows":30,"n_cols":34,"rows_kept":30,"cut":false,"hidden":true,"merged":[]}
[null,"Consumption","Coal","Crude oil","Oil Products","Natual Gas","Nuclear","Hydro","Geothermal, solar, wind, etc.","Biofuels and waste","Electricity","Heat","Energy Services","Total consumption","World 2050",null,null,"Faktor","Total production","Efficiency","Production","Coal","Crude oil","Oil Products","Natual Gas","Nuclear","Hydro","Geothermal, solar, wind, etc.","Biofuels and waste","Electricity","Heat","Energy Services","Loss","CO2-emissions"]
["ID","C ","CC","CCO","COP","CNG","CNU","CHY","CGSW","CWB","CE","CH","CES","fbrbr",null,"ID","ID Parent","factor","pbrpr","pvrkg","P ","PC","PCO","POP","PNG","PNU","PHY","PGSW","PWB","PE","PH","PES","PTAB","PCO2"]
["ID Parent",null,"C","C","C ","C ","C ","C","C","C ","C ","C ","C ",null,"Structures",null,null,null,null,null,null,"P ","P ","P ","P ","P ","P ","P","P ","P ","P ","P "]
["Factor",null,null,null,null,null,null,null,null,null,null,null,null,null,null,null,null,null,null,null,{"$f":"B4","v":0},null,null,null,null,null,null,null,null,null,null,null,{"$f":"U4","v":0},{"$f":"U4","v":0}]
[null,null,null,null,null,null,null,null,null,null,null,null,null,{"$f":"SUM(C5:M5)","v":0},"Entry fuels","ETP",null,null,{"$f":"SUM(V5:AF5)","v":{"$error":"#REF!"}},null,null,{"$f":"-(C6+C5)","v":{"$error":"#REF!"}},{"$f":"-(D6+D5)","v":{"$error":"#REF!"}},null,{"$f":"-(F6+F5)","v":{"$error":"#REF!"}},{"$f":"-(G6+G5)","v":{"$error":"#REF!"}},null,null,{"$f":"-(J6+J5)","v":{"$error":"#REF!"}}]
[null,null,{"$f":"-V6","v":{"$error":"#REF!"}},{"$f":"-W6","v":{"$error":"#REF!"}},null,{"$f":"-Y6","v":{"$error":"#REF!"}},{"$f":"-Z6","v":{"$error":"#REF!"}},null,null,{"$f":"-AC6","v":{"$error":"#REF!"}},null,null,null,{"$f":"SUM(C6:M6)","v":{"$error":"#REF!"}},"Transport of fuels","TRAP",null,null,{"$f":"SUM(V6:AF6)","v":{"$error":"#REF!"}},null,null,{"$f":"-(C16+C8)","v":{"$error":"#REF!"}},{"$f":"-(D16+D8)","v":{"$error":"#REF!"}},null,{"$f":"-(F16+F8)","v":{"$error":"#REF!"}},{"$f":"-(G16+G8)","v":{"$error":"#REF!"}},null,null,{"$f":"-(J16+J8)","v":{"$error":"#REF!"}},null,null,null,{"$f":"-(N6+S6)","v":{"$error":"#REF!"}}]
[null,null,null,null,null,null,null,null,null,null,null,null,null,0,"Entry On-Grid RE ","ELP1",null,null,{"$error":"#REF!"},null,null,null,null,null,null,null,{"$f":"-H8","v":{"$error":"#REF!"}},{"$f":"-I8","v":{"$error":"#REF!"}}]
[null,null,{"$f":"SUM(C9:C13)","v":{"$error":"#REF!"}},{"$f":"SUM(D9:D13)","v":{"$error":"#REF!"}},{"$error":"#REF!"},{"$error":"#REF!"},{"$error":"#REF!"},{"$error":"#REF!"},{"$error":"#REF!"},{"$error":"#REF!"},{"$error":"#REF!"},{"$error":"#REF!"},0,{"$error":"#REF!"},"Entry electricity, district heating and oil products","ES",null,null,{"$error":"#REF!"},null,null,{"$f":"SUM(V9:V13)","v":0},null,{"$f":"(E14+E8)*-1","v":{"$error":"#REF!"}},null,null,null,null,null,{"$f":"(K14+K8)*-1","v":{"$error":"#REF!"}},{"$f":"(L14+L8)*-1","v":{"$error":"#REF!"}},null,{"$f":"-(N8+S8)","v":{"$error":"#REF!"}},{"$f":"SUM(AH9:AH13)","v":{"$error":"#REF!"}}]
[null,null,{"$f":"-($AD$9+$H$9+$I$9)/$T$9*#REF!","v":{"$error":"#REF!"}},{"$f":"-($AD$9+$H$9+$I$9)/$T$9*#REF!","v":{"$error":"#REF!"}},{"$f":"-($AD$9+$H$9+$I$9)/$T$9*#REF!","v":{"$error":"#REF!"}},{"$f":"-($AD$9+$H$9+$I$9)/$T$9*#REF!","v":{"$error":"#REF!"}},{"$f":"-($AD$9+$H$9+$I$9)/$T$9*#REF!","v":{"$error":"#REF!"}},{"$f":"AD9*#REF!*-1","v":{"$error":"#REF!"}},{"$f":"AD9*#REF!*-1","v":{"$error":"#REF!"}},{"$f":"-($AD$9+$H$9+$I$9)/$T$9*#REF!","v":{"$error":"#REF!"}},null,null,null,{"$error":"#REF!"},"Electricity-only plants","ESEP","ES",null,{"$error":"#REF!"},{"$f":"#REF!","v":{"$error":"#REF!"}},null,null,null,null,null,null,null,null,null,{"$f":"AD8-AD10","v":{"$error":"#REF!"}},null,null,{"$f":"-(S9+N9)","v":{"$error":"#REF!"}},{"$f":"-(C9*Emissionsfaktorer!$B$2*(1-#REF!)+D9*Emissionsfaktorer!$B$3+E9*Emissionsfaktorer!$B$4*(1-#REF!)+F9*Emissionsfaktorer!$B$5*(1-#REF!)+G9*Emissionsfaktorer!$B$6+H9*Emissionsfaktorer!$B$7+I9*Emissionsfaktorer!$B$8-J9*Emissionsfaktorer!B13*#REF!+K9*Emissionsfaktorer!$B$10+L9*Emissionsfaktorer!$B$11+M9*Emissionsfaktorer!$B$12)","v":{"$error":"#REF!"}}]
[null,null,{"$f":"-($AD$10+$AE$10+$H$10+$I$10)/$T$10*#REF!","v":{"$error":"#REF!"}},{"$f":"-($AD$10+$AE$10+$H$10+$I$10)/$T$10*#REF!","v":{"$error":"#REF!"}},{"$f":"-($AD$10+$AE$10+$H$10+$I$10)/$T$10*#REF!","v":{"$error":"#REF!"}},{"$f":"-($AD$10+$AE$10+$H$10+$I$10)/$T$10*#REF!","v":{"$error":"#REF!"}},{"$f":"-($AD$10+$AE$10+$H$10+$I$10)/$T$10*#REF!","v":{"$error":"#REF!"}},null,{"$f":"(AD10+AE10)*#REF!*-1","v":{"$error":"#REF!"}},{"$f":"-($AD$10+$AE$10+$H$10+$I$10)/$T$10*#REF!","v":{"$error":"#REF!"}},null,null,null,{"$error":"#REF!"},"CHP plants","ESCHP","ES",null,{"$error":"#REF!"},{"$f":"#REF!","v":{"$error":"#REF!"}},null,null,null,null,null,null,null,null,null,{"$f":"AE10*#REF!","v":{"$error":"#REF!"}},{"$f":"AE8*#REF!","v":{"$error":"#REF!"}},null,{"$f":"-(S10+N10)","v":{"$error":"#REF!"}},{"$f":"-(C10*Emissionsfaktorer!$B$2*(1-#REF!)+D10*Emissionsfaktorer!$B$3+E10*Emissionsfaktorer!$B$4*(1-#REF!)+F10*Emissionsfaktorer!$B$5*(1-#REF!)+G10*Emissionsfaktorer!$B$6+H10*Emissionsfaktorer!$B$7+I10*Emissionsfaktorer!$B$8-J10*Emissionsfaktorer!B14*#REF!+K10*Emissionsfaktorer!$B$10+L10*Emissionsfaktorer!$B$11+M10*Emissionsfaktorer!$B$12)","v":{"$error":"#REF!"}}]
[null,null,{"$f":"-($AE$11+$H$11+$I$11)/$T$11*#REF!","v":{"$error":"#REF!"}},{"$f":"-($AE$11+$H$11+$I$11)/$T$11*#REF!","v":{"$error":"#REF!"}},{"$f":"-($AE$11+$H$11+$I$11)/$T$11*#REF!","v":{"$error":"#REF!"}},{"$f":"-($AE$11+$H$11+$I$11)/$T$11*#REF!","v":{"$error":"#REF!"}},{"$f":"-($AE$11+$H$11+$I$11)/$T$11*#REF!","v":{"$error":"#REF!"}},null,{"$f":"AE11*#REF!*-1","v":{"$error":"#REF!"}},{"$f":"-($AE$11+$H$11+$I$11)/$T$11*#REF!","v":{"$error":"#REF!"}},{"$f":"AE11*#REF!*-1","v":{"$error":"#REF!"}},null,null,{"$error":"#REF!"},"Heat Plants","ESHP","ES",null,{"$error":"#REF!"},{"$f":"#REF!","v":{"$error":"#REF!"}},null,null,null,null,null,null,null,null,null,null,{"$f":"AE8*#REF!","v":{"$error":"#REF!"}},null,{"$f":"-(S11+N11)","v":{"$error":"#REF!"}},{"$f":"-(C11*Emissionsfaktorer!$B$2+D11*Emissionsfaktorer!$B$3+E11*Emissionsfaktorer!$B$4+F11*Emissionsfaktorer!$B$5+G11*Emissionsfaktorer!$B$6+H11*Emissionsfaktorer!$B$7+I11*Emissionsfaktorer!$B$8+J11*Emissionsfaktorer!$B$9+K11*Emissionsfaktorer!$B$10+L11*Emissionsfaktorer!$B$11+M11*Emissionsfaktorer!$B$12)","v":{"$error":"#REF!"}}]
[null,null,null,{"$f":"-X12/T12*#REF!","v":{"$error":"#REF!"}},null,null,null,null,null,{"$f":"-X12/T12*#REF!","v":{"$error":"#REF!"}},null,null,null,{"$error":"#REF!"},"Oil refineries","ESOR","ES",null,{"$error":"#REF!"},{"$f":"#REF!","v":{"$error":"#REF!"}},null,null,null,{"$f":"-(E9+E10+E11+E13+E14)","v":{"$error":"#REF!"}},null,null,null,null,null,null,null,null,{"$f":"-(S12+N12)","v":{"$error":"#REF!"}},{"$f":"J12*Emissionsfaktorer!B4","v":{"$error":"#REF!"}}]
[null,null,{"$f":"N13*#REF!","v":{"$error":"#REF!"}},{"$f":"N13*#REF!","v":{"$error":"#REF!"}},{"$f":"N13*#REF!","v":{"$error":"#REF!"}},{"$f":"N13*#REF!","v":{"$error":"#REF!"}},null,null,null,{"$f":"N13*#REF!","v":{"$error":"#REF!"}},{"$f":"N13*#REF!","v":{"$error":"#REF!"}},{"$f":"N13*#REF!","v":{"$error":"#REF!"}},null,{"$f":"N16*#REF!","v":{"$error":"#REF!"}},"Energy Industry one use","ESNSP","ES",null,0,0,null,null,null,null,null,null,null,null,null,null,null,null,{"$f":"-(S13+N13)","v":{"$error":"#REF!"}},{"$f":"-(C13*Emissionsfaktorer!$B$2+D13*Emissionsfaktorer!$B$3+E13*Emissionsfaktorer!$B$4+F13*Emissionsfaktorer!$B$5+G13*Emissionsfaktorer!$B$6+H13*Emissionsfaktorer!$B$7+I13*Emissionsfaktorer!$B$8+J13*Emissionsfaktorer!$B$9+K13*Emissionsfaktorer!$B$10+L13*Emissionsfaktorer!$B$11+M13*Emissionsfaktorer!$B$12)","v":{"$error":"#REF!"}}]
[null,null,null,null,{"$f":"-X14*1","v":{"$error":"#REF!"}},null,null,null,null,null,{"$f":"-AD14*(1+#REF!)","v":{"$error":"#REF!"}},{"$f":"-AE14*(1+#REF!)","v":{"$error":"#REF!"}},null,{"$error":"#REF!"},"Transport electricity, district heating and oil products","TRAS",null,null,{"$error":"#REF!"},null,null,null,null,{"$f":"-E16","v":{"$error":"#REF!"}},null,null,null,null,null,{"$f":"-K16","v":{"$error":"#REF!"}},{"$f":"-L16","v":{"$error":"#REF!"}},null,{"$f":"-(N14+S14)","v":{"$error":"#REF!"}}]
[null,null,null,null,null,null,null,null,null,null,null,null,null,0,"Entry Off-Grid RE","ELP2",null,null,{"$error":"#REF!"},null,null,null,null,null,null,null,null,{"$f":"I16*-1","v":{"$error":"#REF!"}}]
[null,null,{"$f":"SUM(C17:C19)","v":{"$error":"#REF!"}},{"$error":"#REF!"},{"$error":"#REF!"},{"$error":"#REF!"},0,0,{"$error":"#REF!"},{"$error":"#REF!"},{"$error":"#REF!"},{"$error":"#REF!"},0,{"$f":"#REF!","v":{"$error":"#REF!"}},"Exit energy","EX",null,null,{"$error":"#REF!"},null,null,null,null,null,null,null,null,null,null,null,null,{"$f":"SUM(AF17:AF19)","v":{"$error":"#REF!"}},{"$f":"SUM(AG17:AG19)","v":{"$error":"#REF!"}},{"$f":"SUM(AH17:AH19)","v":{"$error":"#REF!"}}]
[null,null,{"$f":"AF17*#REF!/T17*#REF!/#REF!*-1","v":{"$error":"#REF!"}},{"$f":"AF17*#REF!/T17*#REF!/#REF!*-1","v":{"$error":"#REF!"}},{"$f":"AF17*#REF!/T17*#REF!/#REF!*-1","v":{"$error":"#REF!"}},{"$f":"AF17*#REF!/T17*#REF!/#REF!*-1","v":{"$error":"#REF!"}},null,null,{"$f":"AF17*#REF!/T17*#REF!/#REF!*-1","v":{"$error":"#REF!"}},{"$f":"AF17*#REF!*#REF!/T17/#REF!*-1","v":{"$error":"#REF!"}},{"$f":"AF17*#REF!*#REF!/T17/#REF!*-1","v":{"$error":"#REF!"}},{"$f":"AF17*#REF!*#REF!/T17/#REF!*-1","v":{"$error":"#REF!"}},null,{"$f":"SUM(C17:L17)","v":{"$error":"#REF!"}},"Industry","EXI","EX",null,{"$error":"#REF!"},{"$f":"(#REF!+#REF!+#REF!+#REF!+#REF!)*#REF!+(#REF!+#REF!)*#REF!+#REF!*#REF!","v":{"$error":"#REF!"}},null,null,null,null,null,null,null,null,null,null,null,{"$f":"#REF!*#REF!*((#REF!+#REF!+#REF!+#REF!+#REF!)*#REF!+(#REF!+#REF!)*#REF!+#REF!*#REF!)*-1","v":{"$error":"#REF!"}},{"$f":"(S17+SUM(C17:M17))*-1","v":{"$error":"#REF!"}},{"$f":"-(C17*Emissionsfaktorer!$B$2+D17*Emissionsfaktorer!$B$3+E17*Emissionsfaktorer!$B$4+F17*Emissionsfaktorer!$B$5+G17*Emissionsfaktorer!$B$6+H17*Emissionsfaktorer!$B$7+I17*Emissionsfaktorer!$B$8+J17*Emissionsfaktorer!$B$9+K17*Emissionsfaktorer!$B$10+L17*Emissionsfaktorer!$B$11+M17*Emissionsfaktorer!$B$12)","v":{"$error":"#REF!"}}]
[null,null,{"$f":"AF18*#REF!/T18*#REF!/#REF!*-1","v":{"$error":"#REF!"}},null,{"$f":"AF18*#REF!/T18*#REF!/#REF!*-1","v":{"$error":"#REF!"}},{"$f":"AF18*#REF!/T18*#REF!/#REF!*-1","v":{"$error":"#REF!"}},null,null,{"$f":"AF18*#REF!/T18*#REF!/#REF!*-1","v":{"$error":"#REF!"}},{"$f":"AF18*#REF!/T18*#REF!/#REF!*-1","v":{"$error":"#REF!"}},{"$f":"AF18*#REF!/T18*#REF!/#REF!*-1","v":{"$error":"#REF!"}},{"$f":"AF18*#REF!/T18*#REF!/#REF!*-1","v":{"$error":"#REF!"}},null,{"$f":"SUM(C18:L18)","v":{"$error":"#REF!"}},"Transport","EXT","EX",null,{"$error":"#REF!"},{"$f":"(#REF!+#REF!+#REF!+#REF!)*#REF!+(#REF!+#REF!)*#REF!+#REF!*#REF!","v":{"$error":"#REF!"}},null,null,null,null,null,null,null,null,null,null,null,{"$f":"#REF!*#REF!*-1*((#REF!+#REF!+#REF!+#REF!)*#REF!+(#REF!+#REF!)*#REF!+#REF!*#REF!)","v":{"$error":"#REF!"}},{"$f":"(S18+SUM(C18:M18))*-1","v":{"$error":"#REF!"}},{"$f":"-(C18*Emissionsfaktorer!$B$2+D18*Emissionsfaktorer!$B$3+E18*Emissionsfaktorer!$B$4+F18*Emissionsfaktorer!$B$5+G18*Emissionsfaktorer!$B$6+H18*Emissionsfaktorer!$B$7+I18*Emissionsfaktorer!$B$8+J18*Emissionsfaktorer!$B$9+K18*Emissionsfaktorer!$B$10+L18*Emissionsfaktorer!$B$11+M18*Emissionsfaktorer!$B$12)","v":{"$error":"#REF!"}}]
[null,null,{"$f":"SUM(C20:C24)","v":{"$error":"#REF!"}},{"$f":"SUM(D20:D24)","v":0},{"$error":"#REF!"},{"$error":"#REF!"},0,0,{"$error":"#REF!"},{"$error":"#REF!"},{"$error":"#REF!"},{"$error":"#REF!"},0,{"$f":"SUM(N20:N24)","v":{"$error":"#REF!"}},"Other ","EXO","EX",null,{"$error":"#REF!"},0.8,null,{"$f":"SUM(V20:V24)","v":0},{"$f":"SUM(W20:W24)","v":0},0,0,0,0,0,0,0,0,{"$error":"#REF!"},{"$error":"#REF!"},{"$error":"#REF!"}]
[null,null,{"$f":"AF20*#REF!/T20*#REF!/#REF!*-1","v":{"$error":"#REF!"}},null,{"$f":"AF20*#REF!/T20*#REF!/#REF!*-1","v":{"$error":"#REF!"}},{"$f":"AF20*#REF!/T20*#REF!/#REF!*-1","v":{"$error":"#REF!"}},null,null,{"$f":"AF20*#REF!/T20*#REF!/#REF!*-1","v":{"$error":"#REF!"}},{"$f":"AF20*#REF!/T20*#REF!/#REF!*-1","v":{"$error":"#REF!"}},{"$f":"AF20*#REF!/T20*#REF!/#REF!*-1","v":{"$error":"#REF!"}},{"$f":"AF20*#REF!/T20*#REF!/#REF!*-1","v":{"$error":"#REF!"}},null,{"$f":"SUM(C20:L20)","v":{"$error":"#REF!"}},"Residential","EXOR","EXO",null,{"$error":"#REF!"},{"$f":"(#REF!+#REF!+#REF!+#REF!)*#REF!+(#REF!+#REF!)*#REF!+#REF!*#REF!","v":{"$error":"#REF!"}},null,null,null,null,null,null,null,null,null,null,null,{"$f":"#REF!*#REF!*((#REF!+#REF!+#REF!+#REF!)*#REF!+(#REF!+#REF!)*#REF!+#REF!*#REF!)*-1","v":{"$error":"#REF!"}},{"$f":"(N20+AF20)*-1","v":{"$error":"#REF!"}},{"$f":"-(C20*Emissionsfaktorer!$B$2+D20*Emissionsfaktorer!$B$3+E20*Emissionsfaktorer!$B$4+F20*Emissionsfaktorer!$B$5+G20*Emissionsfaktorer!$B$6+H20*Emissionsfaktorer!$B$7+I20*Emissionsfaktorer!$B$8+J20*Emissionsfaktorer!$B$9+K20*Emissionsfaktorer!$B$10+L20*Emissionsfaktorer!$B$11+M20*Emissionsfaktorer!$B$12)","v":{"$error":"#REF!"}}]
[null,null,{"$f":"AF21*#REF!/T21*#REF!/#REF!*-1","v":{"$error":"#REF!"}},null,{"$f":"AF21*#REF!/T21*#REF!/#REF!*-1","v":{"$error":"#REF!"}},{"$f":"AF21*#REF!/T21*#REF!/#REF!*-1","v":{"$error":"#REF!"}},null,null,{"$f":"AF21*#REF!/T21*#REF!/#REF!*-1","v":{"$error":"#REF!"}},{"$f":"AF21*#REF!/T21*#REF!/#REF!*-1","v":{"$error":"#REF!"}},{"$f":"AF21*#REF!/T21*#REF!/#REF!*-1","v":{"$error":"#REF!"}},{"$f":"AF21*#REF!/T21*#REF!/#REF!*-1","v":{"$error":"#REF!"}},null,{"$f":"SUM(C21:L21)","v":{"$error":"#REF!"}},"Commercial and public services","EXOC","EXO",null,{"$error":"#REF!"},{"$f":"(#REF!+#REF!+#REF!+#REF!)*#REF!+(#REF!+#REF!)*#REF!+#REF!*#REF!","v":{"$error":"#REF!"}},null,null,null,null,null,null,null,null,null,null,null,{"$f":"#REF!*#REF!*((#REF!+#REF!+#REF!+#REF!)*#REF!+(#REF!+#REF!)*#REF!+#REF!*#REF!)*-1","v":{"$error":"#REF!"}},{"$f":"(N21+AF21)*-1","v":{"$error":"#REF!"}},{"$f":"-(C21*Emissionsfaktorer!$B$2+D21*Emissionsfaktorer!$B$3+E21*Emissionsfaktorer!$B$4+F21*Emissionsfaktorer!$B$5+G21*Emissionsfaktorer!$B$6+H21*Emissionsfaktorer!$B$7+I21*Emissionsfaktorer!$B$8+J21*Emissionsfaktorer!$B$9+K21*Emissionsfaktorer!$B$10+L21*Emissionsfaktorer!$B$11+M21*Emissionsfaktorer!$B$12)","v":{"$error":"#REF!"}}]
[null,null,{"$f":"AF22*#REF!/T22*#REF!/#REF!*-1","v":{"$error":"#REF!"}},null,{"$f":"AF22*#REF!/T22*#REF!/#REF!*-1","v":{"$error":"#REF!"}},{"$f":"AF22*#REF!/T22*#REF!/#REF!*-1","v":{"$error":"#REF!"}},null,null,{"$f":"AF22*#REF!/T22*#REF!/#REF!*-1","v":{"$error":"#REF!"}},{"$f":"AF22*#REF!/T22*#REF!/#REF!*-1","v":{"$error":"#REF!"}},{"$f":"AF22*#REF!/T22*#REF!/#REF!*-1","v":{"$error":"#REF!"}},{"$f":"AF22*#REF!/T22*#REF!/#REF!*-1","v":{"$error":"#REF!"}},null,{"$f":"SUM(C22:L22)","v":{"$error":"#REF!"}},"Agriculture / forestry","EXOA","EXO",null,{"$error":"#REF!"},{"$f":"(#REF!+#REF!+#REF!+#REF!)*#REF!+(#REF!+#REF!)*#REF!+#REF!*#REF!","v":{"$error":"#REF!"}},null,null,null,null,null,null,null,null,null,null,null,{"$f":"((#REF!+#REF!+#REF!+#REF!)*#REF!+(#REF!+#REF!)*#REF!+#REF!*#REF!)*#REF!*#REF!*-1","v":{"$error":"#REF!"}},{"$f":"(N22+AF22)*-1","v":{"$error":"#REF!"}},{"$f":"-(C22*Emissionsfaktorer!$B$2+D22*Emissionsfaktorer!$B$3+E22*Emissionsfaktorer!$B$4+F22*Emissionsfaktorer!$B$5+G22*Emissionsfaktorer!$B$6+H22*Emissionsfaktorer!$B$7+I22*Emissionsfaktorer!$B$8+J22*Emissionsfaktorer!$B$9+K22*Emissionsfaktorer!$B$10+L22*Emissionsfaktorer!$B$11+M22*Emissionsfaktorer!$B$12)","v":{"$error":"#REF!"}}]
[null,null,{"$f":"AF23*#REF!/T23*#REF!/#REF!*-1","v":{"$error":"#REF!"}},null,{"$f":"AF23*#REF!/T23*#REF!/#REF!*-1","v":{"$error":"#REF!"}},{"$f":"AF23*#REF!/T23*#REF!/#REF!*-1","v":{"$error":"#REF!"}},null,null,{"$f":"AF23*#REF!/T23*#REF!/#REF!*-1","v":{"$error":"#REF!"}},{"$f":"AF23*#REF!/T23*#REF!/#REF!*-1","v":{"$error":"#REF!"}},{"$f":"AF23*#REF!/T23*#REF!/#REF!*-1","v":{"$error":"#REF!"}},{"$f":"AF23*#REF!/T23*#REF!/#REF!*-1","v":{"$error":"#REF!"}},null,{"$f":"SUM(C23:L23)","v":{"$error":"#REF!"}},"Fishing","EXOF","EXO",null,{"$error":"#REF!"},{"$f":"(#REF!+#REF!+#REF!+#REF!)*#REF!+(#REF!+#REF!)*#REF!+#REF!*#REF!","v":{"$error":"#REF!"}},null,null,null,null,null,null,null,null,null,null,null,{"$f":"((#REF!+#REF!+#REF!+#REF!)*#REF!+(#REF!+#REF!)*#REF!+#REF!*#REF!)*#REF!*#REF!*-1","v":{"$error":"#REF!"}},{"$f":"(N23+AF23)*-1","v":{"$error":"#REF!"}},{"$f":"-(C23*Emissionsfaktorer!$B$2+D23*Emissionsfaktorer!$B$3+E23*Emissionsfaktorer!$B$4+F23*Emissionsfaktorer!$B$5+G23*Emissionsfaktorer!$B$6+H23*Emissionsfaktorer!$B$7+I23*Emissionsfaktorer!$B$8+J23*Emissionsfaktorer!$B$9+K23*Emissionsfaktorer!$B$10+L23*Emissionsfaktorer!$B$11+M23*Emissionsfaktorer!$B$12)","v":{"$error":"#REF!"}}]
[null,null,{"$f":"AF24*#REF!/T24*#REF!/#REF!*-1","v":{"$error":"#REF!"}},null,{"$f":"AF24*#REF!/T24*#REF!/#REF!*-1","v":{"$error":"#REF!"}},{"$f":"AF24*#REF!/T24*#REF!/#REF!*-1","v":{"$error":"#REF!"}},null,null,{"$f":"AF24*#REF!/T24*#REF!/#REF!*-1","v":{"$error":"#REF!"}},{"$f":"AF24*#REF!/T24*#REF!/#REF!*-1","v":{"$error":"#REF!"}},{"$f":"AF24*#REF!/T24*#REF!/#REF!*-1","v":{"$error":"#REF!"}},{"$f":"AF24*#REF!/T24*#REF!/#REF!*-1","v":{"$error":"#REF!"}},null,{"$f":"SUM(C24:L24)","v":{"$error":"#REF!"}},"Non-specified","EXON","EXO",null,{"$error":"#REF!"},{"$f":"(#REF!+#REF!+#REF!+#REF!)*#REF!+(#REF!+#REF!)*#REF!+#REF!*#REF!","v":{"$error":"#REF!"}},null,null,null,null,null,null,null,null,null,null,null,{"$f":"((#REF!+#REF!+#REF!+#REF!)*#REF!+(#REF!+#REF!)*#REF!+#REF!*#REF!)*#REF!*#REF!*-1","v":{"$error":"#REF!"}},{"$f":"(N24+AF24)*-1","v":{"$error":"#REF!"}},{"$f":"-(C24*Emissionsfaktorer!$B$2+D24*Emissionsfaktorer!$B$3+E24*Emissionsfaktorer!$B$4+F24*Emissionsfaktorer!$B$5+G24*Emissionsfaktorer!$B$6+H24*Emissionsfaktorer!$B$7+I24*Emissionsfaktorer!$B$8+J24*Emissionsfaktorer!$B$9+K24*Emissionsfaktorer!$B$10+L24*Emissionsfaktorer!$B$11+M24*Emissionsfaktorer!$B$12)","v":{"$error":"#REF!"}}]
[null,null,null,null,null,null,null,null,null,null,null,null,null,{"$f":"N16","v":{"$error":"#REF!"}},"Energy Services","EN",null,null,{"$error":"#REF!"},{"$f":"AF25/N25*-1","v":{"$error":"#REF!"}},null,null,null,null,null,null,null,null,null,null,null,{"$f":"AF16","v":{"$error":"#REF!"}},{"$f":"-(S25+N25)","v":{"$error":"#REF!"}}]
[]
[]
[]
[]
[null,null,null,{"$f":"#REF!","v":{"$error":"#REF!"}}]

{"sheet":"BL OECD total 2030","index":1,"n_rows":25,"n_cols":34,"rows_kept":25,"cut":false,"hidden":true,"merged":[]}
[null,"Consumption","Coal","Crude oil","Oil Products","Natual Gas","Nuclear","Hydro","Geothermal, solar, wind, etc.","Biofuels and waste","Electricity","Heat","Energy Services","Total consumption","World 2030",null,null,"Faktor","Total production","Efficiency","Production","Coal","Crude oil","Oil Products","Natual Gas","Nuclear","Hydro","Geothermal, solar, wind, etc.","Biofuels and waste","Electricity","Heat","Energy Services","Loss","CO2-emissions"]
["ID","C ","CC","CCO","COP","CNG","CNU","CHY","CGSW","CWB","CE","CH","CES","fbrbr",null,"ID","ID Parent","factor","pbrpr","pvrkg","P ","PC","PCO","POP","PNG","PNU","PHY","PGSW","PWB","PE","PH","PES","PTAB","PCO2"]
["ID Parent",null,"C","C","C ","C ","C ","C","C","C ","C ","C ","C ",null,"Structures",null,null,null,null,null,null,"P ","P ","P ","P ","P ","P ","P","P ","P ","P ","P "]
["Factor",null,null,null,null,null,null,null,null,null,null,null,null,null,null,null,null,null,null,null,{"$f":"B4","v":0},null,null,null,null,null,null,null,null,null,null,null,{"$f":"U4","v":0},{"$f":"U4","v":0}]
[null,null,null,null,null,null,null,null,null,null,null,null,null,{"$f":"SUM(C5:M5)","v":0},"Entry fuels","ETP",null,null,{"$f":"SUM(V5:AF5)","v":{"$error":"#REF!"}},null,null,{"$f":"-(C6+C5)","v":{"$error":"#REF!"}},{"$f":"-(D6+D5)","v":{"$error":"#REF!"}},null,{"$f":"-(F6+F5)","v":{"$error":"#REF!"}},{"$f":"-(G6+G5)","v":{"$error":"#REF!"}},null,null,{"$f":"-(J6+J5)","v":{"$error":"#REF!"}}]
[null,null,{"$f":"-V6","v":{"$error":"#REF!"}},{"$f":"-W6","v":{"$error":"#REF!"}},null,{"$f":"-Y6","v":{"$error":"#REF!"}},{"$f":"-Z6","v":{"$error":"#REF!"}},null,null,{"$f":"-AC6","v":{"$error":"#REF!"}},null,null,null,{"$f":"SUM(C6:M6)","v":{"$error":"#REF!"}},"Transport of fuels","TRAP",null,null,{"$f":"SUM(V6:AF6)","v":{"$error":"#REF!"}},null,null,{"$f":"-(C16+C8)","v":{"$error":"#REF!"}},{"$f":"-(D16+D8)","v":{"$error":"#REF!"}},null,{"$f":"-(F16+F8)","v":{"$error":"#REF!"}},{"$f":"-(G16+G8)","v":{"$error":"#REF!"}},null,null,{"$f":"-(J16+J8)","v":{"$error":"#REF!"}},null,null,null,{"$f":"-(N6+S6)","v":{"$error":"#REF!"}}]
[null,null,null,null,null,null,null,null,null,null,null,null,null,0,"Entry On-Grid RE ","ELP1",null,null,{"$error":"#REF!"},null,null,null,null,null,null,null,{"$f":"-H8","v":{"$error":"#REF!"}},{"$f":"-I8","v":{"$error":"#REF!"}}]
[null,null,{"$f":"SUM(C9:C13)","v":{"$error":"#REF!"}},{"$f":"SUM(D9:D13)","v":{"$error":"#REF!"}},{"$error":"#REF!"},{"$error":"#REF!"},{"$error":"#REF!"},{"$error":"#REF!"},{"$error":"#REF!"},{"$error":"#REF!"},{"$error":"#REF!"},{"$error":"#REF!"},0,{"$error":"#REF!"},"Entry electricity, district heating and oil products","ES",null,null,{"$error":"#REF!"},null,null,{"$f":"SUM(V9:V13)","v":0},null,{"$f":"(E14+E8)*-1","v":{"$error":"#REF!"}},null,null,null,null,null,{"$f":"(K14+K8)*-1","v":{"$error":"#REF!"}},{"$f":"(L14+L8)*-1","v":{"$error":"#REF!"}},null,{"$f":"-(N8+S8)","v":{"$error":"#REF!"}},{"$f":"SUM(AH9:AH13)","v":{"$error":"#REF!"}}]
[null,null,{"$f":"-($AD$9+$H$9+$I$9)/$T$9*#REF!","v":{"$error":"#REF!"}},{"$f":"-($AD$9+$H$9+$I$9)/$T$9*#REF!","v":{"$error":"#REF!"}},{"$f":"-($AD$9+$H$9+$I$9)/$T$9*#REF!","v":{"$error":"#REF!"}},{"$f":"-($AD$9+$H$9+$I$9)/$T$9*#REF!","v":{"$error":"#REF!"}},{"$f":"-($AD$9+$H$9+$I$9)/$T$9*#REF!","v":{"$error":"#REF!"}},{"$f":"AD9*#REF!*-1","v":{"$error":"#REF!"}},{"$f":"AD9*#REF!*-1","v":{"$error":"#REF!"}},{"$f":"-($AD$9+$H$9+$I$9)/$T$9*#REF!","v":{"$error":"#REF!"}},null,null,null,{"$error":"#REF!"},"Electricity-only plants","ESEP","ES",null,{"$error":"#REF!"},{"$f":"#REF!","v":{"$error":"#REF!"}},null,null,null,null,null,null,null,null,null,{"$f":"AD8-AD10","v":{"$error":"#REF!"}},null,null,{"$f":"-(S9+N9)","v":{"$error":"#REF!"}},{"$f":"-(C9*Emissionsfaktorer!$B$2*(1-#REF!)+D9*Emissionsfaktorer!$B$3+E9*Emissionsfaktorer!$B$4*(1-#REF!)+F9*Emissionsfaktorer!$B$5*(1-#REF!)+G9*Emissionsfaktorer!$B$6+H9*Emissionsfaktorer!$B$7+I9*Emissionsfaktorer!$B$8-J9*Emissionsfaktorer!B13*#REF!+K9*Emissionsfaktorer!$B$10+L9*Emissionsfaktorer!$B$11+M9*Emissionsfaktorer!$B$12)","v":{"$error":"#REF!"}}]
[null,null,{"$f":"-($AD$10+$AE$10+$H$10+$I$10)/$T$10*#REF!","v":{"$error":"#REF!"}},{"$f":"-($AD$10+$AE$10+$H$10+$I$10)/$T$10*#REF!","v":{"$error":"#REF!"}},{"$f":"-($AD$10+$AE$10+$H$10+$I$10)/$T$10*#REF!","v":{"$error":"#REF!"}},{"$f":"-($AD$10+$AE$10+$H$10+$I$10)/$T$10*#REF!","v":{"$error":"#REF!"}},{"$f":"-($AD$10+$AE$10+$H$10+$I$10)/$T$10*#REF!","v":{"$error":"#REF!"}},null,{"$f":"(AD10+AE10)*#REF!*-1","v":{"$error":"#REF!"}},{"$f":"-($AD$10+$AE$10+$H$10+$I$10)/$T$10*#REF!","v":{"$error":"#REF!"}},null,null,null,{"$error":"#REF!"},"CHP plants","ESCHP","ES",null,{"$error":"#REF!"},{"$f":"#REF!","v":{"$error":"#REF!"}},null,null,null,null,null,null,null,null,null,{"$f":"AE10*#REF!","v":{"$error":"#REF!"}},{"$f":"AE8*#REF!","v":{"$error":"#REF!"}},null,{"$f":"-(S10+N10)","v":{"$error":"#REF!"}},{"$f":"-(C10*Emissionsfaktorer!$B$2*(1-#REF!)+D10*Emissionsfaktorer!$B$3+E10*Emissionsfaktorer!$B$4*(1-#REF!)+F10*Emissionsfaktorer!$B$5*(1-#REF!)+G10*Emissionsfaktorer!$B$6+H10*Emissionsfaktorer!$B$7+I10*Emissionsfaktorer!$B$8-J10*Emissionsfaktorer!B14*#REF!+K10*Emissionsfaktorer!$B$10+L10*Emissionsfaktorer!$B$11+M10*Emissionsfaktorer!$B$12)","v":{"$error":"#REF!"}}]
[null,null,{"$f":"-($AE$11+$H$11+$I$11)/$T$11*#REF!","v":{"$error":"#REF!"}},{"$f":"-($AE$11+$H$11+$I$11)/$T$11*#REF!","v":{"$error":"#REF!"}},{"$f":"-($AE$11+$H$11+$I$11)/$T$11*#REF!","v":{"$error":"#REF!"}},{"$f":"-($AE$11+$H$11+$I$11)/$T$11*#REF!","v":{"$error":"#REF!"}},{"$f":"-($AE$11+$H$11+$I$11)/$T$11*#REF!","v":{"$error":"#REF!"}},null,{"$f":"AE11*#REF!*-1","v":{"$error":"#REF!"}},{"$f":"-($AE$11+$H$11+$I$11)/$T$11*#REF!","v":{"$error":"#REF!"}},{"$f":"AE11*#REF!*-1","v":{"$error":"#REF!"}},null,null,{"$error":"#REF!"},"Heat Plants","ESHP","ES",null,{"$error":"#REF!"},{"$f":"#REF!","v":{"$error":"#REF!"}},null,null,null,null,null,null,null,null,null,null,{"$f":"AE8*#REF!","v":{"$error":"#REF!"}},null,{"$f":"-(S11+N11)","v":{"$error":"#REF!"}},{"$f":"-(C11*Emissionsfaktorer!$B$2+D11*Emissionsfaktorer!$B$3+E11*Emissionsfaktorer!$B$4+F11*Emissionsfaktorer!$B$5+G11*Emissionsfaktorer!$B$6+H11*Emissionsfaktorer!$B$7+I11*Emissionsfaktorer!$B$8+J11*Emissionsfaktorer!$B$9+K11*Emissionsfaktorer!$B$10+L11*Emissionsfaktorer!$B$11+M11*Emissionsfaktorer!$B$12)","v":{"$error":"#REF!"}}]
[null,null,null,{"$f":"-X12/T12*#REF!","v":{"$error":"#REF!"}},null,null,null,null,null,{"$f":"-X12/T12*#REF!","v":{"$error":"#REF!"}},null,null,null,{"$error":"#REF!"},"Oil refineries","ESOR","ES",null,{"$error":"#REF!"},{"$f":"#REF!","v":{"$error":"#REF!"}},null,null,null,{"$f":"-(E9+E10+E11+E13+E14)","v":{"$error":"#REF!"}},null,null,null,null,null,null,null,null,{"$f":"-(S12+N12)","v":{"$error":"#REF!"}},{"$f":"J12*Emissionsfaktorer!B4","v":{"$error":"#REF!"}}]
[null,null,{"$f":"N13*#REF!","v":{"$error":"#REF!"}},{"$f":"N13*#REF!","v":{"$error":"#REF!"}},{"$f":"N13*#REF!","v":{"$error":"#REF!"}},{"$f":"N13*#REF!","v":{"$error":"#REF!"}},null,null,null,{"$f":"N13*#REF!","v":{"$error":"#REF!"}},{"$f":"N13*#REF!","v":{"$error":"#REF!"}},{"$f":"N13*#REF!","v":{"$error":"#REF!"}},null,{"$f":"N16*#REF!","v":{"$error":"#REF!"}},"Energy Industry one use","ESNSP","ES",null,0,0,null,null,null,null,null,null,null,null,null,null,null,null,{"$f":"-(S13+N13)","v":{"$error":"#REF!"}},{"$f":"-(C13*Emissionsfaktorer!$B$2+D13*Emissionsfaktorer!$B$3+E13*Emissionsfaktorer!$B$4+F13*Emissionsfaktorer!$B$5+G13*Emissionsfaktorer!$B$6+H13*Emissionsfaktorer!$B$7+I13*Emissionsfaktorer!$B$8+J13*Emissionsfaktorer!$B$9+K13*Emissionsfaktorer!$B$10+L13*Emissionsfaktorer!$B$11+M13*Emissionsfaktorer!$B$12)","v":{"$error":"#REF!"}}]
[null,null,null,null,{"$f":"-X14*1","v":{"$error":"#REF!"}},null,null,null,null,null,{"$f":"-AD14*(1+#REF!)","v":{"$error":"#REF!"}},{"$f":"-AE14*(1+#REF!)","v":{"$error":"#REF!"}},null,{"$error":"#REF!"},"Transport electricity, district heating and oil products","TRAS",null,null,{"$error":"#REF!"},null,null,null,null,{"$f":"-E16","v":{"$error":"#REF!"}},null,null,null,null,null,{"$f":"-K16","v":{"$error":"#REF!"}},{"$f":"-L16","v":{"$error":"#REF!"}},null,{"$f":"-(N14+S14)","v":{"$error":"#REF!"}}]
[null,null,null,null,null,null,null,null,null,null,null,null,null,0,"Entry Off-Grid RE","ELP2",null,null,{"$error":"#REF!"},null,null,null,null,null,null,null,null,{"$f":"I16*-1","v":{"$error":"#REF!"}}]
[null,null,{"$f":"SUM(C17:C19)","v":{"$error":"#REF!"}},{"$error":"#REF!"},{"$error":"#REF!"},{"$error":"#REF!"},0,0,{"$error":"#REF!"},{"$error":"#REF!"},{"$error":"#REF!"},{"$error":"#REF!"},0,{"$f":"#REF!","v":{"$error":"#REF!"}},"Exit energy","EX",null,null,{"$error":"#REF!"},null,null,null,null,null,null,null,null,null,null,null,null,{"$f":"SUM(AF17:AF19)","v":{"$error":"#REF!"}},{"$f":"SUM(AG17:AG19)","v":{"$error":"#REF!"}},{"$f":"SUM(AH17:AH19)","v":{"$error":"#REF!"}}]
[null,null,{"$f":"AF17*#REF!/T17*#REF!/#REF!*-1","v":{"$error":"#REF!"}},{"$f":"AF17*#REF!/T17*#REF!/#REF!*-1","v":{"$error":"#REF!"}},{"$f":"AF17*#REF!/T17*#REF!/#REF!*-1","v":{"$error":"#REF!"}},{"$f":"AF17*#REF!/T17*#REF!/#REF!*-1","v":{"$error":"#REF!"}},null,null,{"$f":"AF17*#REF!/T17*#REF!/#REF!*-1","v":{"$error":"#REF!"}},{"$f":"AF17*#REF!*#REF!/T17/#REF!*-1","v":{"$error":"#REF!"}},{"$f":"AF17*#REF!*#REF!/T17/#REF!*-1","v":{"$error":"#REF!"}},{"$f":"AF17*#REF!*#REF!/T17/#REF!*-1","v":{"$error":"#REF!"}},null,{"$f":"SUM(C17:L17)","v":{"$error":"#REF!"}},"Industry","EXI","EX",null,{"$error":"#REF!"},{"$f":"(#REF!+#REF!+#REF!+#REF!+#REF!)*#REF!+(#REF!+#REF!)*#REF!+#REF!*#REF!","v":{"$error":"#REF!"}},null,null,null,null,null,null,null,null,null,null,null,{"$f":"#REF!*#REF!*((#REF!+#REF!+#REF!+#REF!+#REF!)*#REF!+(#REF!+#REF!)*#REF!+#REF!*#REF!)*-1","v":{"$error":"#REF!"}},{"$f":"(S17+SUM(C17:M17))*-1","v":{"$error":"#REF!"}},{"$f":"-(C17*Emissionsfaktorer!$B$2+D17*Emissionsfaktorer!$B$3+E17*Emissionsfaktorer!$B$4+F17*Emissionsfaktorer!$B$5+G17*Emissionsfaktorer!$B$6+H17*Emissionsfaktorer!$B$7+I17*Emissionsfaktorer!$B$8+J17*Emissionsfaktorer!$B$9+K17*Emissionsfaktorer!$B$10+L17*Emissionsfaktorer!$B$11+M17*Emissionsfaktorer!$B$12)","v":{"$error":"#REF!"}}]
[null,null,{"$f":"AF18*#REF!/T18*#REF!/#REF!*-1","v":{"$error":"#REF!"}},null,{"$f":"AF18*#REF!/T18*#REF!/#REF!*-1","v":{"$error":"#REF!"}},{"$f":"AF18*#REF!/T18*#REF!/#REF!*-1","v":{"$error":"#REF!"}},null,null,{"$f":"AF18*#REF!/T18*#REF!/#REF!*-1","v":{"$error":"#REF!"}},{"$f":"AF18*#REF!/T18*#REF!/#REF!*-1","v":{"$error":"#REF!"}},{"$f":"AF18*#REF!/T18*#REF!/#REF!*-1","v":{"$error":"#REF!"}},{"$f":"AF18*#REF!/T18*#REF!/#REF!*-1","v":{"$error":"#REF!"}},null,{"$f":"SUM(C18:L18)","v":{"$error":"#REF!"}},"Transport","EXT","EX",null,{"$error":"#REF!"},{"$f":"(#REF!+#REF!+#REF!+#REF!)*#REF!+(#REF!+#REF!)*#REF!+#REF!*#REF!","v":{"$error":"#REF!"}},null,null,null,null,null,null,null,null,null,null,null,{"$f":"#REF!*#REF!*-1*((#REF!+#REF!+#REF!+#REF!)*#REF!+(#REF!+#REF!)*#REF!+#REF!*#REF!)","v":{"$error":"#REF!"}},{"$f":"(S18+SUM(C18:M18))*-1","v":{"$error":"#REF!"}},{"$f":"-(C18*Emissionsfaktorer!$B$2+D18*Emissionsfaktorer!$B$3+E18*Emissionsfaktorer!$B$4+F18*Emissionsfaktorer!$B$5+G18*Emissionsfaktorer!$B$6+H18*Emissionsfaktorer!$B$7+I18*Emissionsfaktorer!$B$8+J18*Emissionsfaktorer!$B$9+K18*Emissionsfaktorer!$B$10+L18*Emissionsfaktorer!$B$11+M18*Emissionsfaktorer!$B$12)","v":{"$error":"#REF!"}}]
[null,null,{"$f":"SUM(C20:C24)","v":{"$error":"#REF!"}},{"$f":"SUM(D20:D24)","v":0},{"$error":"#REF!"},{"$error":"#REF!"},0,0,{"$error":"#REF!"},{"$error":"#REF!"},{"$error":"#REF!"},{"$error":"#REF!"},0,{"$f":"SUM(N20:N24)","v":{"$error":"#REF!"}},"Other ","EXO","EX",null,{"$error":"#REF!"},0.8,null,{"$f":"SUM(V20:V24)","v":0},{"$f":"SUM(W20:W24)","v":0},0,0,0,0,0,0,0,0,{"$error":"#REF!"},{"$error":"#REF!"},{"$error":"#REF!"}]
[null,null,{"$f":"AF20*#REF!/T20*#REF!/#REF!*-1","v":{"$error":"#REF!"}},null,{"$f":"AF20*#REF!/T20*#REF!/#REF!*-1","v":{"$error":"#REF!"}},{"$f":"AF20*#REF!/T20*#REF!/#REF!*-1","v":{"$error":"#REF!"}},null,null,{"$f":"AF20*#REF!/T20*#REF!/#REF!*-1","v":{"$error":"#REF!"}},{"$f":"AF20*#REF!/T20*#REF!/#REF!*-1","v":{"$error":"#REF!"}},{"$f":"AF20*#REF!/T20*#REF!/#REF!*-1","v":{"$error":"#REF!"}},{"$f":"AF20*#REF!/T20*#REF!/#REF!*-1","v":{"$error":"#REF!"}},null,{"$f":"SUM(C20:L20)","v":{"$error":"#REF!"}},"Residential","EXOR","EXO",null,{"$error":"#REF!"},{"$f":"(#REF!+#REF!+#REF!+#REF!)*#REF!+(#REF!+#REF!)*#REF!+#REF!*#REF!","v":{"$error":"#REF!"}},null,null,null,null,null,null,null,null,null,null,null,{"$f":"#REF!*#REF!*((#REF!+#REF!+#REF!+#REF!)*#REF!+(#REF!+#REF!)*#REF!+#REF!*#REF!)*-1","v":{"$error":"#REF!"}},{"$f":"(N20+AF20)*-1","v":{"$error":"#REF!"}},{"$f":"-(C20*Emissionsfaktorer!$B$2+D20*Emissionsfaktorer!$B$3+E20*Emissionsfaktorer!$B$4+F20*Emissionsfaktorer!$B$5+G20*Emissionsfaktorer!$B$6+H20*Emissionsfaktorer!$B$7+I20*Emissionsfaktorer!$B$8+J20*Emissionsfaktorer!$B$9+K20*Emissionsfaktorer!$B$10+L20*Emissionsfaktorer!$B$11+M20*Emissionsfaktorer!$B$12)","v":{"$error":"#REF!"}}]
[null,null,{"$f":"AF21*#REF!/T21*#REF!/#REF!*-1","v":{"$error":"#REF!"}},null,{"$f":"AF21*#REF!/T21*#REF!/#REF!*-1","v":{"$error":"#REF!"}},{"$f":"AF21*#REF!/T21*#REF!/#REF!*-1","v":{"$error":"#REF!"}},null,null,{"$f":"AF21*#REF!/T21*#REF!/#REF!*-1","v":{"$error":"#REF!"}},{"$f":"AF21*#REF!/T21*#REF!/#REF!*-1","v":{"$error":"#REF!"}},{"$f":"AF21*#REF!/T21*#REF!/#REF!*-1","v":{"$error":"#REF!"}},{"$f":"AF21*#REF!/T21*#REF!/#REF!*-1","v":{"$error":"#REF!"}},null,{"$f":"SUM(C21:L21)","v":{"$error":"#REF!"}},"Commercial and public services","EXOC","EXO",null,{"$error":"#REF!"},{"$f":"(#REF!+#REF!+#REF!+#REF!)*#REF!+(#REF!+#REF!)*#REF!+#REF!*#REF!","v":{"$error":"#REF!"}},null,null,null,null,null,null,null,null,null,null,null,{"$f":"#REF!*#REF!*((#REF!+#REF!+#REF!+#REF!)*#REF!+(#REF!+#REF!)*#REF!+#REF!*#REF!)*-1","v":{"$error":"#REF!"}},{"$f":"(N21+AF21)*-1","v":{"$error":"#REF!"}},{"$f":"-(C21*Emissionsfaktorer!$B$2+D21*Emissionsfaktorer!$B$3+E21*Emissionsfaktorer!$B$4+F21*Emissionsfaktorer!$B$5+G21*Emissionsfaktorer!$B$6+H21*Emissionsfaktorer!$B$7+I21*Emissionsfaktorer!$B$8+J21*Emissionsfaktorer!$B$9+K21*Emissionsfaktorer!$B$10+L21*Emissionsfaktorer!$B$11+M21*Emissionsfaktorer!$B$12)","v":{"$error":"#REF!"}}]
[null,null,{"$f":"AF22*#REF!/T22*#REF!/#REF!*-1","v":{"$error":"#REF!"}},null,{"$f":"AF22*#REF!/T22*#REF!/#REF!*-1","v":{"$error":"#REF!"}},{"$f":"AF22*#REF!/T22*#REF!/#REF!*-1","v":{"$error":"#REF!"}},null,null,{"$f":"AF22*#REF!/T22*#REF!/#REF!*-1","v":{"$error":"#REF!"}},{"$f":"AF22*#REF!/T22*#REF!/#REF!*-1","v":{"$error":"#REF!"}},{"$f":"AF22*#REF!/T22*#REF!/#REF!*-1","v":{"$error":"#REF!"}},{"$f":"AF22*#REF!/T22*#REF!/#REF!*-1","v":{"$error":"#REF!"}},null,{"$f":"SUM(C22:L22)","v":{"$error":"#REF!"}},"Agriculture / forestry","EXOA","EXO",null,{"$error":"#REF!"},{"$f":"(#REF!+#REF!+#REF!+#REF!)*#REF!+(#REF!+#REF!)*#REF!+#REF!*#REF!","v":{"$error":"#REF!"}},null,null,null,null,null,null,null,null,null,null,null,{"$f":"((#REF!+#REF!+#REF!+#REF!)*#REF!+(#REF!+#REF!)*#REF!+#REF!*#REF!)*#REF!*#REF!*-1","v":{"$error":"#REF!"}},{"$f":"(N22+AF22)*-1","v":{"$error":"#REF!"}},{"$f":"-(C22*Emissionsfaktorer!$B$2+D22*Emissionsfaktorer!$B$3+E22*Emissionsfaktorer!$B$4+F22*Emissionsfaktorer!$B$5+G22*Emissionsfaktorer!$B$6+H22*Emissionsfaktorer!$B$7+I22*Emissionsfaktorer!$B$8+J22*Emissionsfaktorer!$B$9+K22*Emissionsfaktorer!$B$10+L22*Emissionsfaktorer!$B$11+M22*Emissionsfaktorer!$B$12)","v":{"$error":"#REF!"}}]
[null,null,{"$f":"AF23*#REF!/T23*#REF!/#REF!*-1","v":{"$error":"#REF!"}},null,{"$f":"AF23*#REF!/T23*#REF!/#REF!*-1","v":{"$error":"#REF!"}},{"$f":"AF23*#REF!/T23*#REF!/#REF!*-1","v":{"$error":"#REF!"}},null,null,{"$f":"AF23*#REF!/T23*#REF!/#REF!*-1","v":{"$error":"#REF!"}},{"$f":"AF23*#REF!/T23*#REF!/#REF!*-1","v":{"$error":"#REF!"}},{"$f":"AF23*#REF!/T23*#REF!/#REF!*-1","v":{"$error":"#REF!"}},{"$f":"AF23*#REF!/T23*#REF!/#REF!*-1","v":{"$error":"#REF!"}},null,{"$f":"SUM(C23:L23)","v":{"$error":"#REF!"}},"Fishing","EXOF","EXO",null,{"$error":"#REF!"},{"$f":"(#REF!+#REF!+#REF!+#REF!)*#REF!+(#REF!+#REF!)*#REF!+#REF!*#REF!","v":{"$error":"#REF!"}},null,null,null,null,null,null,null,null,null,null,null,{"$f":"((#REF!+#REF!+#REF!+#REF!)*#REF!+(#REF!+#REF!)*#REF!+#REF!*#REF!)*#REF!*#REF!*-1","v":{"$error":"#REF!"}},{"$f":"(N23+AF23)*-1","v":{"$error":"#REF!"}},{"$f":"-(C23*Emissionsfaktorer!$B$2+D23*Emissionsfaktorer!$B$3+E23*Emissionsfaktorer!$B$4+F23*Emissionsfaktorer!$B$5+G23*Emissionsfaktorer!$B$6+H23*Emissionsfaktorer!$B$7+I23*Emissionsfaktorer!$B$8+J23*Emissionsfaktorer!$B$9+K23*Emissionsfaktorer!$B$10+L23*Emissionsfaktorer!$B$11+M23*Emissionsfaktorer!$B$12)","v":{"$error":"#REF!"}}]
[null,null,{"$f":"AF24*#REF!/T24*#REF!/#REF!*-1","v":{"$error":"#REF!"}},null,{"$f":"AF24*#REF!/T24*#REF!/#REF!*-1","v":{"$error":"#REF!"}},{"$f":"AF24*#REF!/T24*#REF!/#REF!*-1","v":{"$error":"#REF!"}},null,null,{"$f":"AF24*#REF!/T24*#REF!/#REF!*-1","v":{"$error":"#REF!"}},{"$f":"AF24*#REF!/T24*#REF!/#REF!*-1","v":{"$error":"#REF!"}},{"$f":"AF24*#REF!/T24*#REF!/#REF!*-1","v":{"$error":"#REF!"}},{"$f":"AF24*#REF!/T24*#REF!/#REF!*-1","v":{"$error":"#REF!"}},null,{"$f":"SUM(C24:L24)","v":{"$error":"#REF!"}},"Non-specified","EXON","EXO",null,{"$error":"#REF!"},{"$f":"(#REF!+#REF!+#REF!+#REF!)*#REF!+(#REF!+#REF!)*#REF!+#REF!*#REF!","v":{"$error":"#REF!"}},null,null,null,null,null,null,null,null,null,null,null,{"$f":"((#REF!+#REF!+#REF!+#REF!)*#REF!+(#REF!+#REF!)*#REF!+#REF!*#REF!)*#REF!*#REF!*-1","v":{"$error":"#REF!"}},{"$f":"(N24+AF24)*-1","v":{"$error":"#REF!"}},{"$f":"-(C24*Emissionsfaktorer!$B$2+D24*Emissionsfaktorer!$B$3+E24*Emissionsfaktorer!$B$4+F24*Emissionsfaktorer!$B$5+G24*Emissionsfaktorer!$B$6+H24*Emissionsfaktorer!$B$7+I24*Emissionsfaktorer!$B$8+J24*Emissionsfaktorer!$B$9+K24*Emissionsfaktorer!$B$10+L24*Emissionsfaktorer!$B$11+M24*Emissionsfaktorer!$B$12)","v":{"$error":"#REF!"}}]
[null,null,null,null,null,null,null,null,null,null,null,null,null,{"$f":"N16","v":{"$error":"#REF!"}},"Energy Services","EN",null,null,{"$error":"#REF!"},{"$f":"AF25/N25*-1","v":{"$error":"#REF!"}},null,null,null,null,null,null,null,null,null,null,null,{"$f":"AF16","v":{"$error":"#REF!"}},{"$f":"-(S25+N25)","v":{"$error":"#REF!"}}]

{"sheet":"Introduction","index":2,"n_rows":25,"n_cols":1,"rows_kept":25,"cut":false,"hidden":false,"merged":[]}
[]
[]
["The purpose of the projection model"]
[]
[]
[]
[]
["The projection model in three different resolutions"]
[]
["Bright green: The World as a whole"]
["Green: The World divided into OECD- and Non-OECD-contries"]
["Dark green: The World divided into nine areas"]
[]
[]
[]
["Coherence between \"Sustainable Development Goals and Energy Consumption\""]
[]
[]
[]
[]
[]
[]
[]
[]
["Key figures for the energy system"]

{"sheet":"Goals and Energy Consumption","index":3,"n_rows":152,"n_cols":9,"rows_kept":152,"cut":false,"hidden":false,"merged":[]}
[null,1995,2000,2005,2010,2015,2018,2030,2050]
[]
["Ligth green resolution"]
[]
["World"]
["Final Energy Consumption (PJ) ",{"$f":"#REF!*-1","v":{"$error":"#REF!"}},{"$f":"#REF!*-1","v":{"$error":"#REF!"}},{"$f":"#REF!*-1","v":{"$error":"#REF!"}},{"$f":"#REF!*-1","v":{"$error":"#REF!"}},{"$f":"#REF!*-1","v":{"$error":"#REF!"}},{"$f":"#REF!*-1","v":{"$error":"#REF!"}},380000,400000]
["Inhabitants"]
["Final Energy Consumption per Inhabitans"]
["Gross Domestic Product (GDP)"]
["Final Energy Consumption per GDP"]
["Human Development Index (HDI)"]
["Final Energy Consumption per HDI"]
["Social Progress Index (SPI)"]
["Final Energy Consumption per SPI"]
["The same procedure for other Sustainable Goals"]
[]
["Green resolution"]
[]
["OECD"]
["Final Energy Consumption ",{"$f":"#REF!*-1","v":{"$error":"#REF!"}},{"$f":"#REF!*-1","v":{"$error":"#REF!"}},{"$f":"#REF!*-1","v":{"$error":"#REF!"}},{"$f":"#REF!*-1","v":{"$error":"#REF!"}},{"$f":"#REF!*-1","v":{"$error":"#REF!"}},{"$f":"#REF!*-1","v":{"$error":"#REF!"}}]
["Inhabitants"]
["Final Energy Consumption per Inhabitans"]
["Gross Domestic Product (GDP)"]
["Final Energy Consumption per GDP"]
["Human Development Index (HDI)"]
["Final Energy Consumption per HDI"]
["Social Progress Index (SPI)"]
["Final Energy Consumption per SPI"]
["The same procedure for other Sustainable Goals"]
[]
["Non-OECD"]
["Final Energy Consumption ",{"$f":"#REF!*-1","v":{"$error":"#REF!"}},{"$f":"#REF!*-1","v":{"$error":"#REF!"}},{"$f":"#REF!*-1","v":{"$error":"#REF!"}},{"$f":"#REF!*-1","v":{"$error":"#REF!"}},{"$f":"#REF!*-1","v":{"$error":"#REF!"}},{"$f":"#REF!*-1","v":{"$error":"#REF!"}}]
["Inhabitants"]
["Final Energy Consumption per Inhabitans"]
["Gross Domestic Product (GDP)"]
["Final Energy Consumption per GDP"]
["Human Development Index (HDI)"]
["Final Energy Consumption per HDI"]
["Social Progress Index (SPI)"]
["Final Energy Consumption per SPI"]
["The same procedure for other Sustainable Goals"]
[]
[]
["Dark green resolution"]
[]
["Non-OECD Americas"]
["Final Energy Consumption ",{"$f":"#REF!*-1","v":{"$error":"#REF!"}},{"$f":"#REF!*-1","v":{"$error":"#REF!"}},{"$f":"#REF!*-1","v":{"$error":"#REF!"}},{"$f":"#REF!*-1","v":{"$error":"#REF!"}},{"$f":"#REF!*-1","v":{"$error":"#REF!"}},{"$f":"#REF!*-1","v":{"$error":"#REF!"}}]
["Inhabitants"]
["Final Energy Consumption per Inhabitans"]
["Gross Domestic Product (GDP)"]
["Final Energy Consumption per GDP"]
["Human Development Index (HDI)"]
["Final Energy Consumption per HDI"]
["Social Progress Index (SPI)"]
["Final Energy Consumption per SPI"]
["The same procedure for other Sustainable Goals"]
[]
["Non-OECD Europe and Eurasia"]
["Final Energy Consumption ",{"$f":"#REF!*-1","v":{"$error":"#REF!"}},{"$f":"#REF!*-1","v":{"$error":"#REF!"}},{"$f":"#REF!*-1","v":{"$error":"#REF!"}},{"$f":"#REF!*-1","v":{"$error":"#REF!"}},{"$f":"#REF!*-1","v":{"$error":"#REF!"}},{"$f":"#REF!*-1","v":{"$error":"#REF!"}}]
["Inhabitants"]
["Final Energy Consumption per Inhabitans"]
["Gross Domestic Product (GDP)"]
["Final Energy Consumption per GDP"]
["Human Development Index (HDI)"]
["Final Energy Consumption per HDI"]
["Social Progress Index (SPI)"]
["Final Energy Consumption per SPI"]
["The same procedure for other Sustainable Goals"]
[]
["Non-OECD Asia excluding China"]
["Final Energy Consumption ",{"$f":"#REF!*-1","v":{"$error":"#REF!"}},{"$f":"#REF!*-1","v":{"$error":"#REF!"}},{"$f":"#REF!*-1","v":{"$error":"#REF!"}},{"$f":"#REF!*-1","v":{"$error":"#REF!"}},{"$f":"#REF!*-1","v":{"$error":"#REF!"}},{"$f":"#REF!*-1","v":{"$error":"#REF!"}}]
["Inhabitants"]
["Final Energy Consumption per Inhabitans"]
["Gross Domestic Product (GDP)"]
["Final Energy Consumption per GDP"]
["Human Development Index (HDI)"]
["Final Energy Consumption per HDI"]
["Social Progress Index (SPI)"]
["Final Energy Consumption per SPI"]
["The same procedure for other Sustainable Goals"]
[]
["Middle East"]
["Final Energy Consumption ",{"$f":"#REF!*-1","v":{"$error":"#REF!"}},{"$f":"#REF!*-1","v":{"$error":"#REF!"}},{"$f":"#REF!*-1","v":{"$error":"#REF!"}},{"$f":"#REF!*-1","v":{"$error":"#REF!"}},{"$f":"#REF!*-1","v":{"$error":"#REF!"}},{"$f":"#REF!*-1","v":{"$error":"#REF!"}}]
["Inhabitants"]
["Final Energy Consumption per Inhabitans"]
["Gross Domestic Product (GDP)"]
["Final Energy Consumption per GDP"]
["Human Development Index (HDI)"]
["Final Energy Consumption per HDI"]
["Social Progress Index (SPI)"]
["Final Energy Consumption per SPI"]
["The same procedure for other Sustainable Goals"]
[]
["Africa"]
["Final Energy Consumption ",{"$f":"#REF!*-1","v":{"$error":"#REF!"}},{"$f":"#REF!*-1","v":{"$error":"#REF!"}},{"$f":"#REF!*-1","v":{"$error":"#REF!"}},{"$f":"#REF!*-1","v":{"$error":"#REF!"}},{"$f":"#REF!*-1","v":{"$error":"#REF!"}},{"$f":"#REF!*-1","v":{"$error":"#REF!"}}]
["Inhabitants"]
["Final Energy Consumption per Inhabitans"]
["Gross Domestic Product (GDP)"]
["Final Energy Consumption per GDP"]
["Human Development Index (HDI)"]
["Final Energy Consumption per HDI"]
["Social Progress Index (SPI)"]
["Final Energy Consumption per SPI"]
["The same procedure for other Sustainable Goals"]
[]
["China"]
["Final Energy Consumption ",{"$f":"#REF!*-1","v":{"$error":"#REF!"}},{"$f":"#REF!*-1","v":{"$error":"#REF!"}},{"$f":"#REF!*-1","v":{"$error":"#REF!"}},{"$f":"#REF!*-1","v":{"$error":"#REF!"}},{"$f":"#REF!*-1","v":{"$error":"#REF!"}},{"$f":"#REF!*-1","v":{"$error":"#REF!"}}]
["Inhabitants"]
["Final Energy Consumption per Inhabitans"]
["Gross Domestic Product (GDP)"]
["Final Energy Consumption per GDP"]
["Human Development Index (HDI)"]
["Final Energy Consumption per HDI"]
["Social Progress Index (SPI)"]
["Final Energy Consumption per SPI"]
["The same procedure for other Sustainable Goals"]
[]
["OECD Americas"]
["Final Energy Consumption ",{"$f":"#REF!*-1","v":{"$error":"#REF!"}},{"$f":"#REF!*-1","v":{"$error":"#REF!"}},{"$f":"#REF!*-1","v":{"$error":"#REF!"}},{"$f":"#REF!*-1","v":{"$error":"#REF!"}},{"$f":"#REF!*-1","v":{"$error":"#REF!"}},{"$f":"#REF!*-1","v":{"$error":"#REF!"}}]
["Inhabitants"]
["Final Energy Consumption per Inhabitans"]
["Gross Domestic Product (GDP)"]
["Final Energy Consumption per GDP"]
["Human Development Index (HDI)"]
["Final Energy Consumption per HDI"]
["Social Progress Index (SPI)"]
["Final Energy Consumption per SPI"]
["The same procedure for other Sustainable Goals"]
[]
["OECD Europe"]
["Final Energy Consumption ",{"$f":"#REF!*-1","v":{"$error":"#REF!"}},{"$f":"#REF!*-1","v":{"$error":"#REF!"}},{"$f":"#REF!*-1","v":{"$error":"#REF!"}},{"$f":"#REF!*-1","v":{"$error":"#REF!"}},{"$f":"#REF!*-1","v":{"$error":"#REF!"}},{"$f":"#REF!*-1","v":{"$error":"#REF!"}}]
["Inhabitants"]
["Final Energy Consumption per Inhabitans"]
["Gross Domestic Product (GDP)"]
["Final Energy Consumption per GDP"]
["Human Development Index (HDI)"]
["Final Energy Consumption per HDI"]
["Social Progress Index (SPI)"]
["Final Energy Consumption per SPI"]
["The same procedure for other Sustainable Goals"]
[]
["OECD Asia Oceania"]
["Final Energy Consumption ",{"$f":"#REF!*-1","v":{"$error":"#REF!"}},{"$f":"#REF!*-1","v":{"$error":"#REF!"}},{"$f":"#REF!*-1","v":{"$error":"#REF!"}},{"$f":"#REF!*-1","v":{"$error":"#REF!"}},{"$f":"#REF!*-1","v":{"$error":"#REF!"}},{"$f":"#REF!*-1","v":{"$error":"#REF!"}}]
["Inhabitants"]
["Final Energy Consumption per Inhabitans"]
["Gross Domestic Product (GDP)"]
["Final Energy Consumption per GDP"]
["Human Development Index (HDI)"]
["Final Energy Consumption per HDI"]
["Social Progress Index (SPI)"]
["Final Energy Consumption per SPI"]
["The same procedure for other Sustainable Goals"]

{"sheet":"Front Page","index":4,"n_rows":0,"n_cols":0,"rows_kept":0,"cut":false,"hidden":false,"merged":[]}

{"sheet":"TOC","index":5,"n_rows":0,"n_cols":0,"rows_kept":0,"cut":false,"hidden":false,"merged":[]}

{"sheet":"Overview - 2018","index":6,"n_rows":0,"n_cols":0,"rows_kept":0,"cut":false,"hidden":false,"merged":[]}

{"sheet":"Result - Tendency","index":7,"n_rows":0,"n_cols":0,"rows_kept":0,"cut":false,"hidden":false,"merged":[]}

{"sheet":"Overview - The Calculation","index":8,"n_rows":0,"n_cols":0,"rows_kept":0,"cut":false,"hidden":false,"merged":[]}

{"sheet":"Total Consumption","index":9,"n_rows":44,"n_cols":18,"rows_kept":44,"cut":false,"hidden":false,"merged":[]}
[]
[]
[]
[]
[]
[]
[]
[]
[]
[]
[]
[]
[]
[]
[]
[]
[]
[]
[]
[]
[]
[]
[]
[null,null,null,null,null,null,null,null,null,null,null,null,null,null,null,null,{"$f":"'KF World - Values'!L16","v":31954},{"$f":"'KF World - Values'!L17","v":31237}]
[null,null,null,null,null,null,null,null,null,null,null,null,null,null,null,null,{"$f":"'KF World - Values'!H1","v":31953.886603909021},{"$f":"'KF World - Values'!I1","v":34360.245338553061}]
[]
[]
[]
[]
[]
[]
[null,null,null,null,null,null,null,null,460000,null,500000,5]
[]
[]
[]
[]
[null,null,null,null,null,{"$f":"'KF World - Values'!H4","v":460000}]
[]
[]
[]
[]
[]
[]
[null,null,null,null,null,{"$f":"'KF World - Values'!I4","v":550000}]

{"sheet":"Share of Consumption","index":10,"n_rows":41,"n_cols":18,"rows_kept":41,"cut":false,"hidden":false,"merged":[]}
[]
[]
[]
[]
[]
[]
[]
[]
[]
[]
[]
[]
[]
[]
[]
[]
[]
[]
[]
[]
[]
[]
[]
[null,null,null,null,null,null,null,null,null,null,null,null,null,null,null,null,{"$f":"'KF World - Values'!L16","v":31954},{"$f":"'KF World - Values'!L17","v":31237}]
[null,null,null,null,null,null,null,null,null,null,null,null,null,null,null,null,{"$f":"'KF World - Values'!H1","v":31953.886603909021},{"$f":"'KF World - Values'!I1","v":34360.245338553061}]
[]
[]
[]
[]
[]
[null,null,null,null,null,null,null,null,{"$f":"'KF World - Values'!H8","v":34},null,null,null,{"$f":"'KF World - Values'!H6","v":32}]
[null,null,null,null,null,{"$f":"'KF World - Values'!H7","v":34},null,null,null,null,null,null,null,null,{"$f":"SUM('KF World - Values'!H6:H8)","v":100}]
[null,null,null,null,null,null,null,null,null,null,null,null,{"$f":"'KF World - Values'!H6","v":32}]
[null,null,null,null,null,{"$f":"'KF World - Values'!H7","v":34},null,null,{"$f":"'KF World - Values'!H8","v":34}]
[]
[]
[null,null,null,null,null,null,null,null,null,null,null,null,{"$f":"'KF World - Values'!I6","v":32}]
[]
[null,null,null,null,null,{"$f":"'KF World - Values'!I7","v":34},null,null,{"$f":"'KF World - Values'!I8","v":34},null,null,null,null,null,{"$f":"SUM('KF World - Values'!I6:I8)","v":100}]
[]
[null,null,null,null,null,{"$f":"'KF World - Values'!I7","v":34},null,null,{"$f":"'KF World - Values'!I8","v":34},null,null,null,{"$f":"'KF World - Values'!I6","v":32}]

{"sheet":"Share of Consumption - Deeper","index":11,"n_rows":0,"n_cols":0,"rows_kept":0,"cut":false,"hidden":false,"merged":[]}

{"sheet":"Consumption - Transport","index":12,"n_rows":43,"n_cols":18,"rows_kept":43,"cut":false,"hidden":false,"merged":[]}
[]
[]
[]
[]
[]
[]
[]
[]
[]
[]
[]
[]
[]
[]
[]
[]
[]
[]
[]
[]
[]
[]
[]
[null,null,null,null,null,null,null,null,null,null,null,null,null,null,null,null,{"$f":"'KF World - Values'!L16","v":31954},{"$f":"'KF World - Values'!L17","v":31237}]
[null,null,null,null,null,null,null,null,null,null,null,null,null,null,null,null,{"$f":"'KF World - Values'!H1","v":31953.886603909021},{"$f":"'KF World - Values'!I1","v":34360.245338553061}]
[]
[]
[]
[]
[]
[]
[]
[]
[]
[]
[null,null,null,null,null,null,null,null,null,null,null,null,null,null,{"$f":"'KF World - Values'!H21","v":4}]
[null,null,null,null,null,null,null,{"$f":"'KF World - Values'!H20","v":91.998166660901447},null,null,null,{"$f":"'KF World - Values'!H23","v":3}]
[null,null,null,null,{"$f":"'KF World - Values'!H24","v":1}]
[]
[]
[]
[]
[null,null,null,null,{"$f":"'KF World - Values'!I24","v":5},null,null,{"$f":"'KF World - Values'!I20","v":86.998166660901447},null,null,null,{"$f":"'KF World - Values'!I23","v":4},null,null,{"$f":"'KF World - Values'!I21","v":4}]

{"sheet":"Consumption - Industry","index":13,"n_rows":43,"n_cols":21,"rows_kept":43,"cut":false,"hidden":false,"merged":[]}
[]
[]
[]
[]
[]
[]
[]
[]
[]
[]
[]
[]
[]
[]
[]
[]
[]
[]
[]
[]
[]
[]
[]
[null,null,null,null,null,null,null,null,null,null,null,null,null,null,null,null,{"$f":"'KF World - Values'!L16","v":31954},{"$f":"'KF World - Values'!L17","v":31237}]
[null,null,null,null,null,null,null,null,null,null,null,null,null,null,null,null,{"$f":"'KF World - Values'!H1","v":31953.886603909021},{"$f":"'KF World - Values'!I1","v":34360.245338553061}]
[]
[]
[]
[]
[]
[]
[]
[]
[]
[]
[null,null,null,null,{"$f":"'KF World - Values'!H16","v":25},null,null,null,{"$f":"'KF World - Values'!H15","v":7},null,null,{"$f":"'KF World - Values'!H13","v":18},null,null,null,{"$f":"'KF World - Values'!H12","v":9},null,null,{"$f":"'KF World - Values'!H17","v":7},null,{"$f":"'KF World - Values'!H10","v":33.875955909052649}]
[null,null,null,null,null,null,null,null,null,null,null,null,null,null,null,null,null,null,null,null,{"$f":"'KF World - Values'!I10","v":29.875955909052649}]
[]
[]
[]
[]
[null,null,null,null,{"$f":"'KF World - Values'!I16","v":29},null,null,null,{"$f":"'KF World - Values'!I15","v":10},null,null,{"$f":"'KF World - Values'!I13","v":16},null,null,null,{"$f":"'KF World - Values'!I12","v":7},null,null,{"$f":"'KF World - Values'!I17","v":8}]
[null,null,null,null,null,null,null,null,null,null,null,null,null,null,null,null,null,null,null,null,{"$f":"'KF World - Values'!I10","v":29.875955909052649}]

{"sheet":"Consumption - Other","index":14,"n_rows":41,"n_cols":24,"rows_kept":41,"cut":false,"hidden":false,"merged":[]}
[]
[]
[]
[]
[]
[]
[]
[]
[]
[]
[]
[]
[]
[]
[]
[]
[]
[]
[]
[]
[]
[]
[]
[null,null,null,null,null,null,null,null,null,null,null,null,null,null,null,null,{"$f":"'KF World - Values'!L16","v":31954},{"$f":"'KF World - Values'!L17","v":31237}]
[null,null,null,null,null,null,null,null,null,null,null,null,null,null,null,null,{"$f":"'KF World - Values'!H1","v":31953.886603909021},{"$f":"'KF World - Values'!I1","v":34360.245338553061}]
[]
[]
[]
[]
[]
[]
[]
[]
[]
[null,null,null,null,{"$f":"'KF World - Values'!H32","v":35},null,null,null,{"$f":"'KF World - Values'!H31","v":24},null,null,{"$f":"'KF World - Values'!H27","v":4},null,null,null,{"$f":"'KF World - Values'!H28","v":13},null,null,{"$f":"'KF World - Values'!H33","v":6},null,null,{"$f":"'KF World - Values'!H30","v":1},null,{"$f":"'KF World - Values'!H29","v":17}]
[]
[]
[]
[]
[]
[null,null,null,null,{"$f":"'KF World - Values'!I32","v":36},null,null,null,{"$f":"'KF World - Values'!I31","v":25},null,null,{"$f":"'KF World - Values'!I27","v":2},null,null,null,{"$f":"'KF World - Values'!I28","v":9},null,null,{"$f":"'KF World - Values'!I33","v":7},null,null,{"$f":"'KF World - Values'!I30","v":1},null,{"$f":"'KF World - Values'!I29","v":20}]

{"sheet":"Transport Losses","index":15,"n_rows":41,"n_cols":19,"rows_kept":41,"cut":false,"hidden":true,"merged":[]}
[]
[]
[]
[null,null,null,null,null,null,null,null,null,null,null,null,null,null,null,null,null,null,"You are currently working within the red box in the e2g-format"]
[]
[]
[]
[]
[]
[]
[]
[]
[]
[]
[]
[]
[]
[]
[]
[]
[]
[]
[]
[]
[]
[]
[]
[]
[]
[]
[]
[]
[]
[]
[null,null,null,null,{"$f":"'KF World - Values'!H35","v":9},null,null,null,{"$f":"'KF World - Values'!H36","v":7}]
[]
[]
[]
[]
[]
[null,null,null,null,{"$f":"'KF World - Values'!I35","v":7},null,null,null,{"$f":"'KF World - Values'!I36","v":5}]

{"sheet":"Conversion","index":16,"n_rows":39,"n_cols":18,"rows_kept":39,"cut":false,"hidden":false,"merged":[]}
[]
[]
[]
[]
[]
[]
[]
[]
[]
[]
[]
[]
[]
[]
[]
[]
[]
[]
[]
[]
[]
[]
[]
[null,null,null,null,null,null,null,null,null,null,null,null,null,null,null,null,{"$f":"'KF World - Values'!L16","v":31954},{"$f":"'KF World - Values'!L17","v":31237}]
[null,null,null,null,null,null,null,null,null,null,null,null,null,null,null,null,{"$f":"'KF World - Values'!H1","v":31953.886603909021},{"$f":"'KF World - Values'!I1","v":34360.245338553061}]
[]
[]
[]
[]
[]
[]
[null,null,null,null,null,{"$f":"'KF World - Values'!H58","v":15},null,{"$f":"'KF World - Values'!H59","v":68},null,null,null,null,{"$f":"'KF World - Values'!H57","v":17}]
[]
[]
[]
[]
[]
[]
[null,null,null,null,null,{"$f":"'KF World - Values'!I58","v":22},null,{"$f":"'KF World - Values'!I59","v":55},null,null,null,null,{"$f":"'KF World - Values'!I57","v":23}]

{"sheet":"Conversion - Deeper","index":17,"n_rows":0,"n_cols":0,"rows_kept":0,"cut":false,"hidden":true,"merged":[]}

{"sheet":"Conversion - Electricity","index":18,"n_rows":96,"n_cols":21,"rows_kept":96,"cut":false,"hidden":false,"merged":[]}
[]
[]
[]
[]
[]
[]
[]
[]
[]
[]
[]
[]
[]
[]
[]
[]
[]
[]
[]
[]
[]
[]
[]
[null,null,null,null,null,null,null,null,null,null,null,null,null,null,null,null,{"$f":"'KF World - Values'!L16","v":31954},{"$f":"'KF World - Values'!L17","v":31237}]
[null,null,null,null,null,null,null,null,null,null,null,null,null,null,null,null,{"$f":"'KF World - Values'!H1","v":31953.886603909021},{"$f":"'KF World - Values'!I1","v":34360.245338553061}]
[]
[]
[]
[]
[]
[]
[null,null,null,null,null,null,null,{"$f":"'KF World - Values'!H59","v":68},null,null,null,{"$f":"'KF World - Values'!H57","v":17},{"$f":"L32","v":17}]
[null,null,null,null,{"$f":"'KF World - Values'!H58","v":15}]
[]
[]
[]
[]
[]
[null,null,null,null,null,{"$f":"'KF World - Values'!I58","v":22},null,{"$f":"'KF World - Values'!I59","v":55},null,null,null,{"$f":"'KF World - Values'!I57","v":23},{"$f":"L39","v":23}]
[]
[]
[]
[]
[]
[]
[]
[]
[]
[null,null,null,null,{"$f":"'KF World - Values'!H67","v":38}]
[]
[]
[]
[]
[]
[]
[null,null,null,null,{"$f":"'KF World - Values'!H97","v":0}]
[null,null,null,null,null,null,null,null,{"$f":"'KF World - Values'!H98","v":0},null,null,{"$f":"'KF World - Values'!H99","v":0},null,null,null,{"$f":"'KF World - Values'!H100","v":0}]
[]
[]
[]
[]
[]
[null,null,null,null,{"$f":"'KF World - Values'!I97","v":0},null,null,null,{"$f":"'KF World - Values'!I98","v":0},null,null,{"$f":"'KF World - Values'!I99","v":0},null,null,null,{"$f":"'KF World - Values'!I100","v":0}]
[]
[]
[]
[]
[]
[]
[]
[]
[]
[]
[]
[]
[]
[]
[]
[]
[]
[]
[]
[]
[]
[]
[]
[]
[]
[]
[null,null,null,null,{"$f":"'KF World - Values'!H76","v":14},null,null,null,{"$f":"'KF World - Values'!H77","v":5},null,null,{"$f":"'KF World - Values'!H75","v":31},null,null,null,{"$f":"'KF World - Values'!H74","v":1},null,null,{"$f":"'KF World - Values'!H73","v":1},null,{"$f":"'KF World - Values'!H72","v":48}]
[]
[]
[]
[]
[]
[null,null,null,null,{"$f":"'KF World - Values'!I76","v":12},null,null,null,{"$f":"'KF World - Values'!I77","v":10},null,null,{"$f":"'KF World - Values'!I75","v":38},null,null,null,{"$f":"'KF World - Values'!I74","v":2},null,null,{"$f":"'KF World - Values'!I73","v":1},null,{"$f":"'KF World - Values'!I72","v":37}]

{"sheet":"Conversion - Heat","index":19,"n_rows":265,"n_cols":21,"rows_kept":265,"cut":false,"hidden":true,"merged":[]}
[]
[]
[]
[]
[]
[]
[]
[]
[]
[]
[]
[]
[]
[]
[]
[]
[]
[]
[]
[]
[]
[]
[]
[]
[]
[]
[]
[]
[]
[]
[]
[null,null,null,null,null,null,null,{"$f":"'KF World - Values'!H49","v":26}]
[null,null,null,null,{"$f":"'KF World - Values'!H48","v":74}]
[]
[]
[]
[]
[]
[null,null,null,null,{"$f":"'KF World - Values'!I48","v":84},null,null,{"$f":"'KF World - Values'!I49","v":16}]
[]
[]
[]
[]
[]
[]
[]
[]
[]
[]
[]
[]
[]
[]
[]
[]
[]
[]
[]
[]
[]
[]
[]
[]
[]
[]
[]
[]
[null,null,null,null,{"$f":"'KF World - Values'!H51","v":0.69936260623229463},null,null,{"$f":"'KF World - Values'!H53","v":1.3997843940492758}]
[]
[]
[]
[]
[]
[]
[null,null,null,null,{"$f":"'KF World - Values'!I51","v":0.69936260623229463},null,null,{"$f":"'KF World - Values'!I53","v":1.3997843940492758}]
[]
[]
[]
[]
[]
[]
[]
[]
[]
[]
[]
[]
[]
[]
[]
[]
[]
[]
[]
[]
[]
[]
[]
[]
[]
[]
[]
[]
[]
[null,null,null,null,{"$f":"'KF World - Values'!H61","v":0}]
[null,null,null,null,null,null,null,{"$f":"'KF World - Values'!H62","v":99.52284729970124}]
[]
[]
[]
[]
[]
[null,null,null,null,{"$f":"'KF World - Values'!I61","v":0}]
[null,null,null,null,null,null,null,{"$f":"'KF World - Values'!I62","v":99.52284729970124}]
[]
[]
[]
[]
[]
[]
[]
[]
[]
[]
[]
[]
[]
[]
[]
[]
[]
[]
[]
[]
[]
[]
[]
[]
[]
[]
[]
[]
[]
[]
[]
[null,null,null,null,{"$f":"'KF World - Values'!H83","v":0},null,null,null,{"$f":"'KF World - Values'!H84","v":6},null,null,{"$f":"'KF World - Values'!H82","v":26},null,null,null,{"$f":"'KF World - Values'!H81","v":1},null,null,{"$f":"'KF World - Values'!H80","v":0},null,{"$f":"'KF World - Values'!H79","v":67}]
[]
[]
[]
[]
[]
[null,null,null,null,{"$f":"'KF World - Values'!I83","v":0},null,null,null,{"$f":"'KF World - Values'!I84","v":12},null,null,{"$f":"'KF World - Values'!I82","v":24},null,null,null,{"$f":"'KF World - Values'!I81","v":1},null,null,{"$f":"'KF World - Values'!I80","v":0},null,{"$f":"'KF World - Values'!I79","v":63}]
[]
[]
[]
[]
[]
[]
[]
[]
[]
[]
[]
[]
[]
[]
[]
[]
[]
[]
[]
[]
[]
[]
[]
[]
[]
[]
[]
[]
[null,null,null,null,{"$f":"'KF World - Values'!H64","v":1.59},null,null,{"$f":"'KF World - Values'!I65","v":98.41}]
[]
[]
[]
[]
[]
[]
[]
[null,null,null,null,{"$f":"'KF World - Values'!I64","v":1.59},null,null,{"$f":"'KF World - Values'!I65","v":98.41}]
[]
[]
[]
[]
[]
[]
[]
[]
[]
[]
[]
[]
[]
[]
[]
[]
[]
[]
[]
[]
[]
[]
[]
[]
[]
[]
[]
[]
[]
[]
[]
[]
[null,null,null,null,{"$f":"'KF World - Values'!H90","v":0},null,null,null,{"$f":"'KF World - Values'!H91","v":13},null,null,{"$f":"'KF World - Values'!H89","v":50},null,null,null,{"$f":"'KF World - Values'!H88","v":8},null,null,{"$f":"'KF World - Values'!H87","v":0},null,{"$f":"'KF World - Values'!H86","v":29}]
[]
[]
[]
[]
[]
[null,null,null,null,{"$f":"'KF World - Values'!I90","v":0},null,null,null,{"$f":"'KF World - Values'!I91","v":19},null,null,{"$f":"'KF World - Values'!I89","v":48},null,null,null,{"$f":"'KF World - Values'!I88","v":6},null,null,{"$f":"'KF World - Values'!I87","v":0},null,{"$f":"'KF World - Values'!I86","v":27}]
[]
[]
[]
[]
[]
[]
[]
[]
[]
[]
[]
[]
[]
[]
[]
[]
[]
[]
[]
[]
[]
[]
[]
[]
[]
[]
[]
[]
[]
[]
[null,null,null,null,{"$f":"'KF World - Values'!H68","v":57}]
[null,null,null,null,null,null,null,null,{"$f":"'KF World - Values'!H69","v":97}]
[]
[]
[]
[]
[]
[null,null,null,null,{"$f":"'KF World - Values'!I68","v":59},null,null,null,{"$f":"'KF World - Values'!I69","v":98}]

{"sheet":"Conversion - Refinieres","index":20,"n_rows":124,"n_cols":25,"rows_kept":124,"cut":false,"hidden":true,"merged":[]}
[]
[]
[]
[]
[]
[]
[]
[]
[]
[]
[]
[]
[]
[]
[]
[]
[]
[]
[]
[]
[]
[]
[]
[]
[]
[]
[]
[]
[]
[]
[]
[]
[]
[]
[]
[]
[]
[]
[]
[]
[]
[]
[]
[]
[]
[]
[]
[]
[]
[]
[]
[]
[]
[]
[]
[null,null,null,null,null,{"$f":"'KF World - Values'!H94","v":0},null,null,{"$f":"'KF World - Values'!H93","v":100}]
[]
[]
[]
[]
[]
[]
[null,null,null,null,null,{"$f":"'KF World - Values'!I94","v":0},null,null,{"$f":"'KF World - Values'!I93","v":100}]
[]
[]
[]
[]
[]
[]
[]
[]
[]
[]
[]
[]
[]
[]
[]
[]
[]
[]
[]
[]
[]
[]
[]
[]
[]
[]
[]
[]
[]
[]
[null,null,null,null,null,null,{"$f":"'KF World - Values'!H70","v":99}]
[]
[]
[]
[]
[]
[]
[null,null,null,null,null,null,{"$f":"'KF World - Values'!I70","v":99}]
[]
[]
[]
[]
[]
[]
[]
[]
[]
[]
[]
[]
[]
[]
[]
[]
[null,null,null,null,{"$f":"'KF World - Values'!H40","v":23},null,null,null,{"$f":"'KF World - Values'!H46","v":4},null,null,{"$f":"'KF World - Values'!H43","v":34},null,null,null,{"$f":"'KF World - Values'!H45","v":22},null,null,{"$f":"'KF World - Values'!H41","v":2},null,null,{"$f":"'KF World - Values'!H44","v":2},null,null,{"$f":"'KF World - Values'!H42","v":13}]
[]
[]
[]
[]
[]
[null,null,null,null,{"$f":"'KF World - Values'!I40","v":22},null,null,null,{"$f":"'KF World - Values'!I46","v":4},null,null,{"$f":"'KF World - Values'!I43","v":38},null,null,null,{"$f":"'KF World - Values'!I45","v":20},null,null,{"$f":"'KF World - Values'!I41","v":4},null,null,{"$f":"'KF World - Values'!I44","v":4},null,null,{"$f":"'KF World - Values'!I42","v":8}]

{"sheet":"Conversion - Industry Own Use","index":21,"n_rows":63,"n_cols":25,"rows_kept":63,"cut":false,"hidden":true,"merged":[]}
[]
[]
[]
[]
[]
[]
[]
[]
[]
[]
[]
[]
[]
[]
[]
[]
[]
[]
[]
[]
[]
[]
[]
[]
[]
[]
[]
[]
[]
[]
[]
[]
[]
[]
[]
[]
[]
[]
[]
[]
[]
[]
[]
[]
[]
[]
[]
[]
[]
[]
[]
[]
[]
[]
[]
[]
[null,null,null,null,{"$f":"'KF World - Values'!H40","v":23},null,null,null,{"$f":"'KF World - Values'!H46","v":4},null,null,null,{"$f":"'KF World - Values'!H43","v":34},null,null,{"$f":"'KF World - Values'!H45","v":22},null,null,null,{"$f":"'KF World - Values'!H41","v":2},null,null,{"$f":"'KF World - Values'!H44","v":2},null,{"$f":"'KF World - Values'!H42","v":13}]
[]
[]
[]
[]
[]
[null,null,null,null,{"$f":"'KF World - Values'!I40","v":22},null,null,null,{"$f":"'KF World - Values'!I46","v":4},null,null,null,{"$f":"'KF World - Values'!I43","v":38},null,null,{"$f":"'KF World - Values'!I45","v":20},null,null,null,{"$f":"'KF World - Values'!I41","v":4},null,null,{"$f":"'KF World - Values'!I44","v":4},null,{"$f":"'KF World - Values'!I42","v":8}]

{"sheet":"Future Emissions","index":22,"n_rows":50,"n_cols":16,"rows_kept":50,"cut":false,"hidden":false,"merged":[]}
[]
[]
[]
[]
[]
[]
[]
[]
[]
[]
[]
[]
[]
[]
[]
[]
[]
[]
[]
[]
[]
[]
[]
[]
[]
[]
[]
[]
[]
[]
[]
[]
[]
[]
[]
[]
[]
[]
[]
[]
[]
[]
[]
[]
[]
[]
[]
[]
[null,null,{"$f":"'KF World - Values'!AB31","v":36000},null,null,null,{"$f":"'KF World - Values'!AG31","v":38000}]
[null,null,null,null,null,null,null,null,null,{"$f":"'KF World - Values'!S32","v":0.76},null,{"$f":"'KF World - Values'!W32","v":0.76},null,{"$f":"'KF World - Values'!AB32","v":0.76},null,{"$f":"'KF World - Values'!AG32","v":0.76}]

{"sheet":"Results - Scenario","index":23,"n_rows":0,"n_cols":0,"rows_kept":0,"cut":false,"hidden":false,"merged":[]}

{"sheet":"BL World 2030","index":24,"n_rows":25,"n_cols":34,"rows_kept":25,"cut":false,"hidden":true,"merged":[]}
[null,"Consumption","Coal","Crude oil","Oil Products","Natual Gas","Nuclear","Hydro","Geothermal, solar, wind, etc.","Biofuels and waste","Electricity","Heat","Energy Services","Total consumption","World 2030",null,null,"Faktor","Total production","Efficiency","Production","Coal","Crude oil","Oil Products","Natual Gas","Nuclear","Hydro","Geothermal, solar, wind, etc.","Biofuels and waste","Electricity","Heat","Loss","Loss","CO2-emissions"]
["ID","C ","CC","CCO","COP","CNG","CNU","CHY","CGSW","CWB","CE","CH","CES","fbrbr",null,"ID","ID Parent","factor","pbrpr","pvrkg","P ","PC","PCO","POP","PNG","PNU","PHY","PGSW","PWB","PE","PH","PTAB","PTAB","PCO2"]
["ID Parent",null,"C","C","C ","C ","C ","C","C","C ","C ","C ","C ",null,"Structures",null,null,null,null,null,null,"P ","P ","P ","P ","P ","P ","P","P ","P ","P "]
["Factor"]
[null,null,null,null,null,null,null,null,null,null,null,null,null,null,"Entry fuels","ETP"]
[null,null,null,null,null,null,null,null,null,null,null,null,null,null,"Transport of fuels","TRAP"]
[null,null,null,null,null,null,null,null,null,null,null,null,null,null,"Entry On-Grid RE ","ELP1"]
[null,null,null,null,null,null,null,null,null,null,null,null,null,null,"Entry electricity, district heating and oil products","ES"]
[null,null,null,null,null,null,null,null,null,null,null,null,null,null,"Electricity-only plants","ESEP","ES"]
[null,null,null,null,null,null,null,null,null,null,null,null,null,null,"CHP plants","ESCHP","ES"]
[null,null,null,null,null,null,null,null,null,null,null,null,null,null,"Heat Plants","ESHP","ES"]
[null,null,null,null,null,null,null,null,null,null,null,null,null,null,"Oil refineries","ESOR","ES"]
[null,null,null,null,null,null,null,null,null,null,null,null,null,null,"Energy Industry one use","ESNSP","ES"]
[null,null,null,null,null,null,null,null,null,null,null,null,null,null,"Transport electricity, district heating and oil products","TRAS"]
[null,null,null,null,null,null,null,null,null,null,null,null,null,null,"Entry Off-Grid RE","ELP2"]
[null,null,null,null,null,null,null,null,null,null,null,null,null,null,"Exit energy","EX"]
[null,null,null,null,null,null,null,null,null,null,null,null,null,null,"Industry","EXI","EX"]
[null,null,null,null,null,null,null,null,null,null,null,null,null,null,"Transport","EXT","EX"]
[null,null,null,null,null,null,null,null,null,null,null,null,null,null,"Other ","EXO","EX"]
[null,null,null,null,null,null,null,null,null,null,null,null,null,null,"Residential","EXOR","EXO"]
[null,null,null,null,null,null,null,null,null,null,null,null,null,null,"Commercial and public services","EXOC","EXO"]
[null,null,null,null,null,null,null,null,null,null,null,null,null,null,"Agriculture / forestry","EXOA","EXO"]
[null,null,null,null,null,null,null,null,null,null,null,null,null,null,"Fishing","EXOF","EXO"]
[null,null,null,null,null,null,null,null,null,null,null,null,null,null,"Non-specified","EXON","EXO"]
[null,null,null,null,null,null,null,null,null,null,null,null,null,null,"Energy Services","EN"]

{"sheet":"BL World 2050","index":25,"n_rows":30,"n_cols":34,"rows_kept":30,"cut":false,"hidden":true,"merged":[]}
[null,"Consumption","Coal","Crude oil","Oil Products","Natual Gas","Nuclear","Hydro","Geothermal, solar, wind, etc.","Biofuels and waste","Electricity","Heat","Energy Services","Total consumption","World 2050",null,null,"Faktor","Total production","Efficiency","Production","Coal","Crude oil","Oil Products","Natual Gas","Nuclear","Hydro","Geothermal, solar, wind, etc.","Biofuels and waste","Electricity","Heat","Energy Services","Loss","CO2-emissions"]
["ID","C ","CC","CCO","COP","CNG","CNU","CHY","CGSW","CWB","CE","CH","CES","fbrbr",null,"ID","ID Parent","factor","pbrpr","pvrkg","P ","PC","PCO","POP","PNG","PNU","PHY","PGSW","PWB","PE","PH","PES","PTAB","PCO2"]
["ID Parent",null,"C","C","C ","C ","C ","C","C","C ","C ","C ","C ",null,"Structures",null,null,null,null,null,null,"P ","P ","P ","P ","P ","P ","P","P ","P ","P ","P "]
["Factor",null,null,null,null,null,null,null,null,null,null,null,null,null,null,null,null,null,null,null,{"$f":"B4","v":0},null,null,null,null,null,null,null,null,null,null,null,{"$f":"U4","v":0},{"$f":"U4","v":0}]
[null,null,null,null,null,null,null,null,null,null,null,null,null,{"$f":"SUM(C5:M5)","v":0},"Entry fuels","ETP",null,null,{"$f":"SUM(V5:AF5)","v":{"$error":"#REF!"}},null,null,{"$f":"-(C6+C5)","v":{"$error":"#REF!"}},{"$f":"-(D6+D5)","v":{"$error":"#REF!"}},null,{"$f":"-(F6+F5)","v":{"$error":"#REF!"}},{"$f":"-(G6+G5)","v":{"$error":"#REF!"}},null,null,{"$f":"-(J6+J5)","v":{"$error":"#REF!"}}]
[null,null,{"$f":"-V6","v":{"$error":"#REF!"}},{"$f":"-W6","v":{"$error":"#REF!"}},null,{"$f":"-Y6","v":{"$error":"#REF!"}},{"$f":"-Z6","v":{"$error":"#REF!"}},null,null,{"$f":"-AC6","v":{"$error":"#REF!"}},null,null,null,{"$f":"SUM(C6:M6)","v":{"$error":"#REF!"}},"Transport of fuels","TRAP",null,null,{"$f":"SUM(V6:AF6)","v":{"$error":"#REF!"}},null,null,{"$f":"-(C16+C8)","v":{"$error":"#REF!"}},{"$f":"-(D16+D8)","v":{"$error":"#REF!"}},null,{"$f":"-(F16+F8)","v":{"$error":"#REF!"}},{"$f":"-(G16+G8)","v":{"$error":"#REF!"}},null,null,{"$f":"-(J16+J8)","v":{"$error":"#REF!"}},null,null,null,{"$f":"-(N6+S6)","v":{"$error":"#REF!"}}]
[null,null,null,null,null,null,null,null,null,null,null,null,null,0,"Entry On-Grid RE ","ELP1",null,null,{"$error":"#REF!"},null,null,null,null,null,null,null,{"$f":"-H8","v":{"$error":"#REF!"}},{"$f":"-I8","v":{"$error":"#REF!"}}]
[null,null,{"$f":"SUM(C9:C13)","v":{"$error":"#REF!"}},{"$f":"SUM(D9:D13)","v":{"$error":"#REF!"}},{"$error":"#REF!"},{"$error":"#REF!"},{"$error":"#REF!"},{"$error":"#REF!"},{"$error":"#REF!"},{"$error":"#REF!"},{"$error":"#REF!"},{"$error":"#REF!"},0,{"$error":"#REF!"},"Entry electricity, district heating and oil products","ES",null,null,{"$error":"#REF!"},null,null,{"$f":"SUM(V9:V13)","v":0},null,{"$f":"(E14+E8)*-1","v":{"$error":"#REF!"}},null,null,null,null,null,{"$f":"(K14+K8)*-1","v":{"$error":"#REF!"}},{"$f":"(L14+L8)*-1","v":{"$error":"#REF!"}},null,{"$f":"-(N8+S8)","v":{"$error":"#REF!"}},{"$f":"SUM(AH9:AH13)","v":{"$error":"#REF!"}}]
[null,null,{"$f":"-($AD$9+$H$9+$I$9)/$T$9*#REF!","v":{"$error":"#REF!"}},{"$f":"-($AD$9+$H$9+$I$9)/$T$9*#REF!","v":{"$error":"#REF!"}},{"$f":"-($AD$9+$H$9+$I$9)/$T$9*#REF!","v":{"$error":"#REF!"}},{"$f":"-($AD$9+$H$9+$I$9)/$T$9*#REF!","v":{"$error":"#REF!"}},{"$f":"-($AD$9+$H$9+$I$9)/$T$9*#REF!","v":{"$error":"#REF!"}},{"$f":"AD9*#REF!*-1","v":{"$error":"#REF!"}},{"$f":"AD9*#REF!*-1","v":{"$error":"#REF!"}},{"$f":"-($AD$9+$H$9+$I$9)/$T$9*#REF!","v":{"$error":"#REF!"}},null,null,null,{"$error":"#REF!"},"Electricity-only plants","ESEP","ES",null,{"$error":"#REF!"},{"$f":"#REF!","v":{"$error":"#REF!"}},null,null,null,null,null,null,null,null,null,{"$f":"AD8-AD10","v":{"$error":"#REF!"}},null,null,{"$f":"-(S9+N9)","v":{"$error":"#REF!"}},{"$f":"-(C9*Emissionsfaktorer!$B$2*(1-#REF!)+D9*Emissionsfaktorer!$B$3+E9*Emissionsfaktorer!$B$4*(1-#REF!)+F9*Emissionsfaktorer!$B$5*(1-#REF!)+G9*Emissionsfaktorer!$B$6+H9*Emissionsfaktorer!$B$7+I9*Emissionsfaktorer!$B$8-J9*Emissionsfaktorer!B13*#REF!+K9*Emissionsfaktorer!$B$10+L9*Emissionsfaktorer!$B$11+M9*Emissionsfaktorer!$B$12)","v":{"$error":"#REF!"}}]
[null,null,{"$f":"-($AD$10+$AE$10+$H$10+$I$10)/$T$10*#REF!","v":{"$error":"#REF!"}},{"$f":"-($AD$10+$AE$10+$H$10+$I$10)/$T$10*#REF!","v":{"$error":"#REF!"}},{"$f":"-($AD$10+$AE$10+$H$10+$I$10)/$T$10*#REF!","v":{"$error":"#REF!"}},{"$f":"-($AD$10+$AE$10+$H$10+$I$10)/$T$10*#REF!","v":{"$error":"#REF!"}},{"$f":"-($AD$10+$AE$10+$H$10+$I$10)/$T$10*#REF!","v":{"$error":"#REF!"}},null,{"$f":"(AD10+AE10)*#REF!*-1","v":{"$error":"#REF!"}},{"$f":"-($AD$10+$AE$10+$H$10+$I$10)/$T$10*#REF!","v":{"$error":"#REF!"}},null,null,null,{"$error":"#REF!"},"CHP plants","ESCHP","ES",null,{"$error":"#REF!"},{"$f":"#REF!","v":{"$error":"#REF!"}},null,null,null,null,null,null,null,null,null,{"$f":"AE10*#REF!","v":{"$error":"#REF!"}},{"$f":"AE8*#REF!","v":{"$error":"#REF!"}},null,{"$f":"-(S10+N10)","v":{"$error":"#REF!"}},{"$f":"-(C10*Emissionsfaktorer!$B$2*(1-#REF!)+D10*Emissionsfaktorer!$B$3+E10*Emissionsfaktorer!$B$4*(1-#REF!)+F10*Emissionsfaktorer!$B$5*(1-#REF!)+G10*Emissionsfaktorer!$B$6+H10*Emissionsfaktorer!$B$7+I10*Emissionsfaktorer!$B$8-J10*Emissionsfaktorer!B14*#REF!+K10*Emissionsfaktorer!$B$10+L10*Emissionsfaktorer!$B$11+M10*Emissionsfaktorer!$B$12)","v":{"$error":"#REF!"}}]
[null,null,{"$f":"-($AE$11+$H$11+$I$11)/$T$11*#REF!","v":{"$error":"#REF!"}},{"$f":"-($AE$11+$H$11+$I$11)/$T$11*#REF!","v":{"$error":"#REF!"}},{"$f":"-($AE$11+$H$11+$I$11)/$T$11*#REF!","v":{"$error":"#REF!"}},{"$f":"-($AE$11+$H$11+$I$11)/$T$11*#REF!","v":{"$error":"#REF!"}},{"$f":"-($AE$11+$H$11+$I$11)/$T$11*#REF!","v":{"$error":"#REF!"}},null,{"$f":"AE11*#REF!*-1","v":{"$error":"#REF!"}},{"$f":"-($AE$11+$H$11+$I$11)/$T$11*#REF!","v":{"$error":"#REF!"}},{"$f":"AE11*#REF!*-1","v":{"$error":"#REF!"}},null,null,{"$error":"#REF!"},"Heat Plants","ESHP","ES",null,{"$error":"#REF!"},{"$f":"#REF!","v":{"$error":"#REF!"}},null,null,null,null,null,null,null,null,null,null,{"$f":"AE8*#REF!","v":{"$error":"#REF!"}},null,{"$f":"-(S11+N11)","v":{"$error":"#REF!"}},{"$f":"-(C11*Emissionsfaktorer!$B$2+D11*Emissionsfaktorer!$B$3+E11*Emissionsfaktorer!$B$4+F11*Emissionsfaktorer!$B$5+G11*Emissionsfaktorer!$B$6+H11*Emissionsfaktorer!$B$7+I11*Emissionsfaktorer!$B$8+J11*Emissionsfaktorer!$B$9+K11*Emissionsfaktorer!$B$10+L11*Emissionsfaktorer!$B$11+M11*Emissionsfaktorer!$B$12)","v":{"$error":"#REF!"}}]
[null,null,null,{"$f":"-X12/T12*#REF!","v":{"$error":"#REF!"}},null,null,null,null,null,{"$f":"-X12/T12*#REF!","v":{"$error":"#REF!"}},null,null,null,{"$error":"#REF!"},"Oil refineries","ESOR","ES",null,{"$error":"#REF!"},{"$f":"#REF!","v":{"$error":"#REF!"}},null,null,null,{"$f":"-(E9+E10+E11+E13+E14)","v":{"$error":"#REF!"}},null,null,null,null,null,null,null,null,{"$f":"-(S12+N12)","v":{"$error":"#REF!"}},{"$f":"J12*Emissionsfaktorer!B4","v":{"$error":"#REF!"}}]
[null,null,{"$f":"N13*#REF!","v":{"$error":"#REF!"}},{"$f":"N13*#REF!","v":{"$error":"#REF!"}},{"$f":"N13*#REF!","v":{"$error":"#REF!"}},{"$f":"N13*#REF!","v":{"$error":"#REF!"}},null,null,null,{"$f":"N13*#REF!","v":{"$error":"#REF!"}},{"$f":"N13*#REF!","v":{"$error":"#REF!"}},{"$f":"N13*#REF!","v":{"$error":"#REF!"}},null,{"$f":"N16*#REF!","v":{"$error":"#REF!"}},"Energy Industry one use","ESNSP","ES",null,0,0,null,null,null,null,null,null,null,null,null,null,null,null,{"$f":"-(S13+N13)","v":{"$error":"#REF!"}},{"$f":"-(C13*Emissionsfaktorer!$B$2+D13*Emissionsfaktorer!$B$3+E13*Emissionsfaktorer!$B$4+F13*Emissionsfaktorer!$B$5+G13*Emissionsfaktorer!$B$6+H13*Emissionsfaktorer!$B$7+I13*Emissionsfaktorer!$B$8+J13*Emissionsfaktorer!$B$9+K13*Emissionsfaktorer!$B$10+L13*Emissionsfaktorer!$B$11+M13*Emissionsfaktorer!$B$12)","v":{"$error":"#REF!"}}]
[null,null,null,null,{"$f":"-X14*1","v":{"$error":"#REF!"}},null,null,null,null,null,{"$f":"-AD14*(1+#REF!)","v":{"$error":"#REF!"}},{"$f":"-AE14*(1+#REF!)","v":{"$error":"#REF!"}},null,{"$error":"#REF!"},"Transport electricity, district heating and oil products","TRAS",null,null,{"$error":"#REF!"},null,null,null,null,{"$f":"-E16","v":{"$error":"#REF!"}},null,null,null,null,null,{"$f":"-K16","v":{"$error":"#REF!"}},{"$f":"-L16","v":{"$error":"#REF!"}},null,{"$f":"-(N14+S14)","v":{"$error":"#REF!"}}]
[null,null,null,null,null,null,null,null,null,null,null,null,null,0,"Entry Off-Grid RE","ELP2",null,null,{"$error":"#REF!"},null,null,null,null,null,null,null,null,{"$f":"I16*-1","v":{"$error":"#REF!"}}]
[null,null,{"$f":"SUM(C17:C19)","v":{"$error":"#REF!"}},{"$error":"#REF!"},{"$error":"#REF!"},{"$error":"#REF!"},0,0,{"$error":"#REF!"},{"$error":"#REF!"},{"$error":"#REF!"},{"$error":"#REF!"},0,{"$f":"#REF!","v":{"$error":"#REF!"}},"Exit energy","EX",null,null,{"$error":"#REF!"},null,null,null,null,null,null,null,null,null,null,null,null,{"$f":"SUM(AF17:AF19)","v":{"$error":"#REF!"}},{"$f":"SUM(AG17:AG19)","v":{"$error":"#REF!"}},{"$f":"SUM(AH17:AH19)","v":{"$error":"#REF!"}}]
[null,null,{"$f":"AF17*#REF!/T17*#REF!/#REF!*-1","v":{"$error":"#REF!"}},{"$f":"AF17*#REF!/T17*#REF!/#REF!*-1","v":{"$error":"#REF!"}},{"$f":"AF17*#REF!/T17*#REF!/#REF!*-1","v":{"$error":"#REF!"}},{"$f":"AF17*#REF!/T17*#REF!/#REF!*-1","v":{"$error":"#REF!"}},null,null,{"$f":"AF17*#REF!/T17*#REF!/#REF!*-1","v":{"$error":"#REF!"}},{"$f":"AF17*#REF!*#REF!/T17/#REF!*-1","v":{"$error":"#REF!"}},{"$f":"AF17*#REF!*#REF!/T17/#REF!*-1","v":{"$error":"#REF!"}},{"$f":"AF17*#REF!*#REF!/T17/#REF!*-1","v":{"$error":"#REF!"}},null,{"$f":"SUM(C17:L17)","v":{"$error":"#REF!"}},"Industry","EXI","EX",null,{"$error":"#REF!"},{"$f":"(#REF!+#REF!+#REF!+#REF!+#REF!)*#REF!+(#REF!+#REF!)*#REF!+#REF!*#REF!","v":{"$error":"#REF!"}},null,null,null,null,null,null,null,null,null,null,null,{"$f":"#REF!*#REF!*((#REF!+#REF!+#REF!+#REF!+#REF!)*#REF!+(#REF!+#REF!)*#REF!+#REF!*#REF!)*-1","v":{"$error":"#REF!"}},{"$f":"(S17+SUM(C17:M17))*-1","v":{"$error":"#REF!"}},{"$f":"-(C17*Emissionsfaktorer!$B$2+D17*Emissionsfaktorer!$B$3+E17*Emissionsfaktorer!$B$4+F17*Emissionsfaktorer!$B$5+G17*Emissionsfaktorer!$B$6+H17*Emissionsfaktorer!$B$7+I17*Emissionsfaktorer!$B$8+J17*Emissionsfaktorer!$B$9+K17*Emissionsfaktorer!$B$10+L17*Emissionsfaktorer!$B$11+M17*Emissionsfaktorer!$B$12)","v":{"$error":"#REF!"}}]
[null,null,{"$f":"AF18*#REF!/T18*#REF!/#REF!*-1","v":{"$error":"#REF!"}},null,{"$f":"AF18*#REF!/T18*#REF!/#REF!*-1","v":{"$error":"#REF!"}},{"$f":"AF18*#REF!/T18*#REF!/#REF!*-1","v":{"$error":"#REF!"}},null,null,{"$f":"AF18*#REF!/T18*#REF!/#REF!*-1","v":{"$error":"#REF!"}},{"$f":"AF18*#REF!/T18*#REF!/#REF!*-1","v":{"$error":"#REF!"}},{"$f":"AF18*#REF!/T18*#REF!/#REF!*-1","v":{"$error":"#REF!"}},{"$f":"AF18*#REF!/T18*#REF!/#REF!*-1","v":{"$error":"#REF!"}},null,{"$f":"SUM(C18:L18)","v":{"$error":"#REF!"}},"Transport","EXT","EX",null,{"$error":"#REF!"},{"$f":"(#REF!+#REF!+#REF!+#REF!)*#REF!+(#REF!+#REF!)*#REF!+#REF!*#REF!","v":{"$error":"#REF!"}},null,null,null,null,null,null,null,null,null,null,null,{"$f":"#REF!*#REF!*-1*((#REF!+#REF!+#REF!+#REF!)*#REF!+(#REF!+#REF!)*#REF!+#REF!*#REF!)","v":{"$error":"#REF!"}},{"$f":"(S18+SUM(C18:M18))*-1","v":{"$error":"#REF!"}},{"$f":"-(C18*Emissionsfaktorer!$B$2+D18*Emissionsfaktorer!$B$3+E18*Emissionsfaktorer!$B$4+F18*Emissionsfaktorer!$B$5+G18*Emissionsfaktorer!$B$6+H18*Emissionsfaktorer!$B$7+I18*Emissionsfaktorer!$B$8+J18*Emissionsfaktorer!$B$9+K18*Emissionsfaktorer!$B$10+L18*Emissionsfaktorer!$B$11+M18*Emissionsfaktorer!$B$12)","v":{"$error":"#REF!"}}]
[null,null,{"$f":"SUM(C20:C24)","v":{"$error":"#REF!"}},{"$f":"SUM(D20:D24)","v":0},{"$error":"#REF!"},{"$error":"#REF!"},0,0,{"$error":"#REF!"},{"$error":"#REF!"},{"$error":"#REF!"},{"$error":"#REF!"},0,{"$f":"SUM(N20:N24)","v":{"$error":"#REF!"}},"Other ","EXO","EX",null,{"$error":"#REF!"},0.8,null,{"$f":"SUM(V20:V24)","v":0},{"$f":"SUM(W20:W24)","v":0},0,0,0,0,0,0,0,0,{"$error":"#REF!"},{"$error":"#REF!"},{"$error":"#REF!"}]
[null,null,{"$f":"AF20*#REF!/T20*#REF!/#REF!*-1","v":{"$error":"#REF!"}},null,{"$f":"AF20*#REF!/T20*#REF!/#REF!*-1","v":{"$error":"#REF!"}},{"$f":"AF20*#REF!/T20*#REF!/#REF!*-1","v":{"$error":"#REF!"}},null,null,{"$f":"AF20*#REF!/T20*#REF!/#REF!*-1","v":{"$error":"#REF!"}},{"$f":"AF20*#REF!/T20*#REF!/#REF!*-1","v":{"$error":"#REF!"}},{"$f":"AF20*#REF!/T20*#REF!/#REF!*-1","v":{"$error":"#REF!"}},{"$f":"AF20*#REF!/T20*#REF!/#REF!*-1","v":{"$error":"#REF!"}},null,{"$f":"SUM(C20:L20)","v":{"$error":"#REF!"}},"Residential","EXOR","EXO",null,{"$error":"#REF!"},{"$f":"(#REF!+#REF!+#REF!+#REF!)*#REF!+(#REF!+#REF!)*#REF!+#REF!*#REF!","v":{"$error":"#REF!"}},null,null,null,null,null,null,null,null,null,null,null,{"$f":"#REF!*#REF!*((#REF!+#REF!+#REF!+#REF!)*#REF!+(#REF!+#REF!)*#REF!+#REF!*#REF!)*-1","v":{"$error":"#REF!"}},{"$f":"(N20+AF20)*-1","v":{"$error":"#REF!"}},{"$f":"-(C20*Emissionsfaktorer!$B$2+D20*Emissionsfaktorer!$B$3+E20*Emissionsfaktorer!$B$4+F20*Emissionsfaktorer!$B$5+G20*Emissionsfaktorer!$B$6+H20*Emissionsfaktorer!$B$7+I20*Emissionsfaktorer!$B$8+J20*Emissionsfaktorer!$B$9+K20*Emissionsfaktorer!$B$10+L20*Emissionsfaktorer!$B$11+M20*Emissionsfaktorer!$B$12)","v":{"$error":"#REF!"}}]
[null,null,{"$f":"AF21*#REF!/T21*#REF!/#REF!*-1","v":{"$error":"#REF!"}},null,{"$f":"AF21*#REF!/T21*#REF!/#REF!*-1","v":{"$error":"#REF!"}},{"$f":"AF21*#REF!/T21*#REF!/#REF!*-1","v":{"$error":"#REF!"}},null,null,{"$f":"AF21*#REF!/T21*#REF!/#REF!*-1","v":{"$error":"#REF!"}},{"$f":"AF21*#REF!/T21*#REF!/#REF!*-1","v":{"$error":"#REF!"}},{"$f":"AF21*#REF!/T21*#REF!/#REF!*-1","v":{"$error":"#REF!"}},{"$f":"AF21*#REF!/T21*#REF!/#REF!*-1","v":{"$error":"#REF!"}},null,{"$f":"SUM(C21:L21)","v":{"$error":"#REF!"}},"Commercial and public services","EXOC","EXO",null,{"$error":"#REF!"},{"$f":"(#REF!+#REF!+#REF!+#REF!)*#REF!+(#REF!+#REF!)*#REF!+#REF!*#REF!","v":{"$error":"#REF!"}},null,null,null,null,null,null,null,null,null,null,null,{"$f":"#REF!*#REF!*((#REF!+#REF!+#REF!+#REF!)*#REF!+(#REF!+#REF!)*#REF!+#REF!*#REF!)*-1","v":{"$error":"#REF!"}},{"$f":"(N21+AF21)*-1","v":{"$error":"#REF!"}},{"$f":"-(C21*Emissionsfaktorer!$B$2+D21*Emissionsfaktorer!$B$3+E21*Emissionsfaktorer!$B$4+F21*Emissionsfaktorer!$B$5+G21*Emissionsfaktorer!$B$6+H21*Emissionsfaktorer!$B$7+I21*Emissionsfaktorer!$B$8+J21*Emissionsfaktorer!$B$9+K21*Emissionsfaktorer!$B$10+L21*Emissionsfaktorer!$B$11+M21*Emissionsfaktorer!$B$12)","v":{"$error":"#REF!"}}]
[null,null,{"$f":"AF22*#REF!/T22*#REF!/#REF!*-1","v":{"$error":"#REF!"}},null,{"$f":"AF22*#REF!/T22*#REF!/#REF!*-1","v":{"$error":"#REF!"}},{"$f":"AF22*#REF!/T22*#REF!/#REF!*-1","v":{"$error":"#REF!"}},null,null,{"$f":"AF22*#REF!/T22*#REF!/#REF!*-1","v":{"$error":"#REF!"}},{"$f":"AF22*#REF!/T22*#REF!/#REF!*-1","v":{"$error":"#REF!"}},{"$f":"AF22*#REF!/T22*#REF!/#REF!*-1","v":{"$error":"#REF!"}},{"$f":"AF22*#REF!/T22*#REF!/#REF!*-1","v":{"$error":"#REF!"}},null,{"$f":"SUM(C22:L22)","v":{"$error":"#REF!"}},"Agriculture / forestry","EXOA","EXO",null,{"$error":"#REF!"},{"$f":"(#REF!+#REF!+#REF!+#REF!)*#REF!+(#REF!+#REF!)*#REF!+#REF!*#REF!","v":{"$error":"#REF!"}},null,null,null,null,null,null,null,null,null,null,null,{"$f":"((#REF!+#REF!+#REF!+#REF!)*#REF!+(#REF!+#REF!)*#REF!+#REF!*#REF!)*#REF!*#REF!*-1","v":{"$error":"#REF!"}},{"$f":"(N22+AF22)*-1","v":{"$error":"#REF!"}},{"$f":"-(C22*Emissionsfaktorer!$B$2+D22*Emissionsfaktorer!$B$3+E22*Emissionsfaktorer!$B$4+F22*Emissionsfaktorer!$B$5+G22*Emissionsfaktorer!$B$6+H22*Emissionsfaktorer!$B$7+I22*Emissionsfaktorer!$B$8+J22*Emissionsfaktorer!$B$9+K22*Emissionsfaktorer!$B$10+L22*Emissionsfaktorer!$B$11+M22*Emissionsfaktorer!$B$12)","v":{"$error":"#REF!"}}]
[null,null,{"$f":"AF23*#REF!/T23*#REF!/#REF!*-1","v":{"$error":"#REF!"}},null,{"$f":"AF23*#REF!/T23*#REF!/#REF!*-1","v":{"$error":"#REF!"}},{"$f":"AF23*#REF!/T23*#REF!/#REF!*-1","v":{"$error":"#REF!"}},null,null,{"$f":"AF23*#REF!/T23*#REF!/#REF!*-1","v":{"$error":"#REF!"}},{"$f":"AF23*#REF!/T23*#REF!/#REF!*-1","v":{"$error":"#REF!"}},{"$f":"AF23*#REF!/T23*#REF!/#REF!*-1","v":{"$error":"#REF!"}},{"$f":"AF23*#REF!/T23*#REF!/#REF!*-1","v":{"$error":"#REF!"}},null,{"$f":"SUM(C23:L23)","v":{"$error":"#REF!"}},"Fishing","EXOF","EXO",null,{"$error":"#REF!"},{"$f":"(#REF!+#REF!+#REF!+#REF!)*#REF!+(#REF!+#REF!)*#REF!+#REF!*#REF!","v":{"$error":"#REF!"}},null,null,null,null,null,null,null,null,null,null,null,{"$f":"((#REF!+#REF!+#REF!+#REF!)*#REF!+(#REF!+#REF!)*#REF!+#REF!*#REF!)*#REF!*#REF!*-1","v":{"$error":"#REF!"}},{"$f":"(N23+AF23)*-1","v":{"$error":"#REF!"}},{"$f":"-(C23*Emissionsfaktorer!$B$2+D23*Emissionsfaktorer!$B$3+E23*Emissionsfaktorer!$B$4+F23*Emissionsfaktorer!$B$5+G23*Emissionsfaktorer!$B$6+H23*Emissionsfaktorer!$B$7+I23*Emissionsfaktorer!$B$8+J23*Emissionsfaktorer!$B$9+K23*Emissionsfaktorer!$B$10+L23*Emissionsfaktorer!$B$11+M23*Emissionsfaktorer!$B$12)","v":{"$error":"#REF!"}}]
[null,null,{"$f":"AF24*#REF!/T24*#REF!/#REF!*-1","v":{"$error":"#REF!"}},null,{"$f":"AF24*#REF!/T24*#REF!/#REF!*-1","v":{"$error":"#REF!"}},{"$f":"AF24*#REF!/T24*#REF!/#REF!*-1","v":{"$error":"#REF!"}},null,null,{"$f":"AF24*#REF!/T24*#REF!/#REF!*-1","v":{"$error":"#REF!"}},{"$f":"AF24*#REF!/T24*#REF!/#REF!*-1","v":{"$error":"#REF!"}},{"$f":"AF24*#REF!/T24*#REF!/#REF!*-1","v":{"$error":"#REF!"}},{"$f":"AF24*#REF!/T24*#REF!/#REF!*-1","v":{"$error":"#REF!"}},null,{"$f":"SUM(C24:L24)","v":{"$error":"#REF!"}},"Non-specified","EXON","EXO",null,{"$error":"#REF!"},{"$f":"(#REF!+#REF!+#REF!+#REF!)*#REF!+(#REF!+#REF!)*#REF!+#REF!*#REF!","v":{"$error":"#REF!"}},null,null,null,null,null,null,null,null,null,null,null,{"$f":"((#REF!+#REF!+#REF!+#REF!)*#REF!+(#REF!+#REF!)*#REF!+#REF!*#REF!)*#REF!*#REF!*-1","v":{"$error":"#REF!"}},{"$f":"(N24+AF24)*-1","v":{"$error":"#REF!"}},{"$f":"-(C24*Emissionsfaktorer!$B$2+D24*Emissionsfaktorer!$B$3+E24*Emissionsfaktorer!$B$4+F24*Emissionsfaktorer!$B$5+G24*Emissionsfaktorer!$B$6+H24*Emissionsfaktorer!$B$7+I24*Emissionsfaktorer!$B$8+J24*Emissionsfaktorer!$B$9+K24*Emissionsfaktorer!$B$10+L24*Emissionsfaktorer!$B$11+M24*Emissionsfaktorer!$B$12)","v":{"$error":"#REF!"}}]
[null,null,null,null,null,null,null,null,null,null,null,null,null,{"$f":"N16","v":{"$error":"#REF!"}},"Energy Services","EN",null,null,{"$error":"#REF!"},{"$f":"AF25/N25*-1","v":{"$error":"#REF!"}},null,null,null,null,null,null,null,null,null,null,null,{"$f":"AF16","v":{"$error":"#REF!"}},{"$f":"-(S25+N25)","v":{"$error":"#REF!"}}]
[]
[]
[]
[]
[null,null,null,{"$f":"#REF!","v":{"$error":"#REF!"}}]

{"sheet":"KF World - Values","index":26,"n_rows":1048546,"n_cols":16384,"rows_kept":4500,"cut":true,"hidden":true,"merged":[],"bounds":{"rows_first":2000,"rows_last":500,"rows_between":2000,"halvings":0}}
["CO2-emissions (mio. ton)",21244.263925088002,23166.076968720001,27002.754565072002,30264.252408784003,31881.523613151996,32995.279034752006,{"$f":"-1*('BL World 2030 (forenklet)'!AH8+'BL World 2030 (forenklet)'!AH16)","v":31953.886603909021},{"$f":"-1*('BL World 2050 (forenklet)'!AH8+'BL World 2050 (forenklet)'!AH16)","v":34360.245338553061},null,"Temperature calculation"]
[null,"Calculated and predicted values",null,null,null,null,null,null,null,null,null,1995,2000,2005,2010,2015,2020,2025,2030,2035,2040,2045,2050,2055,2060,2065,2070,2075,2080,2085,2090,2095,2100]
[null,1995,2000,2005,2010,2015,2018,2030,2050,null,"Temperature [C]",14.24,14.4,14.47,14.45,14.65,{"$f":"O13","v":14.724806927409206},{"$f":"Q3+$O11*LOG(R6/Q6,2)","v":14.825272258870896},{"$f":"R3+$O11*LOG(S6/R6,2)","v":14.919818749704428},{"$f":"S3+$O11*LOG(T6/S6,2)","v":15.01138417956655},15.102650884459537,15.193590044264136,15.284175153012558,{"$f":"W3+$O11*LOG(X6/W6,2)","v":15.373945976326468},{"$f":"X3+$O11*LOG(Y6/X6,2)","v":15.462482017620401},15.549817962428355,15.635986990418486,15.721020863204336,15.805053905392915,15.888210777469988,15.970507179794105,16.051958440036309,16.132579522789538]
["Total final consumption",251457.27135999998,269066.54096000001,304703.75828800001,338009.24955200002,358988.67081599997,377724.84155199997,{"$f":"L20*1000","v":460000},{"$f":"L21*1000","v":550000},null,"Recommended Temperature Limit",{"$f":"15.8","v":15.8},{"$f":"15.8","v":15.8},15.8,15.8,15.8,15.8,15.8,15.8,15.8,15.8,15.8,15.8,15.8,15.8,15.8,15.8,15.8,15.8,15.8,15.8,15.8,15.8]
[null,null,null,null,null,null,null,null,null,null,"Total Carbon emission (Gigatons)",null,null,null,null,null,{"$f":"Q31/Q32*12/44*10^-3","v":12.106859802327275},{"$f":"R31/R32*12/44*10^-3","v":11.786782760716694},{"$f":"S31/S32*12/44*10^-3","v":11.466705719106109},{"$f":"T31/T32*12/44*10^-3","v":11.6825871845347},11.898468649963293,12.114350115391886,{"$f":"W31/W32*12/44*10^-3","v":12.330231580820477},12.447917322072648,12.565603063324822,12.683288804576993,12.800974545829165,12.918660287081341,{"$f":"AC31/AC32*12/44*10^-3","v":13.062200956937799},13.205741626794259,13.349282296650717,13.492822966507177,{"$f":"AG31/AG32*12/44*10^-3","v":13.636363636363637}]
["Industry",30,29.121138885733266,30.739577923902733,32.679669012136472,32.475956665427965,31.47468761850898,32,32,null,"C_air",null,null,null,null,null,{"$f":"O9+O12*5","v":408.40118707042592},{"$f":"(Q6+AVERAGE(Q5,R5)*0.45*5/2.3)*(1-0.001)^5","v":417.99205005576425},{"$f":"(R6+AVERAGE(R5,S5)*0.45*5/2.3)*(1-0.001)^5","v":427.22349816005766},{"$f":"(S6+AVERAGE(S5,T5)*0.45*5/2.3)*(1-0.001)^5","v":436.35817033555651},445.65739496351438,{"$f":"(U6+AVERAGE(U5,V5)*0.45*5/2.3)*(1-0.001)^5","v":455.12035092554873},464.74622120066613,{"$f":"(W6+AVERAGE(W5,X5)*0.45*5/2.3)*(1-0.001)^5","v":474.48640200031684},484.29253206934197,494.16428232022815,504.10132530761206,514.10333522008591,524.18257119868929,534.35123121122535,544.60886903087101,554.95504065747934,565.38930430646894]
["Transport",28.57541071505883,30.544465937226207,30.483223304455702,30.099693512780085,31.395135089866681,{"$f":"100-G6-G8","v":32.046557005527461},34,34]
["Other",41.599898757447491,40.334426300940088,38,37.220649862910115,36.128908244705357,36.478755375963559,{"$f":"100-H7-H6","v":34},{"$f":"100-I7-I6","v":34},null,"C_2030",{"$f":"(L28*0.45)/2.3","v":2.243485901564239},null,"Year",2015]
["Share of energyforms Industry",null,null,null,null,null,null,null,null,null,"C_2050",{"$f":"(M28*0.45)/2.3","v":2.4124366136387891},null,"C_0",399.4]
["Coal",25.857132647865434,21.351688448269229,29.175771415083545,32.868519779973596,31.892933245077167,28.062844779705514,{"$f":"100-H11-H12-H13-H14-H15-H16-H17","v":33.875955909052649},{"$f":"100-I11-I12-I13-I15-I14-I16-I17","v":29.875955909052649},null,"C_2100",{"$f":"(O28*0.45)/2.3","v":2.6679841897233203},null,"T_0",14.65]
["Crude Oil",0.22494707127734653,0.2818889929161697,0.20376158731975283,0.35950837873623936,0.12771525101829209,8.8049468304480696E-2,8.8049468304480696E-2,8.8049468304480696E-2,null,null,null,null,"S (Climate sensitivity)",3]
["Oil products",16.786724047059664,16.865137893148308,14.422323829823757,11.833337313550519,10.509068824369622,10.229094150592061,9,7,null,"C_air_2030",{"$f":"O9+O12*3+AVERAGE(L8,O12)*12","v":429.06305213615212},null,"C_2020",{"$f":"(F1+(G1-F1)/3*5)*10^-3*0.45*12/44/2.3","v":1.8002374140851867}]
["Natural Gas",20.682735856641326,22.728001436431494,19.283946555275808,18.914939726244455,19.444682882959892,21.056607707568698,18,16,null,"C_air_2050",{"$f":"L12+AVERAGE(L9,L8)*20","v":475.62227728818243},null,"T_2020",{"$f":"O10+O11*LOG((O12*5+O9)*0.999^5/O9,2)","v":14.724806927409206}]
["Geothermal, Solar, Wind, etc.",1.1780549029416757E-2,2.2444242090007824E-2,2.1860337033646145E-2,1.7816210249476223E-2,3.0528111182662621E-2,3.5994622642871704E-2,3.5994622642871704E-2,3.5994622642871704E-2,null,"C_air_2100",{"$f":"L13+AVERAGE(L9,L10)*50","v":602.63279737223513}]
["Biofuels and Waste",6.9004984679703067,8.5513631136362669,7.6692231488899063,6.9959708830054961,7.1707659934080832,7.1864919436497487,7,10]
["Electricity",22.740312033802919,24.824881473026299,24.123396014534219,24.291113842930017,26.347124736784828,28.350660881699202,25,29,null,"CO2_following tendency",31954]
["Heat",6.7958693263535901,5.3745944004822306,5.0997171120393681,4.7187938653102082,4.4771450397745376,4.9902916656247482,7,8,null,null,31237]
["Share of energyforms Transport"]
["Coal",0.18851300244396768,3.1231435637258845E-2,1.1810989900702031E-2,7.6961700236235376E-3,2.0433525098870397E-3,1.8333390985506245E-3,1.8333390985506245E-3,1.8333390985506245E-3,null,null,"Scroller value"]
["Oil products",94.758755802529279,95.564983293984113,94.774628731450093,92.950719818255152,92.39204132773331,91.681967553357097,{"$f":"100-H19-H21-H22-H23-H24-H25","v":91.998166660901447},{"$f":"100-I19-I21-I22-I23-I24-I25","v":86.998166660901447},null,2030,460]
["Natural Gas",3.4325100142069456,2.941563079857711,3.3339900003290843,3.6710319452789966,3.6321148141199378,4.0532360164654602,4,4,null,2050,550]
["Geothermal, Solar, Wind, etc.",0,0,0,0,0,0,0,0]
["Biofuels and Waste",0.56839438202116233,0.50607153374370661,0.87126336569033658,2.3251076229123626,2.9034553090942188,3.1008336504202849,3,4,null,null,2030,2050,2075,2100]
["Electricity",1.0511857963173825,0.95564117169341634,1.0074053103472838,1.0438805159314835,1.0697879185854056,1.1596734580926356,1,5,null,"Share of Emission which is CO2",{"$f":"S32","v":0.76},{"$f":"W32","v":0.76},{"$f":"AB32","v":0.76},{"$f":"AG32","v":0.76}]
["Heat",0,0,0,0,0,0,0,0,null,"Other Emission Gasses (mio. ton)",{"$f":"(H1/L24)*(1-L24)","v":10090.701032813375},{"$f":"(I1/M24)*(1-M24)","v":10850.603791122019},{"$f":"(AB31/N24)*(1-N24)","v":11368.421052631578},{"$f":"(AG31/O24)*(1-O24)","v":12000}]
["Share of energyforms Other"]
["Coal",6.8932749240262714,4.6049905434780092,4.8943015618572066,5.1648214496699243,5.0008329287064681,4.4412374530005074,4,2,null,null,2030,2050,2075,2100,null,null,null,null,null,null,null,null,null,null,null,null,"Scroller værdi",null,null,null,null,"Scroller værdi"]
["Oil products",17.983718085430016,17.082583872135167,28.592796447874257,14.227113956363793,13.687569087884954,13.249260725669435,13,9,null,"Total Carbon emission (Gigatons)",{"$f":"(L25+H1)*12/44*10^-3","v":11.466705719106109},{"$f":"(M25+I1)*12/44*10^-3","v":12.330231580820477},{"$f":"(N25+AB31)*12/44*10^-3","v":12.918660287081341},{"$f":"(O25+AG31)*12/44*10^-3","v":13.636363636363637},null,null,null,null,null,null,null,null,null,null,null,null,360,null,null,null,null,380]
["Natural Gas",19.519764377367675,20.501477316307735,19.55547359312272,20.522662637309605,20.064090312716303,21.353822422826322,{"$f":"100-H27-H28-H30-H31-H32-H33","v":17},{"$f":"100-I27-I28-I30-I31-I32-I33","v":20}]
["Geothermal, Solar, Wind, etc.",0.19657902068342731,0.31710793244393409,0.3271530506575121,0.69679476405462926,1.3095705445416697,1.43737234963581,1,1,null,null,1995,2000,2005,2010,2015,2020,2025,2030,2035,2040,2045,2050,2055,2060,2065,2070,2075,2080,2085,2090,2095,2100]
["Biofuels and Waste",28.380710838705131,28.275077916956999,21.281176854439448,25.328502986239503,23.594674938272881,22,24,25,null,"CO2",{"$f":"B1","v":21244.263925088002},{"$f":"C1","v":23166.076968720001},27002.754565072002,30264.252408784003,31881.523613151996,{"$f":"F1+(G1-F1)/3*5","v":33737.78264915201},{"$f":"AVERAGE(Q31,S31)","v":32845.834626530515},{"$f":"H1","v":31953.886603909021},{"$f":"S31+($W31-$S31)/4","v":32555.476287570033},{"$f":"T31+($W31-$S31)/4","v":33157.065971231044},{"$f":"U31+($W31-$S31)/4","v":33758.655654892056},{"$f":"I1","v":34360.245338553061},{"$f":"W31+($AB31-$W31)/5","v":34688.196270842447},{"$f":"X31+($AB31-$W31)/5","v":35016.147203131834},35344.09813542122,35672.049067710606,{"$f":"AB28*100","v":36000},{"$f":"AB31+($AG31-$AB31)/5","v":36400},{"$f":"AC31+($AG31-$AB31)/5","v":36800},37200,37600,{"$f":"AG28*100","v":38000}]
["Electricity",20,23.477021538955391,20.975813201310771,29.016096904262277,31.584882537681953,32.828308151967633,35,36,null,"Share of Emission which is CO2",null,null,null,null,null,0.76,{"$f":"AVERAGE(Q32,S32)","v":0.76},{"$f":"S35/100","v":0.76},{"$f":"S32+($W32-$S32)/4","v":0.76},{"$f":"T32+($W32-$S32)/4","v":0.76},0.76,{"$f":"W35/100","v":0.76},{"$f":"W32+($AB32-$W32)/5","v":0.76},{"$f":"X32+($AB32-$W32)/5","v":0.76},0.76,0.76,{"$f":"AB35/100","v":0.76},{"$f":"AB32+($AG32-$AB32)/5","v":0.76},{"$f":"AC32+($AG32-$AB32)/5","v":0.76},0.76,{"$f":"AE32+($AG32-$AB32)/5","v":0.76},{"$f":"AG35/100","v":0.76}]
["Heat",6.6019088699528297,5.7030428317557034,4.1477877236037619,5.0178142623930189,4.7562811864004049,4.8501136678916241,6,7,null,"Other Emissions",null,null,null,null,null,{"$f":"1-Q32","v":0.24},{"$f":"1-R32","v":0.24},0.24,0.24,0.24,0.24,0.24,0.24,0.24,0.24,0.24,0.24,0.24,0.24,0.24,0.24,0.24]
["Transport losses"]
["Electricity",10.424937540641363,10.731563897350975,10.554109985906337,9.8217292870341844,9.4824802984501861,8.9358910015171098,9,7,null,null,null,null,null,null,null,null,"Scroller værdi",76,null,null,null,76,null,null,null,null,76,null,null,null,null,76]
["Heat",6.5211475935978118,7.7652079391279845,9.5422882896036079,7.9011807447774753,6.7154685569739403,6.9397102507509247,7,5]
["Industry own use  "]
["Industry own use (% of total consumption)",8.8209072531629982,9.2775053572012141,9.5366391971228914,9.9835477273850604,9.5658261443022301,9.3026326189252337,9.3026326189252337,9.3026326189252337]
["Distribution between energi forms"]
["Electricity",19.895267202664005,19.90234263611142,19.375374648406879,19.526724869589387,21.543571459925573,22.995525420497266,23,22]
["Heat",4.9302567916802742,4.057762435294868,4.9024184995619491,5.0099514093280195,4.5054162541274252,4.6654790064169402,2,4]
["Coal",9.6066101723711572,9.6231586504429973,10.018386591045326,14.188327319472501,11.304510049699802,9.5284114944857201,{"$f":"100-H40-H41-H43-H44-H45-H46","v":13},{"$f":"100-I40-I41-I43-I44-I45-I46","v":8}]
["Natural gas",28.342605369915564,30.156198105896681,31.754478489417625,31.304751363665694,33.359589525486385,36.071545606749403,34,38]
["Crude oil",1.2317619008964962,1.6102897515121628,1.4579586849264536,1.1684840603735376,1.4725821948876023,1.1760219737006739,2,4]
["Oil products",34.61109359691465,33.698332343676093,31.270461566837277,27.103569106457748,26.057644941496648,23.718846261551384,22,20]
["Biofuels and waste",1.3825937413281131,0.95191607706578363,1.2210656153455988,1.6980677887025446,1.7568075071574545,1.8438127468913292,4,4]
["Distribution of production between technologies Heat"]
["CHP plants",47.389039848243122,47.92064960427588,60.641587785493392,62.648045780935036,69.952047554118863,71.503451910112986,74,84]
["Heat plants",52.610960151756878,52.07935039572412,39.358412214506608,37.351954219064957,30.047952445881144,28.496548089887007,{"$f":"100-H48","v":26},{"$f":"100-I48","v":16}]
["Electricity consumption on Heat plants"]
["% of heat production on Heat plants",0.3450865295874439,0.34472777032183366,0.29166135407369626,0.27654867256637167,0.38035608671710891,0.69936260623229463,{"$f":"G51","v":0.69936260623229463},{"$f":"G51","v":0.69936260623229463}]
["Ratio between electricity and heat production on CHP  plants (Electricity)"]
["Cm-value",0.85579187190550743,1.0174023708406619,1.2861760781190197,1.4211409000758464,1.4392879513269878,1.3997843940492758,{"$f":"G53","v":1.3997843940492758},{"$f":"G53","v":1.3997843940492758}]
["Distribution of production between technologies Oil products"]
["Oil refineries",100,100,100,100,100,100,100,100]
["Share of non-fuel RE for Electricity-only plants"]
["Hydro",21.169756240255399,18.97204730028146,19.067316011591487,19.139060535088557,19.03486123380322,18.756826768074696,17,23]
["Geothermal, Solar, Wind, etc.",3.6174427663581898,4.236099441047342,4.269354722926435,5.5425511861448165,9.0065293045602797,12.085463112416098,15,22]
["Fuel based plants",75.212800993386381,76.791853258671196,76.663329265482076,75.318388278766619,71.958609461636485,69.157710119509204,{"$f":"100-H58-H57","v":68},{"$f":"100-I58-I57","v":55}]
["Share of non-fuel RE for CHP plants"]
["Geothermal, Solar, Wind, etc.",0.18380840031823545,0.31364515923250852,0.21673080360071761,0.39790791885402521,0.49004555681852868,0.47715270029877177,0,0]
["Fuel based plants",99.816191599681773,99.686354840767493,99.783269196399289,99.602092081145983,99.509954443181471,99.52284729970124,99.52284729970124,99.52284729970124]
["Share of non-fuel RE for Heat plants"]
["Geothermal, Solar, Wind, etc.",0.21266960544342475,0.30130786031946527,0.51080581410174686,0.69690265486725667,1.2287643015928047,1.591517154548316,1.59,1.59]
["Fuel based plants",99.787330394556577,99.698692139680531,99.489194185898256,99.303097345132741,98.771235698407196,98.408482845451687,{"$f":"100-H64","v":98.41},{"$f":"100-I64","v":98.41}]
["Efficiencies thermal plants"]
["Electricity-only plants",33.584964507875263,33.939680986339447,34.861324533166929,35.728238764579125,36.667274960316085,36.549938073117772,38,38]
["CHP plants",57.898160248721489,57.95318516809207,52.604869228778369,53.933944501749529,54.018450716856357,55.730147143570633,57,59]
["Heat Plants",88.932524825004066,79.482220218018028,90.280442064878173,90.937763125972225,90.804397936409202,97.148984602071238,97,98]
["Oil refineries",98.596631463630672,99.20154934163574,98.875678423531014,99.02625708593294,98.07574824026284,97.874257386247194,99,99]
["Fuel distribution for Electricity-only plants"]
["Coal",48.57584258988696,48.82736247944721,47.810455477755838,48.017826846991582,48.178741762369341,47.704381789332359,{"$f":"100-H73-H74-H75-H76-H77","v":48},{"$f":"100-I73-I74-I75-I76-I77","v":37}]
["Crude Oil",1.6855073622196335,0.8601833064722606,0.7784971439537961,1.0326372019074048,1.3283076749872345,0.83640506123113223,1,1]
["Oil products",9.8285664866678104,9.452988682830668,7.6285766196561839,5.8702965979847832,5.3877812038434802,3.9637359805796275,1,2]
["Natural Gas",12.732352927045209,15.14379923605037,18.223337120487756,21.481180937709361,23.382426940363313,24.706917829583517,31,38]
["Nuclear",26.245326952786662,24.75665940011751,24.212495155271625,21.553934302590367,18.933170573781709,19.07842738381003,14,12]
["Biofuels and Waste",0.92851630013902842,0.95064518372825779,1.3290832666064676,2.0268826864869336,2.7645692801061594,3.6858293665324062,5,10]
["Fuel distribution for CHP plants"]
["Coal",34.881666027953784,35.786704945543093,55.330460781075018,58.957920012306118,60.309433108874757,61.853080616406842,{"$f":"100-H80-H81-H82-H83-H84","v":67},{"$f":"100-I80-I81-I82-I83-I84","v":63}]
["Crude Oil",0.17572877801980474,0.18467638445592446,7.2748002113269834E-3,1.1589670863883532E-3,6.8234367506404283E-4,1.9208974432855029E-3,0,0]
["Oil products",8.135746013339503,8.178408081339871,4.0333400515914519,2.2618823100531964,1.8021671235120034,1.4163417148491775,1,1]
["Natural Gas",47.194792868390067,49.391472804448682,35.233288531694875,33.463383488512001,31.337900486998429,30.498454592271223,26,24]
["Nuclear",1.4340262540779998,1.3048682175644106,1.3603876395181458,0.77882588205297321,0.73878324475862589,0.31292334064189076,0,0]
["Biofuels and Waste",8.1778414946278613,5.1540752196373925,4.0351289368893193,4.536934700633533,5.810936214513255,5.9172788383875803,6,12]
["Fuel distribution for Heat plants"]
["Coal",30.228454019305691,35.088619402985074,16.72953736654804,19.28684436435357,21.78870511643132,22.563607929804189,{"$f":"100-H87-H88-H89-H90-H91","v":29},{"$f":"100-I87-I88-I89-I90-I91","v":27}]
["Crude Oil",2.4920407270655968E-2,0.59131426202321724,0.5637010676156583,0.57395832594305829,0.59465898035079423,0.44293781078221134,0,0]
["Oil products",17.195589596492834,10.607898009950249,10.623487544483986,10.775375839830863,10.493821547750025,9.23707941977956,8,6]
["Natural Gas",49.843357440013023,50.700663349917086,66.751601423487557,61.746990088754252,56.614444575782649,56.112635433151979,50,48]
["Nuclear",0,0,0,0,0,0,0,0]
["Biofuels and Waste",2.707169957177586,3.0115049751243781,5.3316725978647685,7.6168313811182609,10.507460515189264,11.642802962907469,13,19]
["Fuel distribution for Oil refineries"]
["Crude Oil",100,100,100,100,100,100,{"$f":"100-H94","v":100},{"$f":"100-I94","v":100}]
["Biofuels and Waste",0,0,0,0,0,0,0,0]
[]
["Fluegas cleaning"]
["Coal fired power plants",null,null,null,null,null,null,0,0]
["Oilfired power plants",null,null,null,null,null,null,0,0]
["Natural gas fired power plants",null,null,null,null,null,null,0,0]
["Biomass-fired power plants",null,null,null,null,null,null,0,0]
["Efficiency of final consumption"]
["Fuels ",null,null,null,null,null,0.8,0.8,0.8]
["Fuels in Transport",null,null,null,null,null,0.3,0.3,0.3]
["Electricity  ",null,null,null,null,null,0.95,0.95,0.95]
["Other",null,null,null,null,null,1,1,1]
[]
[]
[]
[]
[]
[]
[]
[]
[]
[]
[]
[]
[]
[]
[]
[]
[]
[]
[]
[]
[]
[]
[]
[]
[]
[]
[]
[]
[]
[]
[]
[]
[]
[]
[]
[]
[]
[]
[]
[]
[]
[]
[]
[]
[]
[]
[]
[]
[]
[]
[]
[]
[]
[]
[]
[]
[]
[]
[]
[]
[]
[]
[]
[]
[]
[]
[]
[]
[]
[]
[]
[]
[]
[]
[]
[]
[]
[]
[]
[]
[]
[]
[]
[]
[]
[]
[]
[]
[]
[]
[]
[]
[]
[]
[]
[]
[]
[]
[]
[]
[]
[]
[]
[]
[]
[]
[]
[]
[]
[]
[]
[]
[]
[]
[]
[]
[]
[]
[]
[]
[]
[]
[]
[]
[]
[]
[]
[]
[]
[]
[]
[]
[]
[]
[]
[]
[]
[]
[]
[]
[]
[]
[]
[]
[]
[]
[]
[]
[]
[]
[]
[]
[]
[]
[]
[]
[]
[]
[]
[]
[]
[]
[]
[]
[]
[]
[]
[]
[]
[]
[]
[]
[]
[]
[]
[]
[]
[]
[]
[]
[]
[]
[]
[]
[]
[]
[]
[]
[]
[]
[]
[]
[]
[]
[]
[]
[]
[]
[]
[]
[]
[]
[]
[]
[]
[]
[]
[]
[]
[]
[]
[]
[]
[]
[]
[]
[]
[]
[]
[]
[]
[]
[]
[]
[]
[]
[]
[]
[]
[]
[]
[]
[]
[]
[]
[]
[]
[]
[]
[]
[]
[]
[]
[]
[]
[]
[]
[]
[]
[]
[]
[]
[]
[]
[]
[]
[]
[]
[]
[]
[]
[]
[]
[]
[]
[]
[]
[]
[]
[]
[]
[]
[]
[]
[]
[]
[]
[]
[]
[]
[]
[]
[]
[]
[]
[]
[]
[]
[]
[]
[]
[]
[]
[]
[]
[]
[]
[]
[]
[]
[]
[]
[]
[]
[]
[]
[]
[]
[]
[]
[]
[]
[]
[]
[]
[]
[]
[]
[]
[]
[]
[]
[]
[]
[]
[]
[]
[]
[]
[]
[]
[]
[]
[]
[]
[]
[]
[]
[]
[]
[]
[]
[]
[]
[]
[]
[]
[]
[]
[]
[]
[]
[]
[]
[]
[]
[]
[]
[]
[]
[]
[]
[]
[]
[]
[]
[]
[]
[]
[]
[]
[]
[]
[]
[]
[]
[]
[]
[]
[]
[]
[]
[]
[]
[]
[]
[]
[]
[]
[]
[]
[]
[]
[]
[]
[]
[]
[]
[]
[]
[]
[]
[]
[]
[]
[]
[]
[]
[]
[]
[]
[]
[]
[]
[]
[]
[]
[]
[]
[]
[]
[]
[]
[]
[]
[]
[]
[]
[]
[]
[]
[]
[]
[]
[]
[]
[]
[]
[]
[]
[]
[]
[]
[]
[]
[]
[]
[]
[]
[]
[]
[]
[]
[]
[]
[]
[]
[]
[]
[]
[]
[]
[]
[]
[]
[]
[]
[]
[]
[]
[]
[]
[]
[]
[]
[]
[]
[]
[]
[]
[]
[]
[]
[]
[]
[]
[]
[]
[]
[]
[]
[]
[]
[]
[]
[]
[]
[]
[]
[]
[]
[]
[]
[]
[]
[]
[]
[]
[]
[]
[]
[]
[]
[]
[]
[]
[]
[]
[]
[]
[]
[]
[]
[]
[]
[]
[]
[]
[]
[]
[]
[]
[]
[]
[]
[]
[]
[]
[]
[]
[]
[]
[]
[]
[]
[]
[]
[]
[]
[]
[]
[]
[]
[]
[]
[]
[]
[]
[]
[]
[]
[]
[]
[]
[]
[]
[]
[]
[]
[]
[]
[]
[]
[]
[]
[]
[]
[]
[]
[]
[]
[]
[]
[]
[]
[]
[]
[]
[]
[]
[]
[]
[]
[]
[]
[]
[]
[]
[]
[]
[]
[]
[]
[]
[]
[]
[]
[]
[]
[]
[]
[]
[]
[]
[]
[]
[]
[]
[]
[]
[]
[]
[]
[]
[]
[]
[]
[]
[]
[]
[]
[]
[]
[]
[]
[]
[]
[]
[]
[]
[]
[]
[]
[]
[]
[]
[]
[]
[]
[]
[]
[]
[]
[]
[]
[]
[]
[]
[]
[]
[]
[]
[]
[]
[]
[]
[]
[]
[]
[]
[]
[]
[]
[]
[]
[]
[]
[]
[]
[]
[]
[]
[]
[]
[]
[]
[]
[]
[]
[]
[]
[]
[]
[]
[]
[]
[]
[]
[]
[]
[]
[]
[]
[]
[]
[]
[]
[]
[]
[]
[]
[]
[]
[]
[]
[]
[]
[]
[]
[]
[]
[]
[]
[]
[]
[]
[]
[]
[]
[]
[]
[]
[]
[]
[]
[]
[]
[]
[]
[]
[]
[]
[]
[]
[]
[]
[]
[]
[]
[]
[]
[]
[]
[]
[]
[]
[]
[]
[]
[]
[]
[]
[]
[]
[]
[]
[]
[]
[]
[]
[]
[]
[]
[]
[]
[]
[]
[]
[]
[]
[]
[]
[]
[]
[]
[]
[]
[]
[]
[]
[]
[]
[]
[]
[]
[]
[]
[]
[]
[]
[]
[]
[]
[]
[]
[]
[]
[]
[]
[]
[]
[]
[]
[]
[]
[]
[]
[]
[]
[]
[]
[]
[]
[]
[]
[]
[]
[]
[]
[]
[]
[]
[]
[]
[]
[]
[]
[]
[]
[]
[]
[]
[]
[]
[]
[]
[]
[]
[]
[]
[]
[]
[]
[]
[]
[]
[]
[]
[]
[]
[]
[]
[]
[]
[]
[]
[]
[]
[]
[]
[]
[]
[]
[]
[]
[]
[]
[]
[]
[]
[]
[]
[]
[]
[]
[]
[]
[]
[]
[]
[]
[]
[]
[]
[]
[]
[]
[]
[]
[]
[]
[]
[]
[]
[]
[]
[]
[]
[]
[]
[]
[]
[]
[]
[]
[]
[]
[]
[]
[]
[]
[]
[]
[]
[]
[]
[]
[]
[]
[]
[]
[]
[]
[]
[]
[]
[]
[]
[]
[]
[]
[]
[]
[]
[]
[]
[]
[]
[]
[]
[]
[]
[]
[]
[]
[]
[]
[]
[]
[]
[]
[]
[]
[]
[]
[]
[]
[]
[]
[]
[]
[]
[]
[]
[]
[]
[]
[]
[]
[]
[]
[]
[]
[]
[]
[]
[]
[]
[]
[]
[]
[]
[]
[]
[]
[]
[]
[]
[]
[]
[]
[]
[]
[]
[]
[]
[]
[]
[]
[]
[]
[]
[]
[]
[]
[]
[]
[]
[]
[]
[]
[]
[]
[]
[]
[]
[]
[]
[]
[]
[]
[]
[]
[]
[]
[]
[]
[]
[]
[]
[]
[]
[]
[]
[]
[]
[]
[]
[]
[]
[]
[]
[]
[]
[]
[]
[]
[]
[]
[]
[]
[]
[]
[]
[]
[]
[]
[]
[]
[]
[]
[]
[]
[]
[]
[]
[]
[]
[]
[]
[]
[]
[]
[]
[]
[]
[]
[]
[]
[]
[]
[]
[]
[]
[]
[]
[]
[]
[]
[]
[]
[]
[]
[]
[]
[]
[]
[]
[]
[]
[]
[]
[]
[]
[]
[]
[]
[]
[]
[]
[]
[]
[]
[]
[]
[]
[]
[]
[]
[]
[]
[]
[]
[]
[]
[]
[]
[]
[]
[]
[]
[]
[]
[]
[]
[]
[]
[]
[]
[]
[]
[]
[]
[]
[]
[]
[]
[]
[]
[]
[]
[]
[]
[]
[]
[]
[]
[]
[]
[]
[]
[]
[]
[]
[]
[]
[]
[]
[]
[]
[]
[]
[]
[]
[]
[]
[]
[]
[]
[]
[]
[]
[]
[]
[]
[]
[]
[]
[]
[]
[]
[]
[]
[]
[]
[]
[]
[]
[]
[]
[]
[]
[]
[]
[]
[]
[]
[]
[]
[]
[]
[]
[]
[]
[]
[]
[]
[]
[]
[]
[]
[]
[]
[]
[]
[]
[]
[]
[]
[]
[]
[]
[]
[]
[]
[]
[]
[]
[]
[]
[]
[]
[]
[]
[]
[]
[]
[]
[]
[]
[]
[]
[]
[]
[]
[]
[]
[]
[]
[]
[]
[]
[]
[]
[]
[]
[]
[]
[]
[]
[]
[]
[]
[]
[]
[]
[]
[]
[]
[]
[]
[]
[]
[]
[]
[]
[]
[]
[]
[]
[]
[]
[]
[]
[]
[]
[]
[]
[]
[]
[]
[]
[]
[]
[]
[]
[]
[]
[]
[]
[]
[]
[]
[]
[]
[]
[]
[]
[]
[]
[]
[]
[]
[]
[]
[]
[]
[]
[]
[]
[]
[]
[]
[]
[]
[]
[]
[]
[]
[]
[]
[]
[]
[]
[]
[]
[]
[]
[]
[]
[]
[]
[]
[]
[]
[]
[]
[]
[]
[]
[]
[]
[]
[]
[]
[]
[]
[]
[]
[]
[]
[]
[]
[]
[]
[]
[]
[]
[]
[]
[]
[]
[]
[]
[]
[]
[]
[]
[]
[]
[]
[]
[]
[]
[]
[]
[]
[]
[]
[]
[]
[]
[]
[]
[]
[]
[]
[]
[]
[]
[]
[]
[]
[]
[]
[]
[]
[]
[]
[]
[]
[]
[]
[]
[]
[]
[]
[]
[]
[]
[]
[]
[]
[]
[]
[]
[]
[]
[]
[]
[]
[]
[]
[]
[]
[]
[]
[]
[]
[]
[]
[]
[]
[]
[]
[]
[]
[]
[]
[]
[]
[]
[]
[]
[]
[]
[]
[]
[]
[]
[]
[]
[]
[]
[]
[]
[]
[]
[]
[]
[]
[]
[]
[]
[]
[]
[]
[]
[]
[]
[]
[]
[]
[]
[]
[]
[]
[]
[]
[]
[]
[]
[]
[]
[]
[]
[]
[]
[]
[]
[]
[]
[]
[]
[]
[]
[]
[]
[]
[]
[]
[]
[]
[]
[]
[]
[]
[]
[]
[]
[]
[]
[]
[]
[]
[]
[]
[]
[]
[]
[]
[]
[]
[]
[]
[]
[]
[]
[]
[]
[]
[]
[]
[]
[]
[]
[]
[]
[]
[]
[]
[]
[]
[]
[]
[]
[]
[]
[]
[]
[]
[]
[]
[]
[]
[]
[]
[]
[]
[]
[]
[]
[]
[]
[]
[]
[]
[]
[]
[]
[]
[]
[]
[]
[]
[]
[]
[]
[]
[]
[]
[]
[]
[]
[]
[]
[]
[]
[]
[]
[]
[]
[]
[]
[]
[]
[]
[]
[]
[]
[]
[]
[]
[]
[]
[]
[]
[]
[]
[]
[]
[]
[]
[]
[]
[]
[]
[]
[]
[]
[]
[]
[]
[]
[]
[]
[]
[]
[]
[]
[]
[]
[]
[]
[]
[]
[]
[]
[]
[]
[]
[]
[]
[]
[]
[]
[]
[]
[]
[]
[]
[]
[]
[]
[]
[]
[]
[]
[]
[]
[]
[]
[]
[]
[]
[]
[]
[]
[]
[]
[]
[]
[]
[]
[]
[]
[]
[]
[]
[]
[]
[]
[]
[]
[]
[]
[]
[]
[]
[]
[]
[]
[]
[]
[]
[]
[]
[]
[]
[]
[]
[]
[]
[]
[]
[]
[]
[]
[]
[]
[]
[]
[]
[]
[]
[]
[]
[]
[]
[]
[]
[]
[]
[]
[]
[]
[]
[]
[]
[]
[]
[]
[]
[]
[]
[]
[]
[]
[]
[]
[]
[]
[]
[]
[]
[]
[]
[]
[]
[]
[]
[]
[]
[]
[]
[]
[]
[]
[]
[]
[]
[]
[]
[]
[]
[]
[]
[]
[]
[]
[]
[]
[]
[]
[]
[]
[]
[]
[]
[]
[]
[]
[]
[]
[]
[]
[]
[]
[]
[]
[]
[]
[]
[]
[]
[]
[]
[]
[]
[]
[]
[]
[]
[]
[]
[]
[]
[]
[]
[]
[]
[]
[]
[]
[]
[]
[]
[]
[]
[]
[]
[]
[]
[]
[]
[]
[]
[]
[]
[]
[]
[]
[]
[]
[]
[]
[]
[]
[]
[]
[]
[]
[]
[]
[]
[]
[]
[]
[]
[]
[]
[]
[]
[]
[]
[]
[]
[]
[]
[]
[]
[]
[]
[]
[]
[]
[]
[]
[]
[]
[]
[]
[]
[]
[]
[]
[]
[]
[]
[]
[]
[]
[]
[]
[]
[]
[]
[]
[]
[]
[]
[]
[]
[]
[]
[]
[]
[]
[]
[]
[]
[]
[]
[]
[]
[]
[]
[]
[]
[]
[]
[]
[]
[]
[]
[]
[]
[]
[]
[]
[]
[]
[]
[]
[]
[]
[]
[]
[]
[]
[]
[]
[]
[]
[]
[]
[]
[]
[]
[]
[]
[]
[]
[]
[]
[]
[]
[]
[]
[]
[]
[]
[]
[]
[]
[]
[]
[]
[]
[]
[]
[]
[]
[]
[]
[]
[]
[]
[]
[]
[]
[]
[]
[]
[]
[]
[]
[]
[]
[]
[]
[]
[]
[]
[]
[]
[]
[]
[]
[]
[]
[]
[]
[]
[]
[]
[]
[]
[]
[]
[]
[]
[]
[]
[]
[]
[]
[]
[]
[]
[]
[]
[]
[]
[]
[]
[]
[]
[]
[]
[]
[]
[]
[]
[]
[]
[]
[]
[]
[]
[]
[]
[]
[]
[]
[]
[]
[]
[]
[]
[]
[]
[]
[]
[]
[]
[]
[]
[]
[]
[]
[]
[]
[]
[]
[]
[]
[]
[]
[]
[]
[]
[]
[]
[]
[]
[]
[]
[]
[]
[]
[]
[]
[]
[]
[]
[]
[]
[]
[]
[]
[]
[]
[]
[]
[]
[]
[]
[]
[]
[]
[]
[]
[]
[]
[]
[]
[]
[]
[]
[]
[]
[]
[]
[]
[]
[]
[]
[]
[]
[]
[]
[]
[]
[]
[]
[]
[]
[]
[]
[]
[]
[]
[]
[]
[]
[]
[]
[]
[]
[]
[]
[]
[]
[]
[]
[]
[]
[]
[]
[]
[]
[]
[]
[]
[]
[]
[]
[]
[]
[]
[]
[]
[]
[]
[]
[]
[]
[]
[]
[]
[]
[]
[]
[]
[]
[]
[]
[]
[]
[]
[]
[]
[]
[]
[]
[]
[]
[]
[]
[]
[]
[]
[]
[]
[]
[]
[]
[]
[]
[]
[]
[]
[]
[]
[]
[]
[]
[]
[]
[]
[]
[]
[]
[]
[]
[]
[]
[]
[]
[]
[]
[]
[]
[]
[]
[]
[]
[]
[]
[]
[]
[]
[]
[]
[]
[]
[]
[]
[]
[]
[]
[]
[]
[]
[]
[]
[]
[]
[]
[]
[]
[]
[]
[]
[]
[]
[]
[]
[]
[]
[]
[]
[]
[]
[]
[]
[]
[]
[]
[]
[]
[]
[]
[]
[]
[]
[]
[]
[]
[]
[]
[]
[]
[]
[]
[]
[]
[]
[]
[]
[]
[]
[]
[]
[]
[]
[]
[]
[]
[]
[]
[]
[]
[]
[]
[]
[]
[]
[]
[]
[]
[]
[]
[]
[]
[]
[]
[]
[]
[]
[]
[]
[]
[]
[]
[]
[]
[]
[]
[]
[]
[]
[]
[]
[]
[]
[]
[]
[]
[]
[]
[]
[]
[]
[]
[]
[]
[]
[]
[]
[]
[]
[]
[]
[]
[]
[]
[]
[]
[]
[]
[]
[]
[]
[]
[]
[]
[]
[]
[]
[]
[]
[]
[]
[]
[]
[]
[]
[]
[]
[]
[]
[]
[]
[]
[]
[]
[]
[]
[]
[]
[]
[]
[]
[]
[]
[]
[]
[]
[]
[]
[]
[]
[]
[]
[]
[]
[]
[]
[]
[]
[]
[]
[]
[]
[]
[]
[]
[]
[]
[]
[]
[]
[]
[]
[]
[]
[]
[]
[]
[]
[]
[]
[]
[]
[]
[]
[]
[]
[]
[]
[]
[]
[]
[]
[]
[]
[]
[]
[]
[]
[]
[]
[]
[]
[]
[]
[]
[]
[]
[]
[]
[]
[]
[]
[]
[]
[]
[]
[]
[]
[]
[]
[]
[]
[]
[]
[]
[]
[]
[]
[]
[]
[]
[]
[]
[]
[]
[]
[]
[]
[]
[]
[]
[]
[]
[]
[]
[]
[]
[]
[]
[]
[]
[]
[]
[]
[]
[]
[]
[]
[]
[]
[]
[]
[]
[]
[]
[]
[]
[]
[]
[]
[]
[]
[]
[]
[]
[]
[]
[]
[]
[]
[]
[]
[]
[]
[]
[]
[]
[]
[]
[]
[]
[]
[]
[]
[]
[]
[]
[]
[]
[]
[]
[]
[]
[]
[]
[]
[]
[]
[]
[]
[]
[]
[]
[]
[]
[]
[]
[]
[]
[]
[]
[]
[]
[]
[]
[]
[]
[]
[]
[]
[]
[]
[]
[]
[]
[]
[]
[]
[]
[]
[]
[]
[]
[]
[]
[]
[]
[]
[]
[]
[]
[]
[]
[]
[]
[]
[]
[]
[]
[]
[]
[]
[]
[]
[]
[]
[]
[]
[]
[]
[]
[]
[]
[]
[]
[]
[]
[]
[]
[]
[]
[]
[]
[]
[]
[]
[]
[]
[]
[]
[]
[]
[]
[]
[]
[]
[]
[]
[]
[]
[]
[]
[]
[]
[]
[]
[]
[]
[]
[]
[]
[]
[]
[]
[]
[]
[]
[]
[]
[]
[]
[]
[]
[]
[]
[]
[]
[]
[]
[]
[]
[]
[]
[]
[]
[]
[]
[]
[]
[]
[]
[]
[]
[]
[]
[]
[]
[]
[]
[]
[]
[]
[]
[]
[]
[]
[]
[]
[]
[]
[]
[]
[]
[]
[]
[]
[]
[]
[]
[]
[]
[]
[]
[]
[]
[]
[]
[]
[]
[]
[]
[]
[]
[]
[]
[]
[]
[]
[]
[]
[]
[]
[]
[]
[]
[]
[]
[]
[]
[]
[]
[]
[]
[]
[]
[]
[]
[]
[]
[]
[]
[]
[]
[]
[]
[]
[]
[]
[]
[]
[]
[]
[]
[]
[]
[]
[]
[]
[]
[]
[]
[]
[]
[]
[]
[]
[]
[]
[]
[]
[]
[]
[]
[]
[]
[]
[]
[]
[]
[]
[]
[]
[]
[]
[]
[]
[]
[]
[]
[]
[]
[]
[]
[]
[]
[]
[]
[]
[]
[]
[]
[]
[]
[]
[]
[]
[]
[]
[]
[]
[]
[]
[]
[]
[]
[]
[]
[]
[]
[]
[]
[]
[]
[]
[]
[]
[]
[]
[]
[]
[]
[]
[]
[]
[]
[]
[]
[]
[]
[]
[]
[]
[]
[]
[]
[]
[]
[]
[]
[]
[]
[]
[]
[]
[]
[]
[]
[]
[]
[]
[]
[]
[]
[]
[]
[]
[]
[]
[]
[]
[]
[]
[]
[]
[]
[]
[]
[]
[]
[]
[]
[]
[]
[]
[]
[]
[]
[]
[]
[]
[]
[]
[]
[]
[]
[]
[]
[]
[]
[]
[]
[]
[]
[]
[]
[]
[]
[]
[]
[]
[]
[]
[]
[]
[]
[]
[]
[]
[]
[]
[]
[]
[]
[]
[]
[]
[]
[]
[]
[]
[]
[]
[]
[]
[]
[]
[]
[]
[]
[]
[]
[]
[]
[]
[]
[]
[]
[]
[]
[]
[]
[]
[]
[]
[]
[]
[]
[]
[]
[]
[]
[]
[]
[]
[]
[]
[]
[]
[]
[]
[]
[]
[]
[]
[]
[]
[]
[]
[]
[]
[]
[]
[]
[]
[]
[]
[]
[]
[]
[]
[]
[]
[]
[]
[]
[]
[]
[]
[]
[]
[]
[]
[]
[]
[]
[]
[]
[]
[]
[]
[]
[]
[]
[]
[]
[]
[]
[]
[]
[]
[]
[]
[]
[]
[]
[]
[]
[]
[]
[]
[]
[]
[]
[]
[]
[]
[]
[]
[]
[]
[]
[]
[]
[]
[]
[]
[]
[]
[]
[]
[]
[]
[]
[]
[]
[]
[]
[]
[]
[]
[]
[]
[]
[]
[]
[]
[]
[]
[]
[]
[]
[]
[]
[]
[]
[]
[]
[]
[]
[]
[]
[]
[]
[]
[]
[]
[]
[]
[]
[]
[]
[]
[]
[]
[]
[]
[]
[]
[]
[]
[]
[]
[]
[]
[]
[]
[]
[]
[]
[]
[]
[]
[]
[]
[]
[]
[]
[]
[]
[]
[]
[]
[]
[]
[]
[]
[]
[]
[]
[]
[]
[]
[]
[]
[]
[]
[]
[]
[]
[]
[]
[]
[]
[]
[]
[]
[]
[]
[]
[]
[]
[]
[]
[]
[]
[]
[]
[]
[]
[]
[]
[]
[]
[]
[]
[]
[]
[]
[]
[]
[]
[]
[]
[]
[]
[]
[]
[]
[]
[]
[]
[]
[]
[]
[]
[]
[]
[]
[]
[]
[]
[]
[]
[]
[]
[]
[]
[]
[]
[]
[]
[]
[]
[]
[]
[]
[]
[]
[]
[]
[]
[]
[]
[]
[]
[]
[]
[]
[]
[]
[]
[]
[]
[]
[]
[]
[]
[]
[]
[]
[]
[]
[]
[]
[]
[]
[]
[]
[]
[]
[]
[]
[]
[]
[]
[]
[]
[]
[]
[]
[]
[]
[]
[]
[]
[]
[]
[]
[]
[]
[]
[]
[]
[]
[]
[]
[]
[]
[]
[]
[]
[]
[]
[]
[]
[]
[]
[]
[]
[]
[]
[]
[]
[]
[]
[]
[]
[]
[]
[]
[]
[]
[]
[]
[]
[]
[]
[]
[]
[]
[]
[]
[]
[]
[]
[]
[]
[]
[]
[]
[]
[]
[]
[]
[]
[]
[]
[]
[]
[]
[]
[]
[]
[]
[]
[]
[]
[]
[]
[]
[]
[]
[]
[]
[]
[]
[]
[]
[]
[]
[]
[]
[]
[]
[]
[]
[]
[]
[]
[]
[]
[]
[]
[]
[]
[]
[]
[]
[]
[]
[]
[]
[]
[]
[]
[]
[]
[]
[]
[]
[]
[]
[]
[]
[]
[]
[]
[]
[]
[]
[]
[]
[]
[]
[]
[]
[]
[]
[]
[]
[]
[]
[]
[]
[]
[]
[]
[]
[]
[]
[]
[]
[]
[]
[]
[]
[]
[]
[]
[]
[]
[]
[]
[]
[]
[]
[]
[]
[]
[]
[]
[]
[]
[]
[]
[]
[]
[]
[]
[]
[]
[]
[]
[]
[]
[]
[]
[]
[]
[]
[]
[]
[]
[]
[]
[]
[]
[]
[]
[]
[]
[]
[]
[]
[]
[]
[]
[]
[]
[]
[]
[]
[]
[]
[]
[]
[]
[]
[]
[]
[]
[]
[]
[]
[]
[]
[]
[]
[]
[]
[]
[]
[]
[]
[]
[]
[]
[]
[]
[]
[]
[]
[]
[]
[]
[]
[]
[]
[]
[]
[]
[]
[]
[]
[]
[]
[]
[]
[]
[]
[]
[]
[]
[]
[]
[]
[]
[]
[]
[]
[]
[]
[]
[]
[]
[]
[]
[]
[]
[]
[]
[]
[]
[]
[]
[]
[]
[]
[]
[]
[]
[]
[]
[]
[]
[]
[]
[]
[]
[]
[]
[]
[]
[]
[]
[]
[]
[]
[]
[]
[]
[]
[]
[]
[]
[]
[]
[]
[]
[]
[]
[]
[]
[]
[]
[]
[]
[]
[]
[]
[]
[]
[]
[]
[]
[]
[]
[]
[]
[]
[]
[]
[]
[]
[]
[]
[]
[]
[]
[]
[]
[]
[]
[]
[]
[]
[]
[]
[]
[]
[]
[]
[]
[]
[]
[]
[]
[]
[]
[]
[]
[]
[]
[]
[]
[]
[]
[]
[]
[]
[]
[]
[]
[]
[]
[]
[]
[]
[]
[]
[]
[]
[]
[]
[]
[]
[]
[]
[]
[]
[]
[]
[]
[]
[]
[]
[]
[]
[]
[]
[]
[]
[]
[]
[]
[]
[]
[]
[]
[]
[]
[]
[]
[]
[]
[]
[]
[]
[]
[]
[]
[]
[]
[]
[]
[]
[]
[]
[]
[]
[]
[]
[]
[]
[]
[]
[]
[]
[]
[]
[]
[]
[]
[]
[]
[]
[]
[]
[]
[]
[]
[]
[]
[]
[]
[]
[]
[]
[]
[]
[]
[]
[]
[]
[]
[]
[]
[]
[]
[]
[]
[]
[]
[]
[]
[]
[]
[]
[]
[]
[]
[]
[]
[]
[]
[]
[]
[]
[]
[]
[]
[]
[]
[]
[]
[]
[]
[]
[]
[]
[]
[]
[]
[]
[]
[]
[]
[]
[]
[]
[]
[]
[]
[]
[]
[]
[]
[]
[]
[]
[]
[]
[]
[]
[]
[]
[]
[]
[]
[]
[]
[]
[]
[]
[]
[]
[]
[]
[]
[]
[]
[]
[]
[]
[]
[]
[]
[]
[]
[]
[]
[]
[]
[]
[]
[]
[]
[]
[]
[]
[]
[]
[]
[]
[]
[]
[]
[]
[]
[]
[]
[]
[]
[]
[]
[]
[]
[]
[]
[]
[]
[]
[]
[]
[]
[]
[]
[]
[]
[]
[]
[]
[]
[]
[]
[]
[]
[]
[]
[]
[]
[]
[]
[]
[]
[]
[]
[]
[]
[]
[]
[]
[]
[]
[]
[]
[]
[]
[]
[]
[]
[]
[]
[]
[]
[]
[]
[]
[]
[]
[]
[]
[]
[]
[]
[]
[]
[]
[]
[]
[]
[]
[]
[]
[]
[]
[]
[]
[]
[]
[]
[]
[]
[]
[]
[]
[]
[]
[]
[]
[]
[]
[]
[]
[]
[]
[]
[]
[]
[]
[]
[]
[]
[]
[]
[]
[]
[]
[]
[]
[]
[]
[]
[]
[]
[]
[]
[]
[]
[]
[]
[]
[]
[]
[]
[]
[]
[]
[]
[]
[]
[]
[]
[]
[]
[]
[]
[]
[]
[]
[]
[]
[]
[]
[]
[]
[]
[]
[]
[]
[]
[]
[]
[]
[]
[]
[]
[]
[]
[]
[]
[]
[]
[]
[]
[]
[]
[]
[]
[]
[]
[]
[]
[]
[]
[]
[]
[]
[]
[]
[]
[]
[]
[]
[]
[]
[]
[]
[]
[]
[]
[]
[]
[]
[]
[]
[]
[]
[]
[]
[]
[]
[]
[]
[]
[]
[]
[]
[]
[]
[]
[]
[]
[]
[]
[]
[]
[]
[]
[]
[]
[]
[]
[]
[]
[]
[]
[]
[]
[]
[]
[]
[]
[]
[]
[]
[]
[]
[]
[]
[]
[]
[]
[]
[]
[]
[]
[]
[]
[]
[]
[]
[]
[]
[]
[]
[]
[]
[]
[]
[]
[]
[]
[]
[]
[]
[]
[]
[]
[]
[]
[]
[]
[]
[]
[]
[]
[]
[]
[]
[]
[]
[]
[]
[]
[]
[]
[]
[]
[]
[]
[]
[]
[]
[]
[]
[]
[]
[]
[]
[]
[]
[]
[]
[]
[]
[]
[]
[]
[]
[]
[]
[]
[]
[]
[]
[]
[]
[]
[]
[]
[]
[]
[]
[]
[]
[]
[]
[]
[]
[]
[]
[]
[]
[]
[]
[]
[]
[]
[]
[]
[]
[]
[]
[]
[]
[]
[]
[]
[]
[]
[]
[]
[]
[]
[]
[]
[]
[]
[]
[]
[]
[]
[]
[]
[]
[]
[]
[]
[]
[]
[]
[]
[]
[]
[]
[]
[]
[]
[]
[]
[]
[]
[]
[]
[]
[]
[]
[]
[]
[]
[]
[]
[]
[]
[]
[]
[]
[]
[]
[]
[]
[]
[]
[]
[]
[]
[]
[]
[]
[]
[]
[]
[]
[]
[]
[]
[]
[]
[]
[]
[]
[]
[]
[]
[]
[]
[]
[]
[]
[]
[]
[]
[]
[]
[]
[]
[]
[]
[]
[]
[]
[]
[]
[]
[]
[]
[]
[]
[]
[]
[]
[]
[]
[]
[]
[]
[]
[]
[]
[]
[]
[]
[]
[]
[]
[]
[]
[]
[]
[]
[]
[]
[]
[]
[]
[]
[]
[]
[]
[]
[]
[]
[]
[]
[]
[]
[]
[]
[]
[]
[]
[]
[]
[]
[]
[]
[]
[]
[]
[]
[]
[]
[]
[]
[]
[]
[]
[]
[]
[]
[]
[]
[]
[]
[]
[]
[]
[]
[]
[null,null,null,null,null,null,null,null,null,null,null,null,null,null,null,null,null,null,null,null,null,null,null,null,null,null,null,null,null,null,null,null,null,null,null,null,null,null,null,null,null,null,null,null,null,null,null,null,null,null,null,null,null,null,null,null,null,null,null,null,null,null,null,null,null,null,null,null,null,null,null,null,null,null,null,null,null,null,null,null,null,null,null,null,null,null,null,null,null,null,null,null,null,null,null,null,null,null,null,null,null,null,null,null,null,null,null,null,null,null,null,null,null,null,null,null,null,null,null,null,null,null,null,null,null,null,null,null,null,null,null,null,null,null,null,null,null,null,null,null,null,null,null,null,null,null,null,null,null,null,null,null,null,null,null,null,null,null,null,null,null,null,null,null,null,null,null,null,null,null,null,null,null,null,null,null,null,null,null,null,null,null,null,null,null,null,null,null,null,null,null,null,null,null,null,null,null,null,null,null,null,null,null,null,null,null,null,null,null,null,null,null,null,null,null,null,null,null,null,null,null,null,null,null,null,null,null,null,null,null,null,null,null,null,null,null,null,null,null,null,null,null,null,null,null,null,null,null,null,null,null,null,null,null,null,null,null,null,null,null,null,null,null,null,null,null,null,null,null,null,null,null,null,null,null,null,null,null,null,null,null,null,null,null,null,null,null,null,null,null,null,null,null,null,null,null,null,null,null,null,null,null,null,null,null,null,null,null,null,null,null,null,null,null,null,null,null,null,null,null,null,null,null,null,null,null,null,null,null,null,null,null,null,null,null,null,null,null,null,null,null,null,null,null,null,null,null,null,null,null,null,null,null,null,null,null,null,null,null,null,null,null,null,null,null,null,null,null,null,null,null,null,null,null,null,null,null,null,null,null,null,null,null,null,null,null,null,null,null,null,null,null,null,null,null,null,null,null,null,null,null,null,null,null,null,null,null,null,null,null,null,null,null,null,null,null,null,null,null,null,null,null,null,null,null,null,null,null,null,null,null,null,null,null,null,null,null,null,null,null,null,null,null,null,null,null,null,null,null,null,null,null,null,null,null,null,null,null,null,null,null,null,null,null,null,null,null,null,null,null,null,null,null,null,null,null,null,null,null,null,null,null,null,null,null,null,null,null,null,null,null,null,null,null,null,null,null,null,null,null,null,null,null,null,null,null,null,null,null,null,null,null,null,null,null,null,null,null,null,null,null,null,null,null,null,null,null,null,null,null,null,null,null,null,null,null,null,null,null,null,null,null,null,null,null,null,null,null,null,null,null,null,null,null,null,null,null,null,null,null,null,null,null,null,null,null,null,null,null,null,null,null,null,null,null,null,null,null,null,null,null,null,null,null,null,null,null,null,null,null,null,null,null,null,null,null,null,null,null,null,null,null,null,null,null,null,null,null,null,null,null,null,null,null,null,null,null,null,null,null,null,null,null,null,null,null,null,null,null,null,null,null,null,null,null,null,null,null,null,null,null,null,null,null,null,null,null,null,null,null,null,null,null,null,null,null,null,null,null,null,null,null,null,null,null,null,null,null,null,null,null,null,null,null,null,null,null,null,null,null,null,null,null,null,null,null,null,null,null,null,null,null,null,null,null,null,null,null,null,null,null,null,null,null,null,null,null,null,null,null,null,null,null,null,null,null,null,null,null,null,null,null,null,null,null,null,null,null,null,null,null,null,null,null,null,null,null,null,null,null,null,null,null,null,null,null,null,null,null,null,null,null,null,null,null,null,null,null,null,null,null,null,null,null,null,null,null,null,null,null,null,null,null,null,null,null,null,null,null,null,null,null,null,null,null,null,null,null,null,null,null,null,null,null,null,null,null,null,null,null,null,null,null,null,null,null,null,null,null,null,null,null,null,null,null,null,null,null,null,null,null,null,null,null,null,null,null,null,null,null,null,null,null,null,null,null,null,null,null,null,null,null,null,null,null,null,null,null,null,null,null,null,null,null,null,null,null,null,null,null,null,null,null,null,null,null,null,null,null,null,null,null,null,null,null,null,null,null,null,null,null,null,null,null,null,null,null,null,null,null,null,null,null,null,null,null,null,null,null,null,null,null,null,null,null,null,null,null,null,null,null,null,null,null,null,null,null,null,null,null,null,null,null,null,null,null,null,null,null,null,null,null,null,null,null,null,null,null,null,null,null,null,null,null,null,null,null,null,null,null,null,null,null,null,null,null,null,null,null,null,null,null,null,null,null,null,null,null,null,null,null,null,null,null,null,null,null,null,null,null,null,null,null,null,null,null,null,null,null,null,null,null,null,null,null,null,null,null,null,null,null,null,null,null,null,null,null,null,null,null,null,null,null,null,null,null,null,null,null,null,null,null,null,null,null,null,null,null,null,null,null,null,null,null,null,null,null,null,null,null,null,null,null,null,null,null,null,null,null,null,null,null,null,null,null,null,null,null,null,null,null,null,null,null,null,null,null,null,null,null,null,null,null,null,null,null,null,null,null,null,null,null,null,null,null,null,null,null,null,null,null,null,null,null,null,null,null,null,null,null,null,null,null,null,null,null,null,null,null,null,null,null,null,null,null,null,null,null,null,null,null,null,null,null,null,null,null,null,null,null,null,null,null,null,null,null,null,null,null,null,null,null,null,null,null,null,null,null,null,null,null,null,null,null,null,null,null,null,null,null,null,null,null,null,null,null,null,null,null,null,null,null,null,null,null,null,null,null,null,null,null,null,null,null,null,null,null,null,null,null,null,null,null,null,null,null,null,null,null,null,null,null,null,null,null,null,null,null,null,null,null,null,null,null,null,null,null,null,null,null,null,null,null,null,null,null,null,null,null,null,null,null,null,null,null,null,null,null,null,null,null,null,null,null,null,null,null,null,null,null,null,null,null,null,null,null,null,null,null,null,null,null,null,null,null,null,null,null,null,null,null,null,null,null,null,null,null,null,null,null,null,null,null,null,null,null,null,null,null,null,null,null,null,null,null,null,null,null,null,null,null,null,null,null,null,null,null,null,null,null,null,null,null,null,null,null,null,null,null,null,null,null,null,null,null,null,null,null,null,null,null,null,null,null,null,null,null,null,null,null,null,null,null,null,null,null,null,null,null,null,null,null,null,null,null,null,null,null,null,null,null,null,null,null,null,null,null,null,null,null,null,null,null,null,null,null,null,null,null,null,null,null,null,null,null,null,null,null,null,null,null,null,null,null,null,null,null,null,null,null,null,null,null,null,null,null,null,null,null,null,null,null,null,null,null,null,null,null,null,null,null,null,null,null,null,null,null,null,null,null,null,null,null,null,null,null,null,null,null,null,null,null,null,null,null,null,null,null,null,null,null,null,null,null,null,null,null,null,null,null,null,null,null,null,null,null,null,null,null,null,null,null,null,null,null,null,null,null,null,null,null,null,null,null,null,null,null,null,null,null,null,null,null,null,null,null,null,null,null,null,null,null,null,null,null,null,null,null,null,null,null,null,null,null,null,null,null,null,null,null,null,null,null,null,null,null,null,null,null,null,null,null,null,null,null,null,null,null,null,null,null,null,null,null,null,null,null,null,null,null,null,null,null,null,null,null,null,null,null,null,null,null,null,null,null,null,null,null,null,null,null,null,null,null,null,null,null,null,null,null,null,null,null,null,null,null,null,null,null,null,null,null,null,null,null,null,null,null,null,null,null,null,null,null,null,null,null,null,null,null,null,null,null,null,null,null,null,null,null,null,null,null,null,null,null,null,null,null,null,null,null,null,null,null,null,null,null,null,null,null,null,null,null,null,null,null,null,null,null,null,null,null,null,null,null,null,null,null,null,null,null,null,null,null,null,null,null,null,null,null,null,null,null,null,null,null,null,null,null,null,null,null,null,null,null,null,null,null,null,null,null,null,null,null,null,null,null,null,null,null,null,null,null,null,null,null,null,null,null,null,null,null,null,null,null,null,null,null,null,null,null,null,null,null,null,null,null,null,null,null,null,null,null,null,null,null,null,null,null,null,null,null,null,null,null,null,null,null,null,null,null,null,null,null,null,null,null,null,null,null,null,null,null,null,null,null,null,null,null,null,null,null,null,null,null,null,null,null,null,null,null,null,null,null,null,null,null,null,null,null,null,null,null,null,null,null,null,null,null,null,null,null,null,null,null,null,null,null,null,null,null,null,null,null,null,null,null,null,null,null,null,null,null,null,null,null,null,null,null,null,null,null,null,null,null,null,null,null,null,null,null,null,null,null,null,null,null,null,null,null,null,null,null,null,null,null,null,null,null,null,null,null,null,null,null,null,null,null,null,null,null,null,null,null,null,null,null,null,null,null,null,null,null,null,null,null,null,null,null,null,null,null,null,null,null,null,null,null,null,null,null,null,null,null,null,null,null,null,null,null,null,null,null,null,null,null,null,null,null,null,null,null,null,null,null,null,null,null,null,null,null,null,null,null,null,null,null,null,null,null,null,null,null,null,null,null,null,null,null,null,null,null,null,null,null,null,null,null,null,null,null,null,null,null,null,null,null,null,null,null,null,null,null,null,null,null,null,null,null,null,null,null,null,null,null,null,null,null,null,null,null,null,null,null,null,null,null,null,null,null,null,null,null,null,null,null,null,null,null,null,null,null,null,null,null,null,null,null,null,null,null,null,null,null,null,null,null,null,null,null,null,null,null,null,null,null,null,null,null,null,null,null,null,null,null,null,null,null,null,null,null,null,null,null,null,null,null,null,null,null,null,null,null,null,null,null,null,null,null,null,null,null,null,null,null,null,null,null,null,null,null,null,null,null,null,null,null,null,null,null,null,null,null,null,null,null,null,null,null,null,null,null,null,null,null,null,null,null,null,null,null,null,null,null,null,null,null,null,null,null,null,null,null,null,null,null,null,null,null,null,null,null,null,null,null,null,null,null,null,null,null,null,null,null,null,null,null,null,null,null,null,null,null,null,null,null,null,null,null,null,null,null,null,null,null,null,null,null,null,null,null,null,null,null,null,null,null,null,null,null,null,null,null,null,null,null,null,null,null,null,null,null,null,null,null,null,null,null,null,null,null,null,null,null,null,null,null,null,null,null,null,null,null,null,null,null,null,null,null,null,null,null,null,null,null,null,null,null,null,null,null,null,null,null,null,null,null,null,null,null,null,null,null,null,null,null,null,null,null,null,null,null,null,null,null,null,null,null,null,null,null,null,null,null,null,null,null,null,null,null,null,null,null,null,null,null,null,null,null,null,null,null,null,null,null,null,null,null,null,null,null,null,null,null,null,null,null,null,null,null,null,null,null,null,null,null,null,null,null,null,null,null,null,null,null,null,null,null,null,null,null,null,null,null,null,null,null,null,null,null,null,null,null,null,null,null,null,null,null,null,null,null,null,null,null,null,null,null,null,null,null,null,null,null,null,null,null,null,null,null,null,null,null,null,null,null,null,null,null,null,null,null,null,null,null,null,null,null,null,null,null,null,null,null,null,null,null,null,null,null,null,null,null,null,null,null,null,null,null,null,null,null,null,null,null,null,null,null,null,null,null,null,null,null,null,null,null,null,null,null,null,null,null,null,null,null,null,null,null,null,null,null,null,null,null,null,null,null,null,null,null,null,null,null,null,null,null,null,null,null,null,null,null,null,null,null,null,null,null,null,null,null,null,null,null,null,null,null,null,null,null,null,null,null,null,null,null,null,null,null,null,null,null,null,null,null,null,null,null,null,null,null,null,null,null,null,null,null,null,null,null,null,null,null,null,null,null,null,null,null,null,null,null,null,null,null,null,null,null,null,null,null,null,null,null,null,null,null,null,null,null,null,null,null,null,null,null,null,null,null,null,null,null,null,null,null,null,null,null,null,null,null,null,null,null,null,null,null,null,null,null,null,null,null,null,null,null,null,null,null,null,null,null,null,null,null,null,null,null,null,null,null,null,null,null,null,null,null,null,null,null,null,null,null,null,null,null,null,null,null,null,null,null,null,null,null,null,null,null,null,null,null,null,null,null,null,null,null,null,null,null,null,null,null,null,null,null,null,null,null,null,null,null,null,null,null,null,null,null,null,null,null,null,null,null,null,null,null,null,null,null,null,null,null,null,null,null,null,null,null,null,null,null,null,null,null,null,null,null,null,null,null,null,null,null,null,null,null,null,null,null,null,null,null,null,null,null,null,null,null,null,null,null,null,null,null,null,null,null,null,null,null,null,null,null,null,null,null,null,null,null,null,null,null,null,null,null,null,null,null,null,null,null,null,null,null,null,null,null,null,null,null,null,null,null,null,null,null,null,null,null,null,null,null,null,null,null,null,null,null,null,null,null,null,null,null,null,null,null,null,null,null,null,null,null,null,null,null,null,null,null,null,null,null,null,null,null,null,null,null,null,null,null,null,null,null,null,null,null,null,null,null,null,null,null,null,null,null,null,null,null,null,null,null,null,null,null,null,null,null,null,null,null,null,null,null,null,null,null,null,null,null,null,null,null,null,null,null,null,null,null,null,null,null,null,null,null,null,null,null,null,null,null,null,null,null,null,null,null,null,null,null,null,null,null,null,null,null,null,null,null,null,null,null,null,null,null,null,null,null,null,null,null,null,null,null,null,null,null,null,null,null,null,null,null,null,null,null,null,null,null,null,null,null,null,null,null,null,null,null,null,null,null,null,null,null,null,null,null,null,null,null,null,null,null,null,null,null,null,null,null,null,null,null,null,null,null,null,null,null,null,null,null,null,null,null,null,null,null,null,null,null,null,null,null,null,null,null,null,null,null,null,null,null,null,null,null,null,null,null,null,null,null,null,null,null,null,null,null,null,null,null,null,null,null,null,null,null,null,null,null,null,null,null,null,null,null,null,null,null,null,null,null,null,null,null,null,null,null,null,null,null,null,null,null,null,null,null,null,null,null,null,null,null,null,null,null,null,null,null,null,null,null,null,null,null,null,null,null,null,null,null,null,null,null,null,null,null,null,null,null,null,null,null,null,null,null,null,null,null,null,null,null,null,null,null,null,null,null,null,null,null,null,null,null,null,null,null,null,null,null,null,null,null,null,null,null,null,null,null,null,null,null,null,null,null,null,null,null,null,null,null,null,null,null,null,null,null,null,null,null,null,null,null,null,null,null,null,null,null,null,null,null,null,null,null,null,null,null,null,null,null,null,null,null,null,null,null,null,null,null,null,null,null,null,null,null,null,null,null,null,null,null,null,null,null,null,null,null,null,null,null,null,null,null,null,null,null,null,null,null,null,null,null,null,null,null,null,null,null,null,null,null,null,null,null,null,null,null,null,null,null,null,null,null,null,null,null,null,null,null,null,null,null,null,null,null,null,null,null,null,null,null,null,null,null,null,null,null,null,null,null,null,null,null,null,null,null,null,null,null,null,null,null,null,null,null,null,null,null,null,null,null,null,null,null,null,null,null,null,null,null,null,null,null,null,null,null,null,null,null,null,null,null,null,null,null,null,null,null,null,null,null,null,null,null,null,null,null,null,null,null,null,null,null,null,null,null,null,null,null,null,null,null,null,null,null,null,null,null,null,null,null,null,null,null,null,null,null,null,null,null,null,null,null,null,null,null,null,null,null,null,null,null,null,null,null,null,null,null,null,null,null,null,null,null,null,null,null,null,null,null,null,null,null,null,null,null,null,null,null,null,null,null,null,null,null,null,null,null,null,null,null,null,null,null,null,null,null,null,null,null,null,null,null,null,null,null,null,null,null,null,null,null,null,null,null,null,null,null,null,null,null,null,null,null,null,null,null,null,null,null,null,null,null,null,null,null,null,null,null,null,null,null,null,null,null,null,null,null,null,null,null,null,null,null,null,null,null,null,null,null,null,null,null,null,null,null,null,null,null,null,null,null,null,null,null,null,null,null,null,null,null,null,null,null,null,null,null,null,null,null,null,null,null,null,null,null,null,null,null,null,null,null,null,null,null,null,null,null,null,null,null,null,null,null,null,null,null,null,null,null,null,null,null,null,null,null,null,null,null,null,null,null,null,null,null,null,null,null,null,null,null,null,null,null,null,null,null,null,null,null,null,null,null,null,null,null,null,null,null,null,null,null,null,null,null,null,null,null,null,null,null,null,null,null,null,null,null,null,null,null,null,null,null,null,null,null,null,null,null,null,null,null,null,null,null,null,null,null,null,null,null,null,null,null,null,null,null,null,null,null,null,null,null,null,null,null,null,null,null,null,null,null,null,null,null,null,null,null,null,null,null,null,null,null,null,null,null,null,null,null,null,null,null,null,null,null,null,null,null,null,null,null,null,null,null,null,null,null,null,null,null,null,null,null,null,null,null,null,null,null,null,null,null,null,null,null,null,null,null,null,null,null,null,null,null,null,null,null,null,null,null,null,null,null,null,null,null,null,null,null,null,null,null,null,null,null,null,null,null,null,null,null,null,null,null,null,null,null,null,null,null,null,null,null,null,null,null,null,null,null,null,null,null,null,null,null,null,null,null,null,null,null,null,null,null,null,null,null,null,null,null,null,null,null,null,null,null,null,null,null,null,null,null,null,null,null,null,null,null,null,null,null,null,null,null,null,null,null,null,null,null,null,null,null,null,null,null,null,null,null,null,null,null,null,null,null,null,null,null,null,null,null,null,null,null,null,null,null,null,null,null,null,null,null,null,null,null,null,null,null,null,null,null,null,null,null,null,null,null,null,null,null,null,null,null,null,null,null,null,null,null,null,null,null,null,null,null,null,null,null,null,null,null,null,null,null,null,null,null,null,null,null,null,null,null,null,null,null,null,null,null,null,null,null,null,null,null,null,null,null,null,null,null,null,null,null,null,null,null,null,null,null,null,null,null,null,null,null,null,null,null,null,null,null,null,null,null,null,null,null,null,null,null,null,null,null,null,null,null,null,null,null,null,null,null,null,null,null,null,null,null,null,null,null,null,null,null,null,null,null,null,null,null,null,null,null,null,null,null,null,null,null,null,null,null,null,null,null,null,null,null,null,null,null,null,null,null,null,null,null,null,null,null,null,null,null,null,null,null,null,null,null,null,null,null,null,null,null,null,null,null,null,null,null,null,null,null,null,null,null,null,null,null,null,null,null,null,null,null,null,null,null,null,null,null,null,null,null,null,null,null,null,null,null,null,null,null,null,null,null,null,null,null,null,null,null,null,null,null,null,null,null,null,null,null,null,null,null,null,null,null,null,null,null,null,null,null,null,null,null,null,null,null,null,null,null,null,null,null,null,null,null,null,null,null,null,null,null,null,null,null,null,null,null,null,null,null,null,null,null,null,null,null,null,null,null,null,null,null,null,null,null,null,null,null,null,null,null,null,null,null,null,null,null,null,null,null,null,null,null,null,null,null,null,null,null,null,null,null,null,null,null,null,null,null,null,null,null,null,null,null,null,null,null,null,null,null,null,null,null,null,null,null,null,null,null,null,null,null,null,null,null,null,null,null,null,null,null,null,null,null,null,null,null,null,null,null,null,null,null,null,null,null,null,null,null,null,null,null,null,null,null,null,null,null,null,null,null,null,null,null,null,null,null,null,null,null,null,null,null,null,null,null,null,null,null,null,null,null,null,null,null,null,null,null,null,null,null,null,null,null,null,null,null,null,null,null,null,null,null,null,null,null,null,null,null,null,null,null,null,null,null,null,null,null,null,null,null,null,null,null,null,null,null,null,null,null,null,null,null,null,null,null,null,null,null,null,null,null,null,null,null,null,null,null,null,null,null,null,null,null,null,null,null,null,null,null,null,null,null,null,null,null,null,null,null,null,null,null,null,null,null,null,null,null,null,null,null,null,null,null,null,null,null,null,null,null,null,null,null,null,null,null,null,null,null,null,null,null,null,null,null,null,null,null,null,null,null,null,null,null,null,null,null,null,null,null,null,null,null,null,null,null,null,null,null,null,null,null,null,null,null,null,null,null,null,null,null,null,null,null,null,null,null,null,null,null,null,null,null,null,null,null,null,null,null,null,null,null,null,null,null,null,null,null,null,null,null,null,null,null,null,null,null,null,null,null,null,null,null,null,null,null,null,null,null,null,null,null,null,null,null,null,null,null,null,null,null,null,null,null,null,null,null,null,null,null,null,null,null,null,null,null,null,null,null,null,null,null,null,null,null,null,null,null,null,null,null,null,null,null,null,null,null,null,null,null,null,null,null,null,null,null,null,null,null,null,null,null,null,null,null,null,null,null,null,null,null,null,null,null,null,null,null,null,null,null,null,null,null,null,null,null,null,null,null,null,null,null,null,null,null,null,null,null,null,null,null,null,null,null,null,null,null,null,null,null,null,null,null,null,null,null,null,null,null,null,null,null,null,null,null,null,null,null,null,null,null,null,null,null,null,null,null,null,null,null,null,null,null,null,null,null,null,null,null,null,null,null,null,null,null,null,null,null,null,null,null,null,null,null,null,null,null,null,null,null,null,null,null,null,null,null,null,null,null,null,null,null,null,null,null,null,null,null,null,null,null,null,null,null,null,null,null,null,null,null,null,null,null,null,null,null,null,null,null,null,null,null,null,null,null,null,null,null,null,null,null,null,null,null,null,null,null,null,null,null,null,null,null,null,null,null,null,null,null,null,null,null,null,null,null,null,null,null,null,null,null,null,null,null,null,null,null,null,null,null,null,null,null,null,null,null,null,null,null,null,null,null,null,null,null,null,null,null,null,null,null,null,null,null,null,null,null,null,null,null,null,null,null,null,null,null,null,null,null,null,null,null,null,null,null,null,null,null,null,null,null,null,null,null,null,null,null,null,null,null,null,null,null,null,null,null,null,null,null,null,null,null,null,null,null,null,null,null,null,null,null,null,null,null,null,null,null,null,null,null,null,null,null,null,null,null,null,null,null,null,null,null,null,null,null,null,null,null,null,null,null,null,null,null,null,null,null,null,null,null,null,null,null,null,null,null,null,null,null,null,null,null,null,null,null,null,null,null,null,null,null,null,null,null,null,null,null,null,null,null,null,null,null,null,null,null,null,null,null,null,null,null,null,null,null,null,null,null,null,null,null,null,null,null,null,null,null,null,null,null,null,null,null,null,null,null,null,null,null,null,null,null,null,null,null,null,null,null,null,null,null,null,null,null,null,null,null,null,null,null,null,null,null,null,null,null,null,null,null,null,null,null,null,null,null,null,null,null,null,null,null,null,null,null,null,null,null,null,null,null,null,null,null,null,null,null,null,null,null,null,null,null,null,null,null,null,null,null,null,null,null,null,null,null,null,null,null,null,null,null,null,null,null,null,null,null,null,null,null,null,null,null,null,null,null,null,null,null,null,null,null,null,null,null,null,null,null,null,null,null,null,null,null,null,null,null,null,null,null,null,null,null,null,null,null,null,null,null,null,null,null,null,null,null,null,null,null,null,null,null,null,null,null,null,null,null,null,null,null,null,null,null,null,null,null,null,null,null,null,null,null,null,null,null,null,null,null,null,null,null,null,null,null,null,null,null,null,null,null,null,null,null,null,null,null,null,null,null,null,null,null,null,null,null,null,null,null,null,null,null,null,null,null,null,null,null,null,null,null,null,null,null,null,null,null,null,null,null,null,null,null,null,null,null,null,null,null,null,null,null,null,null,null,null,null,null,null,null,null,null,null,null,null,null,null,null,null,null,null,null,null,null,null,null,null,null,null,null,null,null,null,null,null,null,null,null,null,null,null,null,null,null,null,null,null,null,null,null,null,null,null,null,null,null,null,null,null,null,null,null,null,null,null,null,null,null,null,null,null,null,null,null,null,null,null,null,null,null,null,null,null,null,null,null,null,null,null,null,null,null,null,null,null,null,null,null,null,null,null,null,null,null,null,null,null,null,null,null,null,null,null,null,null,null,null,null,null,null,null,null,null,null,null,null,null,null,null,null,null,null,null,null,null,null,null,null,null,null,null,null,null,null,null,null,null,null,null,null,null,null,null,null,null,null,null,null,null,null,null,null,null,null,null,null,null,null,null,null,null,null,null,null,null,null,null,null,null,null,null,null,null,null,null,null,null,null,null,null,null,null,null,null,null,null,null,null,null,null,null,null,null,null,null,null,null,null,null,null,null,null,null,null,null,null,null,null,null,null,null,null,null,null,null,null,null,null,null,null,null,null,null,null,null,null,null,null,null,null,null,null,null,null,null,null,null,null,null,null,null,null,null,null,null,null,null,null,null,null,null,null,null,null,null,null,null,null,null,null,null,null,null,null,null,null,null,null,null,null,null,null,null,null,null,null,null,null,null,null,null,null,null,null,null,null,null,null,null,null,null,null,null,null,null,null,null,null,null,null,null,null,null,null,null,null,null,null,null,null,null,null,null,null,null,null,null,null,null,null,null,null,null,null,null,null,null,null,null,null,null,null,null,null,null,null,null,null,null,null,null,null,null,null,null,null,null,null,null,null,null,null,null,null,null,null,null,null,null,null,null,null,null,null,null,null,null,null,null,null,null,null,null,null,null,null,null,null,null,null,null,null,null,null,null,null,null,null,null,null,null,null,null,null,null,null,null,null,null,null,null,null,null,null,null,null,null,null,null,null,null,null,null,null,null,null,null,null,null,null,null,null,null,null,null,null,null,null,null,null,null,null,null,null,null,null,null,null,null,null,null,null,null,null,null,null,null,null,null,null,null,null,null,null,null,null,null,null,null,null,null,null,null,null,null,null,null,null,null,null,null,null,null,null,null,null,null,null,null,null,null,null,null,null,null,null,null,null,null,null,null,null,null,null,null,null,null,null,null,null,null,null,null,null,null,null,null,null,null,null,null,null,null,null,null,null,null,null,null,null,null,null,null,null,null,null,null,null,null,null,null,null,null,null,null,null,null,null,null,null,null,null,null,null,null,null,null,null,null,null,null,null,null,null,null,null,null,null,null,null,null,null,null,null,null,null,null,null,null,null,null,null,null,null,null,null,null,null,null,null,null,null,null,null,null,null,null,null,null,null,null,null,null,null,null,null,null,null,null,null,null,null,null,null,null,null,null,null,null,null,null,null,null,null,null,null,null,null,null,null,null,null,null,null,null,null,null,null,null,null,null,null,null,null,null,null,null,null,null,null,null,null,null,null,null,null,null,null,null,null,null,null,null,null,null,null,null,null,null,null,null,null,null,null,null,null,null,null,null,null,null,null,null,null,null,null,null,null,null,null,null,null,null,null,null,null,null,null,null,null,null,null,null,null,null,null,null,null,null,null,null,null,null,null,null,null,null,null,null,null,null,null,null,null,null,null,null,null,null,null,null,null,null,null,null,null,null,null,null,null,null,null,null,null,null,null,null,null,null,null,null,null,null,null,null,null,null,null,null,null,null,null,null,null,null,null,null,null,null,null,null,null,null,null,null,null,null,null,null,null,null,null,null,null,null,null,null,null,null,null,null,null,null,null,null,null,null,null,null,null,null,null,null,null,null,null,null,null,null,null,null,null,null,null,null,null,null,null,null,null,null,null,null,null,null,null,null,null,null,null,null,null,null,null,null,null,null,null,null,null,null,null,null,null,null,null,null,null,null,null,null,null,null,null,null,null,null,null,null,null,null,null,null,null,null,null,null,null,null,null,null,null,null,null,null,null,null,null,null,null,null,null,null,null,null,null,null,null,null,null,null,null,null,null,null,null,null,null,null,null,null,null,null,null,null,null,null,null,null,null,null,null,null,null,null,null,null,null,null,null,null,null,null,null,null,null,null,null,null,null,null,null,null,null,null,null,null,null,null,null,null,null,null,null,null,null,null,null,null,null,null,null,null,null,null,null,null,null,null,null,null,null,null,null,null,null,null,null,null,null,null,null,null,null,null,null,null,null,null,null,null,null,null,null,null,null,null,null,null,null,null,null,null,null,null,null,null,null,null,null,null,null,null,null,null,null,null,null,null,null,null,null,null,null,null,null,null,null,null,null,null,null,null,null,null,null,null,null,null,null,null,null,null,null,null,null,null,null,null,null,null,null,null,null,null,null,null,null,null,null,null,null,null,null,null,null,null,null,null,null,null,null,null,null,null,null,null,null,null,null,null,null,null,null,null,null,null,null,null,null,null,null,null,null,null,null,null,null,null,null,null,null,null,null,null,null,null,null,null,null,null,null,null,null,null,null,null,null,null,null,null,null,null,null,null,null,null,null,null,null,null,null,null,null,null,null,null,null,null,null,null,null,null,null,null,null,null,null,null,null,null,null,null,null,null,null,null,null,null,null,null,null,null,null,null,null,null,null,null,null,null,null,null,null,null,null,null,null,null,null,null,null,null,null,null,null,null,null,null,null,null,null,null,null,null,null,null,null,null,null,null,null,null,null,null,null,null,null,null,null,null,null,null,null,null,null,null,null,null,null,null,null,null,null,null,null,null,null,null,null,null,null,null,null,null,null,null,null,null,null,null,null,null,null,null,null,null,null,null,null,null,null,null,null,null,null,null,null,null,null,null,null,null,null,null,null,null,null,null,null,null,null,null,null,null,null,null,null,null,null,null,null,null,null,null,null,null,null,null,null,null,null,null,null,null,null,null,null,null,null,null,null,null,null,null,null,null,null,null,null,null,null,null,null,null,null,null,null,null,null,null,null,null,null,null,null,null,null,null,null,null,null,null,null,null,null,null,null,null,null,null,null,null,null,null,null,null,null,null,null,null,null,null,null,null,null,null,null,null,null,null,null,null,null,null,null,null,null,null,null,null,null,null,null,null,null,null,null,null,null,null,null,null,null,null,null,null,null,null,null,null,null,null,null,null,null,null,null,null,null,null,null,null,null,null,null,null,null,null,null,null,null,null,null,null,null,null,null,null,null,null,null,null,null,null,null,null,null,null,null,null,null,null,null,null,null,null,null,null,null,null,null,null,null,null,null,null,null,null,null,null,null,null,null,null,null,null,null,null,null,null,null,null,null,null,null,null,null,null,null,null,null,null,null,null,null,null,null,null,null,null,null,null,null,null,null,null,null,null,null,null,null,null,null,null,null,null,null,null,null,null,null,null,null,null,null,null,null,null,null,null,null,null,null,null,null,null,null,null,null,null,null,null,null,null,null,null,null,null,null,null,null,null,null,null,null,null,null,null,null,null,null,null,null,null,null,null,null,null,null,null,null,null,null,null,null,null,null,null,null,null,null,null,null,null,null,null,null,null,null,null,null,null,null,null,null,null,null,null,null,null,null,null,null,null,null,null,null,null,null,null,null,null,null,null,null,null,null,null,null,null,null,null,null,null,null,null,null,null,null,null,null,null,null,null,null,null,null,null,null,null,null,null,null,null,null,null,null,null,null,null,null,null,null,null,null,null,null,null,null,null,null,null,null,null,null,null,null,null,null,null,null,null,null,null,null,null,null,null,null,null,null,null,null,null,null,null,null,null,null,null,null,null,null,null,null,null,null,null,null,null,null,null,null,null,null,null,null,null,null,null,null,null,null,null,null,null,null,null,null,null,null,null,null,null,null,null,null,null,null,null,null,null,null,null,null,null,null,null,null,null,null,null,null,null,null,null,null,null,null,null,null,null,null,null,null,null,null,null,null,null,null,null,null,null,null,null,null,null,null,null,null,null,null,null,null,null,null,null,null,null,null,null,null,null,null,null,null,null,null,null,null,null,null,null,null,null,null,null,null,null,null,null,null,null,null,null,null,null,null,null,null,null,null,null,null,null,null,null,null,null,null,null,null,null,null,null,null,null,null,null,null,null,null,null,null,null,null,null,null,null,null,null,null,null,null,null,null,null,null,null,null,null,null,null,null,null,null,null,null,null,null,null,null,null,null,null,null,null,null,null,null,null,null,null,null,null,null,null,null,null,null,null,null,null,null,null,null,null,null,null,null,null,null,null,null,null,null,null,null,null,null,null,null,null,null,null,null,null,null,null,null,null,null,null,null,null,null,null,null,null,null,null,null,null,null,null,null,null,null,null,null,null,null,null,null,null,null,null,null,null,null,null,null,null,null,null,null,null,null,null,null,null,null,null,null,null,null,null,null,null,null,null,null,null,null,null,null,null,null,null,null,null,null,null,null,null,null,null,null,null,null,null,null,null,null,null,null,null,null,null,null,null,null,null,null,null,null,null,null,null,null,null,null,null,null,null,null,null,null,null,null,null,null,null,null,null,null,null,null,null,null,null,null,null,null,null,null,null,null,null,null,null,null,null,null,null,null,null,null,null,null,null,null,null,null,null,null,null,null,null,null,null,null,null,null,null,null,null,null,null,null,null,null,null,null,null,null,null,null,null,null,null,null,null,null,null,null,null,null,null,null,null,null,null,null,null,null,null,null,null,null,null,null,null,null,null,null,null,null,null,null,null,null,null,null,null,null,null,null,null,null,null,null,null,null,null,null,null,null,null,null,null,null,null,null,null,null,null,null,null,null,null,null,null,null,null,null,null,null,null,null,null,null,null,null,null,null,null,null,null,null,null,null,null,null,null,null,null,null,null,null,null,null,null,null,null,null,null,null,null,null,null,null,null,null,null,null,null,null,null,null,null,null,null,null,null,null,null,null,null,null,null,null,null,null,null,null,null,null,null,null,null,null,null,null,null,null,null,null,null,null,null,null,null,null,null,null,null,null,null,null,null,null,null,null,null,null,null,null,null,null,null,null,null,null,null,null,null,null,null,null,null,null,null,null,null,null,null,null,null,null,null,null,null,null,null,null,null,null,null,null,null,null,null,null,null,null,null,null,null,null,null,null,null,null,null,null,null,null,null,null,null,null,null,null,null,null,null,null,null,null,null,null,null,null,null,null,null,null,null,null,null,null,null,null,null,null,null,null,null,null,null,null,null,null,null,null,null,null,null,null,null,null,null,null,null,null,null,null,null,null,null,null,null,null,null,null,null,null,null,null,null,null,null,null,null,null,null,null,null,null,null,null,null,null,null,null,null,null,null,null,null,null,null,null,null,null,null,null,null,null,null,null,null,null,null,null,null,null,null,null,null,null,null,null,null,null,null,null,null,null,null,null,null,null,null,null,null,null,null,null,null,null,null,null,null,null,null,null,null,null,null,null,null,null,null,null,null,null,null,null,null,null,null,null,null,null,null,null,null,null,null,null,null,null,null,null,null,null,null,null,null,null,null,null,null,null,null,null,null,null,null,null,null,null,null,null,null,null,null,null,null,null,null,null,null,null,null,null,null,null,null,null,null,null,null,null,null,null,null,null,null,null,null,null,null,null,null,null,null,null,null,null,null,null,null,null,null,null,null,null,null,null,null,null,null,null,null,null,null,null,null,null,null,null,null,null,null,null,null,null,null,null,null,null,null,null,null,null,null,null,null,null,null,null,null,null,null,null,null,null,null,null,null,null,null,null,null,null,null,null,null,null,null,null,null,null,null,null,null,null,null,null,null,null,null,null,null,null,null,null,null,null,null,null,null,null,null,null,null,null,null,null,null,null,null,null,null,null,null,null,null,null,null,null,null,null,null,null,null,null,null,null,null,null,null,null,null,null,null,null,null,null,null,null,null,null,null,null,null,null,null,null,null,null,null,null,null,null,null,null,null,null,null,null,null,null,null,null,null,null,null,null,null,null,null,null,null,null,null,null,null,null,null,null,null,null,null,null,null,null,null,null,null,null,null,null,null,null,null,null,null,null,null,null,null,null,null,null,null,null,null,null,null,null,null,null,null,null,null,null,null,null,null,null,null,null,null,null,null,null,null,null,null,null,null,null,null,null,null,null,null,null,null,null,null,null,null,null,null,null,null,null,null,null,null,null,null,null,null,null,null,null,null,null,null,null,null,null,null,null,null,null,null,null,null,null,null,null,null,null,null,null,null,null,null,null,null,null,null,null,null,null,null,null,null,null,null,null,null,null,null,null,null,null,null,null,null,null,null,null,null,null,null,null,null,null,null,null,null,null,null,null,null,null,null,null,null,null,null,null,null,null,null,null,null,null,null,null,null,null,null,null,null,null,null,null,null,null,null,null,null,null,null,null,null,null,null,null,null,null,null,null,null,null,null,null,null,null,null,null,null,null,null,null,null,null,null,null,null,null,null,null,null,null,null,null,null,null,null,null,null,null,null,null,null,null,null,null,null,null,null,null,null,null,null,null,null,null,null,null,null,null,null,null,null,null,null,null,null,null,null,null,null,null,null,null,null,null,null,null,null,null,null,null,null,null,null,null,null,null,null,null,null,null,null,null,null,null,null,null,null,null,null,null,null,null,null,null,null,null,null,null,null,null,null,null,null,null,null,null,null,null,null,null,null,null,null,null,null,null,null,null,null,null,null,null,null,null,null,null,null,null,null,null,null,null,null,null,null,null,null,null,null,null,null,null,null,null,null,null,null,null,null,null,null,null,null,null,null,null,null,null,null,null,null,null,null,null,null,null,null,null,null,null,null,null,null,null,null,null,null,null,null,null,null,null,null,null,null,null,null,null,null,null,null,null,null,null,null,null,null,null,null,null,null,null,null,null,null,null,null,null,null,null,null,null,null,null,null,null,null,null,null,null,null,null,null,null,null,null,null,null,null,null,null,null,null,null,null,null,null,null,null,null,null,null,null,null,null,null,null,null,null,null,null,null,null,null,null,null,null,null,null,null,null,null,null,null,null,null,null,null,null,null,null,null,null,null,null,null,null,null,null,null,null,null,null,null,null,null,null,null,null,null,null,null,null,null,null,null,null,null,null,null,null,null,null,null,null,null,null,null,null,null,null,null,null,null,null,null,null,null,null,null,null,null,null,null,null,null,null,null,null,null,null,null,null,null,null,null,null,null,null,null,null,null,null,null,null,null,null,null,null,null,null,null,null,null,null,null,null,null,null,null,null,null,null,null,null,null,null,null,null,null,null,null,null,null,null,null,null,null,null,null,null,null,null,null,null,null,null,null,null,null,null,null,null,null,null,null,null,null,null,null,null,null,null,null,null,null,null,null,null,null,null,null,null,null,null,null,null,null,null,null,null,null,null,null,null,null,null,null,null,null,null,null,null,null,null,null,null,null,null,null,null,null,null,null,null,null,null,null,null,null,null,null,null,null,null,null,null,null,null,null,null,null,null,null,null,null,null,null,null,null,null,null,null,null,null,null,null,null,null,null,null,null,null,null,null,null,null,null,null,null,null,null,null,null,null,null,null,null,null,null,null,null,null,null,null,null,null,null,null,null,null,null,null,null,null,null,null,null,null,null,null,null,null,null,null,null,null,null,null,null,null,null,null,null,null,null,null,null,null,null,null,null,null,null,null,null,null,null,null,null,null,null,null,null,null,null,null,null,null,null,null,null,null,null,null,null,null,null,null,null,null,null,null,null,null,null,null,null,null,null,null,null,null,null,null,null,null,null,null,null,null,null,null,null,null,null,null,null,null,null,null,null,null,null,null,null,null,null,null,null,null,null,null,null,null,null,null,null,null,null,null,null,null,null,null,null,null,null,null,null,null,null,null,null,null,null,null,null,null,null,null,null,null,null,null,null,null,null,null,null,null,null,null,null,null,null,null,null,null,null,null,null,null,null,null,null,null,null,null,null,null,null,null,null,null,null,null,null,null,null,null,null,null,null,null,null,null,null,null,null,null,null,null,null,null,null,null,null,null,null,null,null,null,null,null,null,null,null,null,null,null,null,null,null,null,null,null,null,null,null,null,null,null,null,null,null,null,null,null,null,null,null,null,null,null,null,null,null,null,null,null,null,null,null,null,null,null,null,null,null,null,null,null,null,null,null,null,null,null,null,null,null,null,null,null,null,null,null,null,null,null,null,null,null,null,null,null,null,null,null,null,null,null,null,null,null,null,null,null,null,null,null,null,null,null,null,null,null,null,null,null,null,null,null,null,null,null,null,null,null,null,null,null,null,null,null,null,null,null,null,null,null,null,null,null,null,null,null,null,null,null,null,null,null,null,null,null,null,null,null,null,null,null,null,null,null,null,null,null,null,null,null,null,null,null,null,null,null,null,null,null,null,null,null,null,null,null,null,null,null,null,null,null,null,null,null,null,null,null,null,null,null,null,null,null,null,null,null,null,null,null,null,null,null,null,null,null,null,null,null,null,null,null,null,null,null,null,null,null,null,null,null,null,null,null,null,null,null,null,null,null,null,null,null,null,null,null,null,null,null,null,null,null,null,null,null,null,null,null,null,null,null,null,null,null,null,null,null,null,null,null,null,null,null,null,null,null,null,null,null,null,null,null,null,null,null,null,null,null,null,null,null,null,null,null,null,null,null,null,null,null,null,null,null,null,null,null,null,null,null,null,null,null,null,null,null,null,null,null,null,null,null,null,null,null,null,null,null,null,null,null,null,null,null,null,null,null,null,null,null,null,null,null,null,null,null,null,null,null,null,null,null,null,null,null,null,null,null,null,null,null,null,null,null,null,null,null,null,null,null,null,null,null,null,null,null,null,null,null,null,null,null,null,null,null,null,null,null,null,null,null,null,null,null,null,null,null,null,null,null,null,null,null,null,null,null,null,null,null,null,null,null,null,null,null,null,null,null,null,null,null,null,null,null,null,null,null,null,null,null,null,null,null,null,null,null,null,null,null,null,null,null,null,null,null,null,null,null,null,null,null,null,null,null,null,null,null,null,null,null,null,null,null,null,null,null,null,null,null,null,null,null,null,null,null,null,null,null,null,null,null,null,null,null,null,null,null,null,null,null,null,null,null,null,null,null,null,null,null,null,null,null,null,null,null,null,null,null,null,null,null,null,null,null,null,null,null,null,null,null,null,null,null,null,null,null,null,null,null,null,null,null,null,null,null,null,null,null,null,null,null,null,null,null,null,null,null,null,null,null,null,null,null,null,null,null,null,null,null,null,null,null,null,null,null,null,null,null,null,null,null,null,null,null,null,null,null,null,null,null,null,null,null,null,null,null,null,null,null,null,null,null,null,null,null,null,null,null,null,null,null,null,null,null,null,null,null,null,null,null,null,null,null,null,null,null,null,null,null,null,null,null,null,null,null,null,null,null,null,null,null,null,null,null,null,null,null,null,null,null,null,null,null,null,null,null,null,null,null,null,null,null,null,null,null,null,null,null,null,null,null,null,null,null,null,null,null,null,null,null,null,null,null,null,null,null,null,null,null,null,null,null,null,null,null,null,null,null,null,null,null,null,null,null,null,null,null,null,null,null,null,null,null,null,null,null,null,null,null,null,null,null,null,null,null,null,null,null,null,null,null,null,null,null,null,null,null,null,null,null,null,null,null,null,null,null,null,null,null,null,null,null,null,null,null,null,null,null,null,null,null,null,null,null,null,null,null,null,null,null,null,null,null,null,null,null,null,null,null,null,null,null,null,null,null,null,null,null,null,null,null,null,null,null,null,null,null,null,null,null,null,null,null,null,null,null,null,null,null,null,null,null,null,null,null,null,null,null,null,null,null,null,null,null,null,null,null,null,null,null,null,null,null,null,null,null,null,null,null,null,null,null,null,null,null,null,null,null,null,null,null,null,null,null,null,null,null,null,null,null,null,null,null,null,null,null,null,null,null,null,null,null,null,null,null,null,null,null,null,null,null,null,null,null,null,null,null,null,null,null,null,null,null,null,null,null,null,null,null,null,null,null,null,null,null,null,null,null,null,null,null,null,null,null,null,null,null,null,null,null,null,null,null,null,null,null,null,null,null,null,null,null,null,null,null,null,null,null,null,null,null,null,null,null,null,null,null,null,null,null,null,null,null,null,null,null,null,null,null,null,null,null,null,null,null,null,null,null,null,null,null,null,null,null,null,null,null,null,null,null,null,null,null,null,null,null,null,null,null,null,null,null,null,null,null,null,null,null,null,null,null,null,null,null,null,null,null,null,null,null,null,null,null,null,null,null,null,null,null,null,null,null,null,null,null,null,null,null,null,null,null,null,null,null,null,null,null,null,null,null,null,null,null,null,null,null,null,null,null,null,null,null,null,null,null,null,null,null,null,null,null,null,null,null,null,null,null,null,null,null,null,null,null,null,null,null,null,null,null,null,null,null,null,null,null,null,null,null,null,null,null,null,null,null,null,null,null,null,null,null,null,null,null,null,null,null,null,null,null,null,null,null,null,null,null,null,null,null,null,null,null,null,null,null,null,null,null,null,null,null,null,null,null,null,null,null,null,null,null,null,null,null,null,null,null,null,null,null,null,null,null,null,null,null,null,null,null,null,null,null,null,null,null,null,null,null,null,null,null,null,null,null,null,null,null,null,null,null,null,null,null,null,null,null,null,null,null,null,null,null,null,null,null,null,null,null,null,null,null,null,null,null,null,null,null,null,null,null,null,null,null,null,null,null,null,null,null,null,null,null,null,null,null,null,null,null,null,null,null,null,null,null,null,null,null,null,null,null,null,null,null,null,null,null,null,null,null,null,null,null,null,null,null,null,null,null,null,null,null,null,null,null,null,null,null,null,null,null,null,null,null,null,null,null,null,null,null,null,null,null,null,null,null,null,null,null,null,null,null,null,null,null,null,null,null,null,null,null,null,null,null,null,null,null,null,null,null,null,null,null,null,null,null,null,null,null,null,null,null,null,null,null,null,null,null,null,null,null,null,null,null,null,null,null,null,null,null,null,null,null,null,null,null,null,null,null,null,null,null,null,null,null,null,null,null,null,null,null,null,null,null,null,null,null,null,null,null,null,null,null,null,null,null,null,null,null,null,null,null,null,null,null,null,null,null,null,null,null,null,null,null,null,null,null,null,null,null,null,null,null,null,null,null,null,null,null,null,null,null,null,null,null,null,null,null,null,null,null,null,null,null,null,null,null,null,null,null,null,null,null,null,null,null,null,null,null,null,null,null,null,null,null,null,null,null,null,null,null,null,null,null,null,null,null,null,null,null,null,null,null,null,null,null,null,null,null,null,null,null,null,null,null,null,null,null,null,null,null,null,null,null,null,null,null,null,null,null,null,null,null,null,null,null,null,null,null,null,null,null,null,null,null,null,null,null,null,null,null,null,null,null,null,null,null,null,null,null,null,null,null,null,null,null,null,null,null,null,null,null,null,null,null,null,null,null,null,null,null,null,null,null,null,null,null,null,null,null,null,null,null,null,null,null,null,null,null,null,null,null,null,null,null,null,null,null,null,null,null,null,null,null,null,null,null,null,null,null,null,null,null,null,null,null,null,null,null,null,null,null,null,null,null,null,null,null,null,null,null,null,null,null,null,null,null,null,null,null,null,null,null,null,null,null,null,null,null,null,null,null,null,null,null,null,null,null,null,null,null,null,null,null,null,null,null,null,null,null,null,null,null,null,null,null,null,null,null,null,null,null,null,null,null,null,null,null,null,null,null,null,null,null,null,null,null,null,null,null,null,null,null,null,null,null,null,null,null,null,null,null,null,null,null,null,null,null,null,null,null,null,null,null,null,null,null,null,null,null,null,null,null,null,null,null,null,null,null,null,null,null,null,null,null,null,null,null,null,null,null,null,null,null,null,null,null,null,null,null,null,null,null,null,null,null,null,null,null,null,null,null,null,null,null,null,null,null,null,null,null,null,null,null,null,null,null,null,null,null,null,null,null,null,null,null,null,null,null,null,null,null,null,null,null,null,null,null,null,null,null,null,null,null,null,null,null,null,null,null,null,null,null,null,null,null,null,null,null,null,null,null,null,null,null,null,null,null,null,null,null,null,null,null,null,null,null,null,null,null,null,null,null,null,null,null,null,null,null,null,null,null,null,null,null,null,null,null,null,null,null,null,null,null,null,null,null,null,null,null,null,null,null,null,null,null,null,null,null,null,null,null,null,null,null,null,null,null,null,null,null,null,null,null,null,null,null,null,null,null,null,null,null,null,null,null,null,null,null,null,null,null,null,null,null,null,null,null,null,null,null,null,null,null,null,null,null,null,null,null,null,null,null,null,null,null,null,null,null,null,null,null,null,null,null,null,null,null,null,null,null,null,null,null,null,null,null,null,null,null,null,null,null,null,null,null,null,null,null,null,null,null,null,null,null,null,null,null,null,null,null,null,null,null,null,null,null,null,null,null,null,null,null,null,null,null,null,null,null,null,null,null,null,null,null,null,null,null,null,null,null,null,null,null,null,null,null,null,null,null,null,null,null,null,null,null,null,null,null,null,null,null,null,null,null,null,null,null,null,null,null,null,null,null,null,null,null,null,null,null,null,null,null,null,null,null,null,null,null,null,null,null,null,null,null,null,null,null,null,null,null,null,null,null,null,null,null,null,null,null,null,null,null,null,null,null,null,null,null,null,null,null,null,null,null,null,null,null,null,null,null,null,null,null,null,null,null,null,null,null,null,null,null,null,null,null,null,null,null,null,null,null,null,null,null,null,null,null,null,null,null,null,null,null,null,null,null,null,null,null,null,null,null,null,null,null,null,null,null,null,null,null,null,null,null,null,null,null,null,null,null,null,null,null,null,null,null,null,null,null,null,null,null,null,null,null,null,null,null,null,null,null,null,null,null,null,null,null,null,null,null,null,null,null,null,null,null,null,null,null,null,null,null,null,null,null,null,null,null,null,null,null,null,null,null,null,null,null,null,null,null,null,null,null,null,null,null,null,null,null,null,null,null,null,null,null,null,null,null,null,null,null,null,null,null,null,null,null,null,null,null,null,null,null,null,null,null,null,null,null,null,null,null,null,null,null,null,null,null,null,null,null,null,null,null,null,null,null,null,null,null,null,null,null,null,null,null,null,null,null,null,null,null,null,null,null,null,null,null,null,null,null,null,null,null,null,null,null,null,null,null,null,null,null,null,null,null,null,null,null,null,null,null,null,null,null,null,null,null,null,null,null,null,null,null,null,null,null,null,null,null,null,null,null,null,null,null,null,null,null,null,null,null,null,null,null,null,null,null,null,null,null,null,null,null,null,null,null,null,null,null,null,null,null,null,null,null,null,null,null,null,null,null,null,null,null,null,null,null,null,null,null,null,null,null,null,null,null,null,null,null,null,null,null,null,null,null,null,null,null,null,null,null,null,null,null,null,null,null,null,null,null,null,null,null,null,null,null,null,null,null,null,null,null,null,null,null,null,null,null,null,null,null,null,null,null,null,null,null,null,null,null,null,null,null,null,null,null,null,null,null,null,null,null,null,null,null,null,null,null,null,null,null,null,null,null,null,null,null,null,null,null,null,null,null,null,null,null,null,null,null,null,null,null,null,null,null,null,null,null,null,null,null,null,null,null,null,null,null,null,null,null,null,null,null,null,null,null,null,null,null,null,null,null,null,null,null,null,null,null,null,null,null,null,null,null,null,null,null,null,null,null,null,null,null,null,null,null,null,null,null,null,null,null,null,null,null,null,null,null,null,null,null,null,null,null,null,null,null,null,null,null,null,null,null,null,null,null,null,null,null,null,null,null,null,null,null,null,null,null,null,null,null,null,null,null,null,null,null,null,null,null,null,null,null,null,null,null,null,null,null,null,null,null,null,null,null,null,null,null,null,null,null,null,null,null,null,null,null,null,null,null,null,null,null,null,null,null,null,null,null,null,null,null,null,null,null,null,null,null,null,null,null,null,null,null,null,null,null,null,null,null,null,null,null,null,null,null,null,null,null,null,null,null,null,null,null,null,null,null,null,null,null,null,null,null,null,null,null,null,null,null,null,null,null,null,null,null,null,null,null,null,null,null,null,null,null,null,null,null,null,null,null,null,null,null,null,null,null,null,null,null,null,null,null,null,null,null,null,null,null,null,null,null,null,null,null,null,null,null,null,null,null,null,null,null,null,null,null,null,null,null,null,null,null,null,null,null,null,null,null,null,null,null,null,null,null,null,null,null,null,null,null,null,null,null,null,null,null,null,null,null,null,null,null,null,null,null,null,null,null,null,null,null,null,null,null,null,null,null,null,null,null,null,null,null,null,null,null,null,null,null,null,null,null,null,null,null,null,null,null,null,null,null,null,null,null,null,null,null,null,null,null,null,null,null,null,null,null,null,null,null,null,null,null,null,null,null,null,null,null,null,null,null,null,null,null,null,null,null,null,null,null,null,null,null,null,null,null,null,null,null,null,null,null,null,null,null,null,null,null,null,null,null,null,null,null,null,null,null,null,null,null,null,null,null,null,null,null,null,null,null,null,null,null,null,null,null,null,null,null,null,null,null,null,null,null,null,null,null,null,null,null,null,null,null,null,null,null,null,null,null,null,null,null,null,null,null,null,null,null,null,null,null,null,null,null,null,null,null,null,null,null,null,null,null,null,null,null,null,null,null,null,null,null,null,null,null,null,null,null,null,null,null,null,null,null,null,null,null,null,null,null,null,null,null,null,null,null,null,null,null,null,null,null,null,null,null,null,null,null,null,null,null,null,null,null,null,null,null,null,null,null,null,null,null,null,null,null,null,null,null,null,null,null,null,null,null,null,null,null,null,null,null,null,null,null,null,null,null,null,null,null,null,null,null,null,null,null,null,null,null,null,null,null,null,null,null,null,null,null,null,null,null,null,null,null,null,null,null,null,null,null,null,null,null,null,null,null,null,null,null,null,null,null,null,null,null,null,null,null,null,null,null,null,null,null,null,null,null,null,null,null,null,null,null,null,null,null,null,null,null,null,null,null,null,null,null,null,null,null,null,null,null,null,null,null,null,null,null,null,null,null,null,null,null,null,null,null,null,null,null,null,null,null,null,null,null,null,null,null,null,null,null,null,null,null,null,null,null,null,null,null,null,null,null,null,null,null,null,null,null,null,null,null,null,null,null,null,null,null,null,null,null,null,null,null,null,null,null,null,null,null,null,null,null,null,null,null,null,null,null,null,null,null,null,null,null,null,null,null,null,null,null,null,null,null,null,null,null,null,null,null,null,null,null,null,null,null,null,null,null,null,null,null,null,null,null,null,null,null,null,null,null,null,null,null,null,null,null,null,null,null,null,null,null,null,null,null,null,null,null,null,null,null,null,null,null,null,null,null,null,null,null,null,null,null,null,null,null,null,null,null,null,null,null,null,null,null,null,null,null,null,null,null,null,null,null,null,null,null,null,null,null,null,null,null,null,null,null,null,null,null,null,null,null,null,null,null,null,null,null,null,null,null,null,null,null,null,null,null,null,null,null,null,null,null,null,null,null,null,null,null,null,null,null,null,null,null,null,null,null,null,null,null,null,null,null,null,null,null,null,null,null,null,null,null,null,null,null,null,null,null,null,null,null,null,null,null,null,null,null,null,null,null,null,null,null,null,null,null,null,null,null,null,null,null,null,null,null,null,null,null,null,null,null,null,null,null,null,null,null,null,null,null,null,null,null,null,null,null,null,null,null,null,null,null,null,null,null,null,null,null,null,null,null,null,null,null,null,null,null,null,null,null,null,null,null,null,null,null,null,null,null,null,null,null,null,null,null,null,null,null,null,null,null,null,null,null,null,null,null,null,null,null,null,null,null,null,null,null,null,null,null,null,null,null,null,null,null,null,null,null,null,null,null,null,null,null,null,null,null,null,null,null,null,null,null,null,null,null,null,null,null,null,null,null,null,null,null,null,null,null,null,null,null,null,null,null,null,null,null,null,null,null,null,null,null,null,null,null,null,null,null,null,null,null,null,null,null,null,null,null,null,null,null,null,null,null,null,null,null,null,null,null,null,null,null,null,null,null,null,null,null,null,null,null,null,null,null,null,null,null,null,null,null,null,null,null,null,null,null,null,null,null,null,null,null,null,null,null,null,null,null,null,null,null,null,null,null,null,null,null,null,null,null,null,null,null,null,null,null,null,null,null,null,null,null,null,null,null,null,null,null,null,null,null,null,null,null,null,null,null,null,null,null,null,null,null,null,null,null,null,null,null,null,null,null,null,null,null,null,null,null,null,null,null,null,null,null,null,null,null,null,null,null,null,null,null,null,null,null,null,null,null,null,null,null,null,null,null,null,null,null,null,null,null,null,null,null,null,null,null,null,null,null,null,null,null,null,null,null,null,null,null,null,null,null,null,null,null,null,null,null,null,null,null,null,null,null,null,null,null,null,null,null,null,null,null,null,null,null,null,null,null,null,null,null,null,null,null,null,null,null,null,null,null,null,null,null,null,null,null,null,null,null,null,null,null,null,null,null,null,null,null,null,null,null,null,null,null,null,null,null,null,null,null,null,null,null,null,null,null,null,null,null,null,null,null,null,null,null,null,null,null,null,null,null,null,null,null,null,null,null,null,null,null,null,null,null,null,null,null,null,null,null,null,null,null,null,null,null,null,null,null,null,null,null,null,null,null,null,null,null,null,null,null,null,null,null,null,null,null,null,null,null,null,null,null,null,null,null,null,null,null,null,null,null,null,null,null,null,null,null,null,null,null,null,null,null,null,null,null,null,null,null,null,null,null,null,null,null,null,null,null,null,null,null,null,null,null,null,null,null,null,null,null,null,null,null,null,null,null,null,null,null,null,null,null,null,null,null,null,null,null,null,null,null,null,null,null,null,null,null,null,null,null,null,null,null,null,null,null,null,null,null,null,null,null,null,null,null,null,null,null,null,null,null,null,null,null,null,null,null,null,null,null,null,null,null,null,null,null,null,null,null,null,null,null,null,null,null,null,null,null,null,null,null,null,null,null,null,null,null,null,null,null,null,null,null,null,null,null,null,null,null,null,null,null,null,null,null,null,null,null,null,null,null,null,null,null,null,null,null,null,null,null,null,null,null,null,null,null,null,null,null,null,null,null,null,null,null,null,null,null,null,null,null,null,null,null,null,null,null,null,null,null,null,null,null,null,null,null,null,null,null,null,null,null,null,null,null,null,null,null,null,null,null,null,null,null,null,null,null,null,null,null,null,null,null,null,null,null,null,null,null,null,null,null,null,null,null,null,null,null,null,null,null,null,null,null,null,null,null,null,null,null,null,null,null,null,null,null,null,null,null,null,null,null,null,null,null,null,null,null,null,null,null,null,null,null,null,null,null,null,null,null,null,null,null,null,null,null,null,null,null,null,null,null,null,null,null,null,null,null,null,null,null,null,null,null,null,null,null,null,null,null,null,null,null,null,null,null,null,null,null,null,null,null,null,null,null,null,null,null,null,null,null,null,null,null,null,null,null,null,null,null,null,null,null,null,null,null,null,null,null,null,null,null,null,null,null,null,null,null,null,null,null,null,null,null,null,null,null,null,null,null,null,null,null,null,null,null,null,null,null,null,null,null,null,null,null,null,null,null,null,null,null,null,null,null,null,null,null,null,null,null,null,null,null,null,null,null,null,null,null,null,null,null,null,null,null,null,null,null,null,null,null,null,null,null,null,null,null,null,null,null,null,null,null,null,null,null,null,null,null,null,null,null,null,null,null,null,null,null,null,null,null,null,null,null,null,null,null,null,null,null,null,null,null,null,null,null,null,null,null,null,null,null,null,null,null,null,null,null,null,null,null,null,null,null,null,null,null,null,null,null,null,null,null,null,null,null,null,null,null,null,null,null,null,null,null,null,null,null,null,null,null,null,null,null,null,null,null,null,null,null,null,null,null,null,null,null,null,null,null,null,null,null,null,null,null,null,null,null,null,null,null,null,null,null,null,null,null,null,null,null,null,null,null,null,null,null,null,null,null,null,null,null,null,null,null,null,null,null,null,null,null,null,null,null,null,null,null,null,null,null,null,null,null,null,null,null,null,null,null,null,null,null,null,null,null,null,null,null,null,null,null,null,null,null,null,null,null,null,null,null,null,null,null,null,null,null,null,null,null,null,null,null,null,null,null,null,null,null,null,null,null,null,null,null,null,null,null,null,null,null,null,null,null,null,null,null,null,null,null,null,null,null,null,null,null,null,null,null,null,null,null,null,null,null,null,null,null,null,null,null,null,null,null,null,null,null,null,null,null,null,null,null,null,null,null,null,null,null,null,null,null,null,null,null,null,null,null,null,null,null,null,null,null,null,null,null,null,null,null,null,null,null,null,null,null,null,null,null,null,null,null,null,null,null,null,null,null,null,null,null,null,null,null,null,null,null,null,null,null,null,null,null,null,null,null,null,null,null,null,null,null,null,null,null,null,null,null,null,null,null,null,null,null,null,null,null,null,null,null,null,null,null,null,null,null,null,null,null,null,null,null,null,null,null,null,null,null,null,null,null,null,null,null,null,null,null,null,null,null,null,null,null,null,null,null,null,null,null,null,null,null,null,null,null,null,null,null,null,null,null,null,null,null,null,null,null,null,null,null,null,null,null,null,null,null,null,null,null,null,null,null,null,null,null,null,null,null,null,null,null,null,null,null,null,null,null,null,null,null,null,null,null,null,null,null,null,null,null,null,null,null,null,null,null,null,null,null,null,null,null,null,null,null,null,null,null,null,null,null,null,null,null,null,null,null,null,null,null,null,null,null,null,null,null,null,null,null,null,null,null,null,null,null,null,null,null,null,null,null,null,null,null,null,null,null,null,null,null,null,null,null,null,null,null,null,null,null,null,null,null,null,null,null,null,null,null,null,null,null,null,null,null,null,null,null,null,null,null,null,null,null,null,null,null,null,null,null,null,null,null,null,null,null,null,null,null,null,null,null,null,null,null,null,null,null,null,null,null,null,null,null,null,null,null,null,null,null,null,null,null,null,null,null,null,null,null,null,null,null,null,null,null,null,null,null,null,null,null,null,null,null,null,null,null,null,null,null,null,null,null,null,null,null,null,null,null,null,null,null,null,null,null,null,null,null,null,null,null,null,null,null,null,null,null,null,null,null,null,null,null,null,null,null,null,null,null,null,null,null,null,null,null,null,null,null,null,null,null,null,null,null,null,null,null,null,null,null,null,null,null,null,null,null,null,null,null,null,null,null,null,null,null,null,null,null,null,null,null,null,null,null,null,null,null,null,null,null,null,null,null,null,null,null,null,null,null,null,null,null,null,null,null,null,null,null,null,null,null,null,null,null,null,null,null,null,null,null,null,null,null,null,null,null,null,null,null,null,null,null,null,null,null,null,null,null,null,null,null,null,null,null,null,null,null,null,null,null,null,null,null,null,null,null,null,null,null,null,null,null,null,null,null,null,null,null,null,null,null,null,null,null,null,null,null,null,null,null,null,null,null,null,null,null,null,null,null,null,null,null,null,null,null,null,null,null,null,null,null,null,null,null,null,null,null,null,null,null,null,null,null,null,null,null,null,null,null,null,null,null,null,null,null,null,null,null,null,null,null,null,null,null,null,null,null,null,null,null,null,null,null,null,null,null,null,null,null,null,null,null,null,null,null,null,null,null,null,null,null,null,null,null,null,null,null,null,null,null,null,null,null,null,null,null,null,null,null,null,null,null,null,null,null,null,null,null,null,null,null,null,null,null,null,null,null,null,null,null,null,null,null,null,null,null,null,null,null,null,null,null,null,null,null,null,null,null,null,null,null,null,null,null,null,null,null,null,null,null,null,null,null,null,null,null,null,null,null,null,null,null,null,null,null,null,null,null,null,null,null,null,null,null,null,null,null,null,null,null,null,null,null,null,null,null,null,null,null,null,null,null,null,null,null,null,null,null,null,null,null,null,null,null,null,null,null,null,null,null,null,null,null,null,null,null,null,null,null,null,null,null,null,null,null,null,null,null,null,null,null,null,null,null,null,null,null,null,null,null,null,null,null,null,null,null,null,null,null,null,null,null,null,null,null,null,null,null,null,null,null,null,null,null,null,null,null,null,null,null,null,null,null,null,null,null,null,null,null,null,null,null,null,null,null,null,null,null,null,null,null,null,null,null,null,null,null,null,null,null,null,null,null,null,null,null,null,null,null,null,null,null,null,null,null,null,null,null,null,null,null,null,null,null,null,null,null,null,null,null,null,null,null,null,null,null,null,null,null,null,null,null,null,null,null,null,null,null,null,null,null,null,null,null,null,null,null,null,null,null,null,null,null,null,null,null,null,null,null,null,null,null,null,null,null,null,null,null,null,null,null,null,null,null,null,null,null,null,null,null,null,null,null,null,null,null,null,null,null,null,null,null,null,null,null,null,null,null,null,null,null,null,null,null,null,null,null,null,null,null,null,null,null,null,null,null,null,null,null,null,null,null,null,null,null,null,null,null,null,null,null,null,null,null,null,null,null,null,null,null,null,null,null,null,null,null,null,null,null,null,null,null,null,null,null,null,null,null,null,null,null,null,null,null,null,null,null,null,null,null,null,null,null,null,null,null,null,null,null,null,null,null,null,null,null,null,null,null,null,null,null,null,null,null,null,null,null,null,null,null,null,null,null,null,null,null,null,null,null,null,null,null,null,null,null,null,null,null,null,null,null,null,null,null,null,null,null,null,null,null,null,null,null,null,null,null,null,null,null,null,null,null,null,null,null,null,null,null,null,null,null,null,null,null,null,null,null,null,null,null,null,null,null,null,null,null,null,null,null,null,null,null,null,null,null,null,null,null,null,null,null,null,null,null,null,null,null,null,null,null,null,null,null,null,null,null,null,null,null,null,null,null,null,null,null,null,null,null,null,null,null,null,null,null,null,null,null,null,null,null,null,null,null,null,null,null,null,null,null,null,null,null,null,null,null,null,null,null,null,null,null,null,null,null,null,null,null,null,null,null,null,null,null,null,null,null,null,null,null,null,null,null,null,null,null,null,null,null,null,null,null,null,null,null,null,null,null,null,null,null,null,null,null,null,null,null,null,null,null,null,null,null,null,null,null,null,null,null,null,null,null,null,null,null,null,null,null,null,null,null,null,null,null,null,null,null,null,null,null,null,null,null,null,null,null,null,null,null,null,null,null,null,null,null,null,null,null,null,null,null,null,null,null,null,null,null,null,null,null,null,null,null,null,null,null,null,null,null,null,null,null,null,null,null,null,null,null,null,null,null,null,null,null,null,null,null,null,null,null,null,null,null,null,null,null,null,null,null,null,null,null,null,null,null,null,null,null,null,null,null,null,null,null,null,null,null,null,null,null,null,null,null,null,null,null,null,null,null,null,null,null,null,null,null,null,null,null,null,null,null,null,null,null,null,null,null,null,null,null,null,null,null,null,null,null,null,null,null,null,null,null,null,null,null,null,null,null,null,null,null,null,null,null,null,null,null,null,null,null,null,null,null,null,null,null,null,null,null,null,null,null,null,null,null,null,null,null,null,null,null,null,null,null,null,null,null,null,null,null,null,null,null,null,null,null,null,null,null,null,null,null,null,null,null,null,null,null,null,null,null,null,null,null,null,null,null,null,null,null,null,null,null,null,null,null,null,null,null,null,null,null,null,null,null,null,null,null,null,null,null,null,null,null,null,null,null,null,null,null,null,null,null,null,null,null,null,null,null,null,null,null,null,null,null,null,null,null,null,null,null,null,null,null,null,null,null,null,null,null,null,null,null,null,null,null,null,null,null,null,null,null,null,null,null,null,null,null,null,null,null,null,null,null,null,null,null,null,null,null,null,null,null,null,null,null,null,null,null,null,null,null,null,null,null,null,null,null,null,null,null,null,null,null,null,null,null,null,null,null,null,null,null,null,null,null,null,null,null,null,null,null,null,null,null,null,null,null,null,null,null,null,null,null,null,null,null,null,null,null,null,null,null,null,null,null,null,null,null,null,null,null,null,null,null,null,null,null,null,null,null,null,null,null,null,null,null,null,null,null,null,null,null,null,null,null,null,null,null,null,null,null,null,null,null,null,null,null,null,null,null,null,null,null,null,null,null,null,null,null,null,null,null,null,null,null,null,null,null,null,null,null,null,null,null,null,null,null,null,null,null,null,null,null,null,null,null,null,null,null,null,null,null,null,null,null,null,null,null,null,null,null,null,null,null,null,null,null,null,null,null,null,null,null,null,null,null,null,null,null,null,null,null,null,null,null,null,null,null,null,null,null,null,null,null,null,null,null,null,null,null,null,null,null,null,null,null,null,null,null,null,null,null,null,null,null,null,null,null,null,null,null,null,null,null,null,null,null,null,null,null,null,null,null,null,null,null,null,null,null,null,null,null,null,null,null,null,null,null,null,null,null,null,null,null,null,null,null,null,null,null,null,null,null,null,null,null,null,null,null,null,null,null,null,null,null,null,null,null,null,null,null,null,null,null,null,null,null,null,null,null,null,null,null,null,null,null,null,null,null,null,null,null,null,null,null,null,null,null,null,null,null,null,null,null,null,null,null,null,null,null,null,null,null,null,null,null,null,null,null,null,null,null,null,null,null,null,null,null,null,null,null,null,null,null,null,null,null,null,null,null,null,null,null,null,null,null,null,null,null,null,null,null,null,null,null,null,null,null,null,null,null,null,null,null,null,null,null,null,null,null,null,null,null,null,null,null,null,null,null,null,null,null,null,null,null,null,null,null,null,null,null,null,null,null,null,null,null,null,null,null,null,null,null,null,null,null,null,null,null,null,null,null,null,null,null,null,null,null,null,null,null,null,null,null,null,null,null,null,null,null,null,null,null,null,null,null,null,null,null,null,null,null,null,null,null,null,null,null,null,null,null,null,null,null,null,null,null,null,null,null,null,null,null,null,null,null,null,null,null,null,null,null,null,null,null,null,null,null,null,null,null,null,null,null,null,null,null,null,null,null,null,null,null,null,null,null,null,null,null,null,null,null,null,null,null,null,null,null,null,null,null,null,null,null,null,null,null,null,null,null,null,null,null,null,null,null,null,null,null,null,null,null,null,null,null,null,null,null,null,null,null,null,null,null,null,null,null,null,null,null,null,null,null,null,null,null,null,null,null,null,null,null,null,null,null,null,null,null,null,null,null,null,null,null,null,null,null,null,null,null,null,null,null,null,null,null,null,null,null,null,null,null,null,null,null,null,null,null,null,null,null,null,null,null,null,null,null,null,null,null,null,null,null,null,null,null,null,null,null,null,null,null,null,null,null,null,null,null,null,null,null,null,null,null,null,null,null,null,null,null,null,null,null,null,null,null,null,null,null,null,null,null,null,null,null,null,null,null,null,null,null,null,null,null,null,null,null,null,null,null,null,null,null,null,null,null,null,null,null,null,null,null,null,null,null,null,null,null,null,null,null,null,null,null,null,null,null,null,null,null,null,null,null,null,null,null,null,null,null,null,null,null,null,null,null,null,null,null,null,null,null,null,null,null,null,null,null,null,null,null,null,null,null,null,null,null,null,null,null,null,null,null,null,null,null,null,null,null,null,null,null,null,null,null,null,null,null,null,null,null,null,null,null,null,null,null,null,null,null,null,null,null,null,null,null,null,null,null,null,null,null,null,null,null,null,null,null,null,null,null,null,null,null,null,null,null,null,null,null,null,null,null,null,null,null,null,null,null,null,null,null,null,null,null,null,null,null,null,null,null,null,null,null,null,null,null,null,null,null,null,null,null,null,null,null,null,null,null,null,null,null,null,null,null,null,null,null,null,null,null,null,null,null,null,null,null,null,null,null,null,null,null,null,null,null,null,null,null,null,null,null,null,null,null,null,null,null,null,null,null,null,null,null,null,null,null,null,null,null,null,null,null,null,null,null,null,null,null,null,null,null,null,null,null,null,null,null,null,null,null,null,null,null,null,null,null,null,null,null,null,null,null,null,null,null,null,null,null,null,null,null,null,null,null,null,null,null,null,null,null,null,null,null,null,null,null,null,null,null,null,null,null,null,null,null,null,null,null,null,null,null,null,null,null,null,null,null,null,null,null,null,null,null,null,null,null,null,null,null,null,null,null,null,null,null,null,null,null,null,null,null,null,null,null,null,null,null,null,null,null,null,null,null,null,null,null,null,null,null,null,null,null,null,null,null,null,null,null,null,null,null,null,null,null,null,null,null,null,null,null,null,null,null,null,null,null,null,null,null,null,null,null,null,null,null,null,null,null,null,null,null,null,null,null,null,null,null,null,null,null,null,null,null,null,null,null,null,null,null,null,null,null,null,null,null,null,null,null,null,null,null,null,null,null,null,null,null,null,null,null,null,null,null,null,null,null,null,null,null,null,null,null,null,null,null,null,null,null,null,null,null,null,null,null,null,null,null,null,null,null,null,null,null,null,null,null,null,null,null,null,null,null,null,null,null,null,null,null,null,null,null,null,null,null,null,null,null,null,null,null,null,null,null,null,null,null,null,null,null,null,null,null,null,null,null,null,null,null,null,null,null,null,null,null,null,null,null,null,null,null,null,null,null,null,null,null,null,null,null,null,null,null,null,null,null,null,null,null,null,null,null,null,null,null,null,null,null,null,null,null,null,null,null,null,null,null,null,null,null,null,null,null,null,null,null,null,null,null,null,null,null,null,null,null,null,null,null,null,null,null,null,null,null,null,null,null,null,null,null,null,null,null,null,null,null,null,null,null,null,null,null,null,null,null,null,null,null,null,null,null,null,null,null,null,null,null,null,null,null,null,null,null,null,null,null,null,null,null,null,null,null,null,null,null,null,null,null,null,null,null,null,null,null,null,null,null,null,null,null,null,null,null,null,null,null,null,null,null,null,null,null,null,null,null,null,null,null,null,null,null,null,null,null,null,null,null,null,null,null,null,null,null,null,null,null,null,null,null,null,null,null,null,null,null,null,null,null,null,null,null,null,null,null,null,null,null,null,null,null,null,null,null,null,null,null,null,null,null,null,null,null,null,null,null,null,null,null,null,null,null,null,null,null,null,null,null,null,null,null,null,null,null,null,null,null,null,null,null,null,null,null,null,null,null,null,null,null,null,null,null,null,null,null,null,null,null,null,null,null,null,null,null,null,null,null,null,null,null,null,null,null,null,null,null,null,null,null,null,null,null,null,null,null,null,null,null,null,null,null,null,null,null,null,null,null,null,null,null,null,null,null,null,null,null,null,null,null,null,null,null,null,null,null,null,null,null,null,null,null,null,null,null,null,null,null,null,null,null,null,null,null,null,null,null,null,null,null,null,null,null,null,null,null,null,null,null,null,null,null,null,null,null,null,null,null,null,null,null,null,null,null,null,null,null,null,null,null,null,null,null,null,null,null,null,null,null,null,null,null,null,null,null,null,null,null,null,null,null,null,null,null,null,null,null,null,null,null,null,null,null,null,null,null,null,null,null,null,null,null,null,null,null,null,null,null,null,null,null,null,null,null,null,null,null,null,null,null,null,null,null,null,null,null,null,null,null,null,null,null,null,null,null,null,null,null,null,null,null,null,null,null,null,null,null,null,null,null,null,null,null,null,null,null,null,null,null,null,null,null,null,null,null,null,null,null,null,null,null,null,null,null,null,null,null,null,null,null,null,null,null,null,null,null,null,null,null,null,null,null,null,null,null,null,null,null,null,null,null,null,null,null,null,null,null,null,null,null,null,null,null,null,null,null,null,null,null,null,null,null,null,null,null,null,null,null,null,null,null,null,null,null,null,null,null,null,null,null,null,null,null,null,null,null,null,null,null,null,null,null,null,null,null,null,null,null,null,null,null,null,null,null,null,null,null,null,null,null,null,null,287726]

{"sheet":"Static Data to Tendency","index":27,"n_rows":26,"n_cols":23,"rows_kept":26,"cut":false,"hidden":true,"merged":[]}
["Page created for pupose of the page \"Result Tendency\". Here is the Static data displayed, so the graph does not change."]
[]
["CO2-emissions (mio. ton)",21244.263925088002,23166.076968720001,27002.754565072002,30264.252408784003,31881.523613151996,35952.761806575996,37988.380903287994,40024,{"$f":"I3+($M3-$I3)/4","v":42709.75},{"$f":"J3+($M3-$I3)/4","v":45395.5},48081.25,50767,{"$f":"M3+($W3-$M3)/10","v":53452.712952368034},{"$f":"N3+($W3-$M3)/10","v":56138.425904736068},58824.138857104102,61509.851809472137,64195.564761840171,66881.277714208205,69566.990666576239,72252.703618944273,74938.416571312307,77624.129523680313]
[null,"Calculated and predicted values"]
[null,1995,2000,2005,2010,2015,2020,2025,2030,2035,2040,2045,2050,2055,2060,2065,2070,2075,2080,2085,2090,2095,2100]
["Total final consumption",251457.27135999998,269066.54096000001,304703.75828800001,338009.24955200002,358988.67081599997,{"$f":"AVERAGE(F6,H6)","v":409494.33540799998},460000,500000,null,null,null,{"$f":"I14*M5+J14","v":560050.05494880117}]
[null,1995,2000,2005,2010,2015,2020,2025,2030,2035,2040,2045,2050,2055,2060,2065,2070,2075,2080,2085,2090,2095,2100]
["Temperature [C]",14.24,14.4,14.47,14.45,14.65,{"$f":"'KF World - Values'!O13","v":14.724806927409206},{"$f":"G8+'KF World - Values'!$O$11*LOG(H10/G10,2)","v":14.838557209664195},{"$f":"H8+'KF World - Values'!$O$11*LOG(I10/H10,2)","v":14.955997513422481},{"$f":"I8+'KF World - Values'!$O$11*LOG(J10/I10,2)","v":15.077833686645993},{"$f":"J8+'KF World - Values'!$O$11*LOG(K10/J10,2)","v":15.20465827408839},{"$f":"K8+'KF World - Values'!$O$11*LOG(L10/K10,2)","v":15.335907320768181},{"$f":"L8+'KF World - Values'!$O$11*LOG(M10/L10,2)","v":15.471042193898231},{"$f":"M8+'KF World - Values'!$O$11*LOG(N10/M10,2)","v":15.609552486090831},{"$f":"N8+'KF World - Values'!$O$11*LOG(O10/N10,2)","v":15.750958090040221},{"$f":"O8+'KF World - Values'!$O$11*LOG(P10/O10,2)","v":15.894810430562453},{"$f":"P8+'KF World - Values'!$O$11*LOG(Q10/P10,2)","v":16.040692874988654},{"$f":"Q8+'KF World - Values'!$O$11*LOG(R10/Q10,2)","v":16.188220613802343},{"$f":"R8+'KF World - Values'!$O$11*LOG(S10/R10,2)","v":16.33704006531794},{"$f":"S8+'KF World - Values'!$O$11*LOG(T10/S10,2)","v":16.486827908399473},{"$f":"T8+'KF World - Values'!$O$11*LOG(U10/T10,2)","v":16.637289835725259},{"$f":"U8+'KF World - Values'!$O$11*LOG(V10/U10,2)","v":16.788159107837174},{"$f":"V8+'KF World - Values'!$O$11*LOG(W10/V10,2)","v":16.939194975978211}]
["Recommended Temperature Limit",15.8,15.8,15.8,15.8,15.8,15.8,15.8,15.8,15.8,15.8,15.8,15.8,15.8,15.8,15.8,15.8,15.8,15.8,15.8,15.8,15.8,15.8]
["C_air",null,null,null,null,null,{"$f":"'KF World - Values'!O9+'KF World - Values'!O12*5","v":408.40118707042592},{"$f":"(G10+AVERAGE(G3+G11,H3+H11)*12/44*10^-3*0.45*5/2.3)*(1-0.001)^5","v":419.27703747863467},{"$f":"(H10+AVERAGE(H3+H11,I3+I11)*12/44*10^-3*0.45*5/2.3)*(1-0.001)^5","v":430.80965660357703},443.10931213676702,456.28572153283602,470.33450978124506,485.25132370280153,501.03182537037372,517.67169850312973,535.16665482886879,553.51242747391143,572.70477085632035,592.73946057965452,613.61229332725361,635.31908675704938,657.85567939690202,681.21793054045963]
["Other Emission Gasses (mio. ton)",null,null,null,null,null,{"$f":"(G3/$B14)*(1-$B14)","v":11353.503728392419},{"$f":"(H3/$B14)*(1-$B14)","v":11996.330811564629},12639.157894736842,{"$f":"(J3/$C14)*(1-$C14)","v":13487.289473684208},{"$f":"(K3/$C14)*(1-$C14)","v":14335.421052631578},15183.552631578947,16031.684210526317,{"$f":"(N3/$D14)*(1-$D14)","v":16879.804090221485},{"$f":"(O3/$D14)*(1-$D14)","v":17727.92396991665},18576.043849611819,19424.163729306991,20272.283609002159,21120.403488697328,21968.523368392493,22816.643248087665,23664.763127782833,24512.883007477994]
[]
[null,2030,2050,2100,null,null,null,null,"Lineær regression for Total Consumtion"]
["Share of Emission which is CO2",0.76,0.76,0.76,null,null,null,null,{"$f":"LINEST(B6:F6,B5:F5,TRUE,FALSE)","v":5680.1101500799987},-11084175.752715196]
["Other Emission Gasses (mio. ton)",{"$f":"(I3/B14)*(1-B14)","v":12639.157894736842},{"$f":"(M3/C14)*(1-C14)","v":16031.684210526317},{"$f":"(W3/D14)*(1-D14)","v":24512.883007477994},null,null,null,null,"a","b"]
[]
[null,2030,2050,2100]
["Total Carbon emission (Gigatons)",{"$f":"(B15+I3)*12/44*10^-3","v":14.362679425837319},{"$f":"(C15+M3)*12/44*10^-3","v":18.217822966507178},{"$f":"(D15+W3)*12/44*10^-3","v":27.85554887213409}]
[]
["C_2030",{"$f":"B18*0.45/2.3","v":2.8100894528812148}]
["C_2050",{"$f":"C18*0.45/2.3","v":3.5643566673601006}]
["C_2100",{"$f":"D18*0.45/2.4","v":5.2229154135251425}]
[]
["C_air_2030",{"$f":"('KF World - Values'!O9+'KF World - Values'!O12*3+AVERAGE(B20,'KF World - Values'!O12)*12)*(1-0.001)^12","v":427.30156897111141}]
["C_air_2050",{"$f":"(B24+AVERAGE(B20,B21)*20)*(1-0.001)^20","v":481.31785089483657}]
["C_air_2100",{"$f":"(B25+AVERAGE(B21,B22)*50)*(1-0.001)^50","v":666.7948152187854}]

{"sheet":"KF World (simplified)","index":28,"n_rows":105,"n_cols":17,"rows_kept":105,"cut":false,"hidden":true,"merged":[]}
["CO2-emissions (mio. ton)",21244.263925088002,23166.076968720001,27002.754565072002,30264.252408784003,31881.523613151996,32995.279034752006,{"$f":"'KF World - Values'!H1","v":31953.886603909021},{"$f":"'KF World - Values'!I1","v":34360.245338553061},null,"*This page is created for the purpose of BL World 2030 (& 2050) (forenklet)"]
[null,"Calculated and predicted values"]
[null,1995,2000,2005,2010,2015,2018,2030,2050]
["Total final consumption",251457.27135999998,269066.54096000001,304703.75828800001,338009.24955200002,358988.67081599997,377724.84155199997,{"$f":"'KF World - Values'!H4","v":460000},{"$f":"'KF World - Values'!I4","v":550000}]
[]
["Industry",0.3,0.29121138885733266,0.30739577923902733,0.3267966901213647,0.32475956665427963,0.31474687618508979,{"$f":"('KF World - Values'!H6)/(100)","v":0.32},{"$f":"('KF World - Values'!I6)/(100)","v":0.32},null,"Share of secondary energyforms in consumption"]
["Transport",0.2857541071505883,0.30544465937226206,0.30483223304455703,0.30099693512780085,0.31395135089866683,{"$f":"1-G6-G8","v":0.32046557005527465},{"$f":"('KF World - Values'!H7)/(100)","v":0.34},{"$f":"('KF World - Values'!I7)/(100)","v":0.34},null,null,1995,2000,2005,2010,2015,2018]
["Other",0.4159989875744749,0.40334426300940085,0.38,0.37220649862910116,0.3612890824470536,0.36478755375963556,{"$f":"('KF World - Values'!H8)/(100)","v":0.34},{"$f":"('KF World - Values'!I8)/(100)","v":0.34},null,"Coal",{"$f":"($B$4*$B$6*B10+$B$4*$B$7*B19+$B$4*$B$8*B27)","v":26852.125102477436},{"$f":"($C$4*$C$6*C10+$C$4*$C$7*C19+$C$4*$C$8*C27)","v":21753.467055999998},{"$f":"($D$4*$D$6*D10+$D$4*$D$7*D19+$D$4*$D$8*D27)","v":33005.340320352334},{"$f":"($E$4*$E$6*E10+$E$4*$E$7*E19+$E$4*$E$8*E27)","v":42812.319503999999},{"$f":"($F$4*$F$6*F10+$F$4*$F$7*F19+$F$4*$F$8*F27)","v":43670.695503999996},{"$f":"($G$4*$G$6*G10+$G$4*$G$7*G19+$G$4*$G$8*G27)","v":39485.04476876765}]
["Share of energyforms Industry",null,null,null,null,null,null,null,null,null,"Crude Oil",{"$f":"$B$4*$B$6*B11","v":169.69373023147494},{"$f":"$C$4*$C$6*C11","v":220.87479999999999},{"$f":"$D$4*$D$6*D11","v":190.852576},{"$f":"$E$4*$E$6*E11","v":397.11404799999997},{"$f":"$F$4*$F$6*F11","v":148.89683200000002},{"$f":"$G$4*$G$6*G11","v":104.67999999999998}]
["Coal",0.25857132647865433,0.21351688448269229,0.29175771415083546,0.32868519779973598,0.31892933245077165,0.28062844779705515,{"$f":"('KF World - Values'!H10)/(100)","v":0.33875955909052652},{"$f":"('KF World - Values'!I10)/(100)","v":0.29875955909052648},null,"Oil products",{"$f":"($B$4*$B$6*B12+$B$4*$B$7*B20+$B$4*$B$8*B29)","v":101171.12516784076},{"$f":"($C$4*$C$6*C12+$C$4*$C$7*C20+$C$4*$C$8*C28)","v":110293.862784},{"$f":"($D$4*$D$6*D12+$D$4*$D$7*D20+$D$4*$D$8*D28)","v":134645.50058699801},{"$f":"($E$4*$E$6*E12+$E$4*$E$7*E20+$E$4*$E$8*E28)","v":125537.99246400001},{"$f":"($F$4*$F$6*F12+$F$4*$F$7*F20+$F$4*$F$8*F28)","v":134135.02588799997},{"$f":"($G$4*$G$6*G12+$G$4*$G$7*G20+$G$4*$G$8*G28)","v":141396.21341307342}]
["Crude Oil",2.2494707127734652E-3,2.818889929161697E-3,2.0376158731975282E-3,3.5950837873623938E-3,1.277152510182921E-3,8.8049468304480692E-4,{"$f":"('KF World - Values'!H11)/(100)","v":8.8049468304480692E-4},{"$f":"('KF World - Values'!I11)/(100)","v":8.8049468304480692E-4},null,"Natural Gas",{"$f":"($B$4*$B$6*B13+$B$4*$B$7*B21+$B$4*$B$8*B29)","v":38487.740184311981},42475.626751999996,43801.748335919678,50447.804320000003,52786.020543999999,59363.359745170979]
["Oil products",0.16786724047059665,0.16865137893148308,0.14422323829823758,0.1183333731355052,0.10509068824369622,0.10229094150592061,{"$f":"('KF World - Values'!H12)/(100)","v":0.09},{"$f":"('KF World - Values'!I12)/(100)","v":7.0000000000000007E-2},null,"Geothermal",{"$f":"($B$4*$B$6*B14+$B$4*$B$7*B22+$B$4*$B$8*B30)","v":214.52030614217949},361.73220799999984,399.2775114687679,896.31203200000004,1734.087008,2023.338784]
["Natural Gas",0.20682735856641327,0.22728001436431494,0.19283946555275808,0.18914939726244456,0.19444682882959893,0.21056607707568697,{"$f":"('KF World - Values'!H13)/(100)","v":0.18},{"$f":"('KF World - Values'!I13)/(100)","v":0.16},null,"Biofuels",{"$f":"($B$4*$B$6*B15+$B$4*$B$7*B23+$B$4*$B$8*B31)","v":35301.87898733902},37802.292831999992,32633.538463689332,41958.926272000004,42234.360287999996,42610.997714061072]
["Geothermal, Solar, Wind, etc.",1.1780549029416757E-4,2.2444242090007824E-4,2.1860337033646144E-4,1.7816210249476224E-4,3.0528111182662621E-4,3.5994622642871702E-4,{"$f":"('KF World - Values'!H14)/(100)","v":3.5994622642871702E-4},{"$f":"('KF World - Values'!I14)/(100)","v":3.5994622642871702E-4},null,"Electricity",{"$f":"($B$4*$B$6*B16+$B$4*$B$7*B24+$B$4*$B$8*B32)","v":38831.173510485161},45715.765855999991,47818.162479228457,64399.010384000001,72887.679071999984,80343.114773578476]
["Biofuels and Waste",6.9004984679703063E-2,8.5513631136362664E-2,7.669223148889906E-2,6.9959708830054965E-2,7.1707659934080833E-2,7.186491943649749E-2,{"$f":"('KF World - Values'!H15)/(100)","v":7.0000000000000007E-2},{"$f":"('KF World - Values'!I15)/(100)","v":0.1},null,"Heat",{"$f":"($B$4*$B$6*B17+$B$4*$B$7*B25+$B$4*$B$8*B33)","v":12032.603103971984},10400.586079999997,9579.2488742589976,11525.268,11388.514047999999,12615.782368]
["Electricity",0.2274031203380292,0.24824881473026297,0.24123396014534218,0.24291113842930018,0.26347124736784827,0.28350660881699202,{"$f":"('KF World - Values'!H16)/(100)","v":0.25},{"$f":"('KF World - Values'!I16)/(100)","v":0.28999999999999998}]
["Heat",6.7958693263535902E-2,5.3745944004822306E-2,5.0997171120393682E-2,4.7187938653102085E-2,4.4771450397745376E-2,4.9902916656247485E-2,{"$f":"('KF World - Values'!H17)/(100)","v":7.0000000000000007E-2},{"$f":"('KF World - Values'!I17)/(100)","v":0.08},null,"Share of secondary energyforms in conversion"]
["Share of energyforms Transport",null,null,null,null,null,null,null,null,null,null,1995,2000,2005,2010,2015,2018]
["Coal",1.8851300244396769E-3,3.1231435637258845E-4,1.1810989900702031E-4,7.696170023623538E-5,2.0433525098870397E-5,1.8333390985506245E-5,{"$f":"('KF World - Values'!H19)/(100)","v":1.8333390985506245E-5},{"$f":"('KF World - Values'!I19)/(100)","v":1.8333390985506245E-5},null,"Coal",{"$f":"$L$27*(1+$B$67)*$B$59*B72+$L$28*$B$48*(1+$B$68)*$B$62*B79+$L$28*$B$49*(1+$B$69)*$B$65*B86+L8","v":54961.867432370535},{"$f":"$M$27*(1+$C$67)*$C$59*C72+$M$28*$C$48*(1+$C$68)*$C$62*C79+$M$28*$C$49*(1+$C$69)*$C$65*C86+M8","v":53867.94091471126},{"$f":"$N$27*(1+$D$67)*$D$59*D72+$N$28*$D$48*(1+$D$68)*$D$62*$D$79+$N$28*$D$49*(1+$D$69)*$D$65*D86+N8","v":65806.267545346709},{"$f":"$O$27*(1+$E$67)*$E$59*E72+$O$28*$E$48*(1+$E$68)*$E$62*$E$79+$O$28*$E$49*(1+$E$69)*$E$65*E86+O8","v":86270.447648713773},{"$f":"$P$27*(1+$F$67)*$F$59*F72+$P$28*$F$48*(1+$F$68)*$F$62*$F$79+$P$28*$F$49*(1+$F$69)*$F$65*F86+P8","v":90837.92347283056},{"$f":"$Q$27*(1+$G$67)*$G$59*G72+$Q$28*$G$48*(1+$G$68)*$G$62*$G$79+$Q$28*$G$49*(1+$G$69)*$G$65*G86+Q8","v":89844.283369192999}]
["Oil products",0.94758755802529282,0.95564983293984118,0.94774628731450095,0.92950719818255156,0.9239204132773331,0.91681967553357102,{"$f":"('KF World - Values'!H20)/(100)","v":0.91998166660901448},{"$f":"('KF World - Values'!I20)/(100)","v":0.86998166660901444},null,"Crude Oil",{"$f":"$L$27*(1+$B$67)*$B$59*B73+$L$28*$B$48*(1+$B$68)*$B$62*B80+$L$28*$B$49*(1+$B$69)*$B$65*B87+L29+L29*(1-B70)*B93+L9","v":103506.76568213562},{"$f":"M27*(1+C67)*C59*C73+M28*C48*(1+C68)*C62*C80+M28*C49*(1+C69)*C65*C87+M29+M29*(1-C70)*C93+M8","v":133453.22454824735},{"$f":"N27*(1+D67)*D59*D73+N28*D48*(1+D68)*D62*D80+N28*D49*(1+D69)*D65*D87+N29+N29*(1-D70)*D93+N9","v":136820.47951847856},{"$f":"O27*(1+E67)*E59*E73+O28*E48*(1+E68)*E62*E80+O28*E49*(1+E69)*E65*E87+O29+O29*(1-E70)*E93+O9","v":127954.81016242095},{"$f":"P27*(1+F67)*F59*F73+P28*F48*(1+F68)*F62*F80+P28*F49*(1+F69)*F65*F87+P29+P29*(1-F70)*F93+P9","v":137948.45771288328},{"$f":"Q27*(1+G67)*G59*G73+Q28*G48*(1+G68)*G62*G80+Q28*G49*(1+G69)*G65*G87+Q29+Q29*(1-G70)*G93+Q9","v":145231.24125374467}]
["Natural Gas",3.4325100142069458E-2,2.9415630798577109E-2,3.3339900003290845E-2,3.6710319452789963E-2,3.6321148141199376E-2,4.0532360164654599E-2,{"$f":"('KF World - Values'!H21)/(100)","v":0.04},{"$f":"('KF World - Values'!I21)/(100)","v":0.04},null,"Oil products",{"$f":"$L$27*(1+$B$67)*$B$59*B74+$L$28*$B$48*(1+$B$68)*$B$62*B81+$L$28*$B$49*(1+$B$69)*$B$65*B88","v":7199.2995260151038},{"$f":"$M$27*(1+$C$67)*$C$59*C74+$M$28*$C$48*(1+$C$68)*$C$62*C81+$M$28*$C$49*(1+$C$69)*$C$65*C88","v":6721.5445792423234},{"$f":"$N$27*(1+$D$67)*$D$59*D74+$N$28*$D$48*(1+$D$68)*$D$62*$D$79+$N$28*$D$49*(1+$D$69)*$D$65*D88","v":10361.466562903406},{"$f":"$O$27*(1+$E$67)*$E$59*E74+$O$28*$E$48*(1+$E$68)*$E$62*$E$79+$O$28*$E$49*(1+$E$69)*$E$65*E88","v":12235.800586555168},{"$f":"$P$27*(1+$F$67)*$F$59*F74+$P$28*$F$48*(1+$F$68)*$F$62*$F$79+$P$28*$F$49*(1+$F$69)*$F$65*F88","v":12808.545231299593},{"$f":"$Q$27*(1+$G$67)*$G$59*G74+$Q$28*$G$48*(1+$G$68)*$G$62*$G$79+$Q$28*$G$49*(1+$G$69)*$G$65*G88","v":13212.845952278143}]
["Geothermal, Solar, Wind, etc.",0,0,0,0,0,0,{"$f":"('KF World - Values'!H22)/(100)","v":0},{"$f":"('KF World - Values'!I22)/(100)","v":0},null,"Natural Gas",{"$f":"$L$27*(1+$B$67)*$B$59*B75+$L$28*$B$48*(1+$B$68)*$B$62*B82+$L$28*$B$49*(1+$B$69)*$B$65*B89+L11","v":54827.769284106223},{"$f":"$M$27*(1+$C$67)*$C$59*C75+$M$28*$C$48*(1+$C$68)*$C$62*C82+$M$28*$C$49*(1+$C$69)*$C$65*C89+M11","v":59833.376382732808},{"$f":"$N$27*(1+$D$67)*$D$59*D75+$N$28*$D$48*(1+$D$68)*$D$62*$D$79+$N$28*$D$49*(1+$D$69)*$D$65*D89+N11","v":64342.305151460692},{"$f":"$O$27*(1+$E$67)*$E$59*E75+$O$28*$E$48*(1+$E$68)*$E$62*$E$79+$O$28*$E$49*(1+$E$69)*$E$65*E89+O11","v":78459.532563979097},{"$f":"$P$27*(1+$F$67)*$F$59*F75+$P$28*$F$48*(1+$F$68)*$F$62*$F$79+$P$28*$F$49*(1+$F$69)*$F$65*F89+P11","v":82890.462812825193},{"$f":"$Q$27*(1+$G$67)*$G$59*G75+$Q$28*$G$48*(1+$G$68)*$G$62*$G$79+$Q$28*$G$49*(1+$G$69)*$G$65*G89+Q11","v":93217.179871514643}]
["Biofuels and Waste",5.6839438202116229E-3,5.0607153374370665E-3,8.7126336569033659E-3,2.3251076229123625E-2,2.9034553090942189E-2,3.1008336504202851E-2,{"$f":"('KF World - Values'!H23)/(100)","v":0.03},{"$f":"('KF World - Values'!I23)/(100)","v":0.04},null,"Nuclear",{"$f":"$L$27*(1+$B$67)*$B$59*B76+$L$28*$B$48*(1+$B$68)*$B$62*B83+$L$28*$B$49*(1+$B$69)*$B$65*B90","v":11444.322434913989},{"$f":"$M$27*(1+$C$67)*$C$59*C76+$M$28*$C$48*(1+$C$68)*$C$62*C83+$M$28*$C$49*(1+$C$69)*$C$65*C90","v":13000.383138779018},{"$f":"$N$27*(1+$D$67)*$D$59*D76+$N$28*$D$48*(1+$D$68)*$D$62*$D$79+$N$28*$D$49*(1+$D$69)*$D$65*D90","v":18595.08549225199},{"$f":"$O$27*(1+$E$67)*$E$59*E76+$O$28*$E$48*(1+$E$68)*$E$62*$E$79+$O$28*$E$49*(1+$E$69)*$E$65*E90","v":22626.056340234012},{"$f":"$P$27*(1+$F$67)*$F$59*F76+$P$28*$F$48*(1+$F$68)*$F$62*$F$79+$P$28*$F$49*(1+$F$69)*$F$65*F90","v":22716.442600484872},{"$f":"$Q$27*(1+$G$67)*$G$59*G76+$Q$28*$G$48*(1+$G$68)*$G$62*$G$79+$Q$28*$G$49*(1+$G$69)*$G$65*G90","v":25016.413728625244}]
["Electricity",1.0511857963173825E-2,9.5564117169341638E-3,1.0074053103472837E-2,1.0438805159314835E-2,1.0697879185854055E-2,1.1596734580926355E-2,{"$f":"('KF World - Values'!H24)/(100)","v":0.01},{"$f":"('KF World - Values'!I24)/(100)","v":0.05},null,"Biofuels",{"$f":"$L$27*(1+$B$67)*$B$59*B77+$L$28*$B$48*(1+$B$68)*$B$62*B84+$L$28*$B$49*(1+$B$69)*$B$65*B91+L13","v":36828.941313091869},{"$f":"$M$27*(1+$C$67)*$C$59*C77+$M$28*$C$48*(1+$C$68)*$C$62*C84+$M$28*$C$49*(1+$C$69)*$C$65*C91+M13","v":39047.706343726379},{"$f":"$N$27*(1+$D$67)*$D$59*D77+$N$28*$D$48*(1+$D$68)*$D$62*$D$79+$N$28*$D$49*(1+$D$69)*$D$65*D91+N14","v":54322.799964914928},{"$f":"$O$27*(1+$E$67)*$E$59*E77+$O$28*$E$48*(1+$E$68)*$E$62*$E$79+$O$28*$E$49*(1+$E$69)*$E$65*E91+O13","v":51137.75198312827},{"$f":"$P$27*(1+$F$67)*$F$59*F77+$P$28*$F$48*(1+$F$68)*$F$62*$F$79+$P$28*$F$49*(1+$F$69)*$F$65*F91+P13","v":52985.208840737861},{"$f":"$Q$27*(1+$G$67)*$G$59*G77+$Q$28*$G$48*(1+$G$68)*$G$62*$G$79+$Q$28*$G$49*(1+$G$69)*$G$65*G91+Q13","v":55773.588718801024}]
["Heat",0,0,0,0,0,0,{"$f":"('KF World - Values'!H25)/(100)","v":0},{"$f":"('KF World - Values'!I25)/(100)","v":0},null,"Geothermal",{"$f":"L27*(1+B67)*B58+L28*B48*(1+B68)*B61+L28*B49*(1+B69)*B64","v":2116.8051243424779},{"$f":"M27*(1+C67)*C58+M28*C48*(1+C68)*C61+M28*C49*(1+C69)*C64","v":2930.363730932434},3104.9976072826776,5429.9676771419199,9972.2549992308996,{"$f":"Q27*(1+G67)*G58+Q28*G48*(1+G68)*G61+Q28*G49*(1+G69)*G64","v":14635.877874325177}]
["Share of energyforms Other"]
["Coal",6.8932749240262714E-2,4.6049905434780089E-2,4.8943015618572068E-2,5.1648214496699242E-2,5.0008329287064682E-2,4.4412374530005072E-2,{"$f":"('KF World - Values'!H27)/(100)","v":0.04},{"$f":"('KF World - Values'!I27)/(100)","v":0.02},null,"Electricity Output from conversion",{"$f":"L14*B35+L14","v":42879.299095251314},{"$f":"M14*(1+C35)","v":50621.782479999987},52864.94394052562,70724.10684744551,79799.238879999975,87522.487936969235]
["Oil products",0.17983718085430017,0.17082583872135168,0.28592796447874258,0.14227113956363793,0.13687569087884954,0.13249260725669434,{"$f":"('KF World - Values'!H28)/(100)","v":0.13},{"$f":"('KF World - Values'!I28)/(100)","v":0.09},null,"Heat Output from conversion",{"$f":"L15*(1+B36)","v":12817.266911733828},{"$f":"M15*(1+C36)","v":11208.213215999996},10493.328417819401,12435.900256000001,12153.306127999998,13491.281110204525]
["Natural Gas",0.19519764377367677,0.20501477316307734,0.19555473593122719,0.20522662637309605,0.20064090312716304,0.21353822422826321,{"$f":"('KF World - Values'!H29)/(100)","v":0.17},{"$f":"('KF World - Values'!I29)/(100)","v":0.2},null,"Oil products Output from conversion",{"$f":"L10","v":101171.12516784076},{"$f":"M10","v":110293.862784},134645.50058699801,125537.99246400001,134135.02588799997,141396.21341307342]
["Geothermal, Solar, Wind, etc.",1.965790206834273E-3,3.1710793244393411E-3,3.2715305065751212E-3,6.9679476405462926E-3,1.3095705445416696E-2,1.43737234963581E-2,{"$f":"('KF World - Values'!H30)/(100)","v":0.01},{"$f":"('KF World - Values'!I30)/(100)","v":0.01}]
["Biofuels and Waste",0.28380710838705131,0.28275077916956998,0.21281176854439449,0.25328502986239504,0.2359467493827288,0.22,{"$f":"('KF World - Values'!H31)/(100)","v":0.24},{"$f":"('KF World - Values'!I31)/(100)","v":0.25}]
["Electricity",0.2,0.23477021538955392,0.20975813201310772,0.29016096904262278,0.31584882537681952,0.32828308151967633,{"$f":"('KF World - Values'!H32)/(100)","v":0.35},{"$f":"('KF World - Values'!I32)/(100)","v":0.36}]
["Heat",6.60190886995283E-2,5.703042831755703E-2,4.1477877236037616E-2,5.0178142623930187E-2,4.7562811864004045E-2,4.8501136678916243E-2,{"$f":"('KF World - Values'!H33)/(100)","v":0.06},{"$f":"('KF World - Values'!I33)/(100)","v":7.0000000000000007E-2}]
["Transport losses"]
["Electricity",0.10424937540641363,0.10731563897350975,0.10554109985906336,9.8217292870341838E-2,9.4824802984501855E-2,8.93589100151711E-2,{"$f":"('KF World - Values'!H35)/(100)","v":0.09},{"$f":"('KF World - Values'!I35)/(100)","v":7.0000000000000007E-2}]
["Heat",6.5211475935978119E-2,7.7652079391279841E-2,9.5422882896036079E-2,7.9011807447774751E-2,6.71546855697394E-2,6.9397102507509245E-2,{"$f":"('KF World - Values'!H36)/(100)","v":7.0000000000000007E-2},{"$f":"('KF World - Values'!I36)/(100)","v":0.05}]
["Industry own use  "]
["Industry own use (% of total consumption)",8.8209072531629976E-2,9.2775053572012142E-2,9.5366391971228912E-2,9.9835477273850601E-2,9.5658261443022308E-2,9.3026326189252342E-2,{"$f":"('KF World - Values'!H38)/(100)","v":9.3026326189252342E-2},{"$f":"('KF World - Values'!I38)/(100)","v":9.3026326189252342E-2}]
["Distribution between energi forms"]
["Electricity",0.19895267202664005,0.1990234263611142,0.19375374648406879,0.19526724869589387,0.21543571459925573,0.22995525420497265,{"$f":"('KF World - Values'!H40)/(100)","v":0.23},{"$f":"('KF World - Values'!I40)/(100)","v":0.22}]
["Heat",4.9302567916802743E-2,4.0577624352948677E-2,4.9024184995619488E-2,5.0099514093280194E-2,4.5054162541274249E-2,4.66547900641694E-2,{"$f":"('KF World - Values'!H41)/(100)","v":0.02},{"$f":"('KF World - Values'!I41)/(100)","v":0.04}]
["Coal",9.6066101723711578E-2,9.6231586504429978E-2,0.10018386591045327,0.14188327319472502,0.11304510049699802,9.5284114944857196E-2,{"$f":"('KF World - Values'!H42)/(100)","v":0.13},{"$f":"('KF World - Values'!I42)/(100)","v":0.08}]
["Natural gas",0.28342605369915563,0.30156198105896681,0.31754478489417626,0.31304751363665695,0.33359589525486383,0.36071545606749406,{"$f":"('KF World - Values'!H43)/(100)","v":0.34},{"$f":"('KF World - Values'!I43)/(100)","v":0.38}]
["Crude oil",1.2317619008964963E-2,1.6102897515121627E-2,1.4579586849264536E-2,1.1684840603735376E-2,1.4725821948876023E-2,1.1760219737006739E-2,{"$f":"('KF World - Values'!H44)/(100)","v":0.02},{"$f":"('KF World - Values'!I44)/(100)","v":0.04}]
["Oil products",0.34611093596914649,0.33698332343676091,0.31270461566837277,0.27103569106457748,0.26057644941496649,0.23718846261551385,{"$f":"('KF World - Values'!H45)/(100)","v":0.22},{"$f":"('KF World - Values'!I45)/(100)","v":0.2}]
["Biofuels and waste",1.3825937413281131E-2,9.5191607706578366E-3,1.2210656153455988E-2,1.6980677887025446E-2,1.7568075071574544E-2,1.8438127468913292E-2,{"$f":"('KF World - Values'!H46)/(100)","v":0.04},{"$f":"('KF World - Values'!I46)/(100)","v":0.04}]
["Distribution of production between technologies Heat"]
["CHP plants",0.4738903984824312,0.47920649604275878,0.60641587785493389,0.62648045780935036,0.69952047554118868,0.71503451910112981,{"$f":"('KF World - Values'!H48)/(100)","v":0.74},{"$f":"('KF World - Values'!I48)/(100)","v":0.84}]
["Heat plants",0.5261096015175688,0.52079350395724122,0.39358412214506605,0.37351954219064959,0.30047952445881099,0.28496548089887008,{"$f":"('KF World - Values'!H49)/(100)","v":0.26},{"$f":"('KF World - Values'!I49)/(100)","v":0.16}]
["Electricity consumption on Heat plants"]
["% of heat production on Heat plants",3.4508652958744391E-3,3.4472777032183368E-3,2.9166135407369623E-3,2.7654867256637168E-3,3.8035608671710889E-3,6.9936260623229465E-3,{"$f":"('KF World - Values'!H51)/(100)","v":6.9936260623229465E-3},{"$f":"('KF World - Values'!I51)/(100)","v":6.9936260623229465E-3}]
["Ratio between electricity and heat production on CHP  plants (Electricity)"]
["Cm-value",0.85579187190550743,1.0174023708406619,1.2861760781190197,1.4211409000758464,1.4392879513269878,1.3997843940492758,{"$f":"'KF World - Values'!H53","v":1.3997843940492758},{"$f":"'KF World - Values'!I53","v":1.3997843940492758}]
["Distribution of production between technologies Oil products"]
["Oil refineries",1,1,1,1,1,1,{"$f":"('KF World - Values'!H55)/(100)","v":1},{"$f":"('KF World - Values'!I55)/(100)","v":1}]
["Share of non-fuel RE for Electricity-only plants"]
["Hydro",0.211697562402554,0.18972047300281461,0.19067316011591487,0.19139060535088556,0.19034861233803219,0.18756826768074697,{"$f":"('KF World - Values'!H57)/(100)","v":0.17},{"$f":"('KF World - Values'!I57)/(100)","v":0.23}]
["Geothermal, Solar, Wind, etc.",3.61744276635819E-2,4.2360994410473418E-2,4.2693547229264349E-2,5.5425511861448166E-2,9.006529304560279E-2,0.12085463112416099,{"$f":"('KF World - Values'!H58)/(100)","v":0.15},{"$f":"('KF World - Values'!I58)/(100)","v":0.22}]
["Fuel based plants",0.75212800993386386,0.76791853258671194,0.76663329265482072,0.75318388278766624,0.7195860946163648,0.69157710119509208,{"$f":"('KF World - Values'!H59)/(100)","v":0.68},{"$f":"('KF World - Values'!I59)/(100)","v":0.55000000000000004}]
["Share of non-fuel RE for CHP plants"]
["Geothermal, Solar, Wind, etc.",1.8380840031823546E-3,3.136451592325085E-3,2.1673080360071761E-3,3.9790791885402519E-3,4.9004555681852868E-3,4.7715270029877179E-3,{"$f":"('KF World - Values'!H61)/(100)","v":0},{"$f":"('KF World - Values'!I61)/(100)","v":0}]
["Fuel based plants",0.99816191599681769,0.99686354840767488,0.99783269196399293,0.99602092081145988,0.9950995444318147,0.99522847299701245,{"$f":"('KF World - Values'!H62)/(100)","v":0.99522847299701245},{"$f":"('KF World - Values'!I62)/(100)","v":0.99522847299701245}]
["Share of non-fuel RE for Heat plants"]
["Geothermal, Solar, Wind, etc.",2.1266960544342474E-3,3.0130786031946528E-3,5.1080581410174689E-3,6.9690265486725663E-3,1.2287643015928046E-2,1.5915171545483161E-2,{"$f":"('KF World - Values'!H64)/(100)","v":1.5900000000000001E-2},{"$f":"('KF World - Values'!I64)/(100)","v":1.5900000000000001E-2}]
["Fuel based plants",0.99787330394556573,0.99698692139680534,0.99489194185898255,0.9930309734513274,0.987712356984072,0.98408482845451684,{"$f":"('KF World - Values'!H65)/(100)","v":0.98409999999999997},{"$f":"('KF World - Values'!I65)/(100)","v":0.98409999999999997}]
["Efficiencies thermal plants"]
["Electricity-only plants",0.33584964507875265,0.33939680986339449,0.34861324533166926,0.35728238764579123,0.36667274960316087,0.36549938073117771,{"$f":"('KF World - Values'!H67)/(100)","v":0.38},{"$f":"('KF World - Values'!I67)/(100)","v":0.38}]
["CHP plants",0.57898160248721486,0.5795318516809207,0.52604869228778373,0.53933944501749531,0.54018450716856359,0.5573014714357063,{"$f":"('KF World - Values'!H68)/(100)","v":0.56999999999999995},{"$f":"('KF World - Values'!I68)/(100)","v":0.59}]
["Heat Plants",0.88932524825004067,0.79482220218018029,0.90280442064878175,0.90937763125972226,0.90804397936409198,0.97148984602071242,{"$f":"('KF World - Values'!H69)/(100)","v":0.97},{"$f":"('KF World - Values'!I69)/(100)","v":0.98}]
["Oil refineries",0.98596631463630668,0.99201549341635742,0.9887567842353101,0.99026257085932945,0.98075748240262839,0.97874257386247199,{"$f":"('KF World - Values'!H70)/(100)","v":0.99},{"$f":"('KF World - Values'!I70)/(100)","v":0.99}]
["Fuel distribution for Electricity-only plants"]
["Coal",0.48575842589886958,0.48827362479447212,0.47810455477755837,0.48017826846991585,0.48178741762369343,0.47704381789332362,{"$f":"('KF World - Values'!H72)/(100)","v":0.48},{"$f":"('KF World - Values'!I72)/(100)","v":0.37}]
["Crude Oil",1.6855073622196334E-2,8.6018330647226054E-3,7.7849714395379606E-3,1.0326372019074048E-2,1.3283076749872344E-2,8.3640506123113228E-3,{"$f":"('KF World - Values'!H73)/(100)","v":0.01},{"$f":"('KF World - Values'!I73)/(100)","v":0.01}]
["Oil products",9.8285664866678099E-2,9.4529886828306681E-2,7.6285766196561841E-2,5.8702965979847831E-2,5.3877812038434801E-2,3.9637359805796274E-2,{"$f":"('KF World - Values'!H74)/(100)","v":0.01},{"$f":"('KF World - Values'!I74)/(100)","v":0.02}]
["Natural Gas",0.1273235292704521,0.1514379923605037,0.18223337120487756,0.2148118093770936,0.23382426940363313,0.24706917829583516,{"$f":"('KF World - Values'!H75)/(100)","v":0.31},{"$f":"('KF World - Values'!I75)/(100)","v":0.38}]
["Nuclear",0.26245326952786663,0.24756659400117509,0.24212495155271627,0.21553934302590366,0.1893317057378171,0.19078427383810032,{"$f":"('KF World - Values'!H76)/(100)","v":0.14000000000000001},{"$f":"('KF World - Values'!I76)/(100)","v":0.12}]
["Biofuels and Waste",9.2851630013902845E-3,9.5064518372825774E-3,1.3290832666064676E-2,2.0268826864869336E-2,2.7645692801061595E-2,3.685829366532406E-2,{"$f":"('KF World - Values'!H77)/(100)","v":0.05},{"$f":"('KF World - Values'!I77)/(100)","v":0.1}]
["Fuel distribution for CHP plants"]
["Coal",0.34881666027953784,0.35786704945543091,0.55330460781075019,0.5895792001230612,0.60309433108874755,0.61853080616406841,{"$f":"('KF World - Values'!H79)/(100)","v":0.67},{"$f":"('KF World - Values'!I79)/(100)","v":0.63}]
["Crude Oil",1.7572877801980474E-3,1.8467638445592446E-3,7.2748002113269834E-5,1.1589670863883532E-5,6.8234367506404284E-6,1.920897443285503E-5,{"$f":"('KF World - Values'!H80)/(100)","v":0},{"$f":"('KF World - Values'!I80)/(100)","v":0}]
["Oil products",8.1357460133395024E-2,8.1784080813398705E-2,4.0333400515914518E-2,2.2618823100531964E-2,1.8021671235120034E-2,1.4163417148491775E-2,{"$f":"('KF World - Values'!H81)/(100)","v":0.01},{"$f":"('KF World - Values'!I81)/(100)","v":0.01}]
["Natural Gas",0.47194792868390067,0.49391472804448683,0.35233288531694873,0.33463383488512,0.31337900486998427,0.30498454592271224,{"$f":"('KF World - Values'!H82)/(100)","v":0.26},{"$f":"('KF World - Values'!I82)/(100)","v":0.24}]
["Nuclear",1.4340262540779998E-2,1.3048682175644106E-2,1.3603876395181458E-2,7.788258820529732E-3,7.3878324475862593E-3,3.1292334064189076E-3,{"$f":"('KF World - Values'!H83)/(100)","v":0},{"$f":"('KF World - Values'!I83)/(100)","v":0}]
["Biofuels and Waste",8.1778414946278619E-2,5.1540752196373926E-2,4.0351289368893192E-2,4.5369347006335332E-2,5.810936214513255E-2,5.9172788383875803E-2,{"$f":"('KF World - Values'!H84)/(100)","v":0.06},{"$f":"('KF World - Values'!I84)/(100)","v":0.12}]
["Fuel distribution for Heat plants"]
["Coal",0.30228454019305689,0.35088619402985072,0.16729537366548042,0.1928684436435357,0.2178870511643132,0.22563607929804189,{"$f":"('KF World - Values'!H86)/(100)","v":0.28999999999999998},{"$f":"('KF World - Values'!I86)/(100)","v":0.27}]
["Crude Oil",2.4920407270655968E-4,5.9131426202321726E-3,5.6370106761565834E-3,5.7395832594305833E-3,5.946589803507942E-3,4.4293781078221135E-3,{"$f":"('KF World - Values'!H87)/(100)","v":0},{"$f":"('KF World - Values'!I87)/(100)","v":0}]
["Oil products",0.17195589596492833,0.10607898009950249,0.10623487544483985,0.10775375839830863,0.10493821547750025,9.2370794197795605E-2,{"$f":"('KF World - Values'!H88)/(100)","v":0.08},{"$f":"('KF World - Values'!I88)/(100)","v":0.06}]
["Natural Gas",0.49843357440013025,0.50700663349917086,0.66751601423487561,0.6174699008875425,0.56614444575782652,0.56112635433151981,{"$f":"('KF World - Values'!H89)/(100)","v":0.5},{"$f":"('KF World - Values'!I89)/(100)","v":0.48}]
["Nuclear",0,0,0,0,0,0,{"$f":"('KF World - Values'!H90)/(100)","v":0},{"$f":"('KF World - Values'!I90)/(100)","v":0}]
["Biofuels and Waste",2.707169957177586E-2,3.011504975124378E-2,5.3316725978647686E-2,7.6168313811182609E-2,0.10507460515189264,0.11642802962907468,{"$f":"('KF World - Values'!H91)/(100)","v":0.13},{"$f":"('KF World - Values'!I91)/(100)","v":0.19}]
["Fuel distribution for Oil refineries"]
["Crude Oil",1,1,1,1,1,1,{"$f":"('KF World - Values'!H93)/(100)","v":1},{"$f":"('KF World - Values'!I93)/(100)","v":1}]
["Biofuels and Waste",0,0,0,0,0,0,{"$f":"('KF World - Values'!H94)/(100)","v":0},{"$f":"('KF World - Values'!I94)/(100)","v":0}]
[null,0,0,0,0,0,0]
["Fluegas cleaning"]
["Coal fired power plants",null,null,null,null,null,null,{"$f":"('KF World - Values'!H97)/100","v":0},{"$f":"('KF World - Values'!I97)/100","v":0}]
["Oilfired power plants",null,null,null,null,null,null,{"$f":"('KF World - Values'!H98)/100","v":0},{"$f":"('KF World - Values'!I98)/100","v":0}]
["Natural gas fired power plants",null,null,null,null,null,null,{"$f":"('KF World - Values'!H99)/100","v":0},{"$f":"('KF World - Values'!I99)/100","v":0}]
["Biomass-fired power plants",null,null,null,null,null,null,{"$f":"('KF World - Values'!H100)/100","v":0},{"$f":"('KF World - Values'!I100)/100","v":0}]
["Efficiency of final consumption"]
["Fuels ",null,null,null,null,null,0.8,0.8,0.8]
["Fuels in Transport",null,null,null,null,null,0.3,0.3,0.3]
["Electricity  ",null,null,null,null,null,0.95,0.95,0.95]
["Other",null,null,null,null,null,1,1,1]

{"sheet":"BL World 2030 (forenklet)","index":29,"n_rows":23,"n_cols":34,"rows_kept":23,"cut":false,"hidden":true,"merged":[]}
[null,"Consumption","Coal","Crude oil","Oil Products","Natual Gas","Nuclear","Hydro","Geothermal, solar, wind, etc.","Biofuels and waste","Electricity","Heat","Energy Services","Total consumption","World 2030",null,null,"Faktor","Total production","Efficiency","Production","Coal","Crude oil","Oil Products","Natual Gas","Nuclear","Hydro","Geothermal, solar, wind, etc.","Biofuels and waste","Electricity","Heat","Energy Services","Loss","CO2-emissions"]
["ID","C ","CC","CCO","COP","CNG","CNU","CHY","CGSW","CWB","CE","CH","CES","fbrbr",null,"ID","ID Parent","factor","pbrpr","pvrkg","P ","PC","PCO","POP","PNG","PNU","PHY","PGSW","PWB","PE","PH","PES","PTAB","PCO2"]
["ID Parent",null,"C","C","C ","C ","C ","C","C","C ","C ","C ","C ",null,"Structures",null,null,null,null,null,null,"P ","P ","P ","P ","P ","P ","P","P ","P ","P ","P "]
["Factor",null,null,null,null,null,null,null,null,null,null,null,null,null,null,null,null,null,null,null,{"$f":"B4","v":0},null,null,null,null,null,null,null,null,null,null,null,{"$f":"U4","v":0},{"$f":"U4","v":0}]
[null,null,null,null,null,null,null,null,null,null,null,null,null,{"$f":"SUM(C5:M5)","v":0},"Entry fuels","ETP",null,null,{"$f":"SUM(V5:AF5)","v":-400035.54169642436},null,null,{"$f":"-(C6+C5)","v":-115081.76977079558},{"$f":"-(D6+D5)","v":-171765.31638645602},null,{"$f":"-(F6+F5)","v":-80421.049086325627},{"$f":"-(G6+G5)","v":-9874.0641282404031},null,null,{"$f":"-(J6+J5)","v":-22893.342324606754}]
[null,null,{"$f":"-V6","v":115081.76977079558},{"$f":"-W6","v":171765.31638645602},null,{"$f":"-Y6","v":80421.049086325627},{"$f":"-Z6","v":9874.0641282404031},null,null,{"$f":"-AC6","v":22893.342324606754},null,null,null,400035.54169642436,"Transport of fuels","TRAP",null,null,-400035.54169642436,null,null,{"$f":"-(C16+C8)","v":-115081.76977079558},{"$f":"-(D16+D8)","v":-171765.31638645602},null,{"$f":"-(F16+F8)","v":-80421.049086325627},{"$f":"-(G16+G8)","v":-9874.0641282404031},null,null,{"$f":"-(J16+J8)","v":-22893.342324606754},null,null,null,{"$f":"-(N6+S6)","v":0}]
[null,null,null,null,null,null,null,null,null,null,null,null,null,0,"Entry On-Grid RE ","ELP1",null,null,-12661.420427870456,null,null,null,null,null,null,null,{"$f":"-H8","v":-6700.2578013059865},{"$f":"-I8","v":-5961.1626265644691}]
[null,null,{"$f":"SUM(C9:C13)","v":65154.527309857403},171635.55432608546,10741.112823587326,47616.687706468583,9874.0641282404031,6700.2578013059865,5961.1626265644691,7869.3840175544947,9863.8129669998598,855.84220094112152,0,336272.40590760502,"Entry electricity, district heating and oil products","ES",null,null,-232001.56667670736,null,null,{"$f":"SUM(V9:V13)","v":0},null,{"$f":"(E14+E8)*-1","v":-168373.67761196732},null,null,null,null,null,{"$f":"(K14+K8)*-1","v":-51733.731120487289},{"$f":"(L14+L8)*-1","v":-11894.15794425274},null,{"$f":"-(N8+S8)","v":-104270.83923089766},{"$f":"SUM(AH9:AH13)","v":-9720.1558682977993}]
[null,null,{"$f":"-($AD$9+$H$9+$I$9)/$T$9*'KF World (simplified)'!$H72","v":33853.934153967093},{"$f":"-($AD$9+$H$9+$I$9)/$T$9*'KF World (simplified)'!$H73","v":705.29029487431444},{"$f":"-($AD$9+$H$9+$I$9)/$T$9*'KF World (simplified)'!$H74","v":705.29029487431444},{"$f":"-($AD$9+$H$9+$I$9)/$T$9*'KF World (simplified)'!$H75","v":21863.999141103748},{"$f":"-($AD$9+$H$9+$I$9)/$T$9*'KF World (simplified)'!$H76","v":9874.0641282404031},{"$f":"AD9*'KF World (simplified)'!H57*-1","v":6700.2578013059865},{"$f":"AD9*'KF World (simplified)'!H58*-1","v":5911.9921776229285},{"$f":"-($AD$9+$H$9+$I$9)/$T$9*'KF World (simplified)'!$H77","v":3526.4514743715722},null,null,null,83141.279466360356,"Electricity-only plants","ESEP","ES",null,-39413.28118415286,{"$f":"'KF World (simplified)'!H67","v":0.38},null,null,null,null,null,null,null,null,null,{"$f":"AD8-AD10","v":-39413.28118415286},null,null,{"$f":"-(S9+N9)","v":-43727.998282207496},{"$f":"-(C9*Emissionsfaktorer!$B$2*(1-'KF World (simplified)'!H97)+D9*Emissionsfaktorer!$B$3+E9*Emissionsfaktorer!$B$4*(1-'KF World (simplified)'!H98)+F9*Emissionsfaktorer!$B$5*(1-'KF World (simplified)'!H99)+G9*Emissionsfaktorer!$B$6+H9*Emissionsfaktorer!$B$7+I9*Emissionsfaktorer!$B$8-J9*Emissionsfaktorer!B13*'KF World (simplified)'!H100+K9*Emissionsfaktorer!$B$10+L9*Emissionsfaktorer!$B$11+M9*Emissionsfaktorer!$B$12)","v":-4515.9737580802357}]
[null,null,{"$f":"-($AD$10+$AE$10+$H$10+$I$10)/$T$10*'KF World (simplified)'!$H79","v":24827.763098429088},{"$f":"-($AD$10+$AE$10+$H$10+$I$10)/$T$10*'KF World (simplified)'!$H80","v":0},{"$f":"-($AD$10+$AE$10+$H$10+$I$10)/$T$10*'KF World (simplified)'!$H81","v":370.56362833476248},{"$f":"-($AD$10+$AE$10+$H$10+$I$10)/$T$10*'KF World (simplified)'!$H82","v":9634.6543367038248},{"$f":"-($AD$10+$AE$10+$H$10+$I$10)/$T$10*'KF World (simplified)'!$H83","v":0},null,{"$f":"(AD10+AE10)*'KF World (simplified)'!H61*-1","v":0},{"$f":"-($AD$10+$AE$10+$H$10+$I$10)/$T$10*'KF World (simplified)'!$H84","v":2223.3817700085747},null,null,null,37056.362833476247,"CHP plants","ESCHP","ES",null,-21122.126815081458,{"$f":"'KF World (simplified)'!H68","v":0.56999999999999995},null,null,null,null,null,null,null,null,null,{"$f":"AE10*'KF World (simplified)'!H53","v":-12320.449936334429},{"$f":"AE8*'KF World (simplified)'!H48","v":-8801.6768787470282},null,{"$f":"-(S10+N10)","v":-15934.236018394789},{"$f":"-(C10*Emissionsfaktorer!$B$2*(1-'KF World (simplified)'!H98)+D10*Emissionsfaktorer!$B$3+E10*Emissionsfaktorer!$B$4*(1-'KF World (simplified)'!H99)+F10*Emissionsfaktorer!$B$5*(1-'KF World (simplified)'!H100)+G10*Emissionsfaktorer!$B$6+H10*Emissionsfaktorer!$B$7+I10*Emissionsfaktorer!$B$8-J10*Emissionsfaktorer!B14*'KF World (simplified)'!H105+K10*Emissionsfaktorer!$B$10+L10*Emissionsfaktorer!$B$11+M10*Emissionsfaktorer!$B$12)","v":-2935.9756272963232}]
[null,null,{"$f":"-($AE$11+$H$11+$I$11)/$T$11*'KF World (simplified)'!$H86","v":909.85575134392764},{"$f":"-($AE$11+$H$11+$I$11)/$T$11*'KF World (simplified)'!$H87","v":0},{"$f":"-($AE$11+$H$11+$I$11)/$T$11*'KF World (simplified)'!$H88","v":250.99469002591107},{"$f":"-($AE$11+$H$11+$I$11)/$T$11*'KF World (simplified)'!$H89","v":1568.7168126619442},{"$f":"-($AE$11+$H$11+$I$11)/$T$11*'KF World (simplified)'!$H90","v":0},null,{"$f":"AE11*'KF World (simplified)'!H64*-1","v":49.170448941540833},{"$f":"-($AE$11+$H$11+$I$11)/$T$11*'KF World (simplified)'!$H91","v":407.8663712921055},{"$f":"AE11*'KF World (simplified)'!H51*-1","v":21.627656176960986},null,null,3208.2317304423905,"Heat Plants","ESHP","ES",null,-3092.4810655057126,{"$f":"'KF World (simplified)'!H69","v":0.97},null,null,null,null,null,null,null,null,null,null,{"$f":"AE8*'KF World (simplified)'!H49","v":-3092.4810655057126},null,{"$f":"-(S11+N11)","v":-115.75066493667782},{"$f":"-(C11*Emissionsfaktorer!$B$2+D11*Emissionsfaktorer!$B$3+E11*Emissionsfaktorer!$B$4+F11*Emissionsfaktorer!$B$5+G11*Emissionsfaktorer!$B$6+H11*Emissionsfaktorer!$B$7+I11*Emissionsfaktorer!$B$8+J11*Emissionsfaktorer!$B$9+K11*Emissionsfaktorer!$B$10+L11*Emissionsfaktorer!$B$11+M11*Emissionsfaktorer!$B$12)","v":-194.9287511413732}]
[null,null,null,{"$f":"-X12/T12*'KF World (simplified)'!H93","v":170074.42183027003},null,null,null,null,null,{"$f":"-X12/T12*'KF World (simplified)'!H94","v":0},null,null,null,170074.42183027003,"Oil refineries","ESOR","ES",null,-168373.67761196732,{"$f":"'KF World (simplified)'!H70","v":0.99},null,null,null,{"$f":"-(E9+E10+E11+E13+E14)","v":-168373.67761196732},null,null,null,null,null,null,null,null,{"$f":"-(S12+N12)","v":-1700.744218302716},{"$f":"J12*Emissionsfaktorer!B4","v":0}]
[null,null,{"$f":"N13*'KF World (simplified)'!H42","v":5562.9743061172903},{"$f":"N13*'KF World (simplified)'!H44","v":855.84220094112152},{"$f":"N13*'KF World (simplified)'!H45","v":9414.2642103523376},{"$f":"N13*'KF World (simplified)'!H43","v":14549.317415999067},null,null,null,{"$f":"N13*'KF World (simplified)'!H46","v":1711.684401882243},{"$f":"N13*'KF World (simplified)'!H40","v":9842.1853108228988},{"$f":"N13*'KF World (simplified)'!H41","v":855.84220094112152},null,{"$f":"N16*'KF World (simplified)'!H38","v":42792.110047056078},"Energy Industry one use","ESNSP","ES",null,0,0,null,null,null,null,null,null,null,null,null,null,null,null,{"$f":"-(S13+N13)","v":-42792.110047056078},{"$f":"-(C13*Emissionsfaktorer!$B$2+D13*Emissionsfaktorer!$B$3+E13*Emissionsfaktorer!$B$4+F13*Emissionsfaktorer!$B$5+G13*Emissionsfaktorer!$B$6+H13*Emissionsfaktorer!$B$7+I13*Emissionsfaktorer!$B$8+J13*Emissionsfaktorer!$B$9+K13*Emissionsfaktorer!$B$10+L13*Emissionsfaktorer!$B$11+M13*Emissionsfaktorer!$B$12)","v":-2073.2777317798668}]
[null,null,null,null,{"$f":"-X14*1","v":157632.56478838},null,null,null,null,null,{"$f":"-AD14*(1+'KF World (simplified)'!H35)","v":41869.91815348743},{"$f":"-AE14*(1+'KF World (simplified)'!H36)","v":11038.315743311619},null,{"$f":"SUM(C14:M14)","v":210540.79868517906},"Transport electricity, district heating and oil products","TRAS",null,null,-206361.51667420799,null,null,null,null,{"$f":"-E16","v":-157632.56478838},null,null,null,null,null,{"$f":"-K16","v":-38412.7689481536},{"$f":"-L16","v":-10316.18293767441},null,{"$f":"-(N14+S14)","v":-4179.2820109710738}]
[null,null,null,null,null,null,null,null,null,null,null,null,null,{"$f":"SUM(C15:M15)","v":0},"Entry Off-Grid RE","ELP2",null,null,-53.046730279488855,null,null,null,null,null,null,null,null,{"$f":"I16*-1","v":-53.046730279488855}]
[null,null,{"$f":"SUM(C17:C18)","v":49927.242460938178},129.76206037056963,157632.56478838,32804.361379857044,0,0,53.046730279488855,15023.95830705226,38412.7689481536,10316.18293767441,0,{"$f":"'KF World (simplified)'!H4","v":460000},"Exit energy","EX",null,null,-173597.37777124377,null,null,null,null,null,null,null,null,null,null,null,null,{"$f":"SUM(AF17:AF18)","v":-173597.37777124377},{"$f":"SUM(AG17:AG18)","v":-130702.50984146172},{"$f":"SUM(AH17:AH19)","v":-22233.730735611221}]
[null,null,{"$f":"AF17*'KF World (simplified)'!H10/T17*'KF World (simplified)'!H102/'KF World (simplified)'!H$102*-1","v":49924.36547805422},{"$f":"AF17*'KF World (simplified)'!H11/T17*'KF World (simplified)'!H102/'KF World (simplified)'!H$102*-1","v":129.76206037056963},{"$f":"AF17*'KF World (simplified)'!H12/T17*'KF World (simplified)'!H102/'KF World (simplified)'!H$102*-1","v":13263.663777009955},{"$f":"AF17*'KF World (simplified)'!H13/T17*'KF World (simplified)'!H102/'KF World (simplified)'!H$102*-1","v":26527.32755401991},null,null,{"$f":"AF17*'KF World (simplified)'!H14/T17*'KF World (simplified)'!H105/'KF World (simplified)'!H$105*-1","v":53.046730279488855},{"$f":"AF17*'KF World (simplified)'!H15*'KF World (simplified)'!H102/T17/'KF World (simplified)'!H$102*-1","v":10316.182937674412},{"$f":"AF17*'KF World (simplified)'!H16*'KF World (simplified)'!H104/T17/'KF World (simplified)'!H$104*-1","v":36843.510491694316},{"$f":"AF17*'KF World (simplified)'!H17*'KF World (simplified)'!H105/T17/'KF World (simplified)'!H$105*-1","v":10316.18293767441},null,{"$f":"SUM(C17:L17)","v":147374.04196677727},"Industry","EXI","EX",null,-125499.60608076675,{"$f":"('KF World (simplified)'!H10+'KF World (simplified)'!H11+'KF World (simplified)'!H12+'KF World (simplified)'!H13+'KF World (simplified)'!H15)*'KF World (simplified)'!H102+('KF World (simplified)'!H14+'KF World (simplified)'!H17)*'KF World (simplified)'!H105+'KF World (simplified)'!H16*'KF World (simplified)'!H104","v":0.85157198924528577},null,null,null,null,null,null,null,null,null,null,null,{"$f":"'KF World (simplified)'!H4*'KF World (simplified)'!H6*(('KF World (simplified)'!G10+'KF World (simplified)'!G11+'KF World (simplified)'!G12+'KF World (simplified)'!G13+'KF World (simplified)'!G15)*'KF World (simplified)'!G102+('KF World (simplified)'!G14+'KF World (simplified)'!G17)*'KF World (simplified)'!G105+'KF World (simplified)'!G16*'KF World (simplified)'!G104)*-1","v":-125499.60608076675},{"$f":"(S17+SUM(C17:M17))*-1","v":-21874.435886010513},{"$f":"-(C17*Emissionsfaktorer!$B$2+D17*Emissionsfaktorer!$B$3+E17*Emissionsfaktorer!$B$4+F17*Emissionsfaktorer!$B$5+G17*Emissionsfaktorer!$B$6+H17*Emissionsfaktorer!$B$7+I17*Emissionsfaktorer!$B$8+J17*Emissionsfaktorer!$B$9+K17*Emissionsfaktorer!$B$10+L17*Emissionsfaktorer!$B$11+M17*Emissionsfaktorer!$B$12)","v":-7262.9108380470425}]
[null,null,{"$f":"AF18*'KF World (simplified)'!H19/T18*'KF World (simplified)'!H103/'KF World (simplified)'!H$103*-1","v":2.8769828839580054},null,{"$f":"AF18*'KF World (simplified)'!H20/T18*'KF World (simplified)'!H103/'KF World (simplified)'!H$103*-1","v":144368.90101137004},{"$f":"AF18*'KF World (simplified)'!H21/T18*'KF World (simplified)'!H103/'KF World (simplified)'!H$103*-1","v":6277.0338258371303},null,null,{"$f":"AF18*'KF World (simplified)'!H22/T18*'KF World (simplified)'!H105/'KF World (simplified)'!H$105*-1","v":0},{"$f":"AF18*'KF World (simplified)'!H23/T18*'KF World (simplified)'!H103/'KF World (simplified)'!H$103*-1","v":4707.7753693778477},{"$f":"AF18*'KF World (simplified)'!H24/T18*'KF World (simplified)'!H104/'KF World (simplified)'!H$104*-1","v":1569.2584564592826},{"$f":"AF18*'KF World (simplified)'!H25/T18*'KF World (simplified)'!H105/'KF World (simplified)'!H$105*-1","v":0},null,{"$f":"SUM(C18:L18)","v":156925.84564592823},"Transport","EXT","EX",null,-48097.77169047702,{"$f":"('KF World (simplified)'!H19+'KF World (simplified)'!H20+'KF World (simplified)'!H21+'KF World (simplified)'!H23)*'KF World (simplified)'!H103+('KF World (simplified)'!H22+'KF World (simplified)'!H25)*'KF World (simplified)'!H105+'KF World (simplified)'!H24*'KF World (simplified)'!H104","v":0.30650000000000005},null,null,null,null,null,null,null,null,null,null,null,{"$f":"'KF World (simplified)'!H4*'KF World (simplified)'!H7*-1*(('KF World (simplified)'!G19+'KF World (simplified)'!G20+'KF World (simplified)'!G21+'KF World (simplified)'!G23)*'KF World (simplified)'!G103+('KF World (simplified)'!G22+'KF World (simplified)'!G25)*'KF World (simplified)'!G105+'KF World (simplified)'!G24*'KF World (simplified)'!G104)","v":-48097.77169047702},{"$f":"(S18+SUM(C18:M18))*-1","v":-108828.07395545121},{"$f":"-(C18*Emissionsfaktorer!$B$2+D18*Emissionsfaktorer!$B$3+E18*Emissionsfaktorer!$B$4+F18*Emissionsfaktorer!$B$5+G18*Emissionsfaktorer!$B$6+H18*Emissionsfaktorer!$B$7+I18*Emissionsfaktorer!$B$8+J18*Emissionsfaktorer!$B$9+K18*Emissionsfaktorer!$B$10+L18*Emissionsfaktorer!$B$11+M18*Emissionsfaktorer!$B$12)","v":-11330.100718310816}]
[null,null,{"$f":"AF19*'KF World (simplified)'!H$27/T19*'KF World (simplified)'!H$102/'KF World (simplified)'!H$102*-1","v":6231.4406148966445},null,{"$f":"AF19*'KF World (simplified)'!H28/T19*'KF World (simplified)'!H$103/'KF World (simplified)'!H$103*-1","v":20252.181998414093},{"$f":"AF19*'KF World (simplified)'!H$29/T19*'KF World (simplified)'!H$103/'KF World (simplified)'!H$103*-1","v":26483.622613310741},null,null,{"$f":"AF19*'KF World (simplified)'!H$30/T19*'KF World (simplified)'!H$105/'KF World (simplified)'!H$105*-1","v":1557.8601537241611},{"$f":"AF19*'KF World (simplified)'!H$31/T19*'KF World (simplified)'!H$103/'KF World (simplified)'!H$103*-1","v":37388.64368937986},{"$f":"AF19*'KF World (simplified)'!H$32/T19*'KF World (simplified)'!H$104/'KF World (simplified)'!H$104*-1","v":54525.105380345638},{"$f":"AF19*'KF World (simplified)'!H$33/T19*'KF World (simplified)'!H$105/'KF World (simplified)'!H$105*-1","v":9347.160922344965},null,{"$f":"SUM(C19:L19)","v":155786.01537241612},"Other","EXOR","EXO",null,-134988.58232019856,{"$f":"('KF World (simplified)'!H27+'KF World (simplified)'!H28+'KF World (simplified)'!H29+'KF World (simplified)'!H31)*'KF World (simplified)'!H102+('KF World (simplified)'!H30+'KF World (simplified)'!H33)*'KF World (simplified)'!H105+'KF World (simplified)'!H32*'KF World (simplified)'!H104","v":0.86650000000000005},null,null,null,null,null,null,null,null,null,null,null,{"$f":"'KF World (simplified)'!H4*'KF World (simplified)'!H8*(('KF World (simplified)'!G27+'KF World (simplified)'!G28+'KF World (simplified)'!G29+'KF World (simplified)'!G31)*'KF World (simplified)'!G102+('KF World (simplified)'!G30+'KF World (simplified)'!G33)*'KF World (simplified)'!G105+'KF World (simplified)'!G32*'KF World (simplified)'!G104)*-1","v":-134988.58232019856},{"$f":"(N19+AF19)*-1","v":-20797.433052217559},{"$f":"-(C19*Emissionsfaktorer!$B$2+D19*Emissionsfaktorer!$B$3+E19*Emissionsfaktorer!$B$4+F19*Emissionsfaktorer!$B$5+G19*Emissionsfaktorer!$B$6+H19*Emissionsfaktorer!$B$7+I19*Emissionsfaktorer!$B$8+J19*Emissionsfaktorer!$B$9+K19*Emissionsfaktorer!$B$10+L19*Emissionsfaktorer!$B$11+M19*Emissionsfaktorer!$B$12)","v":-3640.7191792533645}]
[null,null,null,null,null,null,null,null,null,null,null,null,null,{"$f":"N16","v":460000},"Energy Services","EN",null,null,-173597.37777124377,{"$f":"AF20/N20*-1","v":0.37738560385052994},null,null,null,null,null,null,null,null,null,null,null,{"$f":"AF16","v":-173597.37777124377},{"$f":"-(S20+N20)","v":-286402.6222287562}]
[]
[]
[null,null,null,null,null,null,null,null,null,null,null,null,null,null," "]

{"sheet":"BL World 2050 (forenklet)","index":30,"n_rows":20,"n_cols":34,"rows_kept":20,"cut":false,"hidden":true,"merged":[]}
[null,"Consumption","Coal","Crude oil","Oil Products","Natual Gas","Nuclear","Hydro","Geothermal, solar, wind, etc.","Biofuels and waste","Electricity","Heat","Energy Services","Total consumption","World 2050",null,null,"Faktor","Total production","Efficiency","Production","Coal","Crude oil","Oil Products","Natual Gas","Nuclear","Hydro","Geothermal, solar, wind, etc.","Biofuels and waste","Electricity","Heat","Energy Services","Loss","CO2-emissions"]
["ID","C ","CC","CCO","COP","CNG","CNU","CHY","CGSW","CWB","CE","CH","CES","fbrbr",null,"ID","ID Parent","factor","pbrpr","pvrkg","P ","PC","PCO","POP","PNG","PNU","PHY","PGSW","PWB","PE","PH","PES","PTAB","PCO2"]
["ID Parent",null,"C","C","C ","C ","C ","C","C","C ","C ","C ","C ",null,"Structures",null,null,null,null,null,null,"P ","P ","P ","P ","P ","P ","P","P ","P ","P ","P "]
["Factor",null,null,null,null,null,null,null,null,null,null,null,null,null,null,null,null,null,null,null,{"$f":"B4","v":0},null,null,null,null,null,null,null,null,null,null,null,{"$f":"U4","v":0},{"$f":"U4","v":0}]
[null,null,null,null,null,null,null,null,null,null,null,null,null,{"$f":"SUM(C5:M5)","v":0},"Entry fuels","ETP",null,null,{"$f":"SUM(V5:AF5)","v":-453309.24797408289},null,null,{"$f":"-(C6+C5)","v":-122423.60664640754},{"$f":"-(D6+D5)","v":-180014.8307834976},null,{"$f":"-(F6+F5)","v":-99559.311203467223},{"$f":"-(G6+G5)","v":-9561.0181439810967},null,null,{"$f":"-(J6+J5)","v":-41750.481196729394}]
[null,null,{"$f":"-V6","v":122423.60664640754},{"$f":"-W6","v":180014.8307834976},null,{"$f":"-Y6","v":99559.311203467223},{"$f":"-Z6","v":9561.0181439810967},null,null,{"$f":"-AC6","v":41750.481196729394},null,null,null,453309.24797408289,"Transport of fuels","TRAP",null,null,-453309.24797408289,null,null,{"$f":"-(C16+C8)","v":-122423.60664640754},{"$f":"-(D16+D8)","v":-180014.8307834976},null,{"$f":"-(F16+F8)","v":-99559.311203467223},{"$f":"-(G16+G8)","v":-9561.0181439810967},null,null,{"$f":"-(J16+J8)","v":-41750.481196729394},null,null,null,{"$f":"-(N6+S6)","v":0}]
[null,null,null,null,null,null,null,null,null,null,null,null,null,0,"Entry On-Grid RE ","ELP1",null,null,-24814.23983663533,null,null,null,null,null,null,null,{"$f":"-H8","v":-12661.105845211328},{"$f":"-I8","v":-12153.133991424}]
[null,null,{"$f":"SUM(C9:C13)","v":70266.537487463705},179861.12447108031,12558.420185290383,64710.129682955849,9561.0181439810967,12661.105845211328,12153.133991424,17375.387620901874,11274.883965806035,2046.5791761635514,0,392468.3205702781,"Entry electricity, district heating and oil products","ES",null,null,-266654.49354451767,null,null,{"$f":"SUM(V9:V13)","v":0},null,{"$f":"(E14+E8)*-1","v":-175247.61584508914},null,null,null,null,null,{"$f":"(K14+K8)*-1","v":-74696.575400707574},{"$f":"(L14+L8)*-1","v":-16710.302298720941},null,{"$f":"-(N8+S8)","v":-125813.82702576043},{"$f":"SUM(AH9:AH13)","v":-11318.238387319605}]
[null,null,{"$f":"-($AD$9+$H$9+$I$9)/$T$9*'KF World (simplified)'!$I72","v":29479.805943941712},{"$f":"-($AD$9+$H$9+$I$9)/$T$9*'KF World (simplified)'!$I73","v":796.75151199842469},{"$f":"-($AD$9+$H$9+$I$9)/$T$9*'KF World (simplified)'!$I74","v":1593.5030239968494},{"$f":"-($AD$9+$H$9+$I$9)/$T$9*'KF World (simplified)'!$I75","v":30276.557455940139},{"$f":"-($AD$9+$H$9+$I$9)/$T$9*'KF World (simplified)'!$I76","v":9561.0181439810967},{"$f":"AD9*'KF World (simplified)'!I57*-1","v":12661.105845211328},{"$f":"AD9*'KF World (simplified)'!I58*-1","v":12110.622982376053},{"$f":"-($AD$9+$H$9+$I$9)/$T$9*'KF World (simplified)'!$I77","v":7967.5151199842476},null,null,null,104446.88002742984,"Electricity-only plants","ESEP","ES",null,-55048.286283527515,{"$f":"'KF World (simplified)'!I67","v":0.38},null,null,null,null,null,null,null,null,null,{"$f":"AD8-AD10","v":-55048.286283527515},null,null,{"$f":"-(S9+N9)","v":-49398.593743902326},{"$f":"-(C9*Emissionsfaktorer!$B$2*(1-'KF World (simplified)'!I97)+D9*Emissionsfaktorer!$B$3+E9*Emissionsfaktorer!$B$4*(1-'KF World (simplified)'!I98)+F9*Emissionsfaktorer!$B$5*(1-'KF World (simplified)'!I99)+G9*Emissionsfaktorer!$B$6+H9*Emissionsfaktorer!$B$7+I9*Emissionsfaktorer!$B$8-J9*Emissionsfaktorer!B13*'KF World (simplified)'!I100+K9*Emissionsfaktorer!$B$10+L9*Emissionsfaktorer!$B$11+M9*Emissionsfaktorer!$B$12)","v":-4647.4515694868114}]
[null,null,{"$f":"-($AD$10+$AE$10+$H$10+$I$10)/$T$10*'KF World (simplified)'!$I79","v":35968.668000519596},{"$f":"-($AD$10+$AE$10+$H$10+$I$10)/$T$10*'KF World (simplified)'!$I80","v":0},{"$f":"-($AD$10+$AE$10+$H$10+$I$10)/$T$10*'KF World (simplified)'!$I81","v":570.93123810348561},{"$f":"-($AD$10+$AE$10+$H$10+$I$10)/$T$10*'KF World (simplified)'!$I82","v":13702.349714483653},{"$f":"-($AD$10+$AE$10+$H$10+$I$10)/$T$10*'KF World (simplified)'!$I83","v":0},null,{"$f":"(AD10+AE10)*'KF World (simplified)'!I61*-1","v":0},{"$f":"-($AD$10+$AE$10+$H$10+$I$10)/$T$10*'KF World (simplified)'!$I84","v":6851.1748572418264},null,null,null,57093.123810348559,"CHP plants","ESCHP","ES",null,-33684.943048105648,{"$f":"'KF World (simplified)'!I68","v":0.59},null,null,null,null,null,null,null,null,null,{"$f":"AE10*'KF World (simplified)'!I53","v":-19648.289117180062},{"$f":"AE8*'KF World (simplified)'!I48","v":-14036.65393092559},null,{"$f":"-(S10+N10)","v":-23408.180762242911},{"$f":"-(C10*Emissionsfaktorer!$B$2*(1-'KF World (simplified)'!I98)+D10*Emissionsfaktorer!$B$3+E10*Emissionsfaktorer!$B$4*(1-'KF World (simplified)'!I99)+F10*Emissionsfaktorer!$B$5*(1-'KF World (simplified)'!I100)+G10*Emissionsfaktorer!$B$6+H10*Emissionsfaktorer!$B$7+I10*Emissionsfaktorer!$B$8-J10*Emissionsfaktorer!B14*'KF World (simplified)'!I105+K10*Emissionsfaktorer!$B$10+L10*Emissionsfaktorer!$B$11+M10*Emissionsfaktorer!$B$12)","v":-4241.4481678707944}]
[null,null,{"$f":"-($AE$11+$H$11+$I$11)/$T$11*'KF World (simplified)'!$I86","v":724.90519067530533},{"$f":"-($AE$11+$H$11+$I$11)/$T$11*'KF World (simplified)'!$I87","v":0},{"$f":"-($AE$11+$H$11+$I$11)/$T$11*'KF World (simplified)'!$I88","v":161.09004237229007},{"$f":"-($AE$11+$H$11+$I$11)/$T$11*'KF World (simplified)'!$I89","v":1288.7203389783206},{"$f":"-($AE$11+$H$11+$I$11)/$T$11*'KF World (simplified)'!$I90","v":0},null,{"$f":"AE11*'KF World (simplified)'!I64*-1","v":42.511009047946075},{"$f":"-($AE$11+$H$11+$I$11)/$T$11*'KF World (simplified)'!$I91","v":510.11846751225193},{"$f":"AE11*'KF World (simplified)'!I51*-1","v":18.698496906500772},null,null,2746.0435454926146,"Heat Plants","ESHP","ES",null,-2673.6483677953506,{"$f":"'KF World (simplified)'!I69","v":0.98},null,null,null,null,null,null,null,null,null,null,{"$f":"AE8*'KF World (simplified)'!I49","v":-2673.6483677953506},null,{"$f":"-(S11+N11)","v":-72.395177697263989},{"$f":"-(C11*Emissionsfaktorer!$B$2+D11*Emissionsfaktorer!$B$3+E11*Emissionsfaktorer!$B$4+F11*Emissionsfaktorer!$B$5+G11*Emissionsfaktorer!$B$6+H11*Emissionsfaktorer!$B$7+I11*Emissionsfaktorer!$B$8+J11*Emissionsfaktorer!$B$9+K11*Emissionsfaktorer!$B$10+L11*Emissionsfaktorer!$B$11+M11*Emissionsfaktorer!$B$12)","v":-154.56589565621232}]
[null,null,null,{"$f":"-X12/T12*'KF World (simplified)'!I93","v":177017.79378291834},null,null,null,null,null,{"$f":"-X12/T12*'KF World (simplified)'!I94","v":0},null,null,null,177017.79378291834,"Oil refineries","ESOR","ES",null,-175247.61584508914,{"$f":"'KF World (simplified)'!I70","v":0.99},null,null,null,{"$f":"-(E9+E10+E11+E13+E14)","v":-175247.61584508914},null,null,null,null,null,null,null,null,{"$f":"-(S12+N12)","v":-1770.1779378291976},{"$f":"J12*Emissionsfaktorer!B4","v":0}]
[null,null,{"$f":"N13*'KF World (simplified)'!I42","v":4093.1583523271029},{"$f":"N13*'KF World (simplified)'!I44","v":2046.5791761635514},{"$f":"N13*'KF World (simplified)'!I45","v":10232.895880817758},{"$f":"N13*'KF World (simplified)'!I43","v":19442.502173553738},null,null,null,{"$f":"N13*'KF World (simplified)'!I46","v":2046.5791761635514},{"$f":"N13*'KF World (simplified)'!I40","v":11256.185468899534},{"$f":"N13*'KF World (simplified)'!I41","v":2046.5791761635514},null,{"$f":"N16*'KF World (simplified)'!I38","v":51164.479404088786},"Energy Industry one use","ESNSP","ES",null,0,0,null,null,null,null,null,null,null,null,null,null,null,null,{"$f":"-(S13+N13)","v":-51164.479404088786},{"$f":"-(C13*Emissionsfaktorer!$B$2+D13*Emissionsfaktorer!$B$3+E13*Emissionsfaktorer!$B$4+F13*Emissionsfaktorer!$B$5+G13*Emissionsfaktorer!$B$6+H13*Emissionsfaktorer!$B$7+I13*Emissionsfaktorer!$B$8+J13*Emissionsfaktorer!$B$9+K13*Emissionsfaktorer!$B$10+L13*Emissionsfaktorer!$B$11+M13*Emissionsfaktorer!$B$12)","v":-2274.7727543057872}]
[null,null,null,null,{"$f":"-X14*1","v":162689.19565979874},null,null,null,null,null,{"$f":"-AD14*(1+'KF World (simplified)'!I35)","v":63421.691434901542},{"$f":"-AE14*(1+'KF World (simplified)'!I36)","v":14663.723122557389},null,{"$f":"SUM(C14:M14)","v":240774.61021725769},"Transport electricity, district heating and oil products","TRAS",null,null,-235927.25507037554,null,null,null,null,{"$f":"-E16","v":-162689.19565979874},null,null,null,null,null,{"$f":"-K16","v":-59272.608817664986},{"$f":"-L16","v":-13965.450592911799},null,{"$f":"-(N14+S14)","v":-4847.3551468821533}]
[null,null,null,null,null,null,null,null,null,null,null,null,null,{"$f":"SUM(C15:M15)","v":0},"Entry Off-Grid RE","ELP2",null,null,-62.835140516191132,null,null,null,null,null,null,null,null,{"$f":"I16*-1","v":-62.835140516191132}]
[null,null,{"$f":"SUM(C17:C18)","v":52157.069158943836},153.70631241729734,162689.19565979874,34849.181520511367,0,0,62.835140516191132,24375.093575827519,59272.608817664986,13965.450592911799,0,{"$f":"'KF World (simplified)'!I4","v":550000},"Exit energy","EX",null,null,-207562.08211779146,null,null,null,null,null,null,null,null,null,null,null,null,{"$f":"SUM(AF17:AF18)","v":-207562.08211779146},{"$f":"SUM(AG17:AG18)","v":-139963.05866080028},{"$f":"SUM(AH17:AH19)","v":-23042.006951233456}]
[null,null,{"$f":"AF17*'KF World (simplified)'!I10/T17*'KF World (simplified)'!I102/'KF World (simplified)'!I$102*-1","v":52153.898270485755},{"$f":"AF17*'KF World (simplified)'!I11/T17*'KF World (simplified)'!I102/'KF World (simplified)'!I$102*-1","v":153.70631241729734},{"$f":"AF17*'KF World (simplified)'!I12/T17*'KF World (simplified)'!I102/'KF World (simplified)'!I$102*-1","v":12219.769268797827},{"$f":"AF17*'KF World (simplified)'!I13/T17*'KF World (simplified)'!I102/'KF World (simplified)'!I$102*-1","v":27930.901185823597},null,null,{"$f":"AF17*'KF World (simplified)'!I14/T17*'KF World (simplified)'!I105/'KF World (simplified)'!I$105*-1","v":62.835140516191132},{"$f":"AF17*'KF World (simplified)'!I15*'KF World (simplified)'!I102/T17/'KF World (simplified)'!I$102*-1","v":17456.813241139749},{"$f":"AF17*'KF World (simplified)'!I16*'KF World (simplified)'!I104/T17/'KF World (simplified)'!I$104*-1","v":50624.758399305276},{"$f":"AF17*'KF World (simplified)'!I17*'KF World (simplified)'!I105/T17/'KF World (simplified)'!I$105*-1","v":13965.450592911799},null,{"$f":"SUM(C17:L17)","v":174568.1324113975},"Industry","EXI","EX",null,-150053.87683569937,{"$f":"('KF World (simplified)'!I10+'KF World (simplified)'!I11+'KF World (simplified)'!I12+'KF World (simplified)'!I13+'KF World (simplified)'!I15)*'KF World (simplified)'!I102+('KF World (simplified)'!I14+'KF World (simplified)'!I17)*'KF World (simplified)'!I105+'KF World (simplified)'!I16*'KF World (simplified)'!I104","v":0.85957198924528566},null,null,null,null,null,null,null,null,null,null,null,{"$f":"'KF World (simplified)'!I4*'KF World (simplified)'!I6*(('KF World (simplified)'!G10+'KF World (simplified)'!G11+'KF World (simplified)'!G12+'KF World (simplified)'!G13+'KF World (simplified)'!G15)*'KF World (simplified)'!G102+('KF World (simplified)'!G14+'KF World (simplified)'!G17)*'KF World (simplified)'!G105+'KF World (simplified)'!G16*'KF World (simplified)'!G104)*-1","v":-150053.87683569937},{"$f":"(S17+SUM(C17:M17))*-1","v":-24514.255575698131},{"$f":"-(C17*Emissionsfaktorer!$B$2+D17*Emissionsfaktorer!$B$3+E17*Emissionsfaktorer!$B$4+F17*Emissionsfaktorer!$B$5+G17*Emissionsfaktorer!$B$6+H17*Emissionsfaktorer!$B$7+I17*Emissionsfaktorer!$B$8+J17*Emissionsfaktorer!$B$9+K17*Emissionsfaktorer!$B$10+L17*Emissionsfaktorer!$B$11+M17*Emissionsfaktorer!$B$12)","v":-7475.3841677167266}]
[null,null,{"$f":"AF18*'KF World (simplified)'!I19/T18*'KF World (simplified)'!I103/'KF World (simplified)'!I$103*-1","v":3.1708884580792476},null,{"$f":"AF18*'KF World (simplified)'!I20/T18*'KF World (simplified)'!I103/'KF World (simplified)'!I$103*-1","v":150469.42639100092},{"$f":"AF18*'KF World (simplified)'!I21/T18*'KF World (simplified)'!I103/'KF World (simplified)'!I$103*-1","v":6918.2803346877699},null,null,{"$f":"AF18*'KF World (simplified)'!I22/T18*'KF World (simplified)'!I105/'KF World (simplified)'!I$105*-1","v":0},{"$f":"AF18*'KF World (simplified)'!I23/T18*'KF World (simplified)'!I103/'KF World (simplified)'!I$103*-1","v":6918.2803346877699},{"$f":"AF18*'KF World (simplified)'!I24/T18*'KF World (simplified)'!I104/'KF World (simplified)'!I$104*-1","v":8647.8504183597124},{"$f":"AF18*'KF World (simplified)'!I25/T18*'KF World (simplified)'!I105/'KF World (simplified)'!I$105*-1","v":0},null,{"$f":"SUM(C18:L18)","v":172957.00836719424},"Transport","EXT","EX",null,-57508.205282092094,{"$f":"('KF World (simplified)'!I19+'KF World (simplified)'!I20+'KF World (simplified)'!I21+'KF World (simplified)'!I23)*'KF World (simplified)'!I103+('KF World (simplified)'!I22+'KF World (simplified)'!I25)*'KF World (simplified)'!I105+'KF World (simplified)'!I24*'KF World (simplified)'!I104","v":0.33250000000000002},null,null,null,null,null,null,null,null,null,null,null,{"$f":"'KF World (simplified)'!I4*'KF World (simplified)'!I7*-1*(('KF World (simplified)'!G19+'KF World (simplified)'!G20+'KF World (simplified)'!G21+'KF World (simplified)'!G23)*'KF World (simplified)'!G103+('KF World (simplified)'!G22+'KF World (simplified)'!G25)*'KF World (simplified)'!G105+'KF World (simplified)'!G24*'KF World (simplified)'!G104)","v":-57508.205282092094},{"$f":"(S18+SUM(C18:M18))*-1","v":-115448.80308510215},{"$f":"-(C18*Emissionsfaktorer!$B$2+D18*Emissionsfaktorer!$B$3+E18*Emissionsfaktorer!$B$4+F18*Emissionsfaktorer!$B$5+G18*Emissionsfaktorer!$B$6+H18*Emissionsfaktorer!$B$7+I18*Emissionsfaktorer!$B$8+J18*Emissionsfaktorer!$B$9+K18*Emissionsfaktorer!$B$10+L18*Emissionsfaktorer!$B$11+M18*Emissionsfaktorer!$B$12)","v":-11830.319619196789}]
[null,null,{"$f":"AF19*'KF World (simplified)'!I$27/T19*'KF World (simplified)'!I$102/'KF World (simplified)'!I$102*-1","v":3710.3308483812693},null,{"$f":"AF19*'KF World (simplified)'!I28/T19*'KF World (simplified)'!I$103/'KF World (simplified)'!I$103*-1","v":16696.488817715712},{"$f":"AF19*'KF World (simplified)'!I$29/T19*'KF World (simplified)'!I$103/'KF World (simplified)'!I$103*-1","v":37103.308483812689},null,null,{"$f":"AF19*'KF World (simplified)'!I$30/T19*'KF World (simplified)'!I$105/'KF World (simplified)'!I$105*-1","v":1855.1654241906347},{"$f":"AF19*'KF World (simplified)'!I$31/T19*'KF World (simplified)'!I$103/'KF World (simplified)'!I$103*-1","v":46379.135604765863},{"$f":"AF19*'KF World (simplified)'!I$32/T19*'KF World (simplified)'!I$104/'KF World (simplified)'!I$104*-1","v":66785.955270862847},{"$f":"AF19*'KF World (simplified)'!I$33/T19*'KF World (simplified)'!I$105/'KF World (simplified)'!I$105*-1","v":12986.157969334443},null,{"$f":"SUM(C19:L19)","v":185516.54241906345},"Residential","EXOR","EXO",null,-161399.39190458521,{"$f":"('KF World (simplified)'!I27+'KF World (simplified)'!I28+'KF World (simplified)'!I29+'KF World (simplified)'!I31)*'KF World (simplified)'!I102+('KF World (simplified)'!I30+'KF World (simplified)'!I33)*'KF World (simplified)'!I105+'KF World (simplified)'!I32*'KF World (simplified)'!I104","v":0.87},null,null,null,null,null,null,null,null,null,null,null,{"$f":"'KF World (simplified)'!I4*'KF World (simplified)'!I8*(('KF World (simplified)'!G27+'KF World (simplified)'!G28+'KF World (simplified)'!G29+'KF World (simplified)'!G31)*'KF World (simplified)'!G102+('KF World (simplified)'!G30+'KF World (simplified)'!G33)*'KF World (simplified)'!G105+'KF World (simplified)'!G32*'KF World (simplified)'!G104)*-1","v":-161399.39190458521},{"$f":"(N19+AF19)*-1","v":-24117.150514478242},{"$f":"-(C19*Emissionsfaktorer!$B$2+D19*Emissionsfaktorer!$B$3+E19*Emissionsfaktorer!$B$4+F19*Emissionsfaktorer!$B$5+G19*Emissionsfaktorer!$B$6+H19*Emissionsfaktorer!$B$7+I19*Emissionsfaktorer!$B$8+J19*Emissionsfaktorer!$B$9+K19*Emissionsfaktorer!$B$10+L19*Emissionsfaktorer!$B$11+M19*Emissionsfaktorer!$B$12)","v":-3736.3031643199383}]
[null,null,null,null,null,null,null,null,null,null,null,null,null,{"$f":"N16","v":550000},"Energy Services","EN",null,null,-207562.08211779146,{"$f":"AF20/N20*-1","v":0.37738560385052994},null,null,null,null,null,null,null,null,null,null,null,{"$f":"AF16","v":-207562.08211779146},{"$f":"-(S20+N20)","v":-342437.91788220854}]

{"sheet":"Emissionsfaktorer","index":31,"n_rows":13,"n_cols":2,"rows_kept":13,"cut":false,"hidden":true,"merged":[]}
[null,"mio. ton/PJ"]
["Coal",9.5000000000000001E-2]
["Crude Oil",0]
["Oil products",7.5999999999999998E-2]
["Natual Gas",5.7000000000000002E-2]
["Nuclear",0]
["Hydro",0]
["Geothermal, Solar, Wind, etc.",0]
["Biofuels and Waste",0]
["Electricity",0]
["Heat",0]
["Energy Services",0]
["Biofuels and Waste with cleaning",0.1]

{"sheet":"World 1995","index":32,"n_rows":32,"n_cols":12,"rows_kept":32,"cut":false,"hidden":true,"merged":[]}
[null,"Coal*","Crude oil","Oil products","Natural gas","Nuclear","Hydro","Geothermal, solar, etc.","Biofuels and waste","Electricity","Heat","Total**"]
[null,"ktoe","ktoe","ktoe","ktoe","ktoe","ktoe","ktoe","ktoe","ktoe","ktoe","ktoe"]
["Production",2219358,3397556,null,1810882,608098,212766,42391,966345,null,399,9257796]
["Imports",332508,1766044,609168,406863,null,null,null,1973,34551,3,3151109]
["Exports",-338991,-1732686,-679115,-407857,null,null,null,-882,-34713,-3,-3194248]
["International marine bunkers"]
["International aviation bunkers"]
["Stock changes",-5205,2290,10041,-3263,null,null,null,32,null,null,3894]
["TES",2207669,3433204,-59907,1806624,608098,212766,42391,967469,-162,399,9218551]
["Transfers",null,-123289,135813,null,null,null,null,null,null,null,12524]
["Statistical differences",31367,-5430,2103,-7283,null,null,4,67,-884,-340,19604]
["Electricity plants",-1112124,-38589,-225021,-291502,-600876,-212766,-36357,-21258,1005047,-89,-1533535]
["CHP plants",-175670,-885,-40973,-237681,-7222,null,-536,-41185,134474,157134,-212545]
["Heat plants",-59437,-49,-33811,-98005,null,null,-371,-5323,-602,174449,-23150]
["Gas works",-4690,null,-6695,6334,null,null,null,-44,null,null,-5096]
["Oil refineries",null,-3275191,3229228,null,null,null,null,null,null,null,-45963]
["Coal transformation",-152219,66,-3595,-276,null,null,null,-44,null,null,-156068]
["Liquefication plants",-14389,7814,null,-2846,null,null,null,null,null,null,-9421]
["Other transformation",null,23669,-23392,-1533,null,null,null,-49765,null,-90,-51112]
["Energy industry own use",-50889,-6525,-183345,-150139,null,null,null,-7324,-105391,-26117,-529729]
["Losses",-9299,-3657,-589,-17827,null,null,-8,-227,-97474,-18693,-147774]
["Total final consumption",660320,11138,2789815,1005865,null,null,5123,842366,935008,286652,6536286]
["Industry",463124,4029,300665,370446,null,null,211,123594,407299,121720,1791088]
["Transport",3235,10,1626119,58904,null,null,null,9754,18039,null,1716062]
["Residential",113547,133,213482,329299,null,null,3296,686471,262432,118031,1726692]
["Commercial and public services",21004,5,102658,136920,null,null,681,13753,204248,23491,502760]
["Agriculture / forestry",12782,3,108943,6372,null,null,248,6038,31057,8943,174387]
["Fishing",31,null,5806,2,null,null,11,null,194,3,6048]
["Non-specified",24846,424,18386,15056,null,null,675,2754,11740,14463,88345]
["Non-energy use",21751,6534,413755,88865,null,null,null,null,null,null,530906]
[]
[null,{"$f":"SUM(B9,B10:B21,B22*-1)","v":-1},{"$f":"SUM(C9,C10:C21,C22*-1)","v":0},1,1,0,0,0,0,0,1,0]

{"sheet":"World 2000","index":33,"n_rows":32,"n_cols":12,"rows_kept":32,"cut":false,"hidden":true,"merged":[]}
[null,"Coal*","Crude oil","Oil products","Natural gas","Nuclear","Hydro","Geothermal, solar, etc.","Biofuels and waste","Electricity","Heat","Total**"]
[null,"ktoe","ktoe","ktoe","ktoe","ktoe","ktoe","ktoe","ktoe","ktoe","ktoe","ktoe"]
["Production",2278274,3707551,null,2064486,675467,224663,60262,1013596,null,689,10024988]
["Imports",409119,2075573,720657,534897,null,null,null,1256,44892,3,3786396]
["Exports",-411503,-2027230,-790476,-540283,null,null,null,-1141,-44027,-7,-3814666]
["International marine bunkers"]
["International aviation bunkers"]
["Stock changes",41245,-4228,-12370,12134,null,null,null,948,null,null,37729]
["TES",2317134,3751665,-82188,2071233,675467,224663,60262,1014659,865,686,10034446]
["Transfers",null,-136765,157098,null,null,null,null,null,null,null,20333]
["Statistical differences",19381,-15466,31344,-4174,null,null,-109,331,794,-222,31880]
["Electricity plants",-1319704,-23249,-255495,-409306,-669122,-224663,-50163,-25694,1184179,-227,-1793443]
["CHP plants",-174015,-898,-39768,-240169,-6345,null,-885,-25062,142300,139866,-204975]
["Heat plants",-67707,-1141,-20469,-97832,null,null,-458,-5811,-524,152004,-41938]
["Gas works",-5784,null,-5333,5771,null,null,null,-19,null,null,-5366]
["Oil refineries",null,-3587072,3558431,null,null,null,null,null,null,null,-28642]
["Coal transformation",-152090,52,-3442,-194,null,null,null,null,null,null,-155675]
["Liquefication plants",-15219,8088,null,-1849,null,null,null,null,null,null,-8979]
["Other transformation",-142,33194,-32472,-4797,null,null,null,-49755,null,-237,-54209]
["Energy industry own use",-57370,-9600,-200898,-179781,null,null,null,-5675,-118651,-24191,-596166]
["Losses",-2793,-5083,-1071,-19656,null,null,-8,-170,-117167,-19288,-165236]
["Total final consumption",541691,13726,3105737,1119246,null,null,8639,902805,1091798,248390,7032031]
["Industry",399555,5275,315598,425310,null,null,420,160022,464549,100575,1871304]
["Transport",613,10,1875717,57736,null,null,null,9933,18757,null,1962766]
["Residential",77007,722,226996,369531,null,null,6390,707408,306262,109797,1804114]
["Commercial and public services",15472,null,98287,143119,null,null,1308,15577,257447,23793,555003]
["Agriculture / forestry",7703,1,95865,5841,null,null,363,5733,28547,5141,149194]
["Fishing",9,null,5943,1,null,null,67,1,144,4,6169]
["Non-specified",19164,279,15666,12878,null,null,91,4132,16092,9080,77382]
["Non-energy use",22168,7439,471665,104830,null,null,null,null,null,null,606101]
[]
[null,{"$f":"SUM(B9,B10:B21,B22*-1)","v":0},{"$f":"SUM(C9,C10:C21,C22*-1)","v":-1},0,0,0,0,0,-1,-2,1,-1]

{"sheet":"World 2005","index":34,"n_rows":32,"n_cols":12,"rows_kept":32,"cut":false,"hidden":true,"merged":[]}
[null,"Coal*","Crude oil","Oil products","Natural gas","Nuclear","Hydro","Geothermal, solar, etc.","Biofuels and waste","Electricity","Heat","Total**"]
[null,"ktoe","ktoe","ktoe","ktoe","ktoe","ktoe","ktoe","ktoe","ktoe","ktoe","ktoe"]
["Production",2997579,4047845,null,2372242,721706,252334,70143,1087885,null,878,11550613]
["Imports",512939,2318621,911688,708370,null,null,null,5003,53187,4,4509812]
["Exports",-528755,-2271463,-999194,-726677,null,null,null,-4199,-53490,-9,-4583787]
["International marine bunkers"]
["International aviation bunkers"]
["Stock changes",8838,-2564,5134,6086,null,null,null,272,null,null,17766]
["TES",2990601,4092438,-82371,2360022,721706,252334,70143,1088960,-302,873,11494403]
["Transfers",null,-165738,183249,null,null,null,null,null,null,null,17511]
["Statistical differences",6107,-9318,2329,6662,null,null,-15,220,1702,159,7847]
["Electricity plants",-1402568,-22838,-223792,-534600,-710298,-252334,-56500,-38990,1323385,-515,-1919050]
["CHP plants",-463952,-61,-33820,-295435,-11407,null,-958,-33835,248677,193346,-397446]
["Heat plants",-23505,-792,-14926,-93786,null,null,-641,-7491,-366,125488,-16019]
["Gas works",-9255,null,-3931,4174,null,null,null,-12,null,null,-9024]
["Oil refineries",null,-3902798,3858918,null,null,null,null,null,null,null,-43880]
["Coal transformation",-192949,23,-2993,-105,null,null,null,-5,null,null,-196028]
["Liquefication plants",-6330,4826,null,-4346,null,null,null,null,null,null,-5850]
["Other transformation",-213,32921,-32243,-4207,null,null,null,-59069,null,-221,-63031]
["Energy industry own use",-69526,-10118,-217012,-220371,null,null,null,-8474,-134462,-34022,-693984]
["Losses",-3001,-6023,-635,-23421,null,null,-10,-334,-137340,-24836,-195598]
["Total final consumption",825410,12525,3432774,1194586,null,null,12019,940969,1301294,260273,7979851]
["Industry",652641,4558,322617,431368,null,null,489,171555,539623,114077,2236928]
["Transport",262,19,2102360,73957,null,null,null,19327,22347,null,2218273]
["Residential",78495,null,230375,397603,null,null,8947,718919,362424,100707,1897469]
["Commercial and public services",25300,31,98448,157794,null,null,1941,20871,306830,31609,642824]
["Agriculture / forestry",12365,7,107188,7830,null,null,384,7466,35325,3808,174375]
["Fishing",12,null,7553,26,null,null,85,1,361,16,8054]
["Non-specified",26515,null,19655,5493,null,null,174,2830,34384,10055,99106]
["Non-energy use",29820,7909,544577,120516,null,null,null,null,null,null,702822]
[]
[null,{"$f":"SUM(B9,B10:B21,B22*-1)","v":-1},{"$f":"SUM(C9,C10:C21,C22*-1)","v":-3},-1,1,1,0,0,1,0,-1,0]

{"sheet":"World 2010","index":35,"n_rows":32,"n_cols":12,"rows_kept":32,"cut":false,"hidden":true,"merged":[]}
[null,"Coal*","Crude oil","Oil products","Natural gas","Nuclear","Hydro","Geothermal, solar, etc.","Biofuels and waste","Electricity","Heat","Total**"]
[null,"ktoe","ktoe","ktoe","ktoe","ktoe","ktoe","ktoe","ktoe","ktoe","ktoe","ktoe"]
["Production",3662889,4093272,null,2715919,718713,296474,110200,1202478,null,1131,12801076]
["Imports",668702,2281341,1112353,822855,null,null,null,14334,50597,5,4950187]
["Exports",-679282,-2180182,-1156247,-820361,null,null,null,-10805,-50820,-9,-4897705]
["International marine bunkers"]
["International aviation bunkers"]
["Stock changes",-2511,-23606,429,17538,null,null,null,-721,null,null,-8871]
["TES",3649798,4170825,-43465,2735952,718713,296474,110200,1205287,-223,1127,12844687]
["Transfers",-354,-161259,182472,null,null,null,null,-47,null,null,20811]
["Statistical differences",-44766,-1664,-13165,9920,null,null,2,-3341,-3722,-1644,-58379]
["Electricity plants",-1584680,-34079,-193731,-708920,-711321,-296474,-85857,-66891,1549052,-569,-2133470]
["CHP plants",-559582,-11,-21468,-317608,-7392,null,-2045,-43061,301667,212271,-437228]
["Heat plants",-27185,-809,-15188,-87033,null,null,-882,-10736,-350,126560,-15623]
["Gas works",-4456,null,-2995,3742,null,null,null,-35,null,null,-3743]
["Oil refineries",null,-3976717,3937994,null,null,null,null,null,null,null,-38723]
["Coal transformation",-245086,null,-3334,-54,null,null,null,-27,null,null,-248502]
["Liquefication plants",-7206,7030,null,-6854,null,null,null,null,null,null,-7030]
["Other transformation",-209,36200,-33157,-5647,null,null,null,-65131,null,-369,-68314]
["Energy industry own use",-114346,-9417,-218432,-252290,null,null,-2,-13685,-157369,-40376,-805916]
["Losses",-3451,-8160,-771,-25385,null,null,-10,-254,-151058,-21748,-210838]
["Total final consumption",1058479,21939,3574760,1345822,null,null,21407,1002077,1537998,275250,8837731]
["Industry",867087,9484,312169,498985,null,null,470,184557,640811,124484,2638047]
["Transport",187,37,2258498,89198,null,null,null,56495,25364,null,2429780]
["Residential",76964,555,206906,429486,null,null,15301,724580,427705,105843,1987340]
["Commercial and public services",32492,118,87196,175420,null,null,4495,24215,357798,35645,717378]
["Agriculture / forestry",13173,94,105203,8265,null,null,564,9851,41578,4019,182748]
["Fishing",11,null,7390,17,null,null,59,9,505,39,8031]
["Non-specified",32543,18,20775,3439,null,null,517,2369,44236,5220,109118]
["Non-energy use",36021,11633,576622,141013,null,null,null,null,null,null,765290]
[]
[null,{"$f":"SUM(B9,B10:B21,B22*-1)","v":-2},{"$f":"SUM(C9,C10:C21,C22*-1)","v":0},0,1,0,0,-1,2,-1,2,1]

{"sheet":"World 2015","index":36,"n_rows":32,"n_cols":12,"rows_kept":32,"cut":false,"hidden":true,"merged":[]}
[null,"Coal*","Crude oil","Oil products","Natural gas","Nuclear","Hydro","Geothermal, solar, etc.","Biofuels and waste","Electricity","Heat","Total**"]
[null,"ktoe","ktoe","ktoe","ktoe","ktoe","ktoe","ktoe","ktoe","ktoe","ktoe","ktoe"]
["Production",3877572,4419467,null,2966252,670172,334851,203821,1265443,null,1867,13739445]
["Imports",765186,2312966,1276375,878814,null,null,null,23451,64620,6,5321418]
["Exports",-795086,-2264148,-1380269,-900334,null,null,null,-18044,-63001,-5,-5420889]
["International marine bunkers"]
["International aviation bunkers"]
["Stock changes",-4929,-18429,-17727,-15937,null,null,null,385,null,null,-56637]
["TES",3842742,4449855,-121622,2928795,670172,334851,203821,1271235,1619,1868,13583338]
["Transfers",-971,-216085,241416,null,null,null,null,-27,null,null,24334]
["Statistical differences",-19322,-4961,37804,15714,null,null,-24,-2245,-6508,407,20867]
["Electricity plants",-1686083,-46486,-188553,-818301,-662593,-334851,-158438,-96750,1759146,-873,-2233784]
["CHP plants",-618700,-7,-18488,-321488,-7579,null,-2729,-59613,328588,228299,-471718]
["Heat plants",-23963,-654,-11541,-62264,null,null,-1205,-11556,-373,98066,-13491]
["Gas works",-8451,-3,-2482,4592,null,null,null,-220,null,null,-6565]
["Oil refineries",null,-4208441,4127460,null,null,null,null,null,null,null,-80981]
["Coal transformation",-282304,null,-2551,-64,null,null,null,-166,null,null,-285085]
["Liquefication plants",-10105,14376,null,-17894,null,null,null,null,null,null,-13623]
["Other transformation",-368,46461,-35562,-12974,null,null,null,-77406,null,-569,-80417]
["Energy industry own use",-92711,-12077,-213705,-273590,null,null,null,-14408,-176684,-36950,-820124]
["Losses",-2503,-8478,-391,-19864,null,null,-11,-189,-165064,-18265,-214765]
["Total final consumption",1097261,13500,3811786,1422661,null,null,41414,1008654,1740726,271984,9407986]
["Industry",888001,3556,292606,541402,null,null,850,199657,733588,124658,2784319]
["Transport",55,15,2486875,97764,null,null,null,78151,28795,null,2691655]
["Residential",74956,null,204943,423166,null,null,29973,688011,472082,102624,1995755]
["Commercial and public services",34778,null,82279,185474,null,null,7680,29396,387199,34421,761226]
["Agriculture / forestry",15327,10,106938,9229,null,null,1878,11187,49932,3074,197573]
["Fishing",1,null,6363,97,null,null,43,22,616,31,7173]
["Non-specified",29839,58,23450,3520,null,null,990,2230,68514,7176,135777]
["Non-energy use",54305,9861,608332,162009,null,null,null,null,null,null,834508]
[]
[null,{"$f":"SUM(B9,B10:B21,B22*-1)","v":0},{"$f":"SUM(C9,C10:C21,C22*-1)","v":0},-1,1,0,0,0,1,-2,-1,0]

{"sheet":"World 2018","index":37,"n_rows":32,"n_cols":12,"rows_kept":32,"cut":false,"hidden":true,"merged":[]}
[null,"Coal*","Crude oil","Oil products","Natural gas","Nuclear","Hydro","Geothermal, solar, etc.","Biofuels and waste","Electricity","Heat","Total**"]
[null,"ktoe","ktoe","ktoe","ktoe","ktoe","ktoe","ktoe","ktoe","ktoe","ktoe","ktoe"]
["Production",3893679,4552548,null,3293124,706814,362332,286377,1324214,null,2062,14421151]
["Imports",829289,2479487,1396839,985018,null,null,null,29259,62626,6,5782524]
["Exports",-879689,-2440069,-1488672,-1019823,null,null,null,-25250,-62373,-2,-5915877]
["International marine bunkers"]
["International aviation bunkers"]
["Stock changes",-4954,-6450,3316,3276,null,null,null,-1096,null,null,-5909]
["TES",3838326,4585516,-88517,3261595,706814,362332,286377,1327127,253,2066,14281889]
["Transfers",-1156,-230550,261068,null,null,null,null,null,null,null,29362]
["Statistical differences",-27371,4874,9542,-3130,null,null,-42,-118,-5139,3966,-17417]
["Electricity plants",-1758789,-30837,-146137,-910907,-703393,-362332,-233459,-135891,1931734,-894,-2350907]
["CHP plants",-676202,-21,-15484,-333421,-3421,null,-2921,-64690,357078,255095,-483987]
["Heat plants",-24095,-473,-9864,-59921,null,null,-1618,-12433,-711,101664,-7452]
["Gas works",-9659,null,-2817,5137,null,null,null,-671,null,null,-8011]
["Oil refineries",null,-4361958,4269234,null,null,null,null,null,null,null,-92723]
["Coal transformation",-246837,null,-2529,-56,null,null,null,-160,null,null,-249583]
["Liquefication plants",-17168,15456,null,-11303,null,null,null,null,null,null,-13015]
["Other transformation",-275,48551,-36636,-14738,null,null,null,-85124,null,-541,-88764]
["Energy industry own use",-79961,-9869,-199045,-302707,null,null,-3,-15473,-192975,-39152,-839185]
["Losses",-2313,-8100,-313,-19204,null,null,-11,-192,-171460,-20909,-222503]
["Total final consumption",994497,12588,4038502,1611345,null,null,48322,1012374,1918779,301295,9937703]
["Industry",796792,2500,290436,597863,null,null,1022,204047,804964,141690,2839313]
["Transport",53,71,2650434,117175,null,null,null,89642,33525,null,2890900]
["Residential",74877,null,218297,481530,null,null,34973,673755,516595,109177,2109205]
["Commercial and public services",30265,null,79180,207178,null,null,8644,30823,412627,39901,808619]
["Agriculture / forestry",15601,2,111062,10348,null,null,2347,12005,58873,4482,214719]
["Fishing",2,null,6151,50,null,null,58,24,665,55,7005]
["Non-specified",25404,3,21307,3590,null,null,1278,2078,91530,5989,151179]
["Non-energy use",51503,10012,661634,193612,null,null,null,null,null,null,916762]
[]
[null,{"$f":"SUM(B9,B10:B21,B22*-1)","v":3},{"$f":"SUM(C9,C10:C21,C22*-1)","v":1},0,0,0,0,1,1,1,0,1]

{"sheet":"BL Non OECD total 2050","index":38,"n_rows":25,"n_cols":34,"rows_kept":25,"cut":false,"hidden":true,"merged":[]}
[null,"Consumption","Coal","Crude oil","Oil Products","Natual Gas","Nuclear","Hydro","Geothermal, solar, wind, etc.","Biofuels and waste","Electricity","Heat","Energy Services","Total consumption","Non OECD total 2050",null,null,"Faktor","Total production","Efficiency","Production","Coal","Crude oil","Oil Products","Natual Gas","Nuclear","Hydro","Geothermal, solar, wind, etc.","Biofuels and waste","Electricity","Heat","Energy Services","Loss","CO2-emissions"]
["ID","C ","CC","CCO","COP","CNG","CNU","CHY","CGSW","CWB","CE","CH","CES","fbrbr",null,"ID","ID Parent","factor","pbrpr","pvrkg","P ","PC","PCO","POP","PNG","PNU","PHY","PGSW","PWB","PE","PH","PES","PTAB","PCO2"]
["ID Parent",null,"C","C","C ","C ","C ","C","C","C ","C ","C ","C ",null,"Structures",null,null,null,null,null,null,"P ","P ","P ","P ","P ","P ","P","P ","P ","P ","P "]
["Factor",null,null,null,null,null,null,null,null,null,null,null,null,null,null,null,null,null,null,null,{"$f":"B4","v":0},null,null,null,null,null,null,null,null,null,null,null,{"$f":"U4","v":0},{"$f":"U4","v":0}]
[null,null,null,null,null,null,null,null,null,null,null,null,null,{"$f":"SUM(C5:M5)","v":0},"Entry fuels","ETP",null,null,{"$f":"SUM(V5:AF5)","v":{"$error":"#REF!"}},null,null,{"$f":"-(C6+C5)","v":{"$error":"#REF!"}},{"$f":"-(D6+D5)","v":{"$error":"#REF!"}},null,{"$f":"-(F6+F5)","v":{"$error":"#REF!"}},{"$f":"-(G6+G5)","v":{"$error":"#REF!"}},null,null,{"$f":"-(J6+J5)","v":{"$error":"#REF!"}}]
[null,null,{"$f":"-V6","v":{"$error":"#REF!"}},{"$f":"-W6","v":{"$error":"#REF!"}},null,{"$f":"-Y6","v":{"$error":"#REF!"}},{"$f":"-Z6","v":{"$error":"#REF!"}},null,null,{"$f":"-AC6","v":{"$error":"#REF!"}},null,null,null,{"$f":"SUM(C6:M6)","v":{"$error":"#REF!"}},"Transport of fuels","TRAP",null,null,{"$f":"SUM(V6:AF6)","v":{"$error":"#REF!"}},null,null,{"$f":"-(C16+C8)","v":{"$error":"#REF!"}},{"$f":"-(D16+D8)","v":{"$error":"#REF!"}},null,{"$f":"-(F16+F8)","v":{"$error":"#REF!"}},{"$f":"-(G16+G8)","v":{"$error":"#REF!"}},null,null,{"$f":"-(J16+J8)","v":{"$error":"#REF!"}},null,null,null,{"$f":"-(N6+S6)","v":{"$error":"#REF!"}}]
[null,null,null,null,null,null,null,null,null,null,null,null,null,0,"Entry On-Grid RE ","ELP1",null,null,{"$error":"#REF!"},null,null,null,null,null,null,null,{"$f":"-H8","v":{"$error":"#REF!"}},{"$f":"-I8","v":{"$error":"#REF!"}}]
[null,null,{"$f":"SUM(C9:C13)","v":{"$error":"#REF!"}},{"$f":"SUM(D9:D13)","v":{"$error":"#REF!"}},{"$error":"#REF!"},{"$error":"#REF!"},{"$error":"#REF!"},{"$error":"#REF!"},{"$error":"#REF!"},{"$error":"#REF!"},{"$error":"#REF!"},{"$error":"#REF!"},0,{"$error":"#REF!"},"Entry electricity, district heating and oil products","ES",null,null,{"$error":"#REF!"},null,null,{"$f":"SUM(V9:V13)","v":0},null,{"$f":"(E14+E8)*-1","v":{"$error":"#REF!"}},null,null,null,null,null,{"$f":"(K14+K8)*-1","v":{"$error":"#REF!"}},{"$f":"(L14+L8)*-1","v":{"$error":"#REF!"}},null,{"$f":"-(N8+S8)","v":{"$error":"#REF!"}},{"$f":"SUM(AH9:AH13)","v":{"$error":"#REF!"}}]
[null,null,{"$f":"-($AD$9+$H$9+$I$9)/$T$9*#REF!","v":{"$error":"#REF!"}},{"$f":"-($AD$9+$H$9+$I$9)/$T$9*#REF!","v":{"$error":"#REF!"}},{"$f":"-($AD$9+$H$9+$I$9)/$T$9*#REF!","v":{"$error":"#REF!"}},{"$f":"-($AD$9+$H$9+$I$9)/$T$9*#REF!","v":{"$error":"#REF!"}},{"$f":"-($AD$9+$H$9+$I$9)/$T$9*#REF!","v":{"$error":"#REF!"}},{"$f":"AD9*#REF!*-1","v":{"$error":"#REF!"}},{"$f":"AD9*#REF!*-1","v":{"$error":"#REF!"}},{"$f":"-($AD$9+$H$9+$I$9)/$T$9*#REF!","v":{"$error":"#REF!"}},null,null,null,{"$error":"#REF!"},"Electricity-only plants","ESEP","ES",null,{"$error":"#REF!"},{"$f":"#REF!","v":{"$error":"#REF!"}},null,null,null,null,null,null,null,null,null,{"$f":"AD8-AD10","v":{"$error":"#REF!"}},null,null,{"$f":"-(S9+N9)","v":{"$error":"#REF!"}},{"$f":"-(C9*Emissionsfaktorer!$B$2*(1-#REF!)+D9*Emissionsfaktorer!$B$3+E9*Emissionsfaktorer!$B$4*(1-#REF!)+F9*Emissionsfaktorer!$B$5*(1-#REF!)+G9*Emissionsfaktorer!$B$6+H9*Emissionsfaktorer!$B$7+I9*Emissionsfaktorer!$B$8-J9*Emissionsfaktorer!B13*#REF!+K9*Emissionsfaktorer!$B$10+L9*Emissionsfaktorer!$B$11+M9*Emissionsfaktorer!$B$12)","v":{"$error":"#REF!"}}]
[null,null,{"$f":"-($AD$10+$AE$10+$H$10+$I$10)/IF($T$10=0,1,T10)*#REF!","v":{"$error":"#REF!"}},{"$f":"-($AD$10+$AE$10+$H$10+$I$10)/IF($T$10=0,1,T10)*#REF!","v":{"$error":"#REF!"}},{"$f":"-($AD$10+$AE$10+$H$10+$I$10)/IF($T$10=0,1,T10)*#REF!","v":{"$error":"#REF!"}},{"$f":"-($AD$10+$AE$10+$H$10+$I$10)/IF($T$10=0,1,T10)*#REF!","v":{"$error":"#REF!"}},{"$f":"-($AD$10+$AE$10+$H$10+$I$10)/IF($T$10=0,1,T10)*#REF!","v":{"$error":"#REF!"}},null,{"$f":"(AD10+AE10)*#REF!*-1","v":{"$error":"#REF!"}},{"$f":"-($AD$10+$AE$10+$H$10+$I$10)/IF($T$10=0,1,T10)*#REF!","v":{"$error":"#REF!"}},null,null,null,{"$error":"#REF!"},"CHP plants","ESCHP","ES",null,{"$error":"#REF!"},{"$f":"#REF!","v":{"$error":"#REF!"}},null,null,null,null,null,null,null,null,null,{"$f":"AE10*#REF!","v":{"$error":"#REF!"}},{"$f":"AE8*#REF!","v":{"$error":"#REF!"}},null,{"$f":"-(S10+N10)","v":{"$error":"#REF!"}},{"$f":"-(C10*Emissionsfaktorer!$B$2*(1-#REF!)+D10*Emissionsfaktorer!$B$3+E10*Emissionsfaktorer!$B$4*(1-#REF!)+F10*Emissionsfaktorer!$B$5*(1-#REF!)+G10*Emissionsfaktorer!$B$6+H10*Emissionsfaktorer!$B$7+I10*Emissionsfaktorer!$B$8-J10*Emissionsfaktorer!B14*#REF!+K10*Emissionsfaktorer!$B$10+L10*Emissionsfaktorer!$B$11+M10*Emissionsfaktorer!$B$12)","v":{"$error":"#REF!"}}]
[null,null,{"$f":"-($AE$11+$H$11+$I$11)/IF($T$11=0,1,$T$11)*#REF!","v":{"$error":"#REF!"}},{"$f":"-($AE$11+$H$11+$I$11)/IF($T$11=0,1,$T$11)*#REF!","v":{"$error":"#REF!"}},{"$f":"-($AE$11+$H$11+$I$11)/IF($T$11=0,1,$T$11)*#REF!","v":{"$error":"#REF!"}},{"$f":"-($AE$11+$H$11+$I$11)/IF($T$11=0,1,$T$11)*#REF!","v":{"$error":"#REF!"}},{"$f":"-($AE$11+$H$11+$I$11)/IF($T$11=0,1,$T$11)*#REF!","v":{"$error":"#REF!"}},null,{"$f":"AE11*#REF!*-1","v":{"$error":"#REF!"}},{"$f":"-($AE$11+$H$11+$I$11)/IF($T$11=0,1,$T$11)*#REF!","v":{"$error":"#REF!"}},{"$f":"AE11*#REF!*-1","v":{"$error":"#REF!"}},null,null,{"$error":"#REF!"},"Heat Plants","ESHP","ES",null,{"$error":"#REF!"},{"$f":"#REF!","v":{"$error":"#REF!"}},null,null,null,null,null,null,null,null,null,null,{"$f":"AE8*#REF!","v":{"$error":"#REF!"}},null,{"$f":"-(S11+N11)","v":{"$error":"#REF!"}},{"$f":"-(C11*Emissionsfaktorer!$B$2+D11*Emissionsfaktorer!$B$3+E11*Emissionsfaktorer!$B$4+F11*Emissionsfaktorer!$B$5+G11*Emissionsfaktorer!$B$6+H11*Emissionsfaktorer!$B$7+I11*Emissionsfaktorer!$B$8+J11*Emissionsfaktorer!$B$9+K11*Emissionsfaktorer!$B$10+L11*Emissionsfaktorer!$B$11+M11*Emissionsfaktorer!$B$12)","v":{"$error":"#REF!"}}]
[null,null,null,{"$f":"-X12/IF(T12=0,1,T12)*#REF!","v":{"$error":"#REF!"}},null,null,null,null,null,{"$f":"-X12/IF(T12=0,1,T12)*#REF!","v":{"$error":"#REF!"}},null,null,null,{"$error":"#REF!"},"Oil refineries","ESOR","ES",null,{"$error":"#REF!"},{"$f":"#REF!","v":{"$error":"#REF!"}},null,null,null,{"$f":"-(E9+E10+E11+E13+E14)","v":{"$error":"#REF!"}},null,null,null,null,null,null,null,null,{"$f":"-(S12+N12)","v":{"$error":"#REF!"}},{"$f":"J12*Emissionsfaktorer!B4","v":{"$error":"#REF!"}}]
[null,null,{"$f":"N13*#REF!","v":{"$error":"#REF!"}},{"$f":"N13*#REF!","v":{"$error":"#REF!"}},{"$f":"N13*#REF!","v":{"$error":"#REF!"}},{"$f":"N13*#REF!","v":{"$error":"#REF!"}},null,null,null,{"$f":"N13*#REF!","v":{"$error":"#REF!"}},{"$f":"N13*#REF!","v":{"$error":"#REF!"}},{"$f":"N13*#REF!","v":{"$error":"#REF!"}},null,{"$f":"N16*#REF!","v":{"$error":"#REF!"}},"Energy Industry one use","ESNSP","ES",null,0,0,null,null,null,null,null,null,null,null,null,null,null,null,{"$f":"-(S13+N13)","v":{"$error":"#REF!"}},{"$f":"-(C13*Emissionsfaktorer!$B$2+D13*Emissionsfaktorer!$B$3+E13*Emissionsfaktorer!$B$4+F13*Emissionsfaktorer!$B$5+G13*Emissionsfaktorer!$B$6+H13*Emissionsfaktorer!$B$7+I13*Emissionsfaktorer!$B$8+J13*Emissionsfaktorer!$B$9+K13*Emissionsfaktorer!$B$10+L13*Emissionsfaktorer!$B$11+M13*Emissionsfaktorer!$B$12)","v":{"$error":"#REF!"}}]
[null,null,null,null,{"$f":"-X14*1","v":{"$error":"#REF!"}},null,null,null,null,null,{"$f":"-AD14*(1+#REF!)","v":{"$error":"#REF!"}},{"$f":"-AE14*(1+#REF!)","v":{"$error":"#REF!"}},null,{"$error":"#REF!"},"Transport electricity, district heating and oil products","TRAS",null,null,{"$error":"#REF!"},null,null,null,null,{"$f":"-E16","v":{"$error":"#REF!"}},null,null,null,null,null,{"$f":"-K16","v":{"$error":"#REF!"}},{"$f":"-L16","v":{"$error":"#REF!"}},null,{"$f":"-(N14+S14)","v":{"$error":"#REF!"}}]
[null,null,null,null,null,null,null,null,null,null,null,null,null,0,"Entry Off-Grid RE","ELP2",null,null,{"$error":"#REF!"},null,null,null,null,null,null,null,null,{"$f":"I16*-1","v":{"$error":"#REF!"}}]
[null,null,{"$f":"SUM(C17:C19)","v":{"$error":"#REF!"}},{"$error":"#REF!"},{"$error":"#REF!"},{"$error":"#REF!"},0,0,{"$error":"#REF!"},{"$error":"#REF!"},{"$error":"#REF!"},{"$error":"#REF!"},0,{"$f":"#REF!","v":{"$error":"#REF!"}},"Exit energy","EX",null,null,{"$error":"#REF!"},null,null,null,null,null,null,null,null,null,null,null,null,{"$f":"SUM(AF17:AF19)","v":{"$error":"#REF!"}},{"$f":"SUM(AG17:AG19)","v":{"$error":"#REF!"}},{"$f":"SUM(AH17:AH19)","v":{"$error":"#REF!"}}]
[null,null,{"$f":"AF17*#REF!/T17*#REF!/#REF!*-1","v":{"$error":"#REF!"}},{"$f":"AF17*#REF!/T17*#REF!/#REF!*-1","v":{"$error":"#REF!"}},{"$f":"AF17*#REF!/T17*#REF!/#REF!*-1","v":{"$error":"#REF!"}},{"$f":"AF17*#REF!/T17*#REF!/#REF!*-1","v":{"$error":"#REF!"}},null,null,{"$f":"AF17*#REF!/T17*#REF!/#REF!*-1","v":{"$error":"#REF!"}},{"$f":"AF17*#REF!*#REF!/T17/#REF!*-1","v":{"$error":"#REF!"}},{"$f":"AF17*#REF!*#REF!/T17/#REF!*-1","v":{"$error":"#REF!"}},{"$f":"AF17*#REF!*#REF!/T17/#REF!*-1","v":{"$error":"#REF!"}},null,{"$f":"SUM(C17:L17)","v":{"$error":"#REF!"}},"Industry","EXI","EX",null,{"$error":"#REF!"},{"$f":"(#REF!+#REF!+#REF!+#REF!+#REF!)*#REF!+(#REF!+#REF!)*#REF!+#REF!*#REF!","v":{"$error":"#REF!"}},null,null,null,null,null,null,null,null,null,null,null,{"$f":"#REF!*#REF!*((#REF!+#REF!+#REF!+#REF!+#REF!)*#REF!+(#REF!+#REF!)*#REF!+#REF!*#REF!)*-1","v":{"$error":"#REF!"}},{"$f":"(S17+SUM(C17:M17))*-1","v":{"$error":"#REF!"}},{"$f":"-(C17*Emissionsfaktorer!$B$2+D17*Emissionsfaktorer!$B$3+E17*Emissionsfaktorer!$B$4+F17*Emissionsfaktorer!$B$5+G17*Emissionsfaktorer!$B$6+H17*Emissionsfaktorer!$B$7+I17*Emissionsfaktorer!$B$8+J17*Emissionsfaktorer!$B$9+K17*Emissionsfaktorer!$B$10+L17*Emissionsfaktorer!$B$11+M17*Emissionsfaktorer!$B$12)","v":{"$error":"#REF!"}}]
[null,null,{"$f":"AF18*#REF!/T18*#REF!/#REF!*-1","v":{"$error":"#REF!"}},null,{"$f":"AF18*#REF!/T18*#REF!/#REF!*-1","v":{"$error":"#REF!"}},{"$f":"AF18*#REF!/T18*#REF!/#REF!*-1","v":{"$error":"#REF!"}},null,null,{"$f":"AF18*#REF!/T18*#REF!/#REF!*-1","v":{"$error":"#REF!"}},{"$f":"AF18*#REF!/T18*#REF!/#REF!*-1","v":{"$error":"#REF!"}},{"$f":"AF18*#REF!/T18*#REF!/#REF!*-1","v":{"$error":"#REF!"}},{"$f":"AF18*#REF!/T18*#REF!/#REF!*-1","v":{"$error":"#REF!"}},null,{"$f":"SUM(C18:L18)","v":{"$error":"#REF!"}},"Transport","EXT","EX",null,{"$error":"#REF!"},{"$f":"(#REF!+#REF!+#REF!+#REF!)*#REF!+(#REF!+#REF!)*#REF!+#REF!*#REF!","v":{"$error":"#REF!"}},null,null,null,null,null,null,null,null,null,null,null,{"$f":"#REF!*#REF!*-1*((#REF!+#REF!+#REF!+#REF!)*#REF!+(#REF!+#REF!)*#REF!+#REF!*#REF!)","v":{"$error":"#REF!"}},{"$f":"(S18+SUM(C18:M18))*-1","v":{"$error":"#REF!"}},{"$f":"-(C18*Emissionsfaktorer!$B$2+D18*Emissionsfaktorer!$B$3+E18*Emissionsfaktorer!$B$4+F18*Emissionsfaktorer!$B$5+G18*Emissionsfaktorer!$B$6+H18*Emissionsfaktorer!$B$7+I18*Emissionsfaktorer!$B$8+J18*Emissionsfaktorer!$B$9+K18*Emissionsfaktorer!$B$10+L18*Emissionsfaktorer!$B$11+M18*Emissionsfaktorer!$B$12)","v":{"$error":"#REF!"}}]
[null,null,{"$f":"SUM(C20:C24)","v":{"$error":"#REF!"}},{"$f":"SUM(D20:D24)","v":0},{"$error":"#REF!"},{"$error":"#REF!"},0,0,{"$error":"#REF!"},{"$error":"#REF!"},{"$error":"#REF!"},{"$error":"#REF!"},0,{"$f":"SUM(N20:N24)","v":{"$error":"#REF!"}},"Other ","EXO","EX",null,{"$error":"#REF!"},0.8,null,{"$f":"SUM(V20:V24)","v":0},{"$f":"SUM(W20:W24)","v":0},0,0,0,0,0,0,0,0,{"$error":"#REF!"},{"$error":"#REF!"},{"$error":"#REF!"}]
[null,null,{"$f":"AF20*#REF!/T20*#REF!/#REF!*-1","v":{"$error":"#REF!"}},null,{"$f":"AF20*#REF!/T20*#REF!/#REF!*-1","v":{"$error":"#REF!"}},{"$f":"AF20*#REF!/T20*#REF!/#REF!*-1","v":{"$error":"#REF!"}},null,null,{"$f":"AF20*#REF!/T20*#REF!/#REF!*-1","v":{"$error":"#REF!"}},{"$f":"AF20*#REF!/T20*#REF!/#REF!*-1","v":{"$error":"#REF!"}},{"$f":"AF20*#REF!/T20*#REF!/#REF!*-1","v":{"$error":"#REF!"}},{"$f":"AF20*#REF!/T20*#REF!/#REF!*-1","v":{"$error":"#REF!"}},null,{"$f":"SUM(C20:L20)","v":{"$error":"#REF!"}},"Residential","EXOR","EXO",null,{"$error":"#REF!"},{"$f":"(#REF!+#REF!+#REF!+#REF!)*#REF!+(#REF!+#REF!)*#REF!+#REF!*#REF!","v":{"$error":"#REF!"}},null,null,null,null,null,null,null,null,null,null,null,{"$f":"#REF!*#REF!*((#REF!+#REF!+#REF!+#REF!)*#REF!+(#REF!+#REF!)*#REF!+#REF!*#REF!)*-1","v":{"$error":"#REF!"}},{"$f":"(N20+AF20)*-1","v":{"$error":"#REF!"}},{"$f":"-(C20*Emissionsfaktorer!$B$2+D20*Emissionsfaktorer!$B$3+E20*Emissionsfaktorer!$B$4+F20*Emissionsfaktorer!$B$5+G20*Emissionsfaktorer!$B$6+H20*Emissionsfaktorer!$B$7+I20*Emissionsfaktorer!$B$8+J20*Emissionsfaktorer!$B$9+K20*Emissionsfaktorer!$B$10+L20*Emissionsfaktorer!$B$11+M20*Emissionsfaktorer!$B$12)","v":{"$error":"#REF!"}}]
[null,null,{"$f":"AF21*#REF!/T21*#REF!/#REF!*-1","v":{"$error":"#REF!"}},null,{"$f":"AF21*#REF!/T21*#REF!/#REF!*-1","v":{"$error":"#REF!"}},{"$f":"AF21*#REF!/T21*#REF!/#REF!*-1","v":{"$error":"#REF!"}},null,null,{"$f":"AF21*#REF!/T21*#REF!/#REF!*-1","v":{"$error":"#REF!"}},{"$f":"AF21*#REF!/T21*#REF!/#REF!*-1","v":{"$error":"#REF!"}},{"$f":"AF21*#REF!/T21*#REF!/#REF!*-1","v":{"$error":"#REF!"}},{"$f":"AF21*#REF!/T21*#REF!/#REF!*-1","v":{"$error":"#REF!"}},null,{"$f":"SUM(C21:L21)","v":{"$error":"#REF!"}},"Commercial and public services","EXOC","EXO",null,{"$error":"#REF!"},{"$f":"(#REF!+#REF!+#REF!+#REF!)*#REF!+(#REF!+#REF!)*#REF!+#REF!*#REF!","v":{"$error":"#REF!"}},null,null,null,null,null,null,null,null,null,null,null,{"$f":"#REF!*#REF!*((#REF!+#REF!+#REF!+#REF!)*#REF!+(#REF!+#REF!)*#REF!+#REF!*#REF!)*-1","v":{"$error":"#REF!"}},{"$f":"(N21+AF21)*-1","v":{"$error":"#REF!"}},{"$f":"-(C21*Emissionsfaktorer!$B$2+D21*Emissionsfaktorer!$B$3+E21*Emissionsfaktorer!$B$4+F21*Emissionsfaktorer!$B$5+G21*Emissionsfaktorer!$B$6+H21*Emissionsfaktorer!$B$7+I21*Emissionsfaktorer!$B$8+J21*Emissionsfaktorer!$B$9+K21*Emissionsfaktorer!$B$10+L21*Emissionsfaktorer!$B$11+M21*Emissionsfaktorer!$B$12)","v":{"$error":"#REF!"}}]
[null,null,{"$f":"AF22*#REF!/T22*#REF!/#REF!*-1","v":{"$error":"#REF!"}},null,{"$f":"AF22*#REF!/T22*#REF!/#REF!*-1","v":{"$error":"#REF!"}},{"$f":"AF22*#REF!/T22*#REF!/#REF!*-1","v":{"$error":"#REF!"}},null,null,{"$f":"AF22*#REF!/T22*#REF!/#REF!*-1","v":{"$error":"#REF!"}},{"$f":"AF22*#REF!/T22*#REF!/#REF!*-1","v":{"$error":"#REF!"}},{"$f":"AF22*#REF!/T22*#REF!/#REF!*-1","v":{"$error":"#REF!"}},{"$f":"AF22*#REF!/T22*#REF!/#REF!*-1","v":{"$error":"#REF!"}},null,{"$f":"SUM(C22:L22)","v":{"$error":"#REF!"}},"Agriculture / forestry","EXOA","EXO",null,{"$error":"#REF!"},{"$f":"(#REF!+#REF!+#REF!+#REF!)*#REF!+(#REF!+#REF!)*#REF!+#REF!*#REF!","v":{"$error":"#REF!"}},null,null,null,null,null,null,null,null,null,null,null,{"$f":"((#REF!+#REF!+#REF!+#REF!)*#REF!+(#REF!+#REF!)*#REF!+#REF!*#REF!)*#REF!*#REF!*-1","v":{"$error":"#REF!"}},{"$f":"(N22+AF22)*-1","v":{"$error":"#REF!"}},{"$f":"-(C22*Emissionsfaktorer!$B$2+D22*Emissionsfaktorer!$B$3+E22*Emissionsfaktorer!$B$4+F22*Emissionsfaktorer!$B$5+G22*Emissionsfaktorer!$B$6+H22*Emissionsfaktorer!$B$7+I22*Emissionsfaktorer!$B$8+J22*Emissionsfaktorer!$B$9+K22*Emissionsfaktorer!$B$10+L22*Emissionsfaktorer!$B$11+M22*Emissionsfaktorer!$B$12)","v":{"$error":"#REF!"}}]
[null,null,{"$f":"AF23*#REF!/T23*#REF!/#REF!*-1","v":{"$error":"#REF!"}},null,{"$f":"AF23*#REF!/T23*#REF!/#REF!*-1","v":{"$error":"#REF!"}},{"$f":"AF23*#REF!/T23*#REF!/#REF!*-1","v":{"$error":"#REF!"}},null,null,{"$f":"AF23*#REF!/T23*#REF!/#REF!*-1","v":{"$error":"#REF!"}},{"$f":"AF23*#REF!/T23*#REF!/#REF!*-1","v":{"$error":"#REF!"}},{"$f":"AF23*#REF!/T23*#REF!/#REF!*-1","v":{"$error":"#REF!"}},{"$f":"AF23*#REF!/T23*#REF!/#REF!*-1","v":{"$error":"#REF!"}},null,{"$f":"SUM(C23:L23)","v":{"$error":"#REF!"}},"Fishing","EXOF","EXO",null,{"$error":"#REF!"},{"$f":"(#REF!+#REF!+#REF!+#REF!)*#REF!+(#REF!+#REF!)*#REF!+#REF!*#REF!","v":{"$error":"#REF!"}},null,null,null,null,null,null,null,null,null,null,null,{"$f":"((#REF!+#REF!+#REF!+#REF!)*#REF!+(#REF!+#REF!)*#REF!+#REF!*#REF!)*#REF!*#REF!*-1","v":{"$error":"#REF!"}},{"$f":"(N23+AF23)*-1","v":{"$error":"#REF!"}},{"$f":"-(C23*Emissionsfaktorer!$B$2+D23*Emissionsfaktorer!$B$3+E23*Emissionsfaktorer!$B$4+F23*Emissionsfaktorer!$B$5+G23*Emissionsfaktorer!$B$6+H23*Emissionsfaktorer!$B$7+I23*Emissionsfaktorer!$B$8+J23*Emissionsfaktorer!$B$9+K23*Emissionsfaktorer!$B$10+L23*Emissionsfaktorer!$B$11+M23*Emissionsfaktorer!$B$12)","v":{"$error":"#REF!"}}]
[null,null,{"$f":"AF24*#REF!/T24*#REF!/#REF!*-1","v":{"$error":"#REF!"}},null,{"$f":"AF24*#REF!/T24*#REF!/#REF!*-1","v":{"$error":"#REF!"}},{"$f":"AF24*#REF!/T24*#REF!/#REF!*-1","v":{"$error":"#REF!"}},null,null,{"$f":"AF24*#REF!/T24*#REF!/#REF!*-1","v":{"$error":"#REF!"}},{"$f":"AF24*#REF!/T24*#REF!/#REF!*-1","v":{"$error":"#REF!"}},{"$f":"AF24*#REF!/T24*#REF!/#REF!*-1","v":{"$error":"#REF!"}},{"$f":"AF24*#REF!/T24*#REF!/#REF!*-1","v":{"$error":"#REF!"}},null,{"$f":"SUM(C24:L24)","v":{"$error":"#REF!"}},"Non-specified","EXON","EXO",null,{"$error":"#REF!"},{"$f":"(#REF!+#REF!+#REF!+#REF!)*#REF!+(#REF!+#REF!)*#REF!+#REF!*#REF!","v":{"$error":"#REF!"}},null,null,null,null,null,null,null,null,null,null,null,{"$f":"((#REF!+#REF!+#REF!+#REF!)*#REF!+(#REF!+#REF!)*#REF!+#REF!*#REF!)*#REF!*#REF!*-1","v":{"$error":"#REF!"}},{"$f":"(N24+AF24)*-1","v":{"$error":"#REF!"}},{"$f":"-(C24*Emissionsfaktorer!$B$2+D24*Emissionsfaktorer!$B$3+E24*Emissionsfaktorer!$B$4+F24*Emissionsfaktorer!$B$5+G24*Emissionsfaktorer!$B$6+H24*Emissionsfaktorer!$B$7+I24*Emissionsfaktorer!$B$8+J24*Emissionsfaktorer!$B$9+K24*Emissionsfaktorer!$B$10+L24*Emissionsfaktorer!$B$11+M24*Emissionsfaktorer!$B$12)","v":{"$error":"#REF!"}}]
[null,null,null,null,null,null,null,null,null,null,null,null,null,{"$f":"N16","v":{"$error":"#REF!"}},"Energy Services","EN",null,null,{"$error":"#REF!"},{"$f":"AF25/N25*-1","v":{"$error":"#REF!"}},null,null,null,null,null,null,null,null,null,null,null,{"$f":"AF16","v":{"$error":"#REF!"}},{"$f":"-(S25+N25)","v":{"$error":"#REF!"}}]

{"sheet":"BL Non OECD total 2030","index":39,"n_rows":25,"n_cols":34,"rows_kept":25,"cut":false,"hidden":true,"merged":[]}
[null,"Consumption","Coal","Crude oil","Oil Products","Natual Gas","Nuclear","Hydro","Geothermal, solar, wind, etc.","Biofuels and waste","Electricity","Heat","Energy Services","Total consumption","Non OECD total 2030",null,null,"Faktor","Total production","Efficiency","Production","Coal","Crude oil","Oil Products","Natual Gas","Nuclear","Hydro","Geothermal, solar, wind, etc.","Biofuels and waste","Electricity","Heat","Energy Services","Loss","CO2-emissions"]
["ID","C ","CC","CCO","COP","CNG","CNU","CHY","CGSW","CWB","CE","CH","CES","fbrbr",null,"ID","ID Parent","factor","pbrpr","pvrkg","P ","PC","PCO","POP","PNG","PNU","PHY","PGSW","PWB","PE","PH","PES","PTAB","PCO2"]
["ID Parent",null,"C","C","C ","C ","C ","C","C","C ","C ","C ","C ",null,"Structures",null,null,null,null,null,null,"P ","P ","P ","P ","P ","P ","P","P ","P ","P ","P "]
["Factor",null,null,null,null,null,null,null,null,null,null,null,null,null,null,null,null,null,null,null,{"$f":"B4","v":0},null,null,null,null,null,null,null,null,null,null,null,{"$f":"U4","v":0},{"$f":"U4","v":0}]
[null,null,null,null,null,null,null,null,null,null,null,null,null,{"$f":"SUM(C5:M5)","v":0},"Entry fuels","ETP",null,null,{"$f":"SUM(V5:AF5)","v":{"$error":"#REF!"}},null,null,{"$f":"-(C6+C5)","v":{"$error":"#REF!"}},{"$f":"-(D6+D5)","v":{"$error":"#REF!"}},null,{"$f":"-(F6+F5)","v":{"$error":"#REF!"}},{"$f":"-(G6+G5)","v":{"$error":"#REF!"}},null,null,{"$f":"-(J6+J5)","v":{"$error":"#REF!"}}]
[null,null,{"$f":"-V6","v":{"$error":"#REF!"}},{"$f":"-W6","v":{"$error":"#REF!"}},null,{"$f":"-Y6","v":{"$error":"#REF!"}},{"$f":"-Z6","v":{"$error":"#REF!"}},null,null,{"$f":"-AC6","v":{"$error":"#REF!"}},null,null,null,{"$f":"SUM(C6:M6)","v":{"$error":"#REF!"}},"Transport of fuels","TRAP",null,null,{"$f":"SUM(V6:AF6)","v":{"$error":"#REF!"}},null,null,{"$f":"-(C16+C8)","v":{"$error":"#REF!"}},{"$f":"-(D16+D8)","v":{"$error":"#REF!"}},null,{"$f":"-(F16+F8)","v":{"$error":"#REF!"}},{"$f":"-(G16+G8)","v":{"$error":"#REF!"}},null,null,{"$f":"-(J16+J8)","v":{"$error":"#REF!"}},null,null,null,{"$f":"-(N6+S6)","v":{"$error":"#REF!"}}]
[null,null,null,null,null,null,null,null,null,null,null,null,null,0,"Entry On-Grid RE ","ELP1",null,null,{"$error":"#REF!"},null,null,null,null,null,null,null,{"$f":"-H8","v":{"$error":"#REF!"}},{"$f":"-I8","v":{"$error":"#REF!"}}]
[null,null,{"$f":"SUM(C9:C13)","v":{"$error":"#REF!"}},{"$f":"SUM(D9:D13)","v":{"$error":"#REF!"}},{"$error":"#REF!"},{"$error":"#REF!"},{"$error":"#REF!"},{"$error":"#REF!"},{"$error":"#REF!"},{"$error":"#REF!"},{"$error":"#REF!"},{"$error":"#REF!"},0,{"$error":"#REF!"},"Entry electricity, district heating and oil products","ES",null,null,{"$error":"#REF!"},null,null,{"$f":"SUM(V9:V13)","v":0},null,{"$f":"(E14+E8)*-1","v":{"$error":"#REF!"}},null,null,null,null,null,{"$f":"(K14+K8)*-1","v":{"$error":"#REF!"}},{"$f":"(L14+L8)*-1","v":{"$error":"#REF!"}},null,{"$f":"-(N8+S8)","v":{"$error":"#REF!"}},{"$f":"SUM(AH9:AH13)","v":{"$error":"#REF!"}}]
[null,null,{"$f":"-($AD$9+$H$9+$I$9)/$T$9*#REF!","v":{"$error":"#REF!"}},{"$f":"-($AD$9+$H$9+$I$9)/$T$9*#REF!","v":{"$error":"#REF!"}},{"$f":"-($AD$9+$H$9+$I$9)/$T$9*#REF!","v":{"$error":"#REF!"}},{"$f":"-($AD$9+$H$9+$I$9)/$T$9*#REF!","v":{"$error":"#REF!"}},{"$f":"-($AD$9+$H$9+$I$9)/$T$9*#REF!","v":{"$error":"#REF!"}},{"$f":"AD9*#REF!*-1","v":{"$error":"#REF!"}},{"$f":"AD9*#REF!*-1","v":{"$error":"#REF!"}},{"$f":"-($AD$9+$H$9+$I$9)/$T$9*#REF!","v":{"$error":"#REF!"}},null,null,null,{"$error":"#REF!"},"Electricity-only plants","ESEP","ES",null,{"$error":"#REF!"},{"$f":"#REF!","v":{"$error":"#REF!"}},null,null,null,null,null,null,null,null,null,{"$f":"AD8-AD10","v":{"$error":"#REF!"}},null,null,{"$f":"-(S9+N9)","v":{"$error":"#REF!"}},{"$f":"-(C9*Emissionsfaktorer!$B$2*(1-#REF!)+D9*Emissionsfaktorer!$B$3+E9*Emissionsfaktorer!$B$4*(1-#REF!)+F9*Emissionsfaktorer!$B$5*(1-#REF!)+G9*Emissionsfaktorer!$B$6+H9*Emissionsfaktorer!$B$7+I9*Emissionsfaktorer!$B$8-J9*Emissionsfaktorer!B13*#REF!+K9*Emissionsfaktorer!$B$10+L9*Emissionsfaktorer!$B$11+M9*Emissionsfaktorer!$B$12)","v":{"$error":"#REF!"}}]
[null,null,{"$f":"-($AD$10+$AE$10+$H$10+$I$10)/IF($T$10=0,1,T10)*#REF!","v":{"$error":"#REF!"}},{"$f":"-($AD$10+$AE$10+$H$10+$I$10)/IF($T$10=0,1,T10)*#REF!","v":{"$error":"#REF!"}},{"$f":"-($AD$10+$AE$10+$H$10+$I$10)/IF($T$10=0,1,T10)*#REF!","v":{"$error":"#REF!"}},{"$f":"-($AD$10+$AE$10+$H$10+$I$10)/IF($T$10=0,1,T10)*#REF!","v":{"$error":"#REF!"}},{"$f":"-($AD$10+$AE$10+$H$10+$I$10)/IF($T$10=0,1,T10)*#REF!","v":{"$error":"#REF!"}},null,{"$f":"(AD10+AE10)*#REF!*-1","v":{"$error":"#REF!"}},{"$f":"-($AD$10+$AE$10+$H$10+$I$10)/IF($T$10=0,1,T10)*#REF!","v":{"$error":"#REF!"}},null,null,null,{"$error":"#REF!"},"CHP plants","ESCHP","ES",null,{"$error":"#REF!"},{"$f":"#REF!","v":{"$error":"#REF!"}},null,null,null,null,null,null,null,null,null,{"$f":"AE10*#REF!","v":{"$error":"#REF!"}},{"$f":"AE8*#REF!","v":{"$error":"#REF!"}},null,{"$f":"-(S10+N10)","v":{"$error":"#REF!"}},{"$f":"-(C10*Emissionsfaktorer!$B$2*(1-#REF!)+D10*Emissionsfaktorer!$B$3+E10*Emissionsfaktorer!$B$4*(1-#REF!)+F10*Emissionsfaktorer!$B$5*(1-#REF!)+G10*Emissionsfaktorer!$B$6+H10*Emissionsfaktorer!$B$7+I10*Emissionsfaktorer!$B$8-J10*Emissionsfaktorer!B14*#REF!+K10*Emissionsfaktorer!$B$10+L10*Emissionsfaktorer!$B$11+M10*Emissionsfaktorer!$B$12)","v":{"$error":"#REF!"}}]
[null,null,{"$f":"-($AE$11+$H$11+$I$11)/IF($T$11=0,1,$T$11)*#REF!","v":{"$error":"#REF!"}},{"$f":"-($AE$11+$H$11+$I$11)/IF($T$11=0,1,$T$11)*#REF!","v":{"$error":"#REF!"}},{"$f":"-($AE$11+$H$11+$I$11)/IF($T$11=0,1,$T$11)*#REF!","v":{"$error":"#REF!"}},{"$f":"-($AE$11+$H$11+$I$11)/IF($T$11=0,1,$T$11)*#REF!","v":{"$error":"#REF!"}},{"$f":"-($AE$11+$H$11+$I$11)/IF($T$11=0,1,T11)*#REF!","v":{"$error":"#REF!"}},null,{"$f":"AE11*#REF!*-1","v":{"$error":"#REF!"}},{"$f":"-($AE$11+$H$11+$I$11)/IF($T$11=0,1,T11)*#REF!","v":{"$error":"#REF!"}},{"$f":"AE11*#REF!*-1","v":{"$error":"#REF!"}},null,null,{"$error":"#REF!"},"Heat Plants","ESHP","ES",null,{"$error":"#REF!"},{"$f":"#REF!","v":{"$error":"#REF!"}},null,null,null,null,null,null,null,null,null,null,{"$f":"AE8*#REF!","v":{"$error":"#REF!"}},null,{"$f":"-(S11+N11)","v":{"$error":"#REF!"}},{"$f":"-(C11*Emissionsfaktorer!$B$2+D11*Emissionsfaktorer!$B$3+E11*Emissionsfaktorer!$B$4+F11*Emissionsfaktorer!$B$5+G11*Emissionsfaktorer!$B$6+H11*Emissionsfaktorer!$B$7+I11*Emissionsfaktorer!$B$8+J11*Emissionsfaktorer!$B$9+K11*Emissionsfaktorer!$B$10+L11*Emissionsfaktorer!$B$11+M11*Emissionsfaktorer!$B$12)","v":{"$error":"#REF!"}}]
[null,null,null,{"$f":"-X12/IF(T12=0,1,T12)*#REF!","v":{"$error":"#REF!"}},null,null,null,null,null,{"$f":"-X12/T12*#REF!","v":{"$error":"#REF!"}},null,null,null,{"$error":"#REF!"},"Oil refineries","ESOR","ES",null,{"$error":"#REF!"},{"$f":"#REF!","v":{"$error":"#REF!"}},null,null,null,{"$f":"-(E9+E10+E11+E13+E14)","v":{"$error":"#REF!"}},null,null,null,null,null,null,null,null,{"$f":"-(S12+N12)","v":{"$error":"#REF!"}},{"$f":"J12*Emissionsfaktorer!B4","v":{"$error":"#REF!"}}]
[null,null,{"$f":"N13*#REF!","v":{"$error":"#REF!"}},{"$f":"N13*#REF!","v":{"$error":"#REF!"}},{"$f":"N13*#REF!","v":{"$error":"#REF!"}},{"$f":"N13*#REF!","v":{"$error":"#REF!"}},null,null,null,{"$f":"N13*#REF!","v":{"$error":"#REF!"}},{"$f":"N13*#REF!","v":{"$error":"#REF!"}},{"$f":"N13*#REF!","v":{"$error":"#REF!"}},null,{"$f":"N16*#REF!","v":{"$error":"#REF!"}},"Energy Industry one use","ESNSP","ES",null,0,0,null,null,null,null,null,null,null,null,null,null,null,null,{"$f":"-(S13+N13)","v":{"$error":"#REF!"}},{"$f":"-(C13*Emissionsfaktorer!$B$2+D13*Emissionsfaktorer!$B$3+E13*Emissionsfaktorer!$B$4+F13*Emissionsfaktorer!$B$5+G13*Emissionsfaktorer!$B$6+H13*Emissionsfaktorer!$B$7+I13*Emissionsfaktorer!$B$8+J13*Emissionsfaktorer!$B$9+K13*Emissionsfaktorer!$B$10+L13*Emissionsfaktorer!$B$11+M13*Emissionsfaktorer!$B$12)","v":{"$error":"#REF!"}}]
[null,null,null,null,{"$f":"-X14*1","v":{"$error":"#REF!"}},null,null,null,null,null,{"$f":"-AD14*(1+#REF!)","v":{"$error":"#REF!"}},{"$f":"-AE14*(1+#REF!)","v":{"$error":"#REF!"}},null,{"$error":"#REF!"},"Transport electricity, district heating and oil products","TRAS",null,null,{"$error":"#REF!"},null,null,null,null,{"$f":"-E16","v":{"$error":"#REF!"}},null,null,null,null,null,{"$f":"-K16","v":{"$error":"#REF!"}},{"$f":"-L16","v":{"$error":"#REF!"}},null,{"$f":"-(N14+S14)","v":{"$error":"#REF!"}}]
[null,null,null,null,null,null,null,null,null,null,null,null,null,0,"Entry Off-Grid RE","ELP2",null,null,{"$error":"#REF!"},null,null,null,null,null,null,null,null,{"$f":"I16*-1","v":{"$error":"#REF!"}}]
[null,null,{"$f":"SUM(C17:C19)","v":{"$error":"#REF!"}},{"$error":"#REF!"},{"$error":"#REF!"},{"$error":"#REF!"},0,0,{"$error":"#REF!"},{"$error":"#REF!"},{"$error":"#REF!"},{"$error":"#REF!"},0,{"$f":"#REF!","v":{"$error":"#REF!"}},"Exit energy","EX",null,null,{"$error":"#REF!"},null,null,null,null,null,null,null,null,null,null,null,null,{"$f":"SUM(AF17:AF19)","v":{"$error":"#REF!"}},{"$f":"SUM(AG17:AG19)","v":{"$error":"#REF!"}},{"$f":"SUM(AH17:AH19)","v":{"$error":"#REF!"}}]
[null,null,{"$f":"AF17*#REF!/T17*#REF!/#REF!*-1","v":{"$error":"#REF!"}},{"$f":"AF17*#REF!/T17*#REF!/#REF!*-1","v":{"$error":"#REF!"}},{"$f":"AF17*#REF!/T17*#REF!/#REF!*-1","v":{"$error":"#REF!"}},{"$f":"AF17*#REF!/T17*#REF!/#REF!*-1","v":{"$error":"#REF!"}},null,null,{"$f":"AF17*#REF!/T17*#REF!/#REF!*-1","v":{"$error":"#REF!"}},{"$f":"AF17*#REF!*#REF!/T17/#REF!*-1","v":{"$error":"#REF!"}},{"$f":"AF17*#REF!*#REF!/T17/#REF!*-1","v":{"$error":"#REF!"}},{"$f":"AF17*#REF!*#REF!/T17/#REF!*-1","v":{"$error":"#REF!"}},null,{"$f":"SUM(C17:L17)","v":{"$error":"#REF!"}},"Industry","EXI","EX",null,{"$error":"#REF!"},{"$f":"(#REF!+#REF!+#REF!+#REF!+#REF!)*#REF!+(#REF!+#REF!)*#REF!+#REF!*#REF!","v":{"$error":"#REF!"}},null,null,null,null,null,null,null,null,null,null,null,{"$f":"#REF!*#REF!*((#REF!+#REF!+#REF!+#REF!+#REF!)*#REF!+(#REF!+#REF!)*#REF!+#REF!*#REF!)*-1","v":{"$error":"#REF!"}},{"$f":"(S17+SUM(C17:M17))*-1","v":{"$error":"#REF!"}},{"$f":"-(C17*Emissionsfaktorer!$B$2+D17*Emissionsfaktorer!$B$3+E17*Emissionsfaktorer!$B$4+F17*Emissionsfaktorer!$B$5+G17*Emissionsfaktorer!$B$6+H17*Emissionsfaktorer!$B$7+I17*Emissionsfaktorer!$B$8+J17*Emissionsfaktorer!$B$9+K17*Emissionsfaktorer!$B$10+L17*Emissionsfaktorer!$B$11+M17*Emissionsfaktorer!$B$12)","v":{"$error":"#REF!"}}]
[null,null,{"$f":"AF18*#REF!/T18*#REF!/#REF!*-1","v":{"$error":"#REF!"}},null,{"$f":"AF18*#REF!/T18*#REF!/#REF!*-1","v":{"$error":"#REF!"}},{"$f":"AF18*#REF!/T18*#REF!/#REF!*-1","v":{"$error":"#REF!"}},null,null,{"$f":"AF18*#REF!/T18*#REF!/#REF!*-1","v":{"$error":"#REF!"}},{"$f":"AF18*#REF!/T18*#REF!/#REF!*-1","v":{"$error":"#REF!"}},{"$f":"AF18*#REF!/T18*#REF!/#REF!*-1","v":{"$error":"#REF!"}},{"$f":"AF18*#REF!/T18*#REF!/#REF!*-1","v":{"$error":"#REF!"}},null,{"$f":"SUM(C18:L18)","v":{"$error":"#REF!"}},"Transport","EXT","EX",null,{"$error":"#REF!"},{"$f":"(#REF!+#REF!+#REF!+#REF!)*#REF!+(#REF!+#REF!)*#REF!+#REF!*#REF!","v":{"$error":"#REF!"}},null,null,null,null,null,null,null,null,null,null,null,{"$f":"#REF!*#REF!*-1*((#REF!+#REF!+#REF!+#REF!)*#REF!+(#REF!+#REF!)*#REF!+#REF!*#REF!)","v":{"$error":"#REF!"}},{"$f":"(S18+SUM(C18:M18))*-1","v":{"$error":"#REF!"}},{"$f":"-(C18*Emissionsfaktorer!$B$2+D18*Emissionsfaktorer!$B$3+E18*Emissionsfaktorer!$B$4+F18*Emissionsfaktorer!$B$5+G18*Emissionsfaktorer!$B$6+H18*Emissionsfaktorer!$B$7+I18*Emissionsfaktorer!$B$8+J18*Emissionsfaktorer!$B$9+K18*Emissionsfaktorer!$B$10+L18*Emissionsfaktorer!$B$11+M18*Emissionsfaktorer!$B$12)","v":{"$error":"#REF!"}}]
[null,null,{"$f":"SUM(C20:C24)","v":{"$error":"#REF!"}},{"$f":"SUM(D20:D24)","v":0},{"$error":"#REF!"},{"$error":"#REF!"},0,0,{"$error":"#REF!"},{"$error":"#REF!"},{"$error":"#REF!"},{"$error":"#REF!"},0,{"$f":"SUM(N20:N24)","v":{"$error":"#REF!"}},"Other ","EXO","EX",null,{"$error":"#REF!"},0.8,null,{"$f":"SUM(V20:V24)","v":0},{"$f":"SUM(W20:W24)","v":0},0,0,0,0,0,0,0,0,{"$error":"#REF!"},{"$error":"#REF!"},{"$error":"#REF!"}]
[null,null,{"$f":"AF20*#REF!/T20*#REF!/#REF!*-1","v":{"$error":"#REF!"}},null,{"$f":"AF20*#REF!/T20*#REF!/#REF!*-1","v":{"$error":"#REF!"}},{"$f":"AF20*#REF!/T20*#REF!/#REF!*-1","v":{"$error":"#REF!"}},null,null,{"$f":"AF20*#REF!/T20*#REF!/#REF!*-1","v":{"$error":"#REF!"}},{"$f":"AF20*#REF!/T20*#REF!/#REF!*-1","v":{"$error":"#REF!"}},{"$f":"AF20*#REF!/T20*#REF!/#REF!*-1","v":{"$error":"#REF!"}},{"$f":"AF20*#REF!/T20*#REF!/#REF!*-1","v":{"$error":"#REF!"}},null,{"$f":"SUM(C20:L20)","v":{"$error":"#REF!"}},"Residential","EXOR","EXO",null,{"$error":"#REF!"},{"$f":"(#REF!+#REF!+#REF!+#REF!)*#REF!+(#REF!+#REF!)*#REF!+#REF!*#REF!","v":{"$error":"#REF!"}},null,null,null,null,null,null,null,null,null,null,null,{"$f":"#REF!*#REF!*((#REF!+#REF!+#REF!+#REF!)*#REF!+(#REF!+#REF!)*#REF!+#REF!*#REF!)*-1","v":{"$error":"#REF!"}},{"$f":"(N20+AF20)*-1","v":{"$error":"#REF!"}},{"$f":"-(C20*Emissionsfaktorer!$B$2+D20*Emissionsfaktorer!$B$3+E20*Emissionsfaktorer!$B$4+F20*Emissionsfaktorer!$B$5+G20*Emissionsfaktorer!$B$6+H20*Emissionsfaktorer!$B$7+I20*Emissionsfaktorer!$B$8+J20*Emissionsfaktorer!$B$9+K20*Emissionsfaktorer!$B$10+L20*Emissionsfaktorer!$B$11+M20*Emissionsfaktorer!$B$12)","v":{"$error":"#REF!"}}]
[null,null,{"$f":"AF21*#REF!/T21*#REF!/#REF!*-1","v":{"$error":"#REF!"}},null,{"$f":"AF21*#REF!/T21*#REF!/#REF!*-1","v":{"$error":"#REF!"}},{"$f":"AF21*#REF!/T21*#REF!/#REF!*-1","v":{"$error":"#REF!"}},null,null,{"$f":"AF21*#REF!/T21*#REF!/#REF!*-1","v":{"$error":"#REF!"}},{"$f":"AF21*#REF!/T21*#REF!/#REF!*-1","v":{"$error":"#REF!"}},{"$f":"AF21*#REF!/T21*#REF!/#REF!*-1","v":{"$error":"#REF!"}},{"$f":"AF21*#REF!/T21*#REF!/#REF!*-1","v":{"$error":"#REF!"}},null,{"$f":"SUM(C21:L21)","v":{"$error":"#REF!"}},"Commercial and public services","EXOC","EXO",null,{"$error":"#REF!"},{"$f":"(#REF!+#REF!+#REF!+#REF!)*#REF!+(#REF!+#REF!)*#REF!+#REF!*#REF!","v":{"$error":"#REF!"}},null,null,null,null,null,null,null,null,null,null,null,{"$f":"#REF!*#REF!*((#REF!+#REF!+#REF!+#REF!)*#REF!+(#REF!+#REF!)*#REF!+#REF!*#REF!)*-1","v":{"$error":"#REF!"}},{"$f":"(N21+AF21)*-1","v":{"$error":"#REF!"}},{"$f":"-(C21*Emissionsfaktorer!$B$2+D21*Emissionsfaktorer!$B$3+E21*Emissionsfaktorer!$B$4+F21*Emissionsfaktorer!$B$5+G21*Emissionsfaktorer!$B$6+H21*Emissionsfaktorer!$B$7+I21*Emissionsfaktorer!$B$8+J21*Emissionsfaktorer!$B$9+K21*Emissionsfaktorer!$B$10+L21*Emissionsfaktorer!$B$11+M21*Emissionsfaktorer!$B$12)","v":{"$error":"#REF!"}}]
[null,null,{"$f":"AF22*#REF!/T22*#REF!/#REF!*-1","v":{"$error":"#REF!"}},null,{"$f":"AF22*#REF!/T22*#REF!/#REF!*-1","v":{"$error":"#REF!"}},{"$f":"AF22*#REF!/T22*#REF!/#REF!*-1","v":{"$error":"#REF!"}},null,null,{"$f":"AF22*#REF!/T22*#REF!/#REF!*-1","v":{"$error":"#REF!"}},{"$f":"AF22*#REF!/T22*#REF!/#REF!*-1","v":{"$error":"#REF!"}},{"$f":"AF22*#REF!/T22*#REF!/#REF!*-1","v":{"$error":"#REF!"}},{"$f":"AF22*#REF!/T22*#REF!/#REF!*-1","v":{"$error":"#REF!"}},null,{"$f":"SUM(C22:L22)","v":{"$error":"#REF!"}},"Agriculture / forestry","EXOA","EXO",null,{"$error":"#REF!"},{"$f":"(#REF!+#REF!+#REF!+#REF!)*#REF!+(#REF!+#REF!)*#REF!+#REF!*#REF!","v":{"$error":"#REF!"}},null,null,null,null,null,null,null,null,null,null,null,{"$f":"((#REF!+#REF!+#REF!+#REF!)*#REF!+(#REF!+#REF!)*#REF!+#REF!*#REF!)*#REF!*#REF!*-1","v":{"$error":"#REF!"}},{"$f":"(N22+AF22)*-1","v":{"$error":"#REF!"}},{"$f":"-(C22*Emissionsfaktorer!$B$2+D22*Emissionsfaktorer!$B$3+E22*Emissionsfaktorer!$B$4+F22*Emissionsfaktorer!$B$5+G22*Emissionsfaktorer!$B$6+H22*Emissionsfaktorer!$B$7+I22*Emissionsfaktorer!$B$8+J22*Emissionsfaktorer!$B$9+K22*Emissionsfaktorer!$B$10+L22*Emissionsfaktorer!$B$11+M22*Emissionsfaktorer!$B$12)","v":{"$error":"#REF!"}}]
[null,null,{"$f":"AF23*#REF!/T23*#REF!/#REF!*-1","v":{"$error":"#REF!"}},null,{"$f":"AF23*#REF!/T23*#REF!/#REF!*-1","v":{"$error":"#REF!"}},{"$f":"AF23*#REF!/T23*#REF!/#REF!*-1","v":{"$error":"#REF!"}},null,null,{"$f":"AF23*#REF!/T23*#REF!/#REF!*-1","v":{"$error":"#REF!"}},{"$f":"AF23*#REF!/T23*#REF!/#REF!*-1","v":{"$error":"#REF!"}},{"$f":"AF23*#REF!/T23*#REF!/#REF!*-1","v":{"$error":"#REF!"}},{"$f":"AF23*#REF!/T23*#REF!/#REF!*-1","v":{"$error":"#REF!"}},null,{"$f":"SUM(C23:L23)","v":{"$error":"#REF!"}},"Fishing","EXOF","EXO",null,{"$error":"#REF!"},{"$f":"(#REF!+#REF!+#REF!+#REF!)*#REF!+(#REF!+#REF!)*#REF!+#REF!*#REF!","v":{"$error":"#REF!"}},null,null,null,null,null,null,null,null,null,null,null,{"$f":"((#REF!+#REF!+#REF!+#REF!)*#REF!+(#REF!+#REF!)*#REF!+#REF!*#REF!)*#REF!*#REF!*-1","v":{"$error":"#REF!"}},{"$f":"(N23+AF23)*-1","v":{"$error":"#REF!"}},{"$f":"-(C23*Emissionsfaktorer!$B$2+D23*Emissionsfaktorer!$B$3+E23*Emissionsfaktorer!$B$4+F23*Emissionsfaktorer!$B$5+G23*Emissionsfaktorer!$B$6+H23*Emissionsfaktorer!$B$7+I23*Emissionsfaktorer!$B$8+J23*Emissionsfaktorer!$B$9+K23*Emissionsfaktorer!$B$10+L23*Emissionsfaktorer!$B$11+M23*Emissionsfaktorer!$B$12)","v":{"$error":"#REF!"}}]
[null,null,{"$f":"AF24*#REF!/T24*#REF!/#REF!*-1","v":{"$error":"#REF!"}},null,{"$f":"AF24*#REF!/T24*#REF!/#REF!*-1","v":{"$error":"#REF!"}},{"$f":"AF24*#REF!/T24*#REF!/#REF!*-1","v":{"$error":"#REF!"}},null,null,{"$f":"AF24*#REF!/T24*#REF!/#REF!*-1","v":{"$error":"#REF!"}},{"$f":"AF24*#REF!/T24*#REF!/#REF!*-1","v":{"$error":"#REF!"}},{"$f":"AF24*#REF!/T24*#REF!/#REF!*-1","v":{"$error":"#REF!"}},{"$f":"AF24*#REF!/T24*#REF!/#REF!*-1","v":{"$error":"#REF!"}},null,{"$f":"SUM(C24:L24)","v":{"$error":"#REF!"}},"Non-specified","EXON","EXO",null,{"$error":"#REF!"},{"$f":"(#REF!+#REF!+#REF!+#REF!)*#REF!+(#REF!+#REF!)*#REF!+#REF!*#REF!","v":{"$error":"#REF!"}},null,null,null,null,null,null,null,null,null,null,null,{"$f":"((#REF!+#REF!+#REF!+#REF!)*#REF!+(#REF!+#REF!)*#REF!+#REF!*#REF!)*#REF!*#REF!*-1","v":{"$error":"#REF!"}},{"$f":"(N24+AF24)*-1","v":{"$error":"#REF!"}},{"$f":"-(C24*Emissionsfaktorer!$B$2+D24*Emissionsfaktorer!$B$3+E24*Emissionsfaktorer!$B$4+F24*Emissionsfaktorer!$B$5+G24*Emissionsfaktorer!$B$6+H24*Emissionsfaktorer!$B$7+I24*Emissionsfaktorer!$B$8+J24*Emissionsfaktorer!$B$9+K24*Emissionsfaktorer!$B$10+L24*Emissionsfaktorer!$B$11+M24*Emissionsfaktorer!$B$12)","v":{"$error":"#REF!"}}]
[null,null,null,null,null,null,null,null,null,null,null,null,null,{"$f":"N16","v":{"$error":"#REF!"}},"Energy Services","EN",null,null,{"$error":"#REF!"},{"$f":"AF25/N25*-1","v":{"$error":"#REF!"}},null,null,null,null,null,null,null,null,null,null,null,{"$f":"AF16","v":{"$error":"#REF!"}},{"$f":"-(S25+N25)","v":{"$error":"#REF!"}}]

{"sheet":"Non OECD total 1995","index":40,"n_rows":32,"n_cols":12,"rows_kept":32,"cut":false,"hidden":true,"merged":[]}
[null,"Coal*","Crude oil","Oil products","Natural gas","Nuclear","Hydro","Geothermal, solar, etc.","Biofuels and waste","Electricity","Heat","Total**"]
[null,"ktoe","ktoe","ktoe","ktoe","ktoe","ktoe","ktoe","ktoe","ktoe","ktoe","ktoe"]
["Production",1229063,2381491,null,986813,69396,98845,11882,795459,null,null,5572950]
["Imports",88089,349664,253031,101140,null,null,null,1373,11538,null,804835]
["Exports",-130599,-1353245,-401573,-271693,null,null,null,-631,-11930,null,-2169671]
["International marine bunkers",null,null,-53296,null,null,null,null,null,null,null,-53296]
["International aviation bunkers",null,null,-37968,null,null,null,null,null,null,null,-37968]
["Stock changes",-3032,-950,-1141,-13644,null,null,null,22,null,null,-18746]
["TES",1183520,1376960,-240946,802616,69396,98845,11882,796222,-392,null,4098104]
["Transfers",null,-74960,79859,null,null,null,null,null,null,null,4899]
["Statistical differences",13146,-8499,5351,6045,null,null,-123,89,-398,-213,15397]
["Electricity plants",-407900,-21889,-111641,-130005,-69079,-98845,-10389,-2633,334143,null,-518239]
["CHP plants",-86843,-392,-30602,-158396,-316,null,null,-2539,67694,118863,-92531]
["Heat plants",-51662,-45,-29904,-90915,null,null,null,-2990,null,156097,-19419]
["Gas works",-3002,null,-1443,663,null,null,null,null,null,null,-3783]
["Oil refineries",null,-1263082,1221055,null,null,null,null,null,null,null,-42026]
["Coal transformation",-84319,null,-194,null,null,null,null,-44,null,null,-84556]
["Liquefication plants",-13936,7230,null,-2513,null,null,null,null,null,null,-9219]
["Other transformation",null,1626,-1579,-22,null,null,null,-49396,null,null,-49371]
["Energy industry own use",-34418,-5239,-59137,-70446,null,null,null,-7271,-44918,-22857,-244286]
["Losses",-8172,-3657,-329,-14909,null,null,-2,-227,-46297,-13917,-87510]
["Total final consumption",506414,8053,830490,342118,null,null,1369,731212,309832,237973,2967461]
["Industry",344967,3976,142847,130435,null,null,41,80956,155825,106134,965181]
["Transport",3130,10,389967,36801,null,null,null,6888,9555,null,446352]
["Residential",89197,133,85128,93446,null,null,845,624880,71296,94309,1059234]
["Commercial and public services",15176,5,21362,16970,null,null,305,11085,37489,15965,118357]
["Agriculture / forestry",10819,3,60252,1488,null,null,133,4758,25177,8591,111220]
["Fishing",null,null,1881,null,null,null,null,null,141,null,2022]
["Non-specified",24299,424,12658,9443,null,null,45,2645,10348,12974,72835]
["Non-energy use",18826,3503,116394,53536,null,null,null,null,null,null,192258]
[]
[null,{"$f":"SUM(B9,B10:B21,B22*-1)","v":0},{"$f":"SUM(C9,C10:C21,C22*-1)","v":0},0,0,1,0,-1,-1,0,0,-1]

{"sheet":"Non OECD total 2000","index":41,"n_rows":32,"n_cols":12,"rows_kept":32,"cut":false,"hidden":true,"merged":[]}
[null,"Coal*","Crude oil","Oil products","Natural gas","Nuclear","Hydro","Geothermal, solar, etc.","Biofuels and waste","Electricity","Heat","Total**"]
[null,"ktoe","ktoe","ktoe","ktoe","ktoe","ktoe","ktoe","ktoe","ktoe","ktoe","ktoe"]
["Production",1311097,2666386,null,1154044,87148,109347,23396,828271,null,102,6179790]
["Imports",105143,462356,276567,108617,null,null,null,203,14302,null,967188]
["Exports",-201428,-1554790,-453084,-351492,null,null,null,-551,-13525,null,-2574870]
["International marine bunkers",null,null,-66728,null,null,null,null,null,null,null,-66728]
["International aviation bunkers",null,null,-43179,null,null,null,null,null,null,null,-43179]
["Stock changes",1097,-5257,-4254,-5994,null,null,null,843,null,null,-13565]
["TES",1215909,1568696,-290679,905175,87148,109347,23396,828766,777,102,4448636]
["Transfers",null,-91598,97214,null,null,null,null,null,null,null,5615]
["Statistical differences",7379,-7314,3391,5112,null,null,-94,216,396,-65,9022]
["Electricity plants",-516381,-15506,-120179,-181038,-86784,-109347,-20474,-4642,420818,-102,-633636]
["CHP plants",-90554,-67,-20404,-155255,-364,null,null,-3247,67274,96582,-106034]
["Heat plants",-62577,-1139,-17111,-90447,null,null,null,-2860,null,135689,-38446]
["Gas works",-3874,null,-1067,686,null,null,null,null,null,null,-4255]
["Oil refineries",null,-1441016,1418058,null,null,null,null,null,null,null,-22958]
["Coal transformation",-84100,null,-681,null,null,null,null,null,null,null,-84781]
["Liquefication plants",-14843,7859,null,-1849,null,null,null,null,null,null,-8833]
["Other transformation",null,3468,-3137,-3023,null,null,null,-49371,null,null,-52062]
["Energy industry own use",-41469,-8846,-76337,-89536,null,null,null,-5663,-53316,-20614,-295781]
["Losses",-1979,-5083,-872,-15763,null,null,-1,-169,-63154,-15103,-102124]
["Total final consumption",407510,9453,988197,374062,null,null,2827,763030,372795,196489,3114363]
["Industry",285824,5238,166885,139011,null,null,70,89664,183159,82581,952433]
["Transport",512,10,486492,36741,null,null,null,5899,9751,null,539405]
["Residential",63534,722,97856,111210,null,null,1887,648339,91351,88246,1103146]
["Commercial and public services",12512,null,22522,16098,null,null,573,12561,51182,15209,130657]
["Agriculture / forestry",6612,1,48901,892,null,null,217,4519,21937,4649,87728]
["Fishing",null,null,1571,null,null,null,null,1,91,null,1663]
["Non-specified",18855,279,11839,6323,null,null,79,2045,15325,5804,60548]
["Non-energy use",19661,3204,152131,63786,null,null,null,null,null,null,238782]
[]
[null,{"$f":"SUM(B9,B10:B21,B22*-1)","v":1},{"$f":"SUM(C9,C10:C21,C22*-1)","v":1},-1,0,0,0,0,0,0,0,0]

{"sheet":"Non OECD total 2005","index":42,"n_rows":32,"n_cols":12,"rows_kept":32,"cut":false,"hidden":true,"merged":[]}
[null,"Coal*","Crude oil","Oil products","Natural gas","Nuclear","Hydro","Geothermal, solar, etc.","Biofuels and waste","Electricity","Heat","Total**"]
[null,"ktoe","ktoe","ktoe","ktoe","ktoe","ktoe","ktoe","ktoe","ktoe","ktoe","ktoe"]
["Production",1985909,3091402,null,1462436,106114,140293,29739,874175,null,201,7690268]
["Imports",150979,614685,358307,151634,null,null,null,219,16018,null,1291841]
["Exports",-303696,-1866563,-577446,-469699,null,null,null,-1904,-17604,null,-3236913]
["International marine bunkers",null,null,-81474,null,null,null,null,null,null,null,-81474]
["International aviation bunkers",null,null,-53835,null,null,null,null,null,null,null,-53835]
["Stock changes",8189,5542,8081,-2842,null,null,null,254,null,null,19223]
["TES",1841381,1845066,-346367,1141528,106114,140293,29739,872744,-1587,201,5629111]
["Transfers",null,-99838,105645,null,null,null,null,null,null,null,5807]
["Statistical differences",24284,-682,8564,3068,null,null,null,380,1273,4,36891]
["Electricity plants",-564214,-14628,-127331,-265332,-105791,-140293,-24178,-8845,510267,-201,-740545]
["CHP plants",-378741,-4,-13709,-179323,-323,null,null,-5544,156050,140165,-281429]
["Heat plants",-18970,-792,-12162,-84570,null,null,-1,-3229,null,108171,-11551]
["Gas works",-7393,null,-964,371,null,null,null,null,null,null,-7985]
["Oil refineries",null,-1713339,1677801,null,null,null,null,null,null,null,-35538]
["Coal transformation",-135490,null,-559,null,null,null,null,-5,null,null,-136054]
["Liquefication plants",-5835,4481,null,-4346,null,null,null,null,null,null,-5701]
["Other transformation",-49,3884,-4903,-2075,null,null,null,-58733,null,null,-61877]
["Energy industry own use",-54647,-10060,-86779,-115216,null,null,null,-8365,-67822,-28812,-371701]
["Losses",-1742,-6023,-573,-15368,null,null,-1,-192,-80412,-19655,-123968]
["Total final consumption",698584,8065,1198663,478736,null,null,5559,788212,517768,199873,3895460]
["Industry",547406,4503,179225,183919,null,null,103,101348,267157,91610,1375272]
["Transport",70,19,605690,52069,null,null,null,7828,13498,null,679174]
["Residential",65558,null,110189,127673,null,null,4003,656593,119263,78527,1161807]
["Commercial and public services",21657,31,25187,22183,null,null,1009,14885,72881,20415,178249]
["Agriculture / forestry",10835,7,57887,1163,null,null,302,5699,24776,3455,104123]
["Fishing",null,null,2283,10,null,null,null,1,117,12,2423]
["Non-specified",26403,null,15341,3636,null,null,142,1858,20075,5854,73309]
["Non-energy use",26655,3505,202860,88083,null,null,null,null,null,null,321103]
[]
[null,{"$f":"SUM(B9,B10:B21,B22*-1)","v":0},{"$f":"SUM(C9,C10:C21,C22*-1)","v":0},0,1,0,0,0,-1,1,0,0]

{"sheet":"Non OECD total 2010","index":43,"n_rows":32,"n_cols":12,"rows_kept":32,"cut":false,"hidden":true,"merged":[]}
[null,"Coal*","Crude oil","Oil products","Natural gas","Nuclear","Hydro","Geothermal, solar, etc.","Biofuels and waste","Electricity","Heat","Total**"]
[null,"ktoe","ktoe","ktoe","ktoe","ktoe","ktoe","ktoe","ktoe","ktoe","ktoe","ktoe"]
["Production",2665334,3197129,null,1749195,122328,179684,48668,935007,null,309,8897654]
["Imports",301421,732701,544419,177579,null,null,null,610,16306,null,1773036]
["Exports",-395989,-1830313,-644884,-517480,null,null,null,-3714,-18092,null,-3410474]
["International marine bunkers",null,null,-114623,null,null,null,null,null,null,null,-114623]
["International aviation bunkers",null,null,-67013,null,null,null,null,null,null,null,-67013]
["Stock changes",-13188,-18939,-3647,3548,null,null,null,-742,null,null,-32969]
["TES",2557577,2080577,-285748,1412842,122328,179684,48668,931160,-1787,309,7045612]
["Transfers",-354,-105088,113552,null,null,null,null,-47,null,null,8062]
["Statistical differences",-36878,8472,-9105,-636,null,null,null,-1445,-245,-1375,-41212]
["Electricity plants",-802016,-29947,-140865,-352481,-121803,-179684,-35559,-27677,707710,-260,-982582]
["CHP plants",-471068,-11,-5817,-199702,-525,null,null,-9390,202821,151933,-331760]
["Heat plants",-21752,-809,-13142,-77567,null,null,null,-4329,null,106874,-10724]
["Gas works",-2261,null,-294,-60,null,null,null,-13,null,null,-2629]
["Oil refineries",null,-1931507,1886936,null,null,null,null,null,null,null,-44570]
["Coal transformation",-183442,null,-1166,null,null,null,null,-25,null,null,-184633]
["Liquefication plants",-6415,6534,null,-6854,null,null,null,null,null,null,-6735]
["Other transformation",-57,4234,-4191,-1780,null,null,null,-64710,null,null,-66504]
["Energy industry own use",-97637,-9314,-94724,-134950,null,null,-1,-12995,-87020,-31800,-468442]
["Losses",-2293,-8160,-731,-21195,null,null,-2,-132,-93822,-15052,-141386]
["Total final consumption",933403,14980,1444704,617618,null,null,13106,810397,727657,210630,4772495]
["Industry",770657,9371,196967,248883,null,null,170,116116,380284,99257,1821705]
["Transport",78,5,772024,66210,null,null,null,18128,16866,null,873311]
["Residential",60712,null,109309,157336,null,null,9998,651722,166925,81396,1237398]
["Commercial and public services",25024,20,31925,31981,null,null,1995,16611,103089,21128,231772]
["Agriculture / forestry",11821,12,57976,1792,null,null,467,6227,30375,3740,112409]
["Fishing",6,null,2610,11,null,null,null,5,137,35,2805]
["Non-specified",32437,18,17086,1512,null,null,476,1588,29981,5075,88174]
["Non-energy use",32668,5554,256807,109893,null,null,null,null,null,null,404922]
[]
[null,{"$f":"SUM(B9,B10:B21,B22*-1)","v":1},{"$f":"SUM(C9,C10:C21,C22*-1)","v":1},1,-1,0,0,0,0,0,-1,2]

{"sheet":"Non OECD total 2015","index":44,"n_rows":32,"n_cols":12,"rows_kept":32,"cut":false,"hidden":true,"merged":[]}
[null,"Coal*","Crude oil","Oil products","Natural gas","Nuclear","Hydro","Geothermal, solar, etc.","Biofuels and waste","Electricity","Heat","Total**"]
[null,"ktoe","ktoe","ktoe","ktoe","ktoe","ktoe","ktoe","ktoe","ktoe","ktoe","ktoe"]
["Production",2958002,3294031,null,1884370,156512,215754,95433,964431,null,772,9569305]
["Imports",387343,879098,672141,241365,null,null,null,1799,19708,null,2201453]
["Exports",-458809,-1861131,-721483,-570254,null,null,null,-4700,-19240,null,-3635619]
["International marine bunkers",null,null,-131956,null,null,null,null,null,null,null,-131956]
["International aviation bunkers",null,null,-79769,null,null,null,null,null,null,null,-79769]
["Stock changes",8586,-1427,-3713,-5314,null,null,null,822,null,null,-1047]
["TES",2895121,2310571,-264780,1550167,156512,215754,95433,962351,468,772,7922368]
["Transfers",-971,-122353,132426,null,null,null,null,-27,null,null,9075]
["Statistical differences",-16109,7205,20246,14670,null,null,null,-2108,-3760,600,20744]
["Electricity plants",-1016348,-41586,-146159,-420626,-156009,-215754,-63694,-48418,917825,-353,-1191120]
["CHP plants",-542149,-7,-5668,-213814,-503,null,null,-13330,234446,175021,-366003]
["Heat plants",-20344,-654,-10527,-53783,null,null,-20,-4403,null,80158,-9573]
["Gas works",-6228,-3,-300,1337,null,null,null,-11,null,null,-5205]
["Oil refineries",null,-2144668,2097839,null,null,null,null,null,null,null,-46829]
["Coal transformation",-217849,null,-1347,null,null,null,null,-52,null,null,-219249]
["Liquefication plants",-8814,13574,null,-17894,null,null,null,null,null,null,-13135]
["Other transformation",-182,5117,-4063,-3360,null,null,null,-77180,null,null,-79669]
["Energy industry own use",-76183,-12019,-104834,-143060,null,null,null,-13585,-109220,-29433,-488335]
["Losses",-1337,-8478,-368,-17883,null,null,-3,-97,-108847,-12330,-149342]
["Total final consumption",988607,6698,1712466,695755,null,null,31717,803139,930911,214435,5383728]
["Industry",801284,3516,199424,279156,null,null,401,125112,472585,100813,1982292]
["Transport",43,15,968360,72695,null,null,null,26315,19527,null,1086954]
["Residential",63289,null,128897,172152,null,null,24502,622392,219797,80340,1311371]
["Commercial and public services",28996,null,34811,40065,null,null,4809,20335,129755,23423,282194]
["Agriculture / forestry",14275,10,62849,3318,null,null,1104,7390,37805,2850,129602]
["Fishing",1,null,2086,42,null,null,null,8,158,8,2303]
["Non-specified",29803,58,19741,2388,null,null,900,1586,51283,7000,112760]
["Non-energy use",50917,3099,296299,125938,null,null,null,null,null,null,476252]
[]
[null,{"$f":"SUM(B9,B10:B21,B22*-1)","v":0},{"$f":"SUM(C9,C10:C21,C22*-1)","v":1},-1,-1,0,0,-1,1,1,0,-1]

{"sheet":"Non OECD total 2018","index":45,"n_rows":32,"n_cols":12,"rows_kept":32,"cut":false,"hidden":true,"merged":[]}
[null,"Coal*","Crude oil","Oil products","Natural gas","Nuclear","Hydro","Geothermal, solar, etc.","Biofuels and waste","Electricity","Heat","Total**"]
[null,"ktoe","ktoe","ktoe","ktoe","ktoe","ktoe","ktoe","ktoe","ktoe","ktoe","ktoe"]
["Production",3061441,3314982,null,2086624,191006,239318,145710,1002565,null,790,10042435]
["Imports",473996,1041303,736969,300106,null,null,null,2552,20361,null,2575288]
["Exports",-528570,-1915014,-771664,-627782,null,null,null,-6391,-21123,null,-3870544]
["International marine bunkers",null,null,-138087,null,null,null,null,null,null,null,-138087]
["International aviation bunkers",null,null,-92661,null,null,null,null,null,null,null,-92661]
["Stock changes",-22876,-6506,1356,2619,null,null,null,-671,null,null,-26079]
["TES",2983991,2434765,-264087,1761567,191006,239318,145710,998055,-761,790,8490352]
["Transfers",-1156,-129320,141335,null,null,null,null,null,null,null,10859]
["Statistical differences",-26985,2229,-5017,-5509,null,null,null,-170,-5562,4082,-36932]
["Electricity plants",-1164223,-30333,-109517,-472837,-190499,-239318,-108670,-83830,1068213,-351,-1331365]
["CHP plants",-606684,-21,-4411,-218695,-506,null,null,-14412,259897,198567,-386265]
["Heat plants",-20625,-473,-8986,-51459,null,null,-14,-4829,-336,82618,-4105]
["Gas works",-7228,null,-288,1502,null,null,null,-7,null,null,-6022]
["Oil refineries",null,-2273256,2216829,null,null,null,null,null,null,null,-56427]
["Coal transformation",-183342,null,-1685,null,null,null,null,-52,null,null,-185079]
["Liquefication plants",-15495,14412,null,-11303,null,null,null,null,null,null,-12386]
["Other transformation",-119,4925,-3749,-4409,null,null,null,-84828,null,null,-88181]
["Energy industry own use",-63557,-9780,-99043,-164062,null,null,-3,-14593,-121008,-30941,-502986]
["Losses",-1656,-8100,-303,-17296,null,null,-3,-94,-118127,-14663,-160242]
["Total final consumption",892921,5047,1861077,817499,null,null,37020,795240,1082315,240102,5731220]
["Industry",714431,2462,197373,315265,null,null,548,122441,539759,116485,2008764]
["Transport",40,71,1052820,86281,null,null,null,31682,23494,null,1194387]
["Residential",63707,null,147675,213786,null,null,27913,610054,256682,86087,1405904]
["Commercial and public services",26777,null,36652,48442,null,null,5912,21853,149133,27375,316145]
["Agriculture / forestry",14526,2,63097,4192,null,null,1484,7680,45177,4240,140398]
["Fishing",1,null,2112,4,null,null,null,6,177,14,2313]
["Non-specified",25253,3,17835,2546,null,null,1163,1524,67893,5901,122117]
["Non-energy use",48188,2509,343512,146983,null,null,null,null,null,null,541192]
[]
[null,{"$f":"SUM(B9,B10:B21,B22*-1)","v":0},{"$f":"SUM(C9,C10:C21,C22*-1)","v":1},1,0,1,0,0,0,1,0,1]

{"sheet":"BL Middle East 2050","index":46,"n_rows":25,"n_cols":34,"rows_kept":25,"cut":false,"hidden":true,"merged":[]}
[null,"Consumption","Coal","Crude oil","Oil Products","Natual Gas","Nuclear","Hydro","Geothermal, solar, wind, etc.","Biofuels and waste","Electricity","Heat","Energy Services","Total consumption","Middle East 2050",null,null,"Faktor","Total production","Efficiency","Production","Coal","Crude oil","Oil Products","Natual Gas","Nuclear","Hydro","Geothermal, solar, wind, etc.","Biofuels and waste","Electricity","Heat","Energy Services","Loss","CO2-emissions"]
["ID","C ","CC","CCO","COP","CNG","CNU","CHY","CGSW","CWB","CE","CH","CES","fbrbr",null,"ID","ID Parent","factor","pbrpr","pvrkg","P ","PC","PCO","POP","PNG","PNU","PHY","PGSW","PWB","PE","PH","PES","PTAB","PCO2"]
["ID Parent",null,"C","C","C ","C ","C ","C","C","C ","C ","C ","C ",null,"Structures",null,null,null,null,null,null,"P ","P ","P ","P ","P ","P ","P","P ","P ","P ","P "]
["Factor",null,null,null,null,null,null,null,null,null,null,null,null,null,null,null,null,null,null,null,{"$f":"B4","v":0},null,null,null,null,null,null,null,null,null,null,null,{"$f":"U4","v":0},{"$f":"U4","v":0}]
[null,null,null,null,null,null,null,null,null,null,null,null,null,{"$f":"SUM(C5:M5)","v":0},"Entry fuels","ETP",null,null,{"$f":"SUM(V5:AF5)","v":{"$error":"#REF!"}},null,null,{"$f":"-(C6+C5)","v":{"$error":"#REF!"}},{"$f":"-(D6+D5)","v":{"$error":"#REF!"}},null,{"$f":"-(F6+F5)","v":{"$error":"#REF!"}},{"$f":"-(G6+G5)","v":{"$error":"#REF!"}},null,null,{"$f":"-(J6+J5)","v":{"$error":"#REF!"}}]
[null,null,{"$f":"-V6","v":{"$error":"#REF!"}},{"$f":"-W6","v":{"$error":"#REF!"}},null,{"$f":"-Y6","v":{"$error":"#REF!"}},{"$f":"-Z6","v":{"$error":"#REF!"}},null,null,{"$f":"-AC6","v":{"$error":"#REF!"}},null,null,null,{"$f":"SUM(C6:M6)","v":{"$error":"#REF!"}},"Transport of fuels","TRAP",null,null,{"$f":"SUM(V6:AF6)","v":{"$error":"#REF!"}},null,null,{"$f":"-(C16+C8)","v":{"$error":"#REF!"}},{"$f":"-(D16+D8)","v":{"$error":"#REF!"}},null,{"$f":"-(F16+F8)","v":{"$error":"#REF!"}},{"$f":"-(G16+G8)","v":{"$error":"#REF!"}},null,null,{"$f":"-(J16+J8)","v":{"$error":"#REF!"}},null,null,null,{"$f":"-(N6+S6)","v":{"$error":"#REF!"}}]
[null,null,null,null,null,null,null,null,null,null,null,null,null,0,"Entry On-Grid RE ","ELP1",null,null,{"$error":"#REF!"},null,null,null,null,null,null,null,{"$f":"-H8","v":{"$error":"#REF!"}},{"$f":"-I8","v":{"$error":"#REF!"}}]
[null,null,{"$f":"SUM(C9:C13)","v":{"$error":"#REF!"}},{"$f":"SUM(D9:D13)","v":{"$error":"#REF!"}},{"$error":"#REF!"},{"$error":"#REF!"},{"$error":"#REF!"},{"$error":"#REF!"},{"$error":"#REF!"},{"$error":"#REF!"},{"$error":"#REF!"},{"$error":"#REF!"},0,{"$error":"#REF!"},"Entry electricity, district heating and oil products","ES",null,null,{"$error":"#REF!"},null,null,{"$f":"SUM(V9:V13)","v":0},null,{"$f":"(E14+E8)*-1","v":{"$error":"#REF!"}},null,null,null,null,null,{"$f":"(K14+K8)*-1","v":{"$error":"#REF!"}},{"$f":"(L14+L8)*-1","v":{"$error":"#REF!"}},null,{"$f":"-(N8+S8)","v":{"$error":"#REF!"}},{"$f":"SUM(AH9:AH13)","v":{"$error":"#REF!"}}]
[null,null,{"$f":"-($AD$9+$H$9+$I$9)/$T$9*#REF!","v":{"$error":"#REF!"}},{"$f":"-($AD$9+$H$9+$I$9)/$T$9*#REF!","v":{"$error":"#REF!"}},{"$f":"-($AD$9+$H$9+$I$9)/$T$9*#REF!","v":{"$error":"#REF!"}},{"$f":"-($AD$9+$H$9+$I$9)/$T$9*#REF!","v":{"$error":"#REF!"}},{"$f":"-($AD$9+$H$9+$I$9)/$T$9*#REF!","v":{"$error":"#REF!"}},{"$f":"AD9*#REF!*-1","v":{"$error":"#REF!"}},{"$f":"AD9*#REF!*-1","v":{"$error":"#REF!"}},{"$f":"-($AD$9+$H$9+$I$9)/$T$9*#REF!","v":{"$error":"#REF!"}},null,null,null,{"$error":"#REF!"},"Electricity-only plants","ESEP","ES",null,{"$error":"#REF!"},{"$f":"#REF!","v":{"$error":"#REF!"}},null,null,null,null,null,null,null,null,null,{"$f":"AD8-AD10","v":{"$error":"#REF!"}},null,null,{"$f":"-(S9+N9)","v":{"$error":"#REF!"}},{"$f":"-(C9*Emissionsfaktorer!$B$2*(1-#REF!)+D9*Emissionsfaktorer!$B$3+E9*Emissionsfaktorer!$B$4*(1-#REF!)+F9*Emissionsfaktorer!$B$5*(1-#REF!)+G9*Emissionsfaktorer!$B$6+H9*Emissionsfaktorer!$B$7+I9*Emissionsfaktorer!$B$8-J9*Emissionsfaktorer!B13*#REF!+K9*Emissionsfaktorer!$B$10+L9*Emissionsfaktorer!$B$11+M9*Emissionsfaktorer!$B$12)","v":{"$error":"#REF!"}}]
[null,null,{"$f":"-($AD$10+$AE$10+$H$10+$I$10)/IF($T$10=0,1,T10)*#REF!","v":{"$error":"#REF!"}},{"$f":"-($AD$10+$AE$10+$H$10+$I$10)/IF($T$10=0,1,T10)*#REF!","v":{"$error":"#REF!"}},{"$f":"-($AD$10+$AE$10+$H$10+$I$10)/IF($T$10=0,1,T10)*#REF!","v":{"$error":"#REF!"}},{"$f":"-($AD$10+$AE$10+$H$10+$I$10)/IF($T$10=0,1,T10)*#REF!","v":{"$error":"#REF!"}},{"$f":"-($AD$10+$AE$10+$H$10+$I$10)/IF($T$10=0,1,T10)*#REF!","v":{"$error":"#REF!"}},null,{"$f":"(AD10+AE10)*#REF!*-1","v":{"$error":"#REF!"}},{"$f":"-($AD$10+$AE$10+$H$10+$I$10)/IF($T$10=0,1,T10)*#REF!","v":{"$error":"#REF!"}},null,null,null,{"$error":"#REF!"},"CHP plants","ESCHP","ES",null,{"$error":"#REF!"},{"$f":"#REF!","v":{"$error":"#REF!"}},null,null,null,null,null,null,null,null,null,{"$f":"AE10*#REF!","v":{"$error":"#REF!"}},{"$f":"AE8*#REF!","v":{"$error":"#REF!"}},null,{"$f":"-(S10+N10)","v":{"$error":"#REF!"}},{"$f":"-(C10*Emissionsfaktorer!$B$2*(1-#REF!)+D10*Emissionsfaktorer!$B$3+E10*Emissionsfaktorer!$B$4*(1-#REF!)+F10*Emissionsfaktorer!$B$5*(1-#REF!)+G10*Emissionsfaktorer!$B$6+H10*Emissionsfaktorer!$B$7+I10*Emissionsfaktorer!$B$8-J10*Emissionsfaktorer!B14*#REF!+K10*Emissionsfaktorer!$B$10+L10*Emissionsfaktorer!$B$11+M10*Emissionsfaktorer!$B$12)","v":{"$error":"#REF!"}}]
[null,null,{"$f":"-($AE$11+$H$11+$I$11)/IF($T$11=0,1,$T$11)*#REF!","v":{"$error":"#REF!"}},{"$f":"-($AE$11+$H$11+$I$11)/IF($T$11=0,1,$T$11)*#REF!","v":{"$error":"#REF!"}},{"$f":"-($AE$11+$H$11+$I$11)/IF($T$11=0,1,$T$11)*#REF!","v":{"$error":"#REF!"}},{"$f":"-($AE$11+$H$11+$I$11)/IF($T$11=0,1,$T$11)*#REF!","v":{"$error":"#REF!"}},{"$f":"-($AE$11+$H$11+$I$11)/IF($T$11=0,1,$T$11)*#REF!","v":{"$error":"#REF!"}},null,{"$f":"AE11*#REF!*-1","v":{"$error":"#REF!"}},{"$f":"-($AE$11+$H$11+$I$11)/IF($T$11=0,1,$T$11)*#REF!","v":{"$error":"#REF!"}},{"$f":"AE11*#REF!*-1","v":{"$error":"#REF!"}},null,null,{"$error":"#REF!"},"Heat Plants","ESHP","ES",null,{"$error":"#REF!"},{"$f":"#REF!","v":{"$error":"#REF!"}},null,null,null,null,null,null,null,null,null,null,{"$f":"AE8*#REF!","v":{"$error":"#REF!"}},null,{"$f":"-(S11+N11)","v":{"$error":"#REF!"}},{"$f":"-(C11*Emissionsfaktorer!$B$2+D11*Emissionsfaktorer!$B$3+E11*Emissionsfaktorer!$B$4+F11*Emissionsfaktorer!$B$5+G11*Emissionsfaktorer!$B$6+H11*Emissionsfaktorer!$B$7+I11*Emissionsfaktorer!$B$8+J11*Emissionsfaktorer!$B$9+K11*Emissionsfaktorer!$B$10+L11*Emissionsfaktorer!$B$11+M11*Emissionsfaktorer!$B$12)","v":{"$error":"#REF!"}}]
[null,null,null,{"$f":"-X12/IF(T12=0,1,T12)*#REF!","v":{"$error":"#REF!"}},null,null,null,null,null,{"$f":"-X12/IF(T12=0,1,T12)*#REF!","v":{"$error":"#REF!"}},null,null,null,{"$error":"#REF!"},"Oil refineries","ESOR","ES",null,{"$error":"#REF!"},{"$f":"#REF!","v":{"$error":"#REF!"}},null,null,null,{"$f":"-(E9+E10+E11+E13+E14)","v":{"$error":"#REF!"}},null,null,null,null,null,null,null,null,{"$f":"-(S12+N12)","v":{"$error":"#REF!"}},{"$f":"J12*Emissionsfaktorer!B4","v":{"$error":"#REF!"}}]
[null,null,{"$f":"N13*#REF!","v":{"$error":"#REF!"}},{"$f":"N13*#REF!","v":{"$error":"#REF!"}},{"$f":"N13*#REF!","v":{"$error":"#REF!"}},{"$f":"N13*#REF!","v":{"$error":"#REF!"}},null,null,null,{"$f":"N13*#REF!","v":{"$error":"#REF!"}},{"$f":"N13*#REF!","v":{"$error":"#REF!"}},{"$f":"N13*#REF!","v":{"$error":"#REF!"}},null,{"$f":"N16*#REF!","v":{"$error":"#REF!"}},"Energy Industry one use","ESNSP","ES",null,0,0,null,null,null,null,null,null,null,null,null,null,null,null,{"$f":"-(S13+N13)","v":{"$error":"#REF!"}},{"$f":"-(C13*Emissionsfaktorer!$B$2+D13*Emissionsfaktorer!$B$3+E13*Emissionsfaktorer!$B$4+F13*Emissionsfaktorer!$B$5+G13*Emissionsfaktorer!$B$6+H13*Emissionsfaktorer!$B$7+I13*Emissionsfaktorer!$B$8+J13*Emissionsfaktorer!$B$9+K13*Emissionsfaktorer!$B$10+L13*Emissionsfaktorer!$B$11+M13*Emissionsfaktorer!$B$12)","v":{"$error":"#REF!"}}]
[null,null,null,null,{"$f":"-X14*1","v":{"$error":"#REF!"}},null,null,null,null,null,{"$f":"-AD14*(1+#REF!)","v":{"$error":"#REF!"}},{"$f":"-AE14*(1+#REF!)","v":{"$error":"#REF!"}},null,{"$error":"#REF!"},"Transport electricity, district heating and oil products","TRAS",null,null,{"$error":"#REF!"},null,null,null,null,{"$f":"-E16","v":{"$error":"#REF!"}},null,null,null,null,null,{"$f":"-K16","v":{"$error":"#REF!"}},{"$f":"-L16","v":{"$error":"#REF!"}},null,{"$f":"-(N14+S14)","v":{"$error":"#REF!"}}]
[null,null,null,null,null,null,null,null,null,null,null,null,null,0,"Entry Off-Grid RE","ELP2",null,null,{"$error":"#REF!"},null,null,null,null,null,null,null,null,{"$f":"I16*-1","v":{"$error":"#REF!"}}]
[null,null,{"$f":"SUM(C17:C19)","v":{"$error":"#REF!"}},{"$error":"#REF!"},{"$error":"#REF!"},{"$error":"#REF!"},0,0,{"$error":"#REF!"},{"$error":"#REF!"},{"$error":"#REF!"},{"$error":"#REF!"},0,{"$f":"#REF!","v":{"$error":"#REF!"}},"Exit energy","EX",null,null,{"$error":"#REF!"},null,null,null,null,null,null,null,null,null,null,null,null,{"$f":"SUM(AF17:AF19)","v":{"$error":"#REF!"}},{"$f":"SUM(AG17:AG19)","v":{"$error":"#REF!"}},{"$f":"SUM(AH17:AH19)","v":{"$error":"#REF!"}}]
[null,null,{"$f":"AF17*#REF!/T17*#REF!/#REF!*-1","v":{"$error":"#REF!"}},{"$f":"AF17*#REF!/T17*#REF!/#REF!*-1","v":{"$error":"#REF!"}},{"$f":"AF17*#REF!/T17*#REF!/#REF!*-1","v":{"$error":"#REF!"}},{"$f":"AF17*#REF!/T17*#REF!/#REF!*-1","v":{"$error":"#REF!"}},null,null,{"$f":"AF17*#REF!/T17*#REF!/#REF!*-1","v":{"$error":"#REF!"}},{"$f":"AF17*#REF!*#REF!/T17/#REF!*-1","v":{"$error":"#REF!"}},{"$f":"AF17*#REF!*#REF!/T17/#REF!*-1","v":{"$error":"#REF!"}},{"$f":"AF17*#REF!*#REF!/T17/#REF!*-1","v":{"$error":"#REF!"}},null,{"$f":"SUM(C17:L17)","v":{"$error":"#REF!"}},"Industry","EXI","EX",null,{"$error":"#REF!"},{"$f":"(#REF!+#REF!+#REF!+#REF!+#REF!)*#REF!+(#REF!+#REF!)*#REF!+#REF!*#REF!","v":{"$error":"#REF!"}},null,null,null,null,null,null,null,null,null,null,null,{"$f":"#REF!*#REF!*((#REF!+#REF!+#REF!+#REF!+#REF!)*#REF!+(#REF!+#REF!)*#REF!+#REF!*#REF!)*-1","v":{"$error":"#REF!"}},{"$f":"(S17+SUM(C17:M17))*-1","v":{"$error":"#REF!"}},{"$f":"-(C17*Emissionsfaktorer!$B$2+D17*Emissionsfaktorer!$B$3+E17*Emissionsfaktorer!$B$4+F17*Emissionsfaktorer!$B$5+G17*Emissionsfaktorer!$B$6+H17*Emissionsfaktorer!$B$7+I17*Emissionsfaktorer!$B$8+J17*Emissionsfaktorer!$B$9+K17*Emissionsfaktorer!$B$10+L17*Emissionsfaktorer!$B$11+M17*Emissionsfaktorer!$B$12)","v":{"$error":"#REF!"}}]
[null,null,{"$f":"AF18*#REF!/T18*#REF!/#REF!*-1","v":{"$error":"#REF!"}},null,{"$f":"AF18*#REF!/T18*#REF!/#REF!*-1","v":{"$error":"#REF!"}},{"$f":"AF18*#REF!/T18*#REF!/#REF!*-1","v":{"$error":"#REF!"}},null,null,{"$f":"AF18*#REF!/T18*#REF!/#REF!*-1","v":{"$error":"#REF!"}},{"$f":"AF18*#REF!/T18*#REF!/#REF!*-1","v":{"$error":"#REF!"}},{"$f":"AF18*#REF!/T18*#REF!/#REF!*-1","v":{"$error":"#REF!"}},{"$f":"AF18*#REF!/T18*#REF!/#REF!*-1","v":{"$error":"#REF!"}},null,{"$f":"SUM(C18:L18)","v":{"$error":"#REF!"}},"Transport","EXT","EX",null,{"$error":"#REF!"},{"$f":"(#REF!+#REF!+#REF!+#REF!)*#REF!+(#REF!+#REF!)*#REF!+#REF!*#REF!","v":{"$error":"#REF!"}},null,null,null,null,null,null,null,null,null,null,null,{"$f":"#REF!*#REF!*-1*((#REF!+#REF!+#REF!+#REF!)*#REF!+(#REF!+#REF!)*#REF!+#REF!*#REF!)","v":{"$error":"#REF!"}},{"$f":"(S18+SUM(C18:M18))*-1","v":{"$error":"#REF!"}},{"$f":"-(C18*Emissionsfaktorer!$B$2+D18*Emissionsfaktorer!$B$3+E18*Emissionsfaktorer!$B$4+F18*Emissionsfaktorer!$B$5+G18*Emissionsfaktorer!$B$6+H18*Emissionsfaktorer!$B$7+I18*Emissionsfaktorer!$B$8+J18*Emissionsfaktorer!$B$9+K18*Emissionsfaktorer!$B$10+L18*Emissionsfaktorer!$B$11+M18*Emissionsfaktorer!$B$12)","v":{"$error":"#REF!"}}]
[null,null,{"$f":"SUM(C20:C24)","v":{"$error":"#REF!"}},{"$f":"SUM(D20:D24)","v":0},{"$error":"#REF!"},{"$error":"#REF!"},0,0,{"$error":"#REF!"},{"$error":"#REF!"},{"$error":"#REF!"},{"$error":"#REF!"},0,{"$f":"SUM(N20:N24)","v":{"$error":"#REF!"}},"Other ","EXO","EX",null,{"$error":"#REF!"},0.8,null,{"$f":"SUM(V20:V24)","v":0},{"$f":"SUM(W20:W24)","v":0},0,0,0,0,0,0,0,0,{"$error":"#REF!"},{"$error":"#REF!"},{"$error":"#REF!"}]
[null,null,{"$f":"AF20*#REF!/T20*#REF!/#REF!*-1","v":{"$error":"#REF!"}},null,{"$f":"AF20*#REF!/T20*#REF!/#REF!*-1","v":{"$error":"#REF!"}},{"$f":"AF20*#REF!/T20*#REF!/#REF!*-1","v":{"$error":"#REF!"}},null,null,{"$f":"AF20*#REF!/T20*#REF!/#REF!*-1","v":{"$error":"#REF!"}},{"$f":"AF20*#REF!/T20*#REF!/#REF!*-1","v":{"$error":"#REF!"}},{"$f":"AF20*#REF!/T20*#REF!/#REF!*-1","v":{"$error":"#REF!"}},{"$f":"AF20*#REF!/T20*#REF!/#REF!*-1","v":{"$error":"#REF!"}},null,{"$f":"SUM(C20:L20)","v":{"$error":"#REF!"}},"Residential","EXOR","EXO",null,{"$error":"#REF!"},{"$f":"(#REF!+#REF!+#REF!+#REF!)*#REF!+(#REF!+#REF!)*#REF!+#REF!*#REF!","v":{"$error":"#REF!"}},null,null,null,null,null,null,null,null,null,null,null,{"$f":"#REF!*#REF!*((#REF!+#REF!+#REF!+#REF!)*#REF!+(#REF!+#REF!)*#REF!+#REF!*#REF!)*-1","v":{"$error":"#REF!"}},{"$f":"(N20+AF20)*-1","v":{"$error":"#REF!"}},{"$f":"-(C20*Emissionsfaktorer!$B$2+D20*Emissionsfaktorer!$B$3+E20*Emissionsfaktorer!$B$4+F20*Emissionsfaktorer!$B$5+G20*Emissionsfaktorer!$B$6+H20*Emissionsfaktorer!$B$7+I20*Emissionsfaktorer!$B$8+J20*Emissionsfaktorer!$B$9+K20*Emissionsfaktorer!$B$10+L20*Emissionsfaktorer!$B$11+M20*Emissionsfaktorer!$B$12)","v":{"$error":"#REF!"}}]
[null,null,{"$f":"AF21*#REF!/T21*#REF!/#REF!*-1","v":{"$error":"#REF!"}},null,{"$f":"AF21*#REF!/T21*#REF!/#REF!*-1","v":{"$error":"#REF!"}},{"$f":"AF21*#REF!/T21*#REF!/#REF!*-1","v":{"$error":"#REF!"}},null,null,{"$f":"AF21*#REF!/T21*#REF!/#REF!*-1","v":{"$error":"#REF!"}},{"$f":"AF21*#REF!/T21*#REF!/#REF!*-1","v":{"$error":"#REF!"}},{"$f":"AF21*#REF!/T21*#REF!/#REF!*-1","v":{"$error":"#REF!"}},{"$f":"AF21*#REF!/T21*#REF!/#REF!*-1","v":{"$error":"#REF!"}},null,{"$f":"SUM(C21:L21)","v":{"$error":"#REF!"}},"Commercial and public services","EXOC","EXO",null,{"$error":"#REF!"},{"$f":"(#REF!+#REF!+#REF!+#REF!)*#REF!+(#REF!+#REF!)*#REF!+#REF!*#REF!","v":{"$error":"#REF!"}},null,null,null,null,null,null,null,null,null,null,null,{"$f":"#REF!*#REF!*((#REF!+#REF!+#REF!+#REF!)*#REF!+(#REF!+#REF!)*#REF!+#REF!*#REF!)*-1","v":{"$error":"#REF!"}},{"$f":"(N21+AF21)*-1","v":{"$error":"#REF!"}},{"$f":"-(C21*Emissionsfaktorer!$B$2+D21*Emissionsfaktorer!$B$3+E21*Emissionsfaktorer!$B$4+F21*Emissionsfaktorer!$B$5+G21*Emissionsfaktorer!$B$6+H21*Emissionsfaktorer!$B$7+I21*Emissionsfaktorer!$B$8+J21*Emissionsfaktorer!$B$9+K21*Emissionsfaktorer!$B$10+L21*Emissionsfaktorer!$B$11+M21*Emissionsfaktorer!$B$12)","v":{"$error":"#REF!"}}]
[null,null,{"$f":"AF22*#REF!/T22*#REF!/#REF!*-1","v":{"$error":"#REF!"}},null,{"$f":"AF22*#REF!/T22*#REF!/#REF!*-1","v":{"$error":"#REF!"}},{"$f":"AF22*#REF!/T22*#REF!/#REF!*-1","v":{"$error":"#REF!"}},null,null,{"$f":"AF22*#REF!/T22*#REF!/#REF!*-1","v":{"$error":"#REF!"}},{"$f":"AF22*#REF!/T22*#REF!/#REF!*-1","v":{"$error":"#REF!"}},{"$f":"AF22*#REF!/T22*#REF!/#REF!*-1","v":{"$error":"#REF!"}},{"$f":"AF22*#REF!/T22*#REF!/#REF!*-1","v":{"$error":"#REF!"}},null,{"$f":"SUM(C22:L22)","v":{"$error":"#REF!"}},"Agriculture / forestry","EXOA","EXO",null,{"$error":"#REF!"},{"$f":"(#REF!+#REF!+#REF!+#REF!)*#REF!+(#REF!+#REF!)*#REF!+#REF!*#REF!","v":{"$error":"#REF!"}},null,null,null,null,null,null,null,null,null,null,null,{"$f":"((#REF!+#REF!+#REF!+#REF!)*#REF!+(#REF!+#REF!)*#REF!+#REF!*#REF!)*#REF!*#REF!*-1","v":{"$error":"#REF!"}},{"$f":"(N22+AF22)*-1","v":{"$error":"#REF!"}},{"$f":"-(C22*Emissionsfaktorer!$B$2+D22*Emissionsfaktorer!$B$3+E22*Emissionsfaktorer!$B$4+F22*Emissionsfaktorer!$B$5+G22*Emissionsfaktorer!$B$6+H22*Emissionsfaktorer!$B$7+I22*Emissionsfaktorer!$B$8+J22*Emissionsfaktorer!$B$9+K22*Emissionsfaktorer!$B$10+L22*Emissionsfaktorer!$B$11+M22*Emissionsfaktorer!$B$12)","v":{"$error":"#REF!"}}]
[null,null,{"$f":"AF23*#REF!/T23*#REF!/#REF!*-1","v":{"$error":"#REF!"}},null,{"$f":"AF23*#REF!/T23*#REF!/#REF!*-1","v":{"$error":"#REF!"}},{"$f":"AF23*#REF!/T23*#REF!/#REF!*-1","v":{"$error":"#REF!"}},null,null,{"$f":"AF23*#REF!/T23*#REF!/#REF!*-1","v":{"$error":"#REF!"}},{"$f":"AF23*#REF!/T23*#REF!/#REF!*-1","v":{"$error":"#REF!"}},{"$f":"AF23*#REF!/T23*#REF!/#REF!*-1","v":{"$error":"#REF!"}},{"$f":"AF23*#REF!/T23*#REF!/#REF!*-1","v":{"$error":"#REF!"}},null,{"$f":"SUM(C23:L23)","v":{"$error":"#REF!"}},"Fishing","EXOF","EXO",null,{"$error":"#REF!"},{"$f":"(#REF!+#REF!+#REF!+#REF!)*#REF!+(#REF!+#REF!)*#REF!+#REF!*#REF!","v":{"$error":"#REF!"}},null,null,null,null,null,null,null,null,null,null,null,{"$f":"((#REF!+#REF!+#REF!+#REF!)*#REF!+(#REF!+#REF!)*#REF!+#REF!*#REF!)*#REF!*#REF!*-1","v":{"$error":"#REF!"}},{"$f":"(N23+AF23)*-1","v":{"$error":"#REF!"}},{"$f":"-(C23*Emissionsfaktorer!$B$2+D23*Emissionsfaktorer!$B$3+E23*Emissionsfaktorer!$B$4+F23*Emissionsfaktorer!$B$5+G23*Emissionsfaktorer!$B$6+H23*Emissionsfaktorer!$B$7+I23*Emissionsfaktorer!$B$8+J23*Emissionsfaktorer!$B$9+K23*Emissionsfaktorer!$B$10+L23*Emissionsfaktorer!$B$11+M23*Emissionsfaktorer!$B$12)","v":{"$error":"#REF!"}}]
[null,null,{"$f":"AF24*#REF!/T24*#REF!/#REF!*-1","v":{"$error":"#REF!"}},null,{"$f":"AF24*#REF!/T24*#REF!/#REF!*-1","v":{"$error":"#REF!"}},{"$f":"AF24*#REF!/T24*#REF!/#REF!*-1","v":{"$error":"#REF!"}},null,null,{"$f":"AF24*#REF!/T24*#REF!/#REF!*-1","v":{"$error":"#REF!"}},{"$f":"AF24*#REF!/T24*#REF!/#REF!*-1","v":{"$error":"#REF!"}},{"$f":"AF24*#REF!/T24*#REF!/#REF!*-1","v":{"$error":"#REF!"}},{"$f":"AF24*#REF!/T24*#REF!/#REF!*-1","v":{"$error":"#REF!"}},null,{"$f":"SUM(C24:L24)","v":{"$error":"#REF!"}},"Non-specified","EXON","EXO",null,{"$error":"#REF!"},{"$f":"(#REF!+#REF!+#REF!+#REF!)*#REF!+(#REF!+#REF!)*#REF!+#REF!*#REF!","v":{"$error":"#REF!"}},null,null,null,null,null,null,null,null,null,null,null,{"$f":"((#REF!+#REF!+#REF!+#REF!)*#REF!+(#REF!+#REF!)*#REF!+#REF!*#REF!)*#REF!*#REF!*-1","v":{"$error":"#REF!"}},{"$f":"(N24+AF24)*-1","v":{"$error":"#REF!"}},{"$f":"-(C24*Emissionsfaktorer!$B$2+D24*Emissionsfaktorer!$B$3+E24*Emissionsfaktorer!$B$4+F24*Emissionsfaktorer!$B$5+G24*Emissionsfaktorer!$B$6+H24*Emissionsfaktorer!$B$7+I24*Emissionsfaktorer!$B$8+J24*Emissionsfaktorer!$B$9+K24*Emissionsfaktorer!$B$10+L24*Emissionsfaktorer!$B$11+M24*Emissionsfaktorer!$B$12)","v":{"$error":"#REF!"}}]
[null,null,null,null,null,null,null,null,null,null,null,null,null,{"$f":"N16","v":{"$error":"#REF!"}},"Energy Services","EN",null,null,{"$error":"#REF!"},{"$f":"AF25/N25*-1","v":{"$error":"#REF!"}},null,null,null,null,null,null,null,null,null,null,null,{"$f":"AF16","v":{"$error":"#REF!"}},{"$f":"-(S25+N25)","v":{"$error":"#REF!"}}]

{"sheet":"BL Middle East 2030","index":47,"n_rows":25,"n_cols":34,"rows_kept":25,"cut":false,"hidden":true,"merged":[]}
[null,"Consumption","Coal","Crude oil","Oil Products","Natual Gas","Nuclear","Hydro","Geothermal, solar, wind, etc.","Biofuels and waste","Electricity","Heat","Energy Services","Total consumption","Middle East 2030",null,null,"Faktor","Total production","Efficiency","Production","Coal","Crude oil","Oil Products","Natual Gas","Nuclear","Hydro","Geothermal, solar, wind, etc.","Biofuels and waste","Electricity","Heat","Energy Services","Loss","CO2-emissions"]
["ID","C ","CC","CCO","COP","CNG","CNU","CHY","CGSW","CWB","CE","CH","CES","fbrbr",null,"ID","ID Parent","factor","pbrpr","pvrkg","P ","PC","PCO","POP","PNG","PNU","PHY","PGSW","PWB","PE","PH","PES","PTAB","PCO2"]
["ID Parent",null,"C","C","C ","C ","C ","C","C","C ","C ","C ","C ",null,"Structures",null,null,null,null,null,null,"P ","P ","P ","P ","P ","P ","P","P ","P ","P ","P "]
["Factor",null,null,null,null,null,null,null,null,null,null,null,null,null,null,null,null,null,null,null,{"$f":"B4","v":0},null,null,null,null,null,null,null,null,null,null,null,{"$f":"U4","v":0},{"$f":"U4","v":0}]
[null,null,null,null,null,null,null,null,null,null,null,null,null,{"$f":"SUM(C5:M5)","v":0},"Entry fuels","ETP",null,null,{"$f":"SUM(V5:AF5)","v":{"$error":"#REF!"}},null,null,{"$f":"-(C6+C5)","v":{"$error":"#REF!"}},{"$f":"-(D6+D5)","v":{"$error":"#REF!"}},null,{"$f":"-(F6+F5)","v":{"$error":"#REF!"}},{"$f":"-(G6+G5)","v":{"$error":"#REF!"}},null,null,{"$f":"-(J6+J5)","v":{"$error":"#REF!"}}]
[null,null,{"$f":"-V6","v":{"$error":"#REF!"}},{"$f":"-W6","v":{"$error":"#REF!"}},null,{"$f":"-Y6","v":{"$error":"#REF!"}},{"$f":"-Z6","v":{"$error":"#REF!"}},null,null,{"$f":"-AC6","v":{"$error":"#REF!"}},null,null,null,{"$f":"SUM(C6:M6)","v":{"$error":"#REF!"}},"Transport of fuels","TRAP",null,null,{"$f":"SUM(V6:AF6)","v":{"$error":"#REF!"}},null,null,{"$f":"-(C16+C8)","v":{"$error":"#REF!"}},{"$f":"-(D16+D8)","v":{"$error":"#REF!"}},null,{"$f":"-(F16+F8)","v":{"$error":"#REF!"}},{"$f":"-(G16+G8)","v":{"$error":"#REF!"}},null,null,{"$f":"-(J16+J8)","v":{"$error":"#REF!"}},null,null,null,{"$f":"-(N6+S6)","v":{"$error":"#REF!"}}]
[null,null,null,null,null,null,null,null,null,null,null,null,null,0,"Entry On-Grid RE ","ELP1",null,null,{"$error":"#REF!"},null,null,null,null,null,null,null,{"$f":"-H8","v":{"$error":"#REF!"}},{"$f":"-I8","v":{"$error":"#REF!"}}]
[null,null,{"$f":"SUM(C9:C13)","v":{"$error":"#REF!"}},{"$f":"SUM(D9:D13)","v":{"$error":"#REF!"}},{"$error":"#REF!"},{"$error":"#REF!"},{"$error":"#REF!"},{"$error":"#REF!"},{"$error":"#REF!"},{"$error":"#REF!"},{"$error":"#REF!"},{"$error":"#REF!"},0,{"$error":"#REF!"},"Entry electricity, district heating and oil products","ES",null,null,{"$error":"#REF!"},null,null,{"$f":"SUM(V9:V13)","v":0},null,{"$f":"(E14+E8)*-1","v":{"$error":"#REF!"}},null,null,null,null,null,{"$f":"(K14+K8)*-1","v":{"$error":"#REF!"}},{"$f":"(L14+L8)*-1","v":{"$error":"#REF!"}},null,{"$f":"-(N8+S8)","v":{"$error":"#REF!"}},{"$f":"SUM(AH9:AH13)","v":{"$error":"#REF!"}}]
[null,null,{"$f":"-($AD$9+$H$9+$I$9)/$T$9*#REF!","v":{"$error":"#REF!"}},{"$f":"-($AD$9+$H$9+$I$9)/$T$9*#REF!","v":{"$error":"#REF!"}},{"$f":"-($AD$9+$H$9+$I$9)/$T$9*#REF!","v":{"$error":"#REF!"}},{"$f":"-($AD$9+$H$9+$I$9)/$T$9*#REF!","v":{"$error":"#REF!"}},{"$f":"-($AD$9+$H$9+$I$9)/$T$9*#REF!","v":{"$error":"#REF!"}},{"$f":"AD9*#REF!*-1","v":{"$error":"#REF!"}},{"$f":"AD9*#REF!*-1","v":{"$error":"#REF!"}},{"$f":"-($AD$9+$H$9+$I$9)/$T$9*#REF!","v":{"$error":"#REF!"}},null,null,null,{"$error":"#REF!"},"Electricity-only plants","ESEP","ES",null,{"$error":"#REF!"},{"$f":"#REF!","v":{"$error":"#REF!"}},null,null,null,null,null,null,null,null,null,{"$f":"AD8-AD10","v":{"$error":"#REF!"}},null,null,{"$f":"-(S9+N9)","v":{"$error":"#REF!"}},{"$f":"-(C9*Emissionsfaktorer!$B$2*(1-#REF!)+D9*Emissionsfaktorer!$B$3+E9*Emissionsfaktorer!$B$4*(1-#REF!)+F9*Emissionsfaktorer!$B$5*(1-#REF!)+G9*Emissionsfaktorer!$B$6+H9*Emissionsfaktorer!$B$7+I9*Emissionsfaktorer!$B$8-J9*Emissionsfaktorer!B13*#REF!+K9*Emissionsfaktorer!$B$10+L9*Emissionsfaktorer!$B$11+M9*Emissionsfaktorer!$B$12)","v":{"$error":"#REF!"}}]
[null,null,{"$f":"-($AD$10+$AE$10+$H$10+$I$10)/IF($T$10=0,1,T10)*#REF!","v":{"$error":"#REF!"}},{"$f":"-($AD$10+$AE$10+$H$10+$I$10)/IF($T$10=0,1,T10)*#REF!","v":{"$error":"#REF!"}},{"$f":"-($AD$10+$AE$10+$H$10+$I$10)/IF($T$10=0,1,T10)*#REF!","v":{"$error":"#REF!"}},{"$f":"-($AD$10+$AE$10+$H$10+$I$10)/IF($T$10=0,1)*#REF!","v":{"$error":"#REF!"}},{"$f":"-($AD$10+$AE$10+$H$10+$I$10)/IF($T$10=0,1,T10)*#REF!","v":{"$error":"#REF!"}},null,{"$f":"(AD10+AE10)*#REF!*-1","v":{"$error":"#REF!"}},{"$f":"-($AD$10+$AE$10+$H$10+$I$10)/IF($T$10=0,1,T10)*#REF!","v":{"$error":"#REF!"}},null,null,null,{"$error":"#REF!"},"CHP plants","ESCHP","ES",null,{"$error":"#REF!"},{"$f":"#REF!","v":{"$error":"#REF!"}},null,null,null,null,null,null,null,null,null,{"$f":"AE10*#REF!","v":{"$error":"#REF!"}},{"$f":"AE8*#REF!","v":{"$error":"#REF!"}},null,{"$f":"-(S10+N10)","v":{"$error":"#REF!"}},{"$f":"-(C10*Emissionsfaktorer!$B$2*(1-#REF!)+D10*Emissionsfaktorer!$B$3+E10*Emissionsfaktorer!$B$4*(1-#REF!)+F10*Emissionsfaktorer!$B$5*(1-#REF!)+G10*Emissionsfaktorer!$B$6+H10*Emissionsfaktorer!$B$7+I10*Emissionsfaktorer!$B$8-J10*Emissionsfaktorer!B14*#REF!+K10*Emissionsfaktorer!$B$10+L10*Emissionsfaktorer!$B$11+M10*Emissionsfaktorer!$B$12)","v":{"$error":"#REF!"}}]
[null,null,{"$f":"-($AE$11+$H$11+$I$11)/IF($T$11=0,1,$T$11)*#REF!","v":{"$error":"#REF!"}},{"$f":"-($AE$11+$H$11+$I$11)/IF($T$11=0,1,$T$11)*#REF!","v":{"$error":"#REF!"}},{"$f":"-($AE$11+$H$11+$I$11)/IF($T$11=0,1,$T$11)*#REF!","v":{"$error":"#REF!"}},{"$f":"-($AE$11+$H$11+$I$11)/IF($T$11=0,1,$T$11)*#REF!","v":{"$error":"#REF!"}},{"$f":"-($AE$11+$H$11+$I$11)/IF($T$11=0,1,T11)*#REF!","v":{"$error":"#REF!"}},null,{"$f":"AE11*#REF!*-1","v":{"$error":"#REF!"}},{"$f":"-($AE$11+$H$11+$I$11)/IF($T$11=0,1,T11)*#REF!","v":{"$error":"#REF!"}},{"$f":"AE11*#REF!*-1","v":{"$error":"#REF!"}},null,null,{"$error":"#REF!"},"Heat Plants","ESHP","ES",null,{"$error":"#REF!"},{"$f":"#REF!","v":{"$error":"#REF!"}},null,null,null,null,null,null,null,null,null,null,{"$f":"AE8*#REF!","v":{"$error":"#REF!"}},null,{"$f":"-(S11+N11)","v":{"$error":"#REF!"}},{"$f":"-(C11*Emissionsfaktorer!$B$2+D11*Emissionsfaktorer!$B$3+E11*Emissionsfaktorer!$B$4+F11*Emissionsfaktorer!$B$5+G11*Emissionsfaktorer!$B$6+H11*Emissionsfaktorer!$B$7+I11*Emissionsfaktorer!$B$8+J11*Emissionsfaktorer!$B$9+K11*Emissionsfaktorer!$B$10+L11*Emissionsfaktorer!$B$11+M11*Emissionsfaktorer!$B$12)","v":{"$error":"#REF!"}}]
[null,null,null,{"$f":"-X12/IF(T12=0,1,T12)*#REF!","v":{"$error":"#REF!"}},null,null,null,null,null,{"$f":"-X12/T12*#REF!","v":{"$error":"#REF!"}},null,null,null,{"$error":"#REF!"},"Oil refineries","ESOR","ES",null,{"$error":"#REF!"},{"$f":"#REF!","v":{"$error":"#REF!"}},null,null,null,{"$f":"-(E9+E10+E11+E13+E14)","v":{"$error":"#REF!"}},null,null,null,null,null,null,null,null,{"$f":"-(S12+N12)","v":{"$error":"#REF!"}},{"$f":"J12*Emissionsfaktorer!B4","v":{"$error":"#REF!"}}]
[null,null,{"$f":"N13*#REF!","v":{"$error":"#REF!"}},{"$f":"N13*#REF!","v":{"$error":"#REF!"}},{"$f":"N13*#REF!","v":{"$error":"#REF!"}},{"$f":"N13*#REF!","v":{"$error":"#REF!"}},null,null,null,{"$f":"N13*#REF!","v":{"$error":"#REF!"}},{"$f":"N13*#REF!","v":{"$error":"#REF!"}},{"$f":"N13*#REF!","v":{"$error":"#REF!"}},null,{"$f":"N16*#REF!","v":{"$error":"#REF!"}},"Energy Industry one use","ESNSP","ES",null,0,0,null,null,null,null,null,null,null,null,null,null,null,null,{"$f":"-(S13+N13)","v":{"$error":"#REF!"}},{"$f":"-(C13*Emissionsfaktorer!$B$2+D13*Emissionsfaktorer!$B$3+E13*Emissionsfaktorer!$B$4+F13*Emissionsfaktorer!$B$5+G13*Emissionsfaktorer!$B$6+H13*Emissionsfaktorer!$B$7+I13*Emissionsfaktorer!$B$8+J13*Emissionsfaktorer!$B$9+K13*Emissionsfaktorer!$B$10+L13*Emissionsfaktorer!$B$11+M13*Emissionsfaktorer!$B$12)","v":{"$error":"#REF!"}}]
[null,null,null,null,{"$f":"-X14*1","v":{"$error":"#REF!"}},null,null,null,null,null,{"$f":"-AD14*(1+#REF!)","v":{"$error":"#REF!"}},{"$f":"-AE14*(1+#REF!)","v":{"$error":"#REF!"}},null,{"$error":"#REF!"},"Transport electricity, district heating and oil products","TRAS",null,null,{"$error":"#REF!"},null,null,null,null,{"$f":"-E16","v":{"$error":"#REF!"}},null,null,null,null,null,{"$f":"-K16","v":{"$error":"#REF!"}},{"$f":"-L16","v":{"$error":"#REF!"}},null,{"$f":"-(N14+S14)","v":{"$error":"#REF!"}}]
[null,null,null,null,null,null,null,null,null,null,null,null,null,0,"Entry Off-Grid RE","ELP2",null,null,{"$error":"#REF!"},null,null,null,null,null,null,null,null,{"$f":"I16*-1","v":{"$error":"#REF!"}}]
[null,null,{"$f":"SUM(C17:C19)","v":{"$error":"#REF!"}},{"$error":"#REF!"},{"$error":"#REF!"},{"$error":"#REF!"},0,0,{"$error":"#REF!"},{"$error":"#REF!"},{"$error":"#REF!"},{"$error":"#REF!"},0,{"$f":"#REF!","v":{"$error":"#REF!"}},"Exit energy","EX",null,null,{"$error":"#REF!"},null,null,null,null,null,null,null,null,null,null,null,null,{"$f":"SUM(AF17:AF19)","v":{"$error":"#REF!"}},{"$f":"SUM(AG17:AG19)","v":{"$error":"#REF!"}},{"$f":"SUM(AH17:AH19)","v":{"$error":"#REF!"}}]
[null,null,{"$f":"AF17*#REF!/T17*#REF!/#REF!*-1","v":{"$error":"#REF!"}},{"$f":"AF17*#REF!/T17*#REF!/#REF!*-1","v":{"$error":"#REF!"}},{"$f":"AF17*#REF!/T17*#REF!/#REF!*-1","v":{"$error":"#REF!"}},{"$f":"AF17*#REF!/T17*#REF!/#REF!*-1","v":{"$error":"#REF!"}},null,null,{"$f":"AF17*#REF!/T17*#REF!/#REF!*-1","v":{"$error":"#REF!"}},{"$f":"AF17*#REF!*#REF!/T17/#REF!*-1","v":{"$error":"#REF!"}},{"$f":"AF17*#REF!*#REF!/T17/#REF!*-1","v":{"$error":"#REF!"}},{"$f":"AF17*#REF!*#REF!/T17/#REF!*-1","v":{"$error":"#REF!"}},null,{"$f":"SUM(C17:L17)","v":{"$error":"#REF!"}},"Industry","EXI","EX",null,{"$error":"#REF!"},{"$f":"(#REF!+#REF!+#REF!+#REF!+#REF!)*#REF!+(#REF!+#REF!)*#REF!+#REF!*#REF!","v":{"$error":"#REF!"}},null,null,null,null,null,null,null,null,null,null,null,{"$f":"#REF!*#REF!*((#REF!+#REF!+#REF!+#REF!+#REF!)*#REF!+(#REF!+#REF!)*#REF!+#REF!*#REF!)*-1","v":{"$error":"#REF!"}},{"$f":"(S17+SUM(C17:M17))*-1","v":{"$error":"#REF!"}},{"$f":"-(C17*Emissionsfaktorer!$B$2+D17*Emissionsfaktorer!$B$3+E17*Emissionsfaktorer!$B$4+F17*Emissionsfaktorer!$B$5+G17*Emissionsfaktorer!$B$6+H17*Emissionsfaktorer!$B$7+I17*Emissionsfaktorer!$B$8+J17*Emissionsfaktorer!$B$9+K17*Emissionsfaktorer!$B$10+L17*Emissionsfaktorer!$B$11+M17*Emissionsfaktorer!$B$12)","v":{"$error":"#REF!"}}]
[null,null,{"$f":"AF18*#REF!/T18*#REF!/#REF!*-1","v":{"$error":"#REF!"}},null,{"$f":"AF18*#REF!/T18*#REF!/#REF!*-1","v":{"$error":"#REF!"}},{"$f":"AF18*#REF!/T18*#REF!/#REF!*-1","v":{"$error":"#REF!"}},null,null,{"$f":"AF18*#REF!/T18*#REF!/#REF!*-1","v":{"$error":"#REF!"}},{"$f":"AF18*#REF!/T18*#REF!/#REF!*-1","v":{"$error":"#REF!"}},{"$f":"AF18*#REF!/T18*#REF!/#REF!*-1","v":{"$error":"#REF!"}},{"$f":"AF18*#REF!/T18*#REF!/#REF!*-1","v":{"$error":"#REF!"}},null,{"$f":"SUM(C18:L18)","v":{"$error":"#REF!"}},"Transport","EXT","EX",null,{"$error":"#REF!"},{"$f":"(#REF!+#REF!+#REF!+#REF!)*#REF!+(#REF!+#REF!)*#REF!+#REF!*#REF!","v":{"$error":"#REF!"}},null,null,null,null,null,null,null,null,null,null,null,{"$f":"#REF!*#REF!*-1*((#REF!+#REF!+#REF!+#REF!)*#REF!+(#REF!+#REF!)*#REF!+#REF!*#REF!)","v":{"$error":"#REF!"}},{"$f":"(S18+SUM(C18:M18))*-1","v":{"$error":"#REF!"}},{"$f":"-(C18*Emissionsfaktorer!$B$2+D18*Emissionsfaktorer!$B$3+E18*Emissionsfaktorer!$B$4+F18*Emissionsfaktorer!$B$5+G18*Emissionsfaktorer!$B$6+H18*Emissionsfaktorer!$B$7+I18*Emissionsfaktorer!$B$8+J18*Emissionsfaktorer!$B$9+K18*Emissionsfaktorer!$B$10+L18*Emissionsfaktorer!$B$11+M18*Emissionsfaktorer!$B$12)","v":{"$error":"#REF!"}}]
[null,null,{"$f":"SUM(C20:C24)","v":{"$error":"#REF!"}},{"$f":"SUM(D20:D24)","v":0},{"$error":"#REF!"},{"$error":"#REF!"},0,0,{"$error":"#REF!"},{"$error":"#REF!"},{"$error":"#REF!"},{"$error":"#REF!"},0,{"$f":"SUM(N20:N24)","v":{"$error":"#REF!"}},"Other ","EXO","EX",null,{"$error":"#REF!"},0.8,null,{"$f":"SUM(V20:V24)","v":0},{"$f":"SUM(W20:W24)","v":0},0,0,0,0,0,0,0,0,{"$error":"#REF!"},{"$error":"#REF!"},{"$error":"#REF!"}]
[null,null,{"$f":"AF20*#REF!/T20*#REF!/#REF!*-1","v":{"$error":"#REF!"}},null,{"$f":"AF20*#REF!/T20*#REF!/#REF!*-1","v":{"$error":"#REF!"}},{"$f":"AF20*#REF!/T20*#REF!/#REF!*-1","v":{"$error":"#REF!"}},null,null,{"$f":"AF20*#REF!/T20*#REF!/#REF!*-1","v":{"$error":"#REF!"}},{"$f":"AF20*#REF!/T20*#REF!/#REF!*-1","v":{"$error":"#REF!"}},{"$f":"AF20*#REF!/T20*#REF!/#REF!*-1","v":{"$error":"#REF!"}},{"$f":"AF20*#REF!/T20*#REF!/#REF!*-1","v":{"$error":"#REF!"}},null,{"$f":"SUM(C20:L20)","v":{"$error":"#REF!"}},"Residential","EXOR","EXO",null,{"$error":"#REF!"},{"$f":"(#REF!+#REF!+#REF!+#REF!)*#REF!+(#REF!+#REF!)*#REF!+#REF!*#REF!","v":{"$error":"#REF!"}},null,null,null,null,null,null,null,null,null,null,null,{"$f":"#REF!*#REF!*((#REF!+#REF!+#REF!+#REF!)*#REF!+(#REF!+#REF!)*#REF!+#REF!*#REF!)*-1","v":{"$error":"#REF!"}},{"$f":"(N20+AF20)*-1","v":{"$error":"#REF!"}},{"$f":"-(C20*Emissionsfaktorer!$B$2+D20*Emissionsfaktorer!$B$3+E20*Emissionsfaktorer!$B$4+F20*Emissionsfaktorer!$B$5+G20*Emissionsfaktorer!$B$6+H20*Emissionsfaktorer!$B$7+I20*Emissionsfaktorer!$B$8+J20*Emissionsfaktorer!$B$9+K20*Emissionsfaktorer!$B$10+L20*Emissionsfaktorer!$B$11+M20*Emissionsfaktorer!$B$12)","v":{"$error":"#REF!"}}]
[null,null,{"$f":"AF21*#REF!/T21*#REF!/#REF!*-1","v":{"$error":"#REF!"}},null,{"$f":"AF21*#REF!/T21*#REF!/#REF!*-1","v":{"$error":"#REF!"}},{"$f":"AF21*#REF!/T21*#REF!/#REF!*-1","v":{"$error":"#REF!"}},null,null,{"$f":"AF21*#REF!/T21*#REF!/#REF!*-1","v":{"$error":"#REF!"}},{"$f":"AF21*#REF!/T21*#REF!/#REF!*-1","v":{"$error":"#REF!"}},{"$f":"AF21*#REF!/T21*#REF!/#REF!*-1","v":{"$error":"#REF!"}},{"$f":"AF21*#REF!/T21*#REF!/#REF!*-1","v":{"$error":"#REF!"}},null,{"$f":"SUM(C21:L21)","v":{"$error":"#REF!"}},"Commercial and public services","EXOC","EXO",null,{"$error":"#REF!"},{"$f":"(#REF!+#REF!+#REF!+#REF!)*#REF!+(#REF!+#REF!)*#REF!+#REF!*#REF!","v":{"$error":"#REF!"}},null,null,null,null,null,null,null,null,null,null,null,{"$f":"#REF!*#REF!*((#REF!+#REF!+#REF!+#REF!)*#REF!+(#REF!+#REF!)*#REF!+#REF!*#REF!)*-1","v":{"$error":"#REF!"}},{"$f":"(N21+AF21)*-1","v":{"$error":"#REF!"}},{"$f":"-(C21*Emissionsfaktorer!$B$2+D21*Emissionsfaktorer!$B$3+E21*Emissionsfaktorer!$B$4+F21*Emissionsfaktorer!$B$5+G21*Emissionsfaktorer!$B$6+H21*Emissionsfaktorer!$B$7+I21*Emissionsfaktorer!$B$8+J21*Emissionsfaktorer!$B$9+K21*Emissionsfaktorer!$B$10+L21*Emissionsfaktorer!$B$11+M21*Emissionsfaktorer!$B$12)","v":{"$error":"#REF!"}}]
[null,null,{"$f":"AF22*#REF!/T22*#REF!/#REF!*-1","v":{"$error":"#REF!"}},null,{"$f":"AF22*#REF!/T22*#REF!/#REF!*-1","v":{"$error":"#REF!"}},{"$f":"AF22*#REF!/T22*#REF!/#REF!*-1","v":{"$error":"#REF!"}},null,null,{"$f":"AF22*#REF!/T22*#REF!/#REF!*-1","v":{"$error":"#REF!"}},{"$f":"AF22*#REF!/T22*#REF!/#REF!*-1","v":{"$error":"#REF!"}},{"$f":"AF22*#REF!/T22*#REF!/#REF!*-1","v":{"$error":"#REF!"}},{"$f":"AF22*#REF!/T22*#REF!/#REF!*-1","v":{"$error":"#REF!"}},null,{"$f":"SUM(C22:L22)","v":{"$error":"#REF!"}},"Agriculture / forestry","EXOA","EXO",null,{"$error":"#REF!"},{"$f":"(#REF!+#REF!+#REF!+#REF!)*#REF!+(#REF!+#REF!)*#REF!+#REF!*#REF!","v":{"$error":"#REF!"}},null,null,null,null,null,null,null,null,null,null,null,{"$f":"((#REF!+#REF!+#REF!+#REF!)*#REF!+(#REF!+#REF!)*#REF!+#REF!*#REF!)*#REF!*#REF!*-1","v":{"$error":"#REF!"}},{"$f":"(N22+AF22)*-1","v":{"$error":"#REF!"}},{"$f":"-(C22*Emissionsfaktorer!$B$2+D22*Emissionsfaktorer!$B$3+E22*Emissionsfaktorer!$B$4+F22*Emissionsfaktorer!$B$5+G22*Emissionsfaktorer!$B$6+H22*Emissionsfaktorer!$B$7+I22*Emissionsfaktorer!$B$8+J22*Emissionsfaktorer!$B$9+K22*Emissionsfaktorer!$B$10+L22*Emissionsfaktorer!$B$11+M22*Emissionsfaktorer!$B$12)","v":{"$error":"#REF!"}}]
[null,null,{"$f":"AF23*#REF!/T23*#REF!/#REF!*-1","v":{"$error":"#REF!"}},null,{"$f":"AF23*#REF!/T23*#REF!/#REF!*-1","v":{"$error":"#REF!"}},{"$f":"AF23*#REF!/T23*#REF!/#REF!*-1","v":{"$error":"#REF!"}},null,null,{"$f":"AF23*#REF!/T23*#REF!/#REF!*-1","v":{"$error":"#REF!"}},{"$f":"AF23*#REF!/T23*#REF!/#REF!*-1","v":{"$error":"#REF!"}},{"$f":"AF23*#REF!/T23*#REF!/#REF!*-1","v":{"$error":"#REF!"}},{"$f":"AF23*#REF!/T23*#REF!/#REF!*-1","v":{"$error":"#REF!"}},null,{"$f":"SUM(C23:L23)","v":{"$error":"#REF!"}},"Fishing","EXOF","EXO",null,{"$error":"#REF!"},{"$f":"(#REF!+#REF!+#REF!+#REF!)*#REF!+(#REF!+#REF!)*#REF!+#REF!*#REF!","v":{"$error":"#REF!"}},null,null,null,null,null,null,null,null,null,null,null,{"$f":"((#REF!+#REF!+#REF!+#REF!)*#REF!+(#REF!+#REF!)*#REF!+#REF!*#REF!)*#REF!*#REF!*-1","v":{"$error":"#REF!"}},{"$f":"(N23+AF23)*-1","v":{"$error":"#REF!"}},{"$f":"-(C23*Emissionsfaktorer!$B$2+D23*Emissionsfaktorer!$B$3+E23*Emissionsfaktorer!$B$4+F23*Emissionsfaktorer!$B$5+G23*Emissionsfaktorer!$B$6+H23*Emissionsfaktorer!$B$7+I23*Emissionsfaktorer!$B$8+J23*Emissionsfaktorer!$B$9+K23*Emissionsfaktorer!$B$10+L23*Emissionsfaktorer!$B$11+M23*Emissionsfaktorer!$B$12)","v":{"$error":"#REF!"}}]
[null,null,{"$f":"AF24*#REF!/T24*#REF!/#REF!*-1","v":{"$error":"#REF!"}},null,{"$f":"AF24*#REF!/T24*#REF!/#REF!*-1","v":{"$error":"#REF!"}},{"$f":"AF24*#REF!/T24*#REF!/#REF!*-1","v":{"$error":"#REF!"}},null,null,{"$f":"AF24*#REF!/T24*#REF!/#REF!*-1","v":{"$error":"#REF!"}},{"$f":"AF24*#REF!/T24*#REF!/#REF!*-1","v":{"$error":"#REF!"}},{"$f":"AF24*#REF!/T24*#REF!/#REF!*-1","v":{"$error":"#REF!"}},{"$f":"AF24*#REF!/T24*#REF!/#REF!*-1","v":{"$error":"#REF!"}},null,{"$f":"SUM(C24:L24)","v":{"$error":"#REF!"}},"Non-specified","EXON","EXO",null,{"$error":"#REF!"},{"$f":"(#REF!+#REF!+#REF!+#REF!)*#REF!+(#REF!+#REF!)*#REF!+#REF!*#REF!","v":{"$error":"#REF!"}},null,null,null,null,null,null,null,null,null,null,null,{"$f":"((#REF!+#REF!+#REF!+#REF!)*#REF!+(#REF!+#REF!)*#REF!+#REF!*#REF!)*#REF!*#REF!*-1","v":{"$error":"#REF!"}},{"$f":"(N24+AF24)*-1","v":{"$error":"#REF!"}},{"$f":"-(C24*Emissionsfaktorer!$B$2+D24*Emissionsfaktorer!$B$3+E24*Emissionsfaktorer!$B$4+F24*Emissionsfaktorer!$B$5+G24*Emissionsfaktorer!$B$6+H24*Emissionsfaktorer!$B$7+I24*Emissionsfaktorer!$B$8+J24*Emissionsfaktorer!$B$9+K24*Emissionsfaktorer!$B$10+L24*Emissionsfaktorer!$B$11+M24*Emissionsfaktorer!$B$12)","v":{"$error":"#REF!"}}]
[null,null,null,null,null,null,null,null,null,null,null,null,null,{"$f":"N16","v":{"$error":"#REF!"}},"Energy Services","EN",null,null,{"$error":"#REF!"},{"$f":"AF25/N25*-1","v":{"$error":"#REF!"}},null,null,null,null,null,null,null,null,null,null,null,{"$f":"AF16","v":{"$error":"#REF!"}},{"$f":"-(S25+N25)","v":{"$error":"#REF!"}}]

{"sheet":"Middle East 1995","index":48,"n_rows":32,"n_cols":12,"rows_kept":32,"cut":false,"hidden":true,"merged":[]}
[null,"Coal*","Crude oil","Oil products","Natural gas","Nuclear","Hydro","Geothermal, solar, etc.","Biofuels and waste","Electricity","Heat","Total**"]
[null,"ktoe","ktoe","ktoe","ktoe","ktoe","ktoe","ktoe","ktoe","ktoe","ktoe","ktoe"]
["Production",720,1019284,null,115955,null,950,59,495,null,null,1137466]
["Imports",439,7476,23320,408,null,null,null,42,25,null,31712]
["Exports",-7,-698619,-134869,-6299,null,null,null,null,-13,null,-839807]
["International marine bunkers",null,null,-14748,null,null,null,null,null,null,null,-14748]
["International aviation bunkers",null,null,-8259,null,null,null,null,null,null,null,-8259]
["Stock changes",null,171,12,null,null,null,null,null,null,null,183]
["TES",1152,328313,-134542,110065,null,950,59,537,12,null,306548]
["Transfers",null,-42575,44968,null,null,null,null,null,null,null,2391]
["Statistical differences",null,-3136,2290,485,null,null,null,null,-1,null,-361]
["Electricity plants",-28,-20245,-25690,-47824,null,-950,null,null,27109,null,-67627]
["CHP plants"]
["Heat plants"]
["Gas works"]
["Oil refineries",null,-258715,245005,null,null,null,null,null,null,null,-13711]
["Coal transformation",-451,null,null,null,null,null,null,null,null,null,-451]
["Liquefication plants"]
["Other transformation",null,null,null,null,null,null,null,-111,null,null,-111]
["Energy industry own use",-127,-30,-9421,-8557,null,null,null,null,-2677,null,-20817]
["Losses",-144,null,null,-1161,null,null,null,null,-2745,null,-4050]
["Total final consumption",403,3611,122607,53010,null,null,59,427,21697,null,201814]
["Industry",385,2078,19028,35145,null,null,null,null,5350,null,61984]
["Transport",null,null,59105,null,null,null,null,null,null,null,59105]
["Residential",18,null,18686,9413,null,null,53,240,9172,null,37582]
["Commercial and public services",null,null,3784,1253,null,null,null,74,4612,null,9723]
["Agriculture / forestry",null,null,4411,null,null,null,null,null,749,null,5161]
["Fishing"]
["Non-specified",null,null,1513,197,null,null,6,113,1815,null,3643]
["Non-energy use",null,1533,16079,7001,null,null,null,null,null,null,24614]
[]
[null,{"$f":"SUM(B9,B10:B21,B22*-1)","v":-1},{"$f":"SUM(C9,C10:C21,C22*-1)","v":1},3,-2,0,0,0,-1,1,0,-3]

{"sheet":"Middle East 2000","index":49,"n_rows":32,"n_cols":12,"rows_kept":32,"cut":false,"hidden":true,"merged":[]}
[null,"Coal*","Crude oil","Oil products","Natural gas","Nuclear","Hydro","Geothermal, solar, etc.","Biofuels and waste","Electricity","Heat","Total**"]
[null,"ktoe","ktoe","ktoe","ktoe","ktoe","ktoe","ktoe","ktoe","ktoe","ktoe","ktoe"]
["Production",761,1157897,null,164444,null,687,72,398,null,null,1324260]
["Imports",838,8781,19820,2781,null,null,null,23,152,null,32397]
["Exports",-41,-814059,-150253,-21809,null,null,null,null,-86,null,-986246]
["International marine bunkers",null,null,-14029,null,null,null,null,null,null,null,-14029]
["International aviation bunkers",null,null,-8594,null,null,null,null,null,null,null,-8594]
["Stock changes",35,4884,528,null,null,null,null,null,null,null,5448]
["TES",1593,357503,-152525,145416,null,687,72,422,65,null,353238]
["Transfers",null,-54589,58001,null,null,null,null,null,null,null,3412]
["Statistical differences",-170,-845,4455,73,null,null,null,1,107,null,3621]
["Electricity plants",-162,-13056,-34279,-65507,null,-687,-3,-1,36952,null,-76742]
["CHP plants"]
["Heat plants"]
["Gas works"]
["Oil refineries",null,-284890,276943,null,null,null,null,null,null,null,-7947]
["Coal transformation",-525,null,null,null,null,null,null,null,null,null,-525]
["Liquefication plants"]
["Other transformation",null,149,-188,null,null,null,null,-90,null,null,-129]
["Energy industry own use",-164,-1681,-9641,-14359,null,null,null,null,-3560,null,-29404]
["Losses",-108,null,null,-425,null,null,null,null,-4292,null,-4825]
["Total final consumption",464,2593,142765,65198,null,null,69,333,29274,null,240697]
["Industry",374,2593,21692,37358,null,null,null,null,7155,null,69170]
["Transport",null,null,70598,107,null,null,null,null,1,null,70706]
["Residential",18,null,18408,16248,null,null,64,182,12022,null,46944]
["Commercial and public services",null,null,4091,2297,null,null,4,57,6089,null,12540]
["Agriculture / forestry",null,null,4386,null,null,null,null,null,1070,null,5456]
["Fishing"]
["Non-specified",null,null,2101,217,null,null,null,94,2938,null,5349]
["Non-energy use",72,null,21488,8974,null,null,null,null,null,null,30534]
[]
[null,{"$f":"SUM(B9,B10:B21,B22*-1)","v":0},{"$f":"SUM(C9,C10:C21,C22*-1)","v":-2},1,0,0,0,0,-1,-2,0,2]

{"sheet":"Middle East 2005","index":50,"n_rows":32,"n_cols":12,"rows_kept":32,"cut":false,"hidden":true,"merged":[]}
[null,"Coal*","Crude oil","Oil products","Natural gas","Nuclear","Hydro","Geothermal, solar, etc.","Biofuels and waste","Electricity","Heat","Total**"]
[null,"ktoe","ktoe","ktoe","ktoe","ktoe","ktoe","ktoe","ktoe","ktoe","ktoe","ktoe"]
["Production",1012,1259499,null,252291,null,2367,80,877,null,null,1516129]
["Imports",944,11228,42362,6728,null,null,null,40,409,null,61713]
["Exports",-26,-878054,-161289,-46564,null,null,null,null,-315,null,-1086249]
["International marine bunkers",null,null,-16945,null,null,null,null,null,null,null,-16945]
["International aviation bunkers",null,null,-8978,null,null,null,null,null,null,null,-8978]
["Stock changes",33,4209,-793,null,null,null,null,null,null,null,3450]
["TES",1962,396882,-145640,212454,null,2367,80,917,94,null,469119]
["Transfers",null,-62717,66776,null,null,null,null,null,null,null,4061]
["Statistical differences",-122,940,2624,-812,null,null,null,null,-129,null,2502]
["Electricity plants",-192,-11051,-43681,-100793,null,-2367,-6,-1,51295,null,-106796]
["CHP plants"]
["Heat plants"]
["Gas works"]
["Oil refineries",null,-319541,312611,null,null,null,null,null,null,null,-6928]
["Coal transformation",-519,null,null,null,null,null,null,null,null,null,-519]
["Liquefication plants"]
["Other transformation",null,572,-720,null,null,null,null,-85,null,null,-233]
["Energy industry own use",-138,-3727,-10900,-21728,null,null,null,null,-4521,null,-41016]
["Losses",-107,null,null,null,null,null,null,null,-7186,null,-7293]
["Total final consumption",884,1357,181070,89123,null,null,74,829,39553,null,312892]
["Industry",811,1357,27459,46681,null,null,null,null,9124,null,85433]
["Transport",null,null,91965,684,null,null,null,null,9,null,92658]
["Residential",9,null,19444,26649,null,null,68,434,17775,null,64378]
["Commercial and public services",null,null,4586,3633,null,null,6,286,8631,null,17143]
["Agriculture / forestry",null,null,4823,null,null,null,null,null,1837,null,6660]
["Fishing"]
["Non-specified",null,null,2441,53,null,null,null,110,2181,null,4785]
["Non-energy use",64,null,30354,11425,null,null,null,null,null,null,41843]
[]
[null,{"$f":"SUM(B9,B10:B21,B22*-1)","v":0},{"$f":"SUM(C9,C10:C21,C22*-1)","v":1},0,-2,0,0,0,2,0,0,5]

{"sheet":"Middle East 2010","index":51,"n_rows":32,"n_cols":12,"rows_kept":32,"cut":false,"hidden":true,"merged":[]}
[null,"Coal*","Crude oil","Oil products","Natural gas","Nuclear","Hydro","Geothermal, solar, etc.","Biofuels and waste","Electricity","Heat","Total**"]
[null,"ktoe","ktoe","ktoe","ktoe","ktoe","ktoe","ktoe","ktoe","ktoe","ktoe","ktoe"]
["Production",727,1231970,null,391320,null,1529,154,897,null,null,1626600]
["Imports",1755,10066,59057,28726,null,null,null,70,968,null,100641]
["Exports",-79,-794961,-170750,-113618,null,null,null,null,-674,null,-1080080]
["International marine bunkers",null,null,-20937,null,null,null,null,null,null,null,-20937]
["International aviation bunkers",null,null,-11991,null,null,null,null,null,null,null,-11991]
["Stock changes",-1,-7471,1575,null,null,null,null,null,null,null,-5896]
["TES",2403,439605,-143046,306429,null,1529,154,967,296,null,608339]
["Transfers",null,-74463,80864,null,null,null,null,null,null,null,6401]
["Statistical differences",-200,5167,3049,183,null,null,null,null,-550,null,7647]
["Electricity plants",-121,-26327,-56645,-129057,null,-1529,-15,-6,71317,null,-142383]
["CHP plants"]
["Heat plants"]
["Gas works"]
["Oil refineries",null,-337073,330033,null,null,null,null,null,null,null,-7043]
["Coal transformation",-575,null,null,null,null,null,null,null,null,null,-575]
["Liquefication plants",null,1136,null,-2744,null,null,null,null,null,null,-1608]
["Other transformation",null,434,-546,null,null,null,null,-80,null,null,-192]
["Energy industry own use",-184,-2253,-10180,-28926,null,null,null,null,-4347,null,-45889]
["Losses",-148,-76,null,-31,null,null,null,null,-8901,null,-9154]
["Total final consumption",1176,6146,203528,145854,null,null,139,881,57815,null,415539]
["Industry",973,6146,28660,83055,null,null,1,null,13022,null,131854]
["Transport",null,null,110784,5102,null,null,null,null,26,null,115913]
["Residential",9,null,15975,34574,null,null,118,432,25381,null,76487]
["Commercial and public services",null,null,3588,6838,null,null,21,306,13230,null,23983]
["Agriculture / forestry",null,null,4719,400,null,null,null,null,2605,null,7724]
["Fishing"]
["Non-specified",null,null,927,145,null,null,null,142,3553,null,4767]
["Non-energy use",195,null,38872,15740,null,null,null,null,null,null,54807]
[]
[null,{"$f":"SUM(B9,B10:B21,B22*-1)","v":-1},{"$f":"SUM(C9,C10:C21,C22*-1)","v":4},1,0,0,0,0,0,0,0,4]

{"sheet":"Middle East 2015","index":52,"n_rows":32,"n_cols":12,"rows_kept":32,"cut":false,"hidden":true,"merged":[]}
[null,"Coal*","Crude oil","Oil products","Natural gas","Nuclear","Hydro","Geothermal, solar, etc.","Biofuels and waste","Electricity","Heat","Total**"]
[null,"ktoe","ktoe","ktoe","ktoe","ktoe","ktoe","ktoe","ktoe","ktoe","ktoe","ktoe"]
["Production",806,1394772,null,488551,759,1513,333,799,null,null,1887529]
["Imports",2613,14173,82923,31668,null,null,null,67,1597,null,133039]
["Exports",-124,-917105,-206778,-134674,null,null,null,null,-653,null,-1259331]
["International marine bunkers",null,null,-26282,null,null,null,null,null,null,null,-26282]
["International aviation bunkers",null,null,-15746,null,null,null,null,null,null,null,-15746]
["Stock changes",null,1795,-3466,null,null,null,null,null,null,null,-1669]
["TES",3295,493635,-169344,385546,759,1513,333,865,943,null,717543]
["Transfers",null,-96074,104065,null,null,null,null,null,null,null,7993]
["Statistical differences",415,9477,3322,8004,null,null,null,null,-2797,null,18426]
["Electricity plants",-158,-38074,-61440,-155749,-759,-1513,-126,-5,91893,null,-165928]
["CHP plants"]
["Heat plants"]
["Gas works"]
["Oil refineries",null,-370556,365025,null,null,null,null,null,null,null,-5533]
["Coal transformation",-611,null,null,null,null,null,null,null,null,null,-611]
["Liquefication plants",null,5788,null,-14042,null,null,null,null,null,null,-8254]
["Other transformation",null,456,-573,null,null,null,null,-89,null,null,-206]
["Energy industry own use",-165,-4241,-12888,-37260,null,null,null,null,-5061,null,-59614]
["Losses",-26,-160,null,-49,null,null,null,null,-11648,null,-11883]
["Total final consumption",2749,252,228166,186451,null,null,209,770,73335,null,491927]
["Industry",2457,252,27446,107310,null,null,2,null,14158,null,151626]
["Transport",null,null,131769,6661,null,null,null,null,47,null,138478]
["Residential",9,null,12282,39402,null,null,158,375,30875,null,83104]
["Commercial and public services",null,null,1788,10495,null,null,48,248,20137,null,32715]
["Agriculture / forestry",null,null,3032,1387,null,null,null,null,3872,null,8292]
["Fishing"]
["Non-specified",null,null,970,161,null,null,null,147,4241,null,5519]
["Non-energy use",284,null,50879,21031,null,null,null,null,null,null,72194]
[]
[null,{"$f":"SUM(B9,B10:B21,B22*-1)","v":1},{"$f":"SUM(C9,C10:C21,C22*-1)","v":-1},1,-1,0,0,-2,1,-5,0,6]

{"sheet":"Middle East 2018","index":53,"n_rows":32,"n_cols":12,"rows_kept":32,"cut":false,"hidden":true,"merged":[]}
[null,"Coal*","Crude oil","Oil products","Natural gas","Nuclear","Hydro","Geothermal, solar, etc.","Biofuels and waste","Electricity","Heat","Total**"]
[null,"ktoe","ktoe","ktoe","ktoe","ktoe","ktoe","ktoe","ktoe","ktoe","ktoe","ktoe"]
["Production",1099,1494221,null,539179,1978,1609,732,890,null,null,2039709]
["Imports",2797,20394,96503,30053,null,null,null,107,2211,null,152064]
["Exports",-202,-1003961,-252212,-140113,null,null,null,null,-678,null,-1397167]
["International marine bunkers",null,null,-25303,null,null,null,null,null,null,null,-25303]
["International aviation bunkers",null,null,-17792,null,null,null,null,null,null,null,-17792]
["Stock changes",null,6330,2066,null,null,null,null,null,null,null,8396]
["TES",3693,516985,-196736,429120,1978,1609,732,996,1532,null,759906]
["Transfers",null,-95856,104714,null,null,null,null,null,null,null,8857]
["Statistical differences",422,9037,-253,-3429,null,null,null,null,-1532,null,4242]
["Electricity plants",-250,-27238,-42057,-187361,-1978,-1609,-456,-8,99680,null,-161278]
["CHP plants"]
["Heat plants"]
["Gas works"]
["Oil refineries",null,-402457,391943,null,null,null,null,null,null,null,-10514]
["Coal transformation",-591,null,null,null,null,null,null,null,null,null,-591]
["Liquefication plants",null,3173,null,-7693,null,null,null,null,null,null,-4520]
["Other transformation",null,484,-598,null,null,null,null,-120,null,null,-234]
["Energy industry own use",-163,-3177,-13874,-40582,null,null,null,null,-5450,null,-63245]
["Losses",-34,-219,null,-173,null,null,null,null,-13221,null,-13647]
["Total final consumption",3078,727,243142,189884,null,null,275,868,81006,null,518980]
["Industry",2757,727,36350,102474,null,null,3,null,17704,null,160011]
["Transport",null,null,134018,7038,null,null,null,null,41,null,141098]
["Residential",9,null,13102,41097,null,null,200,428,32486,null,87319]
["Commercial and public services",null,null,1221,12470,null,null,72,268,22045,null,36075]
["Agriculture / forestry",null,null,2916,1914,null,null,null,null,4092,null,8922]
["Fishing"]
["Non-specified",null,null,1134,38,null,null,null,172,4642,null,5986]
["Non-energy use",312,null,54403,24852,null,null,null,null,null,null,79568]
[]
[null,{"$f":"SUM(B9,B10:B21,B22*-1)","v":-1},{"$f":"SUM(C9,C10:C21,C22*-1)","v":5},-3,-2,0,0,1,0,3,0,-4]

{"sheet":"BL Africa 2050","index":54,"n_rows":25,"n_cols":34,"rows_kept":25,"cut":false,"hidden":true,"merged":[]}
[null,"Consumption","Coal","Crude oil","Oil Products","Natual Gas","Nuclear","Hydro","Geothermal, solar, wind, etc.","Biofuels and waste","Electricity","Heat","Energy Services","Total consumption","Africa 2050",null,null,"Faktor","Total production","Efficiency","Production","Coal","Crude oil","Oil Products","Natual Gas","Nuclear","Hydro","Geothermal, solar, wind, etc.","Biofuels and waste","Electricity","Heat","Energy Services","Loss","CO2-emissions"]
["ID","C ","CC","CCO","COP","CNG","CNU","CHY","CGSW","CWB","CE","CH","CES","fbrbr",null,"ID","ID Parent","factor","pbrpr","pvrkg","P ","PC","PCO","POP","PNG","PNU","PHY","PGSW","PWB","PE","PH","PES","PTAB","PCO2"]
["ID Parent",null,"C","C","C ","C ","C ","C","C","C ","C ","C ","C ",null,"Structures",null,null,null,null,null,null,"P ","P ","P ","P ","P ","P ","P","P ","P ","P ","P "]
["Factor",null,null,null,null,null,null,null,null,null,null,null,null,null,null,null,null,null,null,null,{"$f":"B4","v":0},null,null,null,null,null,null,null,null,null,null,null,{"$f":"U4","v":0},{"$f":"U4","v":0}]
[null,null,null,null,null,null,null,null,null,null,null,null,null,{"$f":"SUM(C5:M5)","v":0},"Entry fuels","ETP",null,null,{"$f":"SUM(V5:AF5)","v":{"$error":"#REF!"}},null,null,{"$f":"-(C6+C5)","v":{"$error":"#REF!"}},{"$f":"-(D6+D5)","v":{"$error":"#REF!"}},null,{"$f":"-(F6+F5)","v":{"$error":"#REF!"}},{"$f":"-(G6+G5)","v":{"$error":"#REF!"}},null,null,{"$f":"-(J6+J5)","v":{"$error":"#REF!"}}]
[null,null,{"$f":"-V6","v":{"$error":"#REF!"}},{"$f":"-W6","v":{"$error":"#REF!"}},null,{"$f":"-Y6","v":{"$error":"#REF!"}},{"$f":"-Z6","v":{"$error":"#REF!"}},null,null,{"$f":"-AC6","v":{"$error":"#REF!"}},null,null,null,{"$f":"SUM(C6:M6)","v":{"$error":"#REF!"}},"Transport of fuels","TRAP",null,null,{"$f":"SUM(V6:AF6)","v":{"$error":"#REF!"}},null,null,{"$f":"-(C16+C8)","v":{"$error":"#REF!"}},{"$f":"-(D16+D8)","v":{"$error":"#REF!"}},null,{"$f":"-(F16+F8)","v":{"$error":"#REF!"}},{"$f":"-(G16+G8)","v":{"$error":"#REF!"}},null,null,{"$f":"-(J16+J8)","v":{"$error":"#REF!"}},null,null,null,{"$f":"-(N6+S6)","v":{"$error":"#REF!"}}]
[null,null,null,null,null,null,null,null,null,null,null,null,null,0,"Entry On-Grid RE ","ELP1",null,null,{"$error":"#REF!"},null,null,null,null,null,null,null,{"$f":"-H8","v":{"$error":"#REF!"}},{"$f":"-I8","v":{"$error":"#REF!"}}]
[null,null,{"$f":"SUM(C9:C13)","v":{"$error":"#REF!"}},{"$f":"SUM(D9:D13)","v":{"$error":"#REF!"}},{"$error":"#REF!"},{"$error":"#REF!"},{"$error":"#REF!"},{"$error":"#REF!"},{"$error":"#REF!"},{"$error":"#REF!"},{"$error":"#REF!"},{"$error":"#REF!"},0,{"$error":"#REF!"},"Entry electricity, district heating and oil products","ES",null,null,{"$error":"#REF!"},null,null,{"$f":"SUM(V9:V13)","v":0},null,{"$f":"(E14+E8)*-1","v":{"$error":"#REF!"}},null,null,null,null,null,{"$f":"(K14+K8)*-1","v":{"$error":"#REF!"}},{"$f":"(L14+L8)*-1","v":{"$error":"#REF!"}},null,{"$f":"-(N8+S8)","v":{"$error":"#REF!"}},{"$f":"SUM(AH9:AH13)","v":{"$error":"#REF!"}}]
[null,null,{"$f":"-($AD$9+$H$9+$I$9)/$T$9*#REF!","v":{"$error":"#REF!"}},{"$f":"-($AD$9+$H$9+$I$9)/$T$9*#REF!","v":{"$error":"#REF!"}},{"$f":"-($AD$9+$H$9+$I$9)/$T$9*#REF!","v":{"$error":"#REF!"}},{"$f":"-($AD$9+$H$9+$I$9)/$T$9*#REF!","v":{"$error":"#REF!"}},{"$f":"-($AD$9+$H$9+$I$9)/$T$9*#REF!","v":{"$error":"#REF!"}},{"$f":"AD9*#REF!*-1","v":{"$error":"#REF!"}},{"$f":"AD9*#REF!*-1","v":{"$error":"#REF!"}},{"$f":"-($AD$9+$H$9+$I$9)/$T$9*#REF!","v":{"$error":"#REF!"}},null,null,null,{"$error":"#REF!"},"Electricity-only plants","ESEP","ES",null,{"$error":"#REF!"},{"$f":"#REF!","v":{"$error":"#REF!"}},null,null,null,null,null,null,null,null,null,{"$f":"AD8-AD10","v":{"$error":"#REF!"}},null,null,{"$f":"-(S9+N9)","v":{"$error":"#REF!"}},{"$f":"-(C9*Emissionsfaktorer!$B$2*(1-#REF!)+D9*Emissionsfaktorer!$B$3+E9*Emissionsfaktorer!$B$4*(1-#REF!)+F9*Emissionsfaktorer!$B$5*(1-#REF!)+G9*Emissionsfaktorer!$B$6+H9*Emissionsfaktorer!$B$7+I9*Emissionsfaktorer!$B$8-J9*Emissionsfaktorer!B13*#REF!+K9*Emissionsfaktorer!$B$10+L9*Emissionsfaktorer!$B$11+M9*Emissionsfaktorer!$B$12)","v":{"$error":"#REF!"}}]
[null,null,{"$f":"-($AD$10+$AE$10+$H$10+$I$10)/$T$10*#REF!","v":{"$error":"#REF!"}},{"$f":"-($AD$10+$AE$10+$H$10+$I$10)/$T$10*#REF!","v":{"$error":"#REF!"}},{"$f":"-($AD$10+$AE$10+$H$10+$I$10)/$T$10*#REF!","v":{"$error":"#REF!"}},{"$f":"-($AD$10+$AE$10+$H$10+$I$10)/$T$10*#REF!","v":{"$error":"#REF!"}},{"$f":"-($AD$10+$AE$10+$H$10+$I$10)/$T$10*#REF!","v":{"$error":"#REF!"}},null,{"$f":"(AD10+AE10)*#REF!*-1","v":{"$error":"#REF!"}},{"$f":"-($AD$10+$AE$10+$H$10+$I$10)/$T$10*#REF!","v":{"$error":"#REF!"}},null,null,null,{"$error":"#REF!"},"CHP plants","ESCHP","ES",null,{"$error":"#REF!"},{"$f":"#REF!","v":{"$error":"#REF!"}},null,null,null,null,null,null,null,null,null,{"$f":"AE10*#REF!","v":{"$error":"#REF!"}},{"$f":"AE8*#REF!","v":{"$error":"#REF!"}},null,{"$f":"-(S10+N10)","v":{"$error":"#REF!"}},{"$f":"-(C10*Emissionsfaktorer!$B$2*(1-#REF!)+D10*Emissionsfaktorer!$B$3+E10*Emissionsfaktorer!$B$4*(1-#REF!)+F10*Emissionsfaktorer!$B$5*(1-#REF!)+G10*Emissionsfaktorer!$B$6+H10*Emissionsfaktorer!$B$7+I10*Emissionsfaktorer!$B$8-J10*Emissionsfaktorer!B14*#REF!+K10*Emissionsfaktorer!$B$10+L10*Emissionsfaktorer!$B$11+M10*Emissionsfaktorer!$B$12)","v":{"$error":"#REF!"}}]
[null,null,{"$f":"-($AE$11+$H$11+$I$11)/IF($T$11=0,1,$T$11)*#REF!","v":{"$error":"#REF!"}},{"$f":"-($AE$11+$H$11+$I$11)/IF($T$11=0,1,$T$11)*#REF!","v":{"$error":"#REF!"}},{"$f":"-($AE$11+$H$11+$I$11)/IF($T$11=0,1,$T$11)*#REF!","v":{"$error":"#REF!"}},{"$f":"-($AE$11+$H$11+$I$11)/IF($T$11=0,1,$T$11)*#REF!","v":{"$error":"#REF!"}},{"$f":"-($AE$11+$H$11+$I$11)/IF($T$11=0,1,$T$11)*#REF!","v":{"$error":"#REF!"}},null,{"$f":"AE11*#REF!*-1","v":{"$error":"#REF!"}},{"$f":"-($AE$11+$H$11+$I$11)/IF($T$11=0,1,$T$11)*#REF!","v":{"$error":"#REF!"}},{"$f":"AE11*#REF!*-1","v":{"$error":"#REF!"}},null,null,{"$error":"#REF!"},"Heat Plants","ESHP","ES",null,{"$error":"#REF!"},{"$f":"#REF!","v":{"$error":"#REF!"}},null,null,null,null,null,null,null,null,null,null,{"$f":"AE8*#REF!","v":{"$error":"#REF!"}},null,{"$f":"-(S11+N11)","v":{"$error":"#REF!"}},{"$f":"-(C11*Emissionsfaktorer!$B$2+D11*Emissionsfaktorer!$B$3+E11*Emissionsfaktorer!$B$4+F11*Emissionsfaktorer!$B$5+G11*Emissionsfaktorer!$B$6+H11*Emissionsfaktorer!$B$7+I11*Emissionsfaktorer!$B$8+J11*Emissionsfaktorer!$B$9+K11*Emissionsfaktorer!$B$10+L11*Emissionsfaktorer!$B$11+M11*Emissionsfaktorer!$B$12)","v":{"$error":"#REF!"}}]
[null,null,null,{"$f":"-X12/IF(T12=0,1,T12)*#REF!","v":{"$error":"#REF!"}},null,null,null,null,null,{"$f":"-X12/IF(T12=0,1,T12)*#REF!","v":{"$error":"#REF!"}},null,null,null,{"$error":"#REF!"},"Oil refineries","ESOR","ES",null,{"$error":"#REF!"},{"$f":"#REF!","v":{"$error":"#REF!"}},null,null,null,{"$f":"-(E9+E10+E11+E13+E14)","v":{"$error":"#REF!"}},null,null,null,null,null,null,null,null,{"$f":"-(S12+N12)","v":{"$error":"#REF!"}},{"$f":"J12*Emissionsfaktorer!B4","v":{"$error":"#REF!"}}]
[null,null,{"$f":"N13*#REF!","v":{"$error":"#REF!"}},{"$f":"N13*#REF!","v":{"$error":"#REF!"}},{"$f":"N13*#REF!","v":{"$error":"#REF!"}},{"$f":"N13*#REF!","v":{"$error":"#REF!"}},null,null,null,{"$f":"N13*#REF!","v":{"$error":"#REF!"}},{"$f":"N13*#REF!","v":{"$error":"#REF!"}},{"$f":"N13*#REF!","v":{"$error":"#REF!"}},null,{"$f":"N16*#REF!","v":{"$error":"#REF!"}},"Energy Industry one use","ESNSP","ES",null,0,0,null,null,null,null,null,null,null,null,null,null,null,null,{"$f":"-(S13+N13)","v":{"$error":"#REF!"}},{"$f":"-(C13*Emissionsfaktorer!$B$2+D13*Emissionsfaktorer!$B$3+E13*Emissionsfaktorer!$B$4+F13*Emissionsfaktorer!$B$5+G13*Emissionsfaktorer!$B$6+H13*Emissionsfaktorer!$B$7+I13*Emissionsfaktorer!$B$8+J13*Emissionsfaktorer!$B$9+K13*Emissionsfaktorer!$B$10+L13*Emissionsfaktorer!$B$11+M13*Emissionsfaktorer!$B$12)","v":{"$error":"#REF!"}}]
[null,null,null,null,{"$f":"-X14*1","v":{"$error":"#REF!"}},null,null,null,null,null,{"$f":"-AD14*(1+#REF!)","v":{"$error":"#REF!"}},{"$f":"-AE14*(1+#REF!)","v":{"$error":"#REF!"}},null,{"$error":"#REF!"},"Transport electricity, district heating and oil products","TRAS",null,null,{"$error":"#REF!"},null,null,null,null,{"$f":"-E16","v":{"$error":"#REF!"}},null,null,null,null,null,{"$f":"-K16","v":{"$error":"#REF!"}},{"$f":"-L16","v":{"$error":"#REF!"}},null,{"$f":"-(N14+S14)","v":{"$error":"#REF!"}}]
[null,null,null,null,null,null,null,null,null,null,null,null,null,0,"Entry Off-Grid RE","ELP2",null,null,{"$error":"#REF!"},null,null,null,null,null,null,null,null,{"$f":"I16*-1","v":{"$error":"#REF!"}}]
[null,null,{"$f":"SUM(C17:C19)","v":{"$error":"#REF!"}},{"$error":"#REF!"},{"$error":"#REF!"},{"$error":"#REF!"},0,0,{"$error":"#REF!"},{"$error":"#REF!"},{"$error":"#REF!"},{"$error":"#REF!"},0,{"$f":"#REF!","v":{"$error":"#REF!"}},"Exit energy","EX",null,null,{"$error":"#REF!"},null,null,null,null,null,null,null,null,null,null,null,null,{"$f":"SUM(AF17:AF19)","v":{"$error":"#REF!"}},{"$f":"SUM(AG17:AG19)","v":{"$error":"#REF!"}},{"$f":"SUM(AH17:AH19)","v":{"$error":"#REF!"}}]
[null,null,{"$f":"AF17*#REF!/T17*#REF!/#REF!*-1","v":{"$error":"#REF!"}},{"$f":"AF17*#REF!/T17*#REF!/#REF!*-1","v":{"$error":"#REF!"}},{"$f":"AF17*#REF!/T17*#REF!/#REF!*-1","v":{"$error":"#REF!"}},{"$f":"AF17*#REF!/T17*#REF!/#REF!*-1","v":{"$error":"#REF!"}},null,null,{"$f":"AF17*#REF!/T17*#REF!/#REF!*-1","v":{"$error":"#REF!"}},{"$f":"AF17*#REF!*#REF!/T17/#REF!*-1","v":{"$error":"#REF!"}},{"$f":"AF17*#REF!*#REF!/T17/#REF!*-1","v":{"$error":"#REF!"}},{"$f":"AF17*#REF!*#REF!/T17/#REF!*-1","v":{"$error":"#REF!"}},null,{"$f":"SUM(C17:L17)","v":{"$error":"#REF!"}},"Industry","EXI","EX",null,{"$error":"#REF!"},{"$f":"(#REF!+#REF!+#REF!+#REF!+#REF!)*#REF!+(#REF!+#REF!)*#REF!+#REF!*#REF!","v":{"$error":"#REF!"}},null,null,null,null,null,null,null,null,null,null,null,{"$f":"#REF!*#REF!*((#REF!+#REF!+#REF!+#REF!+#REF!)*#REF!+(#REF!+#REF!)*#REF!+#REF!*#REF!)*-1","v":{"$error":"#REF!"}},{"$f":"(S17+SUM(C17:M17))*-1","v":{"$error":"#REF!"}},{"$f":"-(C17*Emissionsfaktorer!$B$2+D17*Emissionsfaktorer!$B$3+E17*Emissionsfaktorer!$B$4+F17*Emissionsfaktorer!$B$5+G17*Emissionsfaktorer!$B$6+H17*Emissionsfaktorer!$B$7+I17*Emissionsfaktorer!$B$8+J17*Emissionsfaktorer!$B$9+K17*Emissionsfaktorer!$B$10+L17*Emissionsfaktorer!$B$11+M17*Emissionsfaktorer!$B$12)","v":{"$error":"#REF!"}}]
[null,null,{"$f":"AF18*#REF!/T18*#REF!/#REF!*-1","v":{"$error":"#REF!"}},null,{"$f":"AF18*#REF!/T18*#REF!/#REF!*-1","v":{"$error":"#REF!"}},{"$f":"AF18*#REF!/T18*#REF!/#REF!*-1","v":{"$error":"#REF!"}},null,null,{"$f":"AF18*#REF!/T18*#REF!/#REF!*-1","v":{"$error":"#REF!"}},{"$f":"AF18*#REF!/T18*#REF!/#REF!*-1","v":{"$error":"#REF!"}},{"$f":"AF18*#REF!/T18*#REF!/#REF!*-1","v":{"$error":"#REF!"}},{"$f":"AF18*#REF!/T18*#REF!/#REF!*-1","v":{"$error":"#REF!"}},null,{"$f":"SUM(C18:L18)","v":{"$error":"#REF!"}},"Transport","EXT","EX",null,{"$error":"#REF!"},{"$f":"(#REF!+#REF!+#REF!+#REF!)*#REF!+(#REF!+#REF!)*#REF!+#REF!*#REF!","v":{"$error":"#REF!"}},null,null,null,null,null,null,null,null,null,null,null,{"$f":"#REF!*#REF!*-1*((#REF!+#REF!+#REF!+#REF!)*#REF!+(#REF!+#REF!)*#REF!+#REF!*#REF!)","v":{"$error":"#REF!"}},{"$f":"(S18+SUM(C18:M18))*-1","v":{"$error":"#REF!"}},{"$f":"-(C18*Emissionsfaktorer!$B$2+D18*Emissionsfaktorer!$B$3+E18*Emissionsfaktorer!$B$4+F18*Emissionsfaktorer!$B$5+G18*Emissionsfaktorer!$B$6+H18*Emissionsfaktorer!$B$7+I18*Emissionsfaktorer!$B$8+J18*Emissionsfaktorer!$B$9+K18*Emissionsfaktorer!$B$10+L18*Emissionsfaktorer!$B$11+M18*Emissionsfaktorer!$B$12)","v":{"$error":"#REF!"}}]
[null,null,{"$f":"SUM(C20:C24)","v":{"$error":"#REF!"}},{"$f":"SUM(D20:D24)","v":0},{"$error":"#REF!"},{"$error":"#REF!"},0,0,{"$error":"#REF!"},{"$error":"#REF!"},{"$error":"#REF!"},{"$error":"#REF!"},0,{"$f":"SUM(N20:N24)","v":{"$error":"#REF!"}},"Other ","EXO","EX",null,{"$error":"#REF!"},0.8,null,{"$f":"SUM(V20:V24)","v":0},{"$f":"SUM(W20:W24)","v":0},0,0,0,0,0,0,0,0,{"$error":"#REF!"},{"$error":"#REF!"},{"$error":"#REF!"}]
[null,null,{"$f":"AF20*#REF!/T20*#REF!/#REF!*-1","v":{"$error":"#REF!"}},null,{"$f":"AF20*#REF!/T20*#REF!/#REF!*-1","v":{"$error":"#REF!"}},{"$f":"AF20*#REF!/T20*#REF!/#REF!*-1","v":{"$error":"#REF!"}},null,null,{"$f":"AF20*#REF!/T20*#REF!/#REF!*-1","v":{"$error":"#REF!"}},{"$f":"AF20*#REF!/T20*#REF!/#REF!*-1","v":{"$error":"#REF!"}},{"$f":"AF20*#REF!/T20*#REF!/#REF!*-1","v":{"$error":"#REF!"}},{"$f":"AF20*#REF!/T20*#REF!/#REF!*-1","v":{"$error":"#REF!"}},null,{"$f":"SUM(C20:L20)","v":{"$error":"#REF!"}},"Residential","EXOR","EXO",null,{"$error":"#REF!"},{"$f":"(#REF!+#REF!+#REF!+#REF!)*#REF!+(#REF!+#REF!)*#REF!+#REF!*#REF!","v":{"$error":"#REF!"}},null,null,null,null,null,null,null,null,null,null,null,{"$f":"#REF!*#REF!*((#REF!+#REF!+#REF!+#REF!)*#REF!+(#REF!+#REF!)*#REF!+#REF!*#REF!)*-1","v":{"$error":"#REF!"}},{"$f":"(N20+AF20)*-1","v":{"$error":"#REF!"}},{"$f":"-(C20*Emissionsfaktorer!$B$2+D20*Emissionsfaktorer!$B$3+E20*Emissionsfaktorer!$B$4+F20*Emissionsfaktorer!$B$5+G20*Emissionsfaktorer!$B$6+H20*Emissionsfaktorer!$B$7+I20*Emissionsfaktorer!$B$8+J20*Emissionsfaktorer!$B$9+K20*Emissionsfaktorer!$B$10+L20*Emissionsfaktorer!$B$11+M20*Emissionsfaktorer!$B$12)","v":{"$error":"#REF!"}}]
[null,null,{"$f":"AF21*#REF!/T21*#REF!/#REF!*-1","v":{"$error":"#REF!"}},null,{"$f":"AF21*#REF!/T21*#REF!/#REF!*-1","v":{"$error":"#REF!"}},{"$f":"AF21*#REF!/T21*#REF!/#REF!*-1","v":{"$error":"#REF!"}},null,null,{"$f":"AF21*#REF!/T21*#REF!/#REF!*-1","v":{"$error":"#REF!"}},{"$f":"AF21*#REF!/T21*#REF!/#REF!*-1","v":{"$error":"#REF!"}},{"$f":"AF21*#REF!/T21*#REF!/#REF!*-1","v":{"$error":"#REF!"}},{"$f":"AF21*#REF!/T21*#REF!/#REF!*-1","v":{"$error":"#REF!"}},null,{"$f":"SUM(C21:L21)","v":{"$error":"#REF!"}},"Commercial and public services","EXOC","EXO",null,{"$error":"#REF!"},{"$f":"(#REF!+#REF!+#REF!+#REF!)*#REF!+(#REF!+#REF!)*#REF!+#REF!*#REF!","v":{"$error":"#REF!"}},null,null,null,null,null,null,null,null,null,null,null,{"$f":"#REF!*#REF!*((#REF!+#REF!+#REF!+#REF!)*#REF!+(#REF!+#REF!)*#REF!+#REF!*#REF!)*-1","v":{"$error":"#REF!"}},{"$f":"(N21+AF21)*-1","v":{"$error":"#REF!"}},{"$f":"-(C21*Emissionsfaktorer!$B$2+D21*Emissionsfaktorer!$B$3+E21*Emissionsfaktorer!$B$4+F21*Emissionsfaktorer!$B$5+G21*Emissionsfaktorer!$B$6+H21*Emissionsfaktorer!$B$7+I21*Emissionsfaktorer!$B$8+J21*Emissionsfaktorer!$B$9+K21*Emissionsfaktorer!$B$10+L21*Emissionsfaktorer!$B$11+M21*Emissionsfaktorer!$B$12)","v":{"$error":"#REF!"}}]
[null,null,{"$f":"AF22*#REF!/T22*#REF!/#REF!*-1","v":{"$error":"#REF!"}},null,{"$f":"AF22*#REF!/T22*#REF!/#REF!*-1","v":{"$error":"#REF!"}},{"$f":"AF22*#REF!/T22*#REF!/#REF!*-1","v":{"$error":"#REF!"}},null,null,{"$f":"AF22*#REF!/T22*#REF!/#REF!*-1","v":{"$error":"#REF!"}},{"$f":"AF22*#REF!/T22*#REF!/#REF!*-1","v":{"$error":"#REF!"}},{"$f":"AF22*#REF!/T22*#REF!/#REF!*-1","v":{"$error":"#REF!"}},{"$f":"AF22*#REF!/T22*#REF!/#REF!*-1","v":{"$error":"#REF!"}},null,{"$f":"SUM(C22:L22)","v":{"$error":"#REF!"}},"Agriculture / forestry","EXOA","EXO",null,{"$error":"#REF!"},{"$f":"(#REF!+#REF!+#REF!+#REF!)*#REF!+(#REF!+#REF!)*#REF!+#REF!*#REF!","v":{"$error":"#REF!"}},null,null,null,null,null,null,null,null,null,null,null,{"$f":"((#REF!+#REF!+#REF!+#REF!)*#REF!+(#REF!+#REF!)*#REF!+#REF!*#REF!)*#REF!*#REF!*-1","v":{"$error":"#REF!"}},{"$f":"(N22+AF22)*-1","v":{"$error":"#REF!"}},{"$f":"-(C22*Emissionsfaktorer!$B$2+D22*Emissionsfaktorer!$B$3+E22*Emissionsfaktorer!$B$4+F22*Emissionsfaktorer!$B$5+G22*Emissionsfaktorer!$B$6+H22*Emissionsfaktorer!$B$7+I22*Emissionsfaktorer!$B$8+J22*Emissionsfaktorer!$B$9+K22*Emissionsfaktorer!$B$10+L22*Emissionsfaktorer!$B$11+M22*Emissionsfaktorer!$B$12)","v":{"$error":"#REF!"}}]
[null,null,{"$f":"AF23*#REF!/T23*#REF!/#REF!*-1","v":{"$error":"#REF!"}},null,{"$f":"AF23*#REF!/T23*#REF!/#REF!*-1","v":{"$error":"#REF!"}},{"$f":"AF23*#REF!/T23*#REF!/#REF!*-1","v":{"$error":"#REF!"}},null,null,{"$f":"AF23*#REF!/T23*#REF!/#REF!*-1","v":{"$error":"#REF!"}},{"$f":"AF23*#REF!/T23*#REF!/#REF!*-1","v":{"$error":"#REF!"}},{"$f":"AF23*#REF!/T23*#REF!/#REF!*-1","v":{"$error":"#REF!"}},{"$f":"AF23*#REF!/T23*#REF!/#REF!*-1","v":{"$error":"#REF!"}},null,{"$f":"SUM(C23:L23)","v":{"$error":"#REF!"}},"Fishing","EXOF","EXO",null,{"$error":"#REF!"},{"$f":"(#REF!+#REF!+#REF!+#REF!)*#REF!+(#REF!+#REF!)*#REF!+#REF!*#REF!","v":{"$error":"#REF!"}},null,null,null,null,null,null,null,null,null,null,null,{"$f":"((#REF!+#REF!+#REF!+#REF!)*#REF!+(#REF!+#REF!)*#REF!+#REF!*#REF!)*#REF!*#REF!*-1","v":{"$error":"#REF!"}},{"$f":"(N23+AF23)*-1","v":{"$error":"#REF!"}},{"$f":"-(C23*Emissionsfaktorer!$B$2+D23*Emissionsfaktorer!$B$3+E23*Emissionsfaktorer!$B$4+F23*Emissionsfaktorer!$B$5+G23*Emissionsfaktorer!$B$6+H23*Emissionsfaktorer!$B$7+I23*Emissionsfaktorer!$B$8+J23*Emissionsfaktorer!$B$9+K23*Emissionsfaktorer!$B$10+L23*Emissionsfaktorer!$B$11+M23*Emissionsfaktorer!$B$12)","v":{"$error":"#REF!"}}]
[null,null,{"$f":"AF24*#REF!/T24*#REF!/#REF!*-1","v":{"$error":"#REF!"}},null,{"$f":"AF24*#REF!/T24*#REF!/#REF!*-1","v":{"$error":"#REF!"}},{"$f":"AF24*#REF!/T24*#REF!/#REF!*-1","v":{"$error":"#REF!"}},null,null,{"$f":"AF24*#REF!/T24*#REF!/#REF!*-1","v":{"$error":"#REF!"}},{"$f":"AF24*#REF!/T24*#REF!/#REF!*-1","v":{"$error":"#REF!"}},{"$f":"AF24*#REF!/T24*#REF!/#REF!*-1","v":{"$error":"#REF!"}},{"$f":"AF24*#REF!/T24*#REF!/#REF!*-1","v":{"$error":"#REF!"}},null,{"$f":"SUM(C24:L24)","v":{"$error":"#REF!"}},"Non-specified","EXON","EXO",null,{"$error":"#REF!"},{"$f":"(#REF!+#REF!+#REF!+#REF!)*#REF!+(#REF!+#REF!)*#REF!+#REF!*#REF!","v":{"$error":"#REF!"}},null,null,null,null,null,null,null,null,null,null,null,{"$f":"((#REF!+#REF!+#REF!+#REF!)*#REF!+(#REF!+#REF!)*#REF!+#REF!*#REF!)*#REF!*#REF!*-1","v":{"$error":"#REF!"}},{"$f":"(N24+AF24)*-1","v":{"$error":"#REF!"}},{"$f":"-(C24*Emissionsfaktorer!$B$2+D24*Emissionsfaktorer!$B$3+E24*Emissionsfaktorer!$B$4+F24*Emissionsfaktorer!$B$5+G24*Emissionsfaktorer!$B$6+H24*Emissionsfaktorer!$B$7+I24*Emissionsfaktorer!$B$8+J24*Emissionsfaktorer!$B$9+K24*Emissionsfaktorer!$B$10+L24*Emissionsfaktorer!$B$11+M24*Emissionsfaktorer!$B$12)","v":{"$error":"#REF!"}}]
[null,null,null,null,null,null,null,null,null,null,null,null,null,{"$f":"N16","v":{"$error":"#REF!"}},"Energy Services","EN",null,null,{"$error":"#REF!"},{"$f":"AF25/N25*-1","v":{"$error":"#REF!"}},null,null,null,null,null,null,null,null,null,null,null,{"$f":"AF16","v":{"$error":"#REF!"}},{"$f":"-(S25+N25)","v":{"$error":"#REF!"}}]

{"sheet":"BL Africa 2030","index":55,"n_rows":25,"n_cols":34,"rows_kept":25,"cut":false,"hidden":true,"merged":[]}
[null,"Consumption","Coal","Crude oil","Oil Products","Natual Gas","Nuclear","Hydro","Geothermal, solar, wind, etc.","Biofuels and waste","Electricity","Heat","Energy Services","Total consumption","Africa 2030",null,null,"Faktor","Total production","Efficiency","Production","Coal","Crude oil","Oil Products","Natual Gas","Nuclear","Hydro","Geothermal, solar, wind, etc.","Biofuels and waste","Electricity","Heat","Energy Services","Loss","CO2-emissions"]
["ID","C ","CC","CCO","COP","CNG","CNU","CHY","CGSW","CWB","CE","CH","CES","fbrbr",null,"ID","ID Parent","factor","pbrpr","pvrkg","P ","PC","PCO","POP","PNG","PNU","PHY","PGSW","PWB","PE","PH","PES","PTAB","PCO2"]
["ID Parent",null,"C","C","C ","C ","C ","C","C","C ","C ","C ","C ",null,"Structures",null,null,null,null,null,null,"P ","P ","P ","P ","P ","P ","P","P ","P ","P ","P "]
["Factor",null,null,null,null,null,null,null,null,null,null,null,null,null,null,null,null,null,null,null,{"$f":"B4","v":0},null,null,null,null,null,null,null,null,null,null,null,{"$f":"U4","v":0},{"$f":"U4","v":0}]
[null,null,null,null,null,null,null,null,null,null,null,null,null,{"$f":"SUM(C5:M5)","v":0},"Entry fuels","ETP",null,null,{"$f":"SUM(V5:AF5)","v":{"$error":"#REF!"}},null,null,{"$f":"-(C6+C5)","v":{"$error":"#REF!"}},{"$f":"-(D6+D5)","v":{"$error":"#REF!"}},null,{"$f":"-(F6+F5)","v":{"$error":"#REF!"}},{"$f":"-(G6+G5)","v":{"$error":"#REF!"}},null,null,{"$f":"-(J6+J5)","v":{"$error":"#REF!"}}]
[null,null,{"$f":"-V6","v":{"$error":"#REF!"}},{"$f":"-W6","v":{"$error":"#REF!"}},null,{"$f":"-Y6","v":{"$error":"#REF!"}},{"$f":"-Z6","v":{"$error":"#REF!"}},null,null,{"$f":"-AC6","v":{"$error":"#REF!"}},null,null,null,{"$f":"SUM(C6:M6)","v":{"$error":"#REF!"}},"Transport of fuels","TRAP",null,null,{"$f":"SUM(V6:AF6)","v":{"$error":"#REF!"}},null,null,{"$f":"-(C16+C8)","v":{"$error":"#REF!"}},{"$f":"-(D16+D8)","v":{"$error":"#REF!"}},null,{"$f":"-(F16+F8)","v":{"$error":"#REF!"}},{"$f":"-(G16+G8)","v":{"$error":"#REF!"}},null,null,{"$f":"-(J16+J8)","v":{"$error":"#REF!"}},null,null,null,{"$f":"-(N6+S6)","v":{"$error":"#REF!"}}]
[null,null,null,null,null,null,null,null,null,null,null,null,null,0,"Entry On-Grid RE ","ELP1",null,null,{"$error":"#REF!"},null,null,null,null,null,null,null,{"$f":"-H8","v":{"$error":"#REF!"}},{"$f":"-I8","v":{"$error":"#REF!"}}]
[null,null,{"$f":"SUM(C9:C13)","v":{"$error":"#REF!"}},{"$f":"SUM(D9:D13)","v":{"$error":"#REF!"}},{"$error":"#REF!"},{"$error":"#REF!"},{"$error":"#REF!"},{"$error":"#REF!"},{"$error":"#REF!"},{"$error":"#REF!"},{"$error":"#REF!"},{"$error":"#REF!"},0,{"$error":"#REF!"},"Entry electricity, district heating and oil products","ES",null,null,{"$error":"#REF!"},null,null,{"$f":"SUM(V9:V13)","v":0},null,{"$f":"(E14+E8)*-1","v":{"$error":"#REF!"}},null,null,null,null,null,{"$f":"(K14+K8)*-1","v":{"$error":"#REF!"}},{"$f":"(L14+L8)*-1","v":{"$error":"#REF!"}},null,{"$f":"-(N8+S8)","v":{"$error":"#REF!"}},{"$f":"SUM(AH9:AH13)","v":{"$error":"#REF!"}}]
[null,null,{"$f":"-($AD$9+$H$9+$I$9)/$T$9*#REF!","v":{"$error":"#REF!"}},{"$f":"-($AD$9+$H$9+$I$9)/$T$9*#REF!","v":{"$error":"#REF!"}},{"$f":"-($AD$9+$H$9+$I$9)/$T$9*#REF!","v":{"$error":"#REF!"}},{"$f":"-($AD$9+$H$9+$I$9)/$T$9*#REF!","v":{"$error":"#REF!"}},{"$f":"-($AD$9+$H$9+$I$9)/$T$9*#REF!","v":{"$error":"#REF!"}},{"$f":"AD9*#REF!*-1","v":{"$error":"#REF!"}},{"$f":"AD9*#REF!*-1","v":{"$error":"#REF!"}},{"$f":"-($AD$9+$H$9+$I$9)/$T$9*#REF!","v":{"$error":"#REF!"}},null,null,null,{"$error":"#REF!"},"Electricity-only plants","ESEP","ES",null,{"$error":"#REF!"},{"$f":"#REF!","v":{"$error":"#REF!"}},null,null,null,null,null,null,null,null,null,{"$f":"AD8-AD10","v":{"$error":"#REF!"}},null,null,{"$f":"-(S9+N9)","v":{"$error":"#REF!"}},{"$f":"-(C9*Emissionsfaktorer!$B$2*(1-#REF!)+D9*Emissionsfaktorer!$B$3+E9*Emissionsfaktorer!$B$4*(1-#REF!)+F9*Emissionsfaktorer!$B$5*(1-#REF!)+G9*Emissionsfaktorer!$B$6+H9*Emissionsfaktorer!$B$7+I9*Emissionsfaktorer!$B$8-J9*Emissionsfaktorer!B13*#REF!+K9*Emissionsfaktorer!$B$10+L9*Emissionsfaktorer!$B$11+M9*Emissionsfaktorer!$B$12)","v":{"$error":"#REF!"}}]
[null,null,{"$f":"-($AD$10+$AE$10+$H$10+$I$10)/$T$10*#REF!","v":{"$error":"#REF!"}},{"$f":"-($AD$10+$AE$10+$H$10+$I$10)/$T$10*#REF!","v":{"$error":"#REF!"}},{"$f":"-($AD$10+$AE$10+$H$10+$I$10)/$T$10*#REF!","v":{"$error":"#REF!"}},{"$f":"-($AD$10+$AE$10+$H$10+$I$10)/$T$10*#REF!","v":{"$error":"#REF!"}},{"$f":"-($AD$10+$AE$10+$H$10+$I$10)/$T$10*#REF!","v":{"$error":"#REF!"}},null,{"$f":"(AD10+AE10)*#REF!*-1","v":{"$error":"#REF!"}},{"$f":"-($AD$10+$AE$10+$H$10+$I$10)/$T$10*#REF!","v":{"$error":"#REF!"}},null,null,null,{"$error":"#REF!"},"CHP plants","ESCHP","ES",null,{"$error":"#REF!"},{"$f":"#REF!","v":{"$error":"#REF!"}},null,null,null,null,null,null,null,null,null,{"$f":"AE10*#REF!","v":{"$error":"#REF!"}},{"$f":"AE8*#REF!","v":{"$error":"#REF!"}},null,{"$f":"-(S10+N10)","v":{"$error":"#REF!"}},{"$f":"-(C10*Emissionsfaktorer!$B$2*(1-#REF!)+D10*Emissionsfaktorer!$B$3+E10*Emissionsfaktorer!$B$4*(1-#REF!)+F10*Emissionsfaktorer!$B$5*(1-#REF!)+G10*Emissionsfaktorer!$B$6+H10*Emissionsfaktorer!$B$7+I10*Emissionsfaktorer!$B$8-J10*Emissionsfaktorer!B14*#REF!+K10*Emissionsfaktorer!$B$10+L10*Emissionsfaktorer!$B$11+M10*Emissionsfaktorer!$B$12)","v":{"$error":"#REF!"}}]
[null,null,{"$f":"-($AE$11+$H$11+$I$11)/IF($T$11=0,1,$T$11)*#REF!","v":{"$error":"#REF!"}},{"$f":"-($AE$11+$H$11+$I$11)/IF($T$11=0,1,$T$11)*#REF!","v":{"$error":"#REF!"}},{"$f":"-($AE$11+$H$11+$I$11)/IF($T$11=0,1,$T$11)*#REF!","v":{"$error":"#REF!"}},{"$f":"-($AE$11+$H$11+$I$11)/IF($T$11=0,1,$T$11)*#REF!","v":{"$error":"#REF!"}},{"$f":"-($AE$11+$H$11+$I$11)/IF($T$11=0,1,T11)*#REF!","v":{"$error":"#REF!"}},null,{"$f":"AE11*#REF!*-1","v":{"$error":"#REF!"}},{"$f":"-($AE$11+$H$11+$I$11)/IF($T$11=0,1,T11)*#REF!","v":{"$error":"#REF!"}},{"$f":"AE11*#REF!*-1","v":{"$error":"#REF!"}},null,null,{"$error":"#REF!"},"Heat Plants","ESHP","ES",null,{"$error":"#REF!"},{"$f":"#REF!","v":{"$error":"#REF!"}},null,null,null,null,null,null,null,null,null,null,{"$f":"AE8*#REF!","v":{"$error":"#REF!"}},null,{"$f":"-(S11+N11)","v":{"$error":"#REF!"}},{"$f":"-(C11*Emissionsfaktorer!$B$2+D11*Emissionsfaktorer!$B$3+E11*Emissionsfaktorer!$B$4+F11*Emissionsfaktorer!$B$5+G11*Emissionsfaktorer!$B$6+H11*Emissionsfaktorer!$B$7+I11*Emissionsfaktorer!$B$8+J11*Emissionsfaktorer!$B$9+K11*Emissionsfaktorer!$B$10+L11*Emissionsfaktorer!$B$11+M11*Emissionsfaktorer!$B$12)","v":{"$error":"#REF!"}}]
[null,null,null,{"$f":"-X12/T12*#REF!","v":{"$error":"#REF!"}},null,null,null,null,null,{"$f":"-X12/T12*#REF!","v":{"$error":"#REF!"}},null,null,null,{"$error":"#REF!"},"Oil refineries","ESOR","ES",null,{"$error":"#REF!"},{"$f":"#REF!","v":{"$error":"#REF!"}},null,null,null,{"$f":"-(E9+E10+E11+E13+E14)","v":{"$error":"#REF!"}},null,null,null,null,null,null,null,null,{"$f":"-(S12+N12)","v":{"$error":"#REF!"}},{"$f":"J12*Emissionsfaktorer!B4","v":{"$error":"#REF!"}}]
[null,null,{"$f":"N13*#REF!","v":{"$error":"#REF!"}},{"$f":"N13*#REF!","v":{"$error":"#REF!"}},{"$f":"N13*#REF!","v":{"$error":"#REF!"}},{"$f":"N13*#REF!","v":{"$error":"#REF!"}},null,null,null,{"$f":"N13*#REF!","v":{"$error":"#REF!"}},{"$f":"N13*#REF!","v":{"$error":"#REF!"}},{"$f":"N13*#REF!","v":{"$error":"#REF!"}},null,{"$f":"N16*#REF!","v":{"$error":"#REF!"}},"Energy Industry one use","ESNSP","ES",null,0,0,null,null,null,null,null,null,null,null,null,null,null,null,{"$f":"-(S13+N13)","v":{"$error":"#REF!"}},{"$f":"-(C13*Emissionsfaktorer!$B$2+D13*Emissionsfaktorer!$B$3+E13*Emissionsfaktorer!$B$4+F13*Emissionsfaktorer!$B$5+G13*Emissionsfaktorer!$B$6+H13*Emissionsfaktorer!$B$7+I13*Emissionsfaktorer!$B$8+J13*Emissionsfaktorer!$B$9+K13*Emissionsfaktorer!$B$10+L13*Emissionsfaktorer!$B$11+M13*Emissionsfaktorer!$B$12)","v":{"$error":"#REF!"}}]
[null,null,null,null,{"$f":"-X14*1","v":{"$error":"#REF!"}},null,null,null,null,null,{"$f":"-AD14*(1+#REF!)","v":{"$error":"#REF!"}},{"$f":"-AE14*(1+#REF!)","v":{"$error":"#REF!"}},null,{"$error":"#REF!"},"Transport electricity, district heating and oil products","TRAS",null,null,{"$error":"#REF!"},null,null,null,null,{"$f":"-E16","v":{"$error":"#REF!"}},null,null,null,null,null,{"$f":"-K16","v":{"$error":"#REF!"}},{"$f":"-L16","v":{"$error":"#REF!"}},null,{"$f":"-(N14+S14)","v":{"$error":"#REF!"}}]
[null,null,null,null,null,null,null,null,null,null,null,null,null,0,"Entry Off-Grid RE","ELP2",null,null,{"$error":"#REF!"},null,null,null,null,null,null,null,null,{"$f":"I16*-1","v":{"$error":"#REF!"}}]
[null,null,{"$f":"SUM(C17:C19)","v":{"$error":"#REF!"}},{"$error":"#REF!"},{"$error":"#REF!"},{"$error":"#REF!"},0,0,{"$error":"#REF!"},{"$error":"#REF!"},{"$error":"#REF!"},{"$error":"#REF!"},0,{"$f":"#REF!","v":{"$error":"#REF!"}},"Exit energy","EX",null,null,{"$error":"#REF!"},null,null,null,null,null,null,null,null,null,null,null,null,{"$f":"SUM(AF17:AF19)","v":{"$error":"#REF!"}},{"$f":"SUM(AG17:AG19)","v":{"$error":"#REF!"}},{"$f":"SUM(AH17:AH19)","v":{"$error":"#REF!"}}]
[null,null,{"$f":"AF17*#REF!/T17*#REF!/#REF!*-1","v":{"$error":"#REF!"}},{"$f":"AF17*#REF!/T17*#REF!/#REF!*-1","v":{"$error":"#REF!"}},{"$f":"AF17*#REF!/T17*#REF!/#REF!*-1","v":{"$error":"#REF!"}},{"$f":"AF17*#REF!/T17*#REF!/#REF!*-1","v":{"$error":"#REF!"}},null,null,{"$f":"AF17*#REF!/T17*#REF!/#REF!*-1","v":{"$error":"#REF!"}},{"$f":"AF17*#REF!*#REF!/T17/#REF!*-1","v":{"$error":"#REF!"}},{"$f":"AF17*#REF!*#REF!/T17/#REF!*-1","v":{"$error":"#REF!"}},{"$f":"AF17*#REF!*#REF!/T17/#REF!*-1","v":{"$error":"#REF!"}},null,{"$f":"SUM(C17:L17)","v":{"$error":"#REF!"}},"Industry","EXI","EX",null,{"$error":"#REF!"},{"$f":"(#REF!+#REF!+#REF!+#REF!+#REF!)*#REF!+(#REF!+#REF!)*#REF!+#REF!*#REF!","v":{"$error":"#REF!"}},null,null,null,null,null,null,null,null,null,null,null,{"$f":"#REF!*#REF!*((#REF!+#REF!+#REF!+#REF!+#REF!)*#REF!+(#REF!+#REF!)*#REF!+#REF!*#REF!)*-1","v":{"$error":"#REF!"}},{"$f":"(S17+SUM(C17:M17))*-1","v":{"$error":"#REF!"}},{"$f":"-(C17*Emissionsfaktorer!$B$2+D17*Emissionsfaktorer!$B$3+E17*Emissionsfaktorer!$B$4+F17*Emissionsfaktorer!$B$5+G17*Emissionsfaktorer!$B$6+H17*Emissionsfaktorer!$B$7+I17*Emissionsfaktorer!$B$8+J17*Emissionsfaktorer!$B$9+K17*Emissionsfaktorer!$B$10+L17*Emissionsfaktorer!$B$11+M17*Emissionsfaktorer!$B$12)","v":{"$error":"#REF!"}}]
[null,null,{"$f":"AF18*#REF!/T18*#REF!/#REF!*-1","v":{"$error":"#REF!"}},null,{"$f":"AF18*#REF!/T18*#REF!/#REF!*-1","v":{"$error":"#REF!"}},{"$f":"AF18*#REF!/T18*#REF!/#REF!*-1","v":{"$error":"#REF!"}},null,null,{"$f":"AF18*#REF!/T18*#REF!/#REF!*-1","v":{"$error":"#REF!"}},{"$f":"AF18*#REF!/T18*#REF!/#REF!*-1","v":{"$error":"#REF!"}},{"$f":"AF18*#REF!/T18*#REF!/#REF!*-1","v":{"$error":"#REF!"}},{"$f":"AF18*#REF!/T18*#REF!/#REF!*-1","v":{"$error":"#REF!"}},null,{"$f":"SUM(C18:L18)","v":{"$error":"#REF!"}},"Transport","EXT","EX",null,{"$error":"#REF!"},{"$f":"(#REF!+#REF!+#REF!+#REF!)*#REF!+(#REF!+#REF!)*#REF!+#REF!*#REF!","v":{"$error":"#REF!"}},null,null,null,null,null,null,null,null,null,null,null,{"$f":"#REF!*#REF!*-1*((#REF!+#REF!+#REF!+#REF!)*#REF!+(#REF!+#REF!)*#REF!+#REF!*#REF!)","v":{"$error":"#REF!"}},{"$f":"(S18+SUM(C18:M18))*-1","v":{"$error":"#REF!"}},{"$f":"-(C18*Emissionsfaktorer!$B$2+D18*Emissionsfaktorer!$B$3+E18*Emissionsfaktorer!$B$4+F18*Emissionsfaktorer!$B$5+G18*Emissionsfaktorer!$B$6+H18*Emissionsfaktorer!$B$7+I18*Emissionsfaktorer!$B$8+J18*Emissionsfaktorer!$B$9+K18*Emissionsfaktorer!$B$10+L18*Emissionsfaktorer!$B$11+M18*Emissionsfaktorer!$B$12)","v":{"$error":"#REF!"}}]
[null,null,{"$f":"SUM(C20:C24)","v":{"$error":"#REF!"}},{"$f":"SUM(D20:D24)","v":0},{"$error":"#REF!"},{"$error":"#REF!"},0,0,{"$error":"#REF!"},{"$error":"#REF!"},{"$error":"#REF!"},{"$error":"#REF!"},0,{"$f":"SUM(N20:N24)","v":{"$error":"#REF!"}},"Other ","EXO","EX",null,{"$error":"#REF!"},0.8,null,{"$f":"SUM(V20:V24)","v":0},{"$f":"SUM(W20:W24)","v":0},0,0,0,0,0,0,0,0,{"$error":"#REF!"},{"$error":"#REF!"},{"$error":"#REF!"}]
[null,null,{"$f":"AF20*#REF!/T20*#REF!/#REF!*-1","v":{"$error":"#REF!"}},null,{"$f":"AF20*#REF!/T20*#REF!/#REF!*-1","v":{"$error":"#REF!"}},{"$f":"AF20*#REF!/T20*#REF!/#REF!*-1","v":{"$error":"#REF!"}},null,null,{"$f":"AF20*#REF!/T20*#REF!/#REF!*-1","v":{"$error":"#REF!"}},{"$f":"AF20*#REF!/T20*#REF!/#REF!*-1","v":{"$error":"#REF!"}},{"$f":"AF20*#REF!/T20*#REF!/#REF!*-1","v":{"$error":"#REF!"}},{"$f":"AF20*#REF!/T20*#REF!/#REF!*-1","v":{"$error":"#REF!"}},null,{"$f":"SUM(C20:L20)","v":{"$error":"#REF!"}},"Residential","EXOR","EXO",null,{"$error":"#REF!"},{"$f":"(#REF!+#REF!+#REF!+#REF!)*#REF!+(#REF!+#REF!)*#REF!+#REF!*#REF!","v":{"$error":"#REF!"}},null,null,null,null,null,null,null,null,null,null,null,{"$f":"#REF!*#REF!*((#REF!+#REF!+#REF!+#REF!)*#REF!+(#REF!+#REF!)*#REF!+#REF!*#REF!)*-1","v":{"$error":"#REF!"}},{"$f":"(N20+AF20)*-1","v":{"$error":"#REF!"}},{"$f":"-(C20*Emissionsfaktorer!$B$2+D20*Emissionsfaktorer!$B$3+E20*Emissionsfaktorer!$B$4+F20*Emissionsfaktorer!$B$5+G20*Emissionsfaktorer!$B$6+H20*Emissionsfaktorer!$B$7+I20*Emissionsfaktorer!$B$8+J20*Emissionsfaktorer!$B$9+K20*Emissionsfaktorer!$B$10+L20*Emissionsfaktorer!$B$11+M20*Emissionsfaktorer!$B$12)","v":{"$error":"#REF!"}}]
[null,null,{"$f":"AF21*#REF!/T21*#REF!/#REF!*-1","v":{"$error":"#REF!"}},null,{"$f":"AF21*#REF!/T21*#REF!/#REF!*-1","v":{"$error":"#REF!"}},{"$f":"AF21*#REF!/T21*#REF!/#REF!*-1","v":{"$error":"#REF!"}},null,null,{"$f":"AF21*#REF!/T21*#REF!/#REF!*-1","v":{"$error":"#REF!"}},{"$f":"AF21*#REF!/T21*#REF!/#REF!*-1","v":{"$error":"#REF!"}},{"$f":"AF21*#REF!/T21*#REF!/#REF!*-1","v":{"$error":"#REF!"}},{"$f":"AF21*#REF!/T21*#REF!/#REF!*-1","v":{"$error":"#REF!"}},null,{"$f":"SUM(C21:L21)","v":{"$error":"#REF!"}},"Commercial and public services","EXOC","EXO",null,{"$error":"#REF!"},{"$f":"(#REF!+#REF!+#REF!+#REF!)*#REF!+(#REF!+#REF!)*#REF!+#REF!*#REF!","v":{"$error":"#REF!"}},null,null,null,null,null,null,null,null,null,null,null,{"$f":"#REF!*#REF!*((#REF!+#REF!+#REF!+#REF!)*#REF!+(#REF!+#REF!)*#REF!+#REF!*#REF!)*-1","v":{"$error":"#REF!"}},{"$f":"(N21+AF21)*-1","v":{"$error":"#REF!"}},{"$f":"-(C21*Emissionsfaktorer!$B$2+D21*Emissionsfaktorer!$B$3+E21*Emissionsfaktorer!$B$4+F21*Emissionsfaktorer!$B$5+G21*Emissionsfaktorer!$B$6+H21*Emissionsfaktorer!$B$7+I21*Emissionsfaktorer!$B$8+J21*Emissionsfaktorer!$B$9+K21*Emissionsfaktorer!$B$10+L21*Emissionsfaktorer!$B$11+M21*Emissionsfaktorer!$B$12)","v":{"$error":"#REF!"}}]
[null,null,{"$f":"AF22*#REF!/T22*#REF!/#REF!*-1","v":{"$error":"#REF!"}},null,{"$f":"AF22*#REF!/T22*#REF!/#REF!*-1","v":{"$error":"#REF!"}},{"$f":"AF22*#REF!/T22*#REF!/#REF!*-1","v":{"$error":"#REF!"}},null,null,{"$f":"AF22*#REF!/T22*#REF!/#REF!*-1","v":{"$error":"#REF!"}},{"$f":"AF22*#REF!/T22*#REF!/#REF!*-1","v":{"$error":"#REF!"}},{"$f":"AF22*#REF!/T22*#REF!/#REF!*-1","v":{"$error":"#REF!"}},{"$f":"AF22*#REF!/T22*#REF!/#REF!*-1","v":{"$error":"#REF!"}},null,{"$f":"SUM(C22:L22)","v":{"$error":"#REF!"}},"Agriculture / forestry","EXOA","EXO",null,{"$error":"#REF!"},{"$f":"(#REF!+#REF!+#REF!+#REF!)*#REF!+(#REF!+#REF!)*#REF!+#REF!*#REF!","v":{"$error":"#REF!"}},null,null,null,null,null,null,null,null,null,null,null,{"$f":"((#REF!+#REF!+#REF!+#REF!)*#REF!+(#REF!+#REF!)*#REF!+#REF!*#REF!)*#REF!*#REF!*-1","v":{"$error":"#REF!"}},{"$f":"(N22+AF22)*-1","v":{"$error":"#REF!"}},{"$f":"-(C22*Emissionsfaktorer!$B$2+D22*Emissionsfaktorer!$B$3+E22*Emissionsfaktorer!$B$4+F22*Emissionsfaktorer!$B$5+G22*Emissionsfaktorer!$B$6+H22*Emissionsfaktorer!$B$7+I22*Emissionsfaktorer!$B$8+J22*Emissionsfaktorer!$B$9+K22*Emissionsfaktorer!$B$10+L22*Emissionsfaktorer!$B$11+M22*Emissionsfaktorer!$B$12)","v":{"$error":"#REF!"}}]
[null,null,{"$f":"AF23*#REF!/T23*#REF!/#REF!*-1","v":{"$error":"#REF!"}},null,{"$f":"AF23*#REF!/T23*#REF!/#REF!*-1","v":{"$error":"#REF!"}},{"$f":"AF23*#REF!/T23*#REF!/#REF!*-1","v":{"$error":"#REF!"}},null,null,{"$f":"AF23*#REF!/T23*#REF!/#REF!*-1","v":{"$error":"#REF!"}},{"$f":"AF23*#REF!/T23*#REF!/#REF!*-1","v":{"$error":"#REF!"}},{"$f":"AF23*#REF!/T23*#REF!/#REF!*-1","v":{"$error":"#REF!"}},{"$f":"AF23*#REF!/T23*#REF!/#REF!*-1","v":{"$error":"#REF!"}},null,{"$f":"SUM(C23:L23)","v":{"$error":"#REF!"}},"Fishing","EXOF","EXO",null,{"$error":"#REF!"},{"$f":"(#REF!+#REF!+#REF!+#REF!)*#REF!+(#REF!+#REF!)*#REF!+#REF!*#REF!","v":{"$error":"#REF!"}},null,null,null,null,null,null,null,null,null,null,null,{"$f":"((#REF!+#REF!+#REF!+#REF!)*#REF!+(#REF!+#REF!)*#REF!+#REF!*#REF!)*#REF!*#REF!*-1","v":{"$error":"#REF!"}},{"$f":"(N23+AF23)*-1","v":{"$error":"#REF!"}},{"$f":"-(C23*Emissionsfaktorer!$B$2+D23*Emissionsfaktorer!$B$3+E23*Emissionsfaktorer!$B$4+F23*Emissionsfaktorer!$B$5+G23*Emissionsfaktorer!$B$6+H23*Emissionsfaktorer!$B$7+I23*Emissionsfaktorer!$B$8+J23*Emissionsfaktorer!$B$9+K23*Emissionsfaktorer!$B$10+L23*Emissionsfaktorer!$B$11+M23*Emissionsfaktorer!$B$12)","v":{"$error":"#REF!"}}]
[null,null,{"$f":"AF24*#REF!/T24*#REF!/#REF!*-1","v":{"$error":"#REF!"}},null,{"$f":"AF24*#REF!/T24*#REF!/#REF!*-1","v":{"$error":"#REF!"}},{"$f":"AF24*#REF!/T24*#REF!/#REF!*-1","v":{"$error":"#REF!"}},null,null,{"$f":"AF24*#REF!/T24*#REF!/#REF!*-1","v":{"$error":"#REF!"}},{"$f":"AF24*#REF!/T24*#REF!/#REF!*-1","v":{"$error":"#REF!"}},{"$f":"AF24*#REF!/T24*#REF!/#REF!*-1","v":{"$error":"#REF!"}},{"$f":"AF24*#REF!/T24*#REF!/#REF!*-1","v":{"$error":"#REF!"}},null,{"$f":"SUM(C24:L24)","v":{"$error":"#REF!"}},"Non-specified","EXON","EXO",null,{"$error":"#REF!"},{"$f":"(#REF!+#REF!+#REF!+#REF!)*#REF!+(#REF!+#REF!)*#REF!+#REF!*#REF!","v":{"$error":"#REF!"}},null,null,null,null,null,null,null,null,null,null,null,{"$f":"((#REF!+#REF!+#REF!+#REF!)*#REF!+(#REF!+#REF!)*#REF!+#REF!*#REF!)*#REF!*#REF!*-1","v":{"$error":"#REF!"}},{"$f":"(N24+AF24)*-1","v":{"$error":"#REF!"}},{"$f":"-(C24*Emissionsfaktorer!$B$2+D24*Emissionsfaktorer!$B$3+E24*Emissionsfaktorer!$B$4+F24*Emissionsfaktorer!$B$5+G24*Emissionsfaktorer!$B$6+H24*Emissionsfaktorer!$B$7+I24*Emissionsfaktorer!$B$8+J24*Emissionsfaktorer!$B$9+K24*Emissionsfaktorer!$B$10+L24*Emissionsfaktorer!$B$11+M24*Emissionsfaktorer!$B$12)","v":{"$error":"#REF!"}}]
[null,null,null,null,null,null,null,null,null,null,null,null,null,{"$f":"N16","v":{"$error":"#REF!"}},"Energy Services","EN",null,null,{"$error":"#REF!"},{"$f":"AF25/N25*-1","v":{"$error":"#REF!"}},null,null,null,null,null,null,null,null,null,null,null,{"$f":"AF16","v":{"$error":"#REF!"}},{"$f":"-(S25+N25)","v":{"$error":"#REF!"}}]

{"sheet":"Africa 1995","index":56,"n_rows":32,"n_cols":12,"rows_kept":32,"cut":false,"hidden":true,"merged":[]}
[null,"Coal*","Crude oil","Oil products","Natural gas","Nuclear","Hydro","Geothermal, solar, etc.","Biofuels and waste","Electricity","Heat","Total**"]
[null,"ktoe","ktoe","ktoe","ktoe","ktoe","ktoe","ktoe","ktoe","ktoe","ktoe","ktoe"]
["Production",122310,350397,null,69032,2945,5186,337,219505,null,null,769708]
["Imports",3542,34903,17694,1791,null,null,null,37,564,null,58525]
["Exports",-40809,-263263,-39834,-33441,null,null,null,-273,-589,null,-378208]
["International marine bunkers",null,null,-7465,null,null,null,null,null,null,null,-7465]
["International aviation bunkers",null,null,-4272,null,null,null,null,null,null,null,-4272]
["Stock changes",566,231,348,null,null,null,null,null,null,null,1140]
["TES",85607,122266,-33537,37382,2945,5186,337,219269,-24,null,439427]
["Transfers",null,-14872,15891,null,null,null,null,null,null,null,1018]
["Statistical differences",-2312,-341,888,-122,null,null,null,-39,-180,null,-2106]
["Electricity plants",-46177,null,-11214,-15342,-2945,-5186,-336,-171,31217,null,-50152]
["CHP plants"]
["Heat plants"]
["Gas works",-2574,null,null,null,null,null,null,null,null,null,-2574]
["Oil refineries",null,-112606,109308,null,null,null,null,null,null,null,-3300]
["Coal transformation",-2212,null,null,null,null,null,null,null,null,null,-2212]
["Liquefication plants",-13936,6901,null,-1715,null,null,null,null,null,null,-8750]
["Other transformation",null,null,null,null,null,null,null,-28263,null,null,-28263]
["Energy industry own use",-28,-391,-3989,-8814,null,null,null,null,-3448,null,-16667]
["Losses",-61,-924,null,-563,null,null,null,null,-2949,null,-4496]
["Total final consumption",18309,34,77343,10826,null,null,1,190794,24615,null,321929]
["Industry",10182,34,12579,4470,null,null,null,9647,12540,null,49455]
["Transport",57,null,44653,462,null,null,null,null,427,null,45600]
["Residential",1690,null,10304,2420,null,null,null,174400,6581,null,195393]
["Commercial and public services",1163,null,539,33,null,null,null,4380,2488,null,8602]
["Agriculture / forestry",446,null,2548,null,null,null,null,1249,912,null,5156]
["Fishing"]
["Non-specified",33,null,1449,157,null,null,null,1123,1670,null,4430]
["Non-energy use",4739,null,5276,3284,null,null,null,null,null,null,13298]
[]
[null,{"$f":"SUM(B9,B10:B21,B22*-1)","v":-2},{"$f":"SUM(C9,C10:C21,C22*-1)","v":-1},4,0,0,0,0,2,1,0,-4]

{"sheet":"Africa 2000","index":57,"n_rows":32,"n_cols":12,"rows_kept":32,"cut":false,"hidden":true,"merged":[]}
[null,"Coal*","Crude oil","Oil products","Natural gas","Nuclear","Hydro","Geothermal, solar, etc.","Biofuels and waste","Electricity","Heat","Total**"]
[null,"ktoe","ktoe","ktoe","ktoe","ktoe","ktoe","ktoe","ktoe","ktoe","ktoe","ktoe"]
["Production",130910,389976,null,104454,3390,6449,395,241432,null,28,877028]
["Imports",6089,37447,35965,847,null,null,null,4,2612,null,82966]
["Exports",-47637,-302962,-49326,-58104,null,null,null,-264,-1467,null,-459764]
["International marine bunkers",null,null,-7308,null,null,null,null,null,null,null,-7308]
["International aviation bunkers",null,null,-5617,null,null,null,null,null,null,null,-5617]
["Stock changes",891,1732,1114,null,null,null,null,null,null,null,3735]
["TES",90253,126190,-25173,47197,3390,6449,395,241171,1145,28,491036]
["Transfers",null,-20649,22020,null,null,null,null,null,null,null,1372]
["Statistical differences",141,-2144,-292,316,null,null,null,88,9,null,-1880]
["Electricity plants",-52117,-156,-10961,-21987,-3390,-6449,-394,-381,37962,-28,-57898]
["CHP plants"]
["Heat plants"]
["Gas works",-2335,null,null,null,null,null,null,null,null,null,-2335]
["Oil refineries",null,-109419,108779,null,null,null,null,null,null,null,-639]
["Coal transformation",-1895,null,null,null,null,null,null,null,null,null,-1895]
["Liquefication plants",-14843,7696,null,-1398,null,null,null,null,null,null,-8545]
["Other transformation",null,null,null,null,null,null,null,-30223,null,null,-30223]
["Energy industry own use",-19,-465,-4208,-9994,null,null,null,null,-3451,null,-18138]
["Losses",-92,-1023,-58,-143,null,null,null,null,-4443,null,-5760]
["Total final consumption",19092,29,90107,13990,null,null,1,210656,31217,null,365090]
["Industry",11573,29,13155,6075,null,null,null,11035,15099,null,56963]
["Transport",11,null,53708,662,null,null,null,null,529,null,54910]
["Residential",1021,null,12526,2490,null,null,null,191929,8411,null,216381]
["Commercial and public services",732,null,1028,41,null,null,null,5497,4033,null,11330]
["Agriculture / forestry",443,null,2639,null,null,null,null,1810,929,null,5818]
["Fishing",null,null,136,null,null,null,null,null,null,null,136]
["Non-specified",27,null,1216,493,null,null,null,382,2217,null,4337]
["Non-energy use",5285,null,5701,4228,null,null,null,null,null,null,15215]
[]
[null,{"$f":"SUM(B9,B10:B21,B22*-1)","v":1},{"$f":"SUM(C9,C10:C21,C22*-1)","v":1},0,1,0,0,0,-1,5,0,5]

{"sheet":"Africa 2005","index":58,"n_rows":32,"n_cols":12,"rows_kept":32,"cut":false,"hidden":true,"merged":[]}
[null,"Coal*","Crude oil","Oil products","Natural gas","Nuclear","Hydro","Geothermal, solar, etc.","Biofuels and waste","Electricity","Heat","Total**"]
[null,"ktoe","ktoe","ktoe","ktoe","ktoe","ktoe","ktoe","ktoe","ktoe","ktoe","ktoe"]
["Production",141751,486657,null,158081,2942,7708,951,276869,null,37,1074996]
["Imports",7573,41378,44171,2416,null,null,null,3,2836,null,98375]
["Exports",-48588,-388457,-50269,-85788,null,null,null,-298,-2708,null,-576106]
["International marine bunkers",null,null,-6393,null,null,null,null,null,null,null,-6393]
["International aviation bunkers",null,null,-5343,null,null,null,null,null,null,null,-5343]
["Stock changes",98,-621,491,null,null,null,null,null,null,null,-32]
["TES",100833,138956,-17343,74707,2942,7708,951,276575,130,37,585501]
["Transfers",null,-15689,16840,null,null,null,null,null,null,null,1150]
["Statistical differences",1818,5771,-353,233,null,null,null,158,207,null,7836]
["Electricity plants",-58778,-328,-14329,-34990,-2942,-7708,-933,-414,48189,-37,-72271]
["CHP plants"]
["Heat plants"]
["Gas works",-5084,null,null,null,null,null,null,null,null,null,-5084]
["Oil refineries",null,-130468,128040,null,null,null,null,null,null,null,-2427]
["Coal transformation",-2481,null,null,null,null,null,null,null,null,null,-2481]
["Liquefication plants",-5835,3519,null,-2759,null,null,null,null,null,null,-5075]
["Other transformation",null,null,null,null,null,null,null,-37732,null,null,-37732]
["Energy industry own use",-9415,-459,-4726,-11969,null,null,null,null,-3246,null,-29817]
["Losses",-126,-1235,-95,-40,null,null,null,null,-5526,null,-7021]
["Total final consumption",20933,68,108028,25183,null,null,18,238587,39757,null,432580]
["Industry",14519,68,14960,12573,null,null,null,14891,18203,null,75216]
["Transport",8,null,65977,1432,null,null,null,null,549,null,67965]
["Residential",3162,null,13460,4132,null,null,null,215416,11799,null,247976]
["Commercial and public services",1646,null,992,46,null,null,null,5740,6411,null,14839]
["Agriculture / forestry",146,null,4434,null,null,null,null,2142,1445,null,8166]
["Fishing",null,null,167,null,null,null,null,null,null,null,167]
["Non-specified",35,null,1661,144,null,null,18,399,1345,null,3603]
["Non-energy use",1416,null,6377,6854,null,null,null,null,null,null,14647]
[]
[null,{"$f":"SUM(B9,B10:B21,B22*-1)","v":-1},{"$f":"SUM(C9,C10:C21,C22*-1)","v":-1},6,-1,0,0,0,0,-3,0,-1]

{"sheet":"Africa 2010","index":59,"n_rows":32,"n_cols":12,"rows_kept":32,"cut":false,"hidden":true,"merged":[]}
[null,"Coal*","Crude oil","Oil products","Natural gas","Nuclear","Hydro","Geothermal, solar, etc.","Biofuels and waste","Electricity","Heat","Total**"]
[null,"ktoe","ktoe","ktoe","ktoe","ktoe","ktoe","ktoe","ktoe","ktoe","ktoe","ktoe"]
["Production",146759,510798,null,174324,3153,9454,1590,311263,null,186,1157528]
["Imports",7169,38411,81932,5504,null,null,null,2,3295,null,136317]
["Exports",-45396,-413125,-41638,-90352,null,null,null,-333,-2971,null,-593815]
["International marine bunkers",null,null,-5923,null,null,null,null,null,null,null,-5923]
["International aviation bunkers",null,null,-7160,null,null,null,null,null,null,null,-7160]
["Stock changes",-11,-256,-754,-1,null,null,null,1,null,null,-1020]
["TES",108524,135826,26461,89476,3153,9454,1590,310933,323,186,685929]
["Transfers",null,-15829,17106,null,null,null,null,null,null,null,1274]
["Statistical differences",-1612,3875,-7858,-86,null,null,null,-1244,131,null,-6795]
["Electricity plants",-66322,-714,-16350,-44009,-3153,-9454,-1496,-630,57761,-186,-84552]
["CHP plants",null,null,null,-12,null,null,null,null,12]
["Heat plants"]
["Gas works",-1001,null,null,null,null,null,null,null,null,null,-1001]
["Oil refineries",null,-125950,123168,null,null,null,null,null,null,null,-2781]
["Coal transformation",-2417,null,null,null,null,null,null,null,null,null,-2417]
["Liquefication plants",-5210,3867,null,-3053,null,null,null,null,null,null,-4395]
["Other transformation",null,null,null,null,null,null,null,-43344,null,null,-43344]
["Energy industry own use",-14293,-638,-4595,-12791,null,null,null,null,-3767,null,-36083]
["Losses",-88,-437,-124,-222,null,null,null,-12,-7691,null,-8574]
["Total final consumption",17578,null,137806,29304,null,null,95,265701,46774,null,497258]
["Industry",12476,null,17173,14885,null,null,null,20587,20705,null,85823]
["Transport",8,null,86185,1329,null,null,null,3,398,null,87922]
["Residential",1958,null,14335,4694,null,null,27,235487,14472,null,270966]
["Commercial and public services",1118,null,1598,147,null,null,null,6699,8415,null,17980]
["Agriculture / forestry",306,null,5146,34,null,null,null,2505,1659,null,9646]
["Fishing",null,null,92,null,null,null,null,null,null,null,92]
["Non-specified",386,null,3258,518,null,null,68,420,1126,null,5775]
["Non-energy use",1326,null,10019,7699,null,null,null,null,null,null,19046]
[]
[null,{"$f":"SUM(B9,B10:B21,B22*-1)","v":3},{"$f":"SUM(C9,C10:C21,C22*-1)","v":0},2,-1,0,0,-1,2,-5,0,3]

{"sheet":"Africa 2015","index":60,"n_rows":32,"n_cols":12,"rows_kept":32,"cut":false,"hidden":true,"merged":[]}
[null,"Coal*","Crude oil","Oil products","Natural gas","Nuclear","Hydro","Geothermal, solar, etc.","Biofuels and waste","Electricity","Heat","Total**"]
[null,"ktoe","ktoe","ktoe","ktoe","ktoe","ktoe","ktoe","ktoe","ktoe","ktoe","ktoe"]
["Production",153804,403453,null,168713,3188,10396,5009,355020,null,83,1099668]
["Imports",8286,31963,117025,13031,null,null,null,2,3566,null,173873]
["Exports",-54141,-318043,-41202,-71405,null,null,null,-386,-3038,null,-488215]
["International marine bunkers",null,null,-5958,null,null,null,null,null,null,null,-5958]
["International aviation bunkers",null,null,-7768,null,null,null,null,null,null,null,-7768]
["Stock changes",-1023,2953,339,null,null,null,null,1,null,null,2268]
["TES",106925,120324,62437,110339,3188,10396,5009,354635,526,83,773867]
["Transfers",null,-17542,18877,null,null,null,null,null,null,null,1336]
["Statistical differences",864,3725,-94,1050,null,null,null,-1935,115,null,3725]
["Electricity plants",-65715,-793,-22709,-58288,-3188,-10396,-4850,-760,66693,-83,-100093]
["CHP plants",null,null,null,-25,null,null,null,-330,58,null,-297]
["Heat plants"]
["Gas works",-1434,null,null,null,null,null,null,null,null,null,-1434]
["Oil refineries",null,-109031,105397,null,null,null,null,null,null,null,-3639]
["Coal transformation",-1910,null,null,null,null,null,null,null,null,null,-1910]
["Liquefication plants",-5172,5318,null,-2991,null,null,null,null,null,null,-2845]
["Other transformation",null,null,-9,null,null,null,null,-55958,null,null,-55966]
["Energy industry own use",-13358,-871,-3310,-11955,null,null,null,null,-4424,null,-33921]
["Losses",-34,-1124,-93,-490,null,null,null,-35,-9351,null,-11127]
["Total final consumption",20165,7,160498,37644,null,null,158,295618,53611,null,567708]
["Industry",12966,null,18228,17107,null,null,null,18677,21276,null,88255]
["Transport",10,7,109806,1012,null,null,null,39,472,null,111346]
["Residential",3614,null,14196,8478,null,null,45,263896,18503,null,308731]
["Commercial and public services",1804,null,1885,418,null,null,2,9645,9423,null,23179]
["Agriculture / forestry",377,null,4451,60,null,null,null,2918,2031,null,9839]
["Fishing",null,null,73,null,null,null,null,null,null,null,73]
["Non-specified",101,null,4013,577,null,null,111,443,1913,null,7160]
["Non-energy use",1293,null,7850,9991,null,null,null,null,null,null,19133]
[]
[null,{"$f":"SUM(B9,B10:B21,B22*-1)","v":1},{"$f":"SUM(C9,C10:C21,C22*-1)","v":-1},-2,-4,0,0,1,-1,6,0,-12]

{"sheet":"Africa 2018","index":61,"n_rows":32,"n_cols":12,"rows_kept":32,"cut":false,"hidden":true,"merged":[]}
[null,"Coal*","Crude oil","Oil products","Natural gas","Nuclear","Hydro","Geothermal, solar, etc.","Biofuels and waste","Electricity","Heat","Total**"]
[null,"ktoe","ktoe","ktoe","ktoe","ktoe","ktoe","ktoe","ktoe","ktoe","ktoe","ktoe"]
["Production",157479,403909,null,207147,3017,11278,6836,378928,null,122,1168718]
["Imports",12236,32678,118170,10581,null,null,null,2,3279,null,176943]
["Exports",-55922,-315299,-37520,-84393,null,null,null,-291,-2810,null,-496231]
["International marine bunkers",null,null,-5258,null,null,null,null,null,null,null,-5258]
["International aviation bunkers",null,null,-8843,null,null,null,null,null,null,null,-8843]
["Stock changes",-283,-483,2151,null,null,null,null,null,null,null,1388]
["TES",113511,120808,68708,133336,3017,11278,6836,378639,466,122,836725]
["Transfers",null,-18029,19409,null,null,null,null,null,null,null,1382]
["Statistical differences",-832,1554,1700,120,null,null,null,-173,1335,null,3701]
["Electricity plants",-65511,-810,-17571,-69927,-3017,-11278,-6647,-815,71665,-122,-104031]
["CHP plants",null,null,null,-51,null,null,null,-347,90,null,-307]
["Heat plants"]
["Gas works",-1331,null,null,null,null,null,null,null,null,null,-1331]
["Oil refineries",null,-106977,102912,null,null,null,null,null,null,null,-4064]
["Coal transformation",-2010,null,null,null,null,null,null,null,null,null,-2010]
["Liquefication plants",-4922,4879,null,-2508,null,null,null,null,null,null,-2551]
["Other transformation",null,null,-15,null,null,null,null,-66987,null,null,-67002]
["Energy industry own use",-14107,-682,-3354,-13359,null,null,-3,-5,-4560,null,-36070]
["Losses",-95,-679,-207,-460,null,null,null,-33,-10493,null,-11964]
["Total final consumption",24700,63,171582,47155,null,null,187,310280,58511,null,612473]
["Industry",14896,null,17176,19748,null,null,null,16359,22679,null,90862]
["Transport",8,63,121855,1223,null,null,null,44,459,null,123651]
["Residential",5327,null,14460,11554,null,null,56,279600,20805,null,331801]
["Commercial and public services",2628,null,1533,522,null,null,2,10583,10777,null,26047]
["Agriculture / forestry",525,null,4565,58,null,null,null,3228,2058,null,10437]
["Fishing",null,null,123,null,null,null,null,null,null,null,123]
["Non-specified",140,null,2719,705,null,null,129,465,1727,null,5889]
["Non-energy use",1175,null,9140,13347,null,null,null,null,null,null,23661]
[]
[null,{"$f":"SUM(B9,B10:B21,B22*-1)","v":3},{"$f":"SUM(C9,C10:C21,C22*-1)","v":1},0,-4,0,0,-1,-1,-8,0,5]

{"sheet":"BL China 2050","index":62,"n_rows":25,"n_cols":34,"rows_kept":25,"cut":false,"hidden":true,"merged":[]}
[null,"Consumption","Coal","Crude oil","Oil Products","Natual Gas","Nuclear","Hydro","Geothermal, solar, wind, etc.","Biofuels and waste","Electricity","Heat","Energy Services","Total consumption","China 2050",null,null,"Faktor","Total production","Efficiency","Production","Coal","Crude oil","Oil Products","Natual Gas","Nuclear","Hydro","Geothermal, solar, wind, etc.","Biofuels and waste","Electricity","Heat","Energy Services","Loss","CO2-emissions"]
["ID","C ","CC","CCO","COP","CNG","CNU","CHY","CGSW","CWB","CE","CH","CES","fbrbr",null,"ID","ID Parent","factor","pbrpr","pvrkg","P ","PC","PCO","POP","PNG","PNU","PHY","PGSW","PWB","PE","PH","PES","PTAB","PCO2"]
["ID Parent",null,"C","C","C ","C ","C ","C","C","C ","C ","C ","C ",null,"Structures",null,null,null,null,null,null,"P ","P ","P ","P ","P ","P ","P","P ","P ","P ","P "]
["Factor",null,null,null,null,null,null,null,null,null,null,null,null,null,null,null,null,null,null,null,{"$f":"B4","v":0},null,null,null,null,null,null,null,null,null,null,null,{"$f":"U4","v":0},{"$f":"U4","v":0}]
[null,null,null,null,null,null,null,null,null,null,null,null,null,{"$f":"SUM(C5:M5)","v":0},"Entry fuels","ETP",null,null,{"$f":"SUM(V5:AF5)","v":{"$error":"#REF!"}},null,null,{"$f":"-(C6+C5)","v":{"$error":"#REF!"}},{"$f":"-(D6+D5)","v":{"$error":"#REF!"}},null,{"$f":"-(F6+F5)","v":{"$error":"#REF!"}},{"$f":"-(G6+G5)","v":{"$error":"#REF!"}},null,null,{"$f":"-(J6+J5)","v":{"$error":"#REF!"}}]
[null,null,{"$f":"-V6","v":{"$error":"#REF!"}},{"$f":"-W6","v":{"$error":"#REF!"}},null,{"$f":"-Y6","v":{"$error":"#REF!"}},{"$f":"-Z6","v":{"$error":"#REF!"}},null,null,{"$f":"-AC6","v":{"$error":"#REF!"}},null,null,null,{"$f":"SUM(C6:M6)","v":{"$error":"#REF!"}},"Transport of fuels","TRAP",null,null,{"$f":"SUM(V6:AF6)","v":{"$error":"#REF!"}},null,null,{"$f":"-(C16+C8)","v":{"$error":"#REF!"}},{"$f":"-(D16+D8)","v":{"$error":"#REF!"}},null,{"$f":"-(F16+F8)","v":{"$error":"#REF!"}},{"$f":"-(G16+G8)","v":{"$error":"#REF!"}},null,null,{"$f":"-(J16+J8)","v":{"$error":"#REF!"}},null,null,null,{"$f":"-(N6+S6)","v":{"$error":"#REF!"}}]
[null,null,null,null,null,null,null,null,null,null,null,null,null,0,"Entry On-Grid RE ","ELP1",null,null,{"$error":"#REF!"},null,null,null,null,null,null,null,{"$f":"-H8","v":{"$error":"#REF!"}},{"$f":"-I8","v":{"$error":"#REF!"}}]
[null,null,{"$f":"SUM(C9:C13)","v":{"$error":"#REF!"}},{"$f":"SUM(D9:D13)","v":{"$error":"#REF!"}},{"$error":"#REF!"},{"$error":"#REF!"},{"$error":"#REF!"},{"$error":"#REF!"},{"$error":"#REF!"},{"$error":"#REF!"},{"$error":"#REF!"},{"$error":"#REF!"},0,{"$error":"#REF!"},"Entry electricity, district heating and oil products","ES",null,null,{"$error":"#REF!"},null,null,{"$f":"SUM(V9:V13)","v":0},null,{"$f":"(E14+E8)*-1","v":{"$error":"#REF!"}},null,null,null,null,null,{"$f":"(K14+K8)*-1","v":{"$error":"#REF!"}},{"$f":"(L14+L8)*-1","v":{"$error":"#REF!"}},null,{"$f":"-(N8+S8)","v":{"$error":"#REF!"}},{"$f":"SUM(AH9:AH13)","v":{"$error":"#REF!"}}]
[null,null,{"$f":"-($AD$9+$H$9+$I$9)/$T$9*#REF!","v":{"$error":"#REF!"}},{"$f":"-($AD$9+$H$9+$I$9)/$T$9*#REF!","v":{"$error":"#REF!"}},{"$f":"-($AD$9+$H$9+$I$9)/$T$9*#REF!","v":{"$error":"#REF!"}},{"$f":"-($AD$9+$H$9+$I$9)/$T$9*#REF!","v":{"$error":"#REF!"}},{"$f":"-($AD$9+$H$9+$I$9)/$T$9*#REF!","v":{"$error":"#REF!"}},{"$f":"AD9*#REF!*-1","v":{"$error":"#REF!"}},{"$f":"AD9*#REF!*-1","v":{"$error":"#REF!"}},{"$f":"-($AD$9+$H$9+$I$9)/$T$9*#REF!","v":{"$error":"#REF!"}},null,null,null,{"$error":"#REF!"},"Electricity-only plants","ESEP","ES",null,{"$error":"#REF!"},{"$f":"#REF!","v":{"$error":"#REF!"}},null,null,null,null,null,null,null,null,null,{"$f":"AD8-AD10","v":{"$error":"#REF!"}},null,null,{"$f":"-(S9+N9)","v":{"$error":"#REF!"}},{"$f":"-(C9*Emissionsfaktorer!$B$2*(1-#REF!)+D9*Emissionsfaktorer!$B$3+E9*Emissionsfaktorer!$B$4*(1-#REF!)+F9*Emissionsfaktorer!$B$5*(1-#REF!)+G9*Emissionsfaktorer!$B$6+H9*Emissionsfaktorer!$B$7+I9*Emissionsfaktorer!$B$8-J9*Emissionsfaktorer!B13*#REF!+K9*Emissionsfaktorer!$B$10+L9*Emissionsfaktorer!$B$11+M9*Emissionsfaktorer!$B$12)","v":{"$error":"#REF!"}}]
[null,null,{"$f":"-($AD$10+$AE$10+$H$10+$I$10)/$T$10*#REF!","v":{"$error":"#REF!"}},{"$f":"-($AD$10+$AE$10+$H$10+$I$10)/$T$10*#REF!","v":{"$error":"#REF!"}},{"$f":"-($AD$10+$AE$10+$H$10+$I$10)/$T$10*#REF!","v":{"$error":"#REF!"}},{"$f":"-($AD$10+$AE$10+$H$10+$I$10)/$T$10*#REF!","v":{"$error":"#REF!"}},{"$f":"-($AD$10+$AE$10+$H$10+$I$10)/$T$10*#REF!","v":{"$error":"#REF!"}},null,{"$f":"(AD10+AE10)*#REF!*-1","v":{"$error":"#REF!"}},{"$f":"-($AD$10+$AE$10+$H$10+$I$10)/$T$10*#REF!","v":{"$error":"#REF!"}},null,null,null,{"$error":"#REF!"},"CHP plants","ESCHP","ES",null,{"$error":"#REF!"},{"$f":"#REF!","v":{"$error":"#REF!"}},null,null,null,null,null,null,null,null,null,{"$f":"AE10*#REF!","v":{"$error":"#REF!"}},{"$f":"AE8*#REF!","v":{"$error":"#REF!"}},null,{"$f":"-(S10+N10)","v":{"$error":"#REF!"}},{"$f":"-(C10*Emissionsfaktorer!$B$2*(1-#REF!)+D10*Emissionsfaktorer!$B$3+E10*Emissionsfaktorer!$B$4*(1-#REF!)+F10*Emissionsfaktorer!$B$5*(1-#REF!)+G10*Emissionsfaktorer!$B$6+H10*Emissionsfaktorer!$B$7+I10*Emissionsfaktorer!$B$8-J10*Emissionsfaktorer!B14*#REF!+K10*Emissionsfaktorer!$B$10+L10*Emissionsfaktorer!$B$11+M10*Emissionsfaktorer!$B$12)","v":{"$error":"#REF!"}}]
[null,null,{"$f":"-($AE$11+$H$11+$I$11)/IF($T$11=0,1,$T$11)*#REF!","v":{"$error":"#REF!"}},{"$f":"-($AE$11+$H$11+$I$11)/IF($T$11=0,1,$T$11)*#REF!","v":{"$error":"#REF!"}},{"$f":"-($AE$11+$H$11+$I$11)/IF($T$11=0,1,$T$11)*#REF!","v":{"$error":"#REF!"}},{"$f":"-($AE$11+$H$11+$I$11)/IF($T$11=0,1,$T$11)*#REF!","v":{"$error":"#REF!"}},{"$f":"-($AE$11+$H$11+$I$11)/IF($T$11=0,1,$T$11)*#REF!","v":{"$error":"#REF!"}},null,{"$f":"AE11*#REF!*-1","v":{"$error":"#REF!"}},{"$f":"-($AE$11+$H$11+$I$11)/IF($T$11=0,1,$T$11)*#REF!","v":{"$error":"#REF!"}},{"$f":"AE11*#REF!*-1","v":{"$error":"#REF!"}},null,null,{"$error":"#REF!"},"Heat Plants","ESHP","ES",null,{"$error":"#REF!"},{"$f":"#REF!","v":{"$error":"#REF!"}},null,null,null,null,null,null,null,null,null,null,{"$f":"AE8*#REF!","v":{"$error":"#REF!"}},null,{"$f":"-(S11+N11)","v":{"$error":"#REF!"}},{"$f":"-(C11*Emissionsfaktorer!$B$2+D11*Emissionsfaktorer!$B$3+E11*Emissionsfaktorer!$B$4+F11*Emissionsfaktorer!$B$5+G11*Emissionsfaktorer!$B$6+H11*Emissionsfaktorer!$B$7+I11*Emissionsfaktorer!$B$8+J11*Emissionsfaktorer!$B$9+K11*Emissionsfaktorer!$B$10+L11*Emissionsfaktorer!$B$11+M11*Emissionsfaktorer!$B$12)","v":{"$error":"#REF!"}}]
[null,null,null,{"$f":"-X12/IF(T12=0,1,T12)*#REF!","v":{"$error":"#REF!"}},null,null,null,null,null,{"$f":"-X12/IF(T12=0,1,T12)*#REF!","v":{"$error":"#REF!"}},null,null,null,{"$error":"#REF!"},"Oil refineries","ESOR","ES",null,{"$error":"#REF!"},{"$f":"#REF!","v":{"$error":"#REF!"}},null,null,null,{"$f":"-(E9+E10+E11+E13+E14)","v":{"$error":"#REF!"}},null,null,null,null,null,null,null,null,{"$f":"-(S12+N12)","v":{"$error":"#REF!"}},{"$f":"J12*Emissionsfaktorer!B4","v":{"$error":"#REF!"}}]
[null,null,{"$f":"N13*#REF!","v":{"$error":"#REF!"}},{"$f":"N13*#REF!","v":{"$error":"#REF!"}},{"$f":"N13*#REF!","v":{"$error":"#REF!"}},{"$f":"N13*#REF!","v":{"$error":"#REF!"}},null,null,null,{"$f":"N13*#REF!","v":{"$error":"#REF!"}},{"$f":"N13*#REF!","v":{"$error":"#REF!"}},{"$f":"N13*#REF!","v":{"$error":"#REF!"}},null,{"$f":"N16*#REF!","v":{"$error":"#REF!"}},"Energy Industry one use","ESNSP","ES",null,0,0,null,null,null,null,null,null,null,null,null,null,null,null,{"$f":"-(S13+N13)","v":{"$error":"#REF!"}},{"$f":"-(C13*Emissionsfaktorer!$B$2+D13*Emissionsfaktorer!$B$3+E13*Emissionsfaktorer!$B$4+F13*Emissionsfaktorer!$B$5+G13*Emissionsfaktorer!$B$6+H13*Emissionsfaktorer!$B$7+I13*Emissionsfaktorer!$B$8+J13*Emissionsfaktorer!$B$9+K13*Emissionsfaktorer!$B$10+L13*Emissionsfaktorer!$B$11+M13*Emissionsfaktorer!$B$12)","v":{"$error":"#REF!"}}]
[null,null,null,null,{"$f":"-X14*1","v":{"$error":"#REF!"}},null,null,null,null,null,{"$f":"-AD14*(1+#REF!)","v":{"$error":"#REF!"}},{"$f":"-AE14*(1+#REF!)","v":{"$error":"#REF!"}},null,{"$error":"#REF!"},"Transport electricity, district heating and oil products","TRAS",null,null,{"$error":"#REF!"},null,null,null,null,{"$f":"-E16","v":{"$error":"#REF!"}},null,null,null,null,null,{"$f":"-K16","v":{"$error":"#REF!"}},{"$f":"-L16","v":{"$error":"#REF!"}},null,{"$f":"-(N14+S14)","v":{"$error":"#REF!"}}]
[null,null,null,null,null,null,null,null,null,null,null,null,null,0,"Entry Off-Grid RE","ELP2",null,null,{"$error":"#REF!"},null,null,null,null,null,null,null,null,{"$f":"I16*-1","v":{"$error":"#REF!"}}]
[null,null,{"$f":"SUM(C17:C19)","v":{"$error":"#REF!"}},{"$error":"#REF!"},{"$error":"#REF!"},{"$error":"#REF!"},0,0,{"$error":"#REF!"},{"$error":"#REF!"},{"$error":"#REF!"},{"$error":"#REF!"},0,{"$f":"#REF!","v":{"$error":"#REF!"}},"Exit energy","EX",null,null,{"$error":"#REF!"},null,null,null,null,null,null,null,null,null,null,null,null,{"$f":"SUM(AF17:AF19)","v":{"$error":"#REF!"}},{"$f":"SUM(AG17:AG19)","v":{"$error":"#REF!"}},{"$f":"SUM(AH17:AH19)","v":{"$error":"#REF!"}}]
[null,null,{"$f":"AF17*#REF!/T17*#REF!/#REF!*-1","v":{"$error":"#REF!"}},{"$f":"AF17*#REF!/T17*#REF!/#REF!*-1","v":{"$error":"#REF!"}},{"$f":"AF17*#REF!/T17*#REF!/#REF!*-1","v":{"$error":"#REF!"}},{"$f":"AF17*#REF!/T17*#REF!/#REF!*-1","v":{"$error":"#REF!"}},null,null,{"$f":"AF17*#REF!/T17*#REF!/#REF!*-1","v":{"$error":"#REF!"}},{"$f":"AF17*#REF!*#REF!/T17/#REF!*-1","v":{"$error":"#REF!"}},{"$f":"AF17*#REF!*#REF!/T17/#REF!*-1","v":{"$error":"#REF!"}},{"$f":"AF17*#REF!*#REF!/T17/#REF!*-1","v":{"$error":"#REF!"}},null,{"$f":"SUM(C17:L17)","v":{"$error":"#REF!"}},"Industry","EXI","EX",null,{"$error":"#REF!"},{"$f":"(#REF!+#REF!+#REF!+#REF!+#REF!)*#REF!+(#REF!+#REF!)*#REF!+#REF!*#REF!","v":{"$error":"#REF!"}},null,null,null,null,null,null,null,null,null,null,null,{"$f":"#REF!*#REF!*((#REF!+#REF!+#REF!+#REF!+#REF!)*#REF!+(#REF!+#REF!)*#REF!+#REF!*#REF!)*-1","v":{"$error":"#REF!"}},{"$f":"(S17+SUM(C17:M17))*-1","v":{"$error":"#REF!"}},{"$f":"-(C17*Emissionsfaktorer!$B$2+D17*Emissionsfaktorer!$B$3+E17*Emissionsfaktorer!$B$4+F17*Emissionsfaktorer!$B$5+G17*Emissionsfaktorer!$B$6+H17*Emissionsfaktorer!$B$7+I17*Emissionsfaktorer!$B$8+J17*Emissionsfaktorer!$B$9+K17*Emissionsfaktorer!$B$10+L17*Emissionsfaktorer!$B$11+M17*Emissionsfaktorer!$B$12)","v":{"$error":"#REF!"}}]
[null,null,{"$f":"AF18*#REF!/T18*#REF!/#REF!*-1","v":{"$error":"#REF!"}},null,{"$f":"AF18*#REF!/T18*#REF!/#REF!*-1","v":{"$error":"#REF!"}},{"$f":"AF18*#REF!/T18*#REF!/#REF!*-1","v":{"$error":"#REF!"}},null,null,{"$f":"AF18*#REF!/T18*#REF!/#REF!*-1","v":{"$error":"#REF!"}},{"$f":"AF18*#REF!/T18*#REF!/#REF!*-1","v":{"$error":"#REF!"}},{"$f":"AF18*#REF!/T18*#REF!/#REF!*-1","v":{"$error":"#REF!"}},{"$f":"AF18*#REF!/T18*#REF!/#REF!*-1","v":{"$error":"#REF!"}},null,{"$f":"SUM(C18:L18)","v":{"$error":"#REF!"}},"Transport","EXT","EX",null,{"$error":"#REF!"},{"$f":"(#REF!+#REF!+#REF!+#REF!)*#REF!+(#REF!+#REF!)*#REF!+#REF!*#REF!","v":{"$error":"#REF!"}},null,null,null,null,null,null,null,null,null,null,null,{"$f":"#REF!*#REF!*-1*((#REF!+#REF!+#REF!+#REF!)*#REF!+(#REF!+#REF!)*#REF!+#REF!*#REF!)","v":{"$error":"#REF!"}},{"$f":"(S18+SUM(C18:M18))*-1","v":{"$error":"#REF!"}},{"$f":"-(C18*Emissionsfaktorer!$B$2+D18*Emissionsfaktorer!$B$3+E18*Emissionsfaktorer!$B$4+F18*Emissionsfaktorer!$B$5+G18*Emissionsfaktorer!$B$6+H18*Emissionsfaktorer!$B$7+I18*Emissionsfaktorer!$B$8+J18*Emissionsfaktorer!$B$9+K18*Emissionsfaktorer!$B$10+L18*Emissionsfaktorer!$B$11+M18*Emissionsfaktorer!$B$12)","v":{"$error":"#REF!"}}]
[null,null,{"$f":"SUM(C20:C24)","v":{"$error":"#REF!"}},{"$f":"SUM(D20:D24)","v":0},{"$error":"#REF!"},{"$error":"#REF!"},0,0,{"$error":"#REF!"},{"$error":"#REF!"},{"$error":"#REF!"},{"$error":"#REF!"},0,{"$f":"SUM(N20:N24)","v":{"$error":"#REF!"}},"Other ","EXO","EX",null,{"$error":"#REF!"},0.8,null,{"$f":"SUM(V20:V24)","v":0},{"$f":"SUM(W20:W24)","v":0},0,0,0,0,0,0,0,0,{"$error":"#REF!"},{"$error":"#REF!"},{"$error":"#REF!"}]
[null,null,{"$f":"AF20*#REF!/T20*#REF!/#REF!*-1","v":{"$error":"#REF!"}},null,{"$f":"AF20*#REF!/T20*#REF!/#REF!*-1","v":{"$error":"#REF!"}},{"$f":"AF20*#REF!/T20*#REF!/#REF!*-1","v":{"$error":"#REF!"}},null,null,{"$f":"AF20*#REF!/T20*#REF!/#REF!*-1","v":{"$error":"#REF!"}},{"$f":"AF20*#REF!/T20*#REF!/#REF!*-1","v":{"$error":"#REF!"}},{"$f":"AF20*#REF!/T20*#REF!/#REF!*-1","v":{"$error":"#REF!"}},{"$f":"AF20*#REF!/T20*#REF!/#REF!*-1","v":{"$error":"#REF!"}},null,{"$f":"SUM(C20:L20)","v":{"$error":"#REF!"}},"Residential","EXOR","EXO",null,{"$error":"#REF!"},{"$f":"(#REF!+#REF!+#REF!+#REF!)*#REF!+(#REF!+#REF!)*#REF!+#REF!*#REF!","v":{"$error":"#REF!"}},null,null,null,null,null,null,null,null,null,null,null,{"$f":"#REF!*#REF!*((#REF!+#REF!+#REF!+#REF!)*#REF!+(#REF!+#REF!)*#REF!+#REF!*#REF!)*-1","v":{"$error":"#REF!"}},{"$f":"(N20+AF20)*-1","v":{"$error":"#REF!"}},{"$f":"-(C20*Emissionsfaktorer!$B$2+D20*Emissionsfaktorer!$B$3+E20*Emissionsfaktorer!$B$4+F20*Emissionsfaktorer!$B$5+G20*Emissionsfaktorer!$B$6+H20*Emissionsfaktorer!$B$7+I20*Emissionsfaktorer!$B$8+J20*Emissionsfaktorer!$B$9+K20*Emissionsfaktorer!$B$10+L20*Emissionsfaktorer!$B$11+M20*Emissionsfaktorer!$B$12)","v":{"$error":"#REF!"}}]
[null,null,{"$f":"AF21*#REF!/T21*#REF!/#REF!*-1","v":{"$error":"#REF!"}},null,{"$f":"AF21*#REF!/T21*#REF!/#REF!*-1","v":{"$error":"#REF!"}},{"$f":"AF21*#REF!/T21*#REF!/#REF!*-1","v":{"$error":"#REF!"}},null,null,{"$f":"AF21*#REF!/T21*#REF!/#REF!*-1","v":{"$error":"#REF!"}},{"$f":"AF21*#REF!/T21*#REF!/#REF!*-1","v":{"$error":"#REF!"}},{"$f":"AF21*#REF!/T21*#REF!/#REF!*-1","v":{"$error":"#REF!"}},{"$f":"AF21*#REF!/T21*#REF!/#REF!*-1","v":{"$error":"#REF!"}},null,{"$f":"SUM(C21:L21)","v":{"$error":"#REF!"}},"Commercial and public services","EXOC","EXO",null,{"$error":"#REF!"},{"$f":"(#REF!+#REF!+#REF!+#REF!)*#REF!+(#REF!+#REF!)*#REF!+#REF!*#REF!","v":{"$error":"#REF!"}},null,null,null,null,null,null,null,null,null,null,null,{"$f":"#REF!*#REF!*((#REF!+#REF!+#REF!+#REF!)*#REF!+(#REF!+#REF!)*#REF!+#REF!*#REF!)*-1","v":{"$error":"#REF!"}},{"$f":"(N21+AF21)*-1","v":{"$error":"#REF!"}},{"$f":"-(C21*Emissionsfaktorer!$B$2+D21*Emissionsfaktorer!$B$3+E21*Emissionsfaktorer!$B$4+F21*Emissionsfaktorer!$B$5+G21*Emissionsfaktorer!$B$6+H21*Emissionsfaktorer!$B$7+I21*Emissionsfaktorer!$B$8+J21*Emissionsfaktorer!$B$9+K21*Emissionsfaktorer!$B$10+L21*Emissionsfaktorer!$B$11+M21*Emissionsfaktorer!$B$12)","v":{"$error":"#REF!"}}]
[null,null,{"$f":"AF22*#REF!/T22*#REF!/#REF!*-1","v":{"$error":"#REF!"}},null,{"$f":"AF22*#REF!/T22*#REF!/#REF!*-1","v":{"$error":"#REF!"}},{"$f":"AF22*#REF!/T22*#REF!/#REF!*-1","v":{"$error":"#REF!"}},null,null,{"$f":"AF22*#REF!/T22*#REF!/#REF!*-1","v":{"$error":"#REF!"}},{"$f":"AF22*#REF!/T22*#REF!/#REF!*-1","v":{"$error":"#REF!"}},{"$f":"AF22*#REF!/T22*#REF!/#REF!*-1","v":{"$error":"#REF!"}},{"$f":"AF22*#REF!/T22*#REF!/#REF!*-1","v":{"$error":"#REF!"}},null,{"$f":"SUM(C22:L22)","v":{"$error":"#REF!"}},"Agriculture / forestry","EXOA","EXO",null,{"$error":"#REF!"},{"$f":"(#REF!+#REF!+#REF!+#REF!)*#REF!+(#REF!+#REF!)*#REF!+#REF!*#REF!","v":{"$error":"#REF!"}},null,null,null,null,null,null,null,null,null,null,null,{"$f":"((#REF!+#REF!+#REF!+#REF!)*#REF!+(#REF!+#REF!)*#REF!+#REF!*#REF!)*#REF!*#REF!*-1","v":{"$error":"#REF!"}},{"$f":"(N22+AF22)*-1","v":{"$error":"#REF!"}},{"$f":"-(C22*Emissionsfaktorer!$B$2+D22*Emissionsfaktorer!$B$3+E22*Emissionsfaktorer!$B$4+F22*Emissionsfaktorer!$B$5+G22*Emissionsfaktorer!$B$6+H22*Emissionsfaktorer!$B$7+I22*Emissionsfaktorer!$B$8+J22*Emissionsfaktorer!$B$9+K22*Emissionsfaktorer!$B$10+L22*Emissionsfaktorer!$B$11+M22*Emissionsfaktorer!$B$12)","v":{"$error":"#REF!"}}]
[null,null,{"$f":"AF23*#REF!/T23*#REF!/#REF!*-1","v":{"$error":"#REF!"}},null,{"$f":"AF23*#REF!/T23*#REF!/#REF!*-1","v":{"$error":"#REF!"}},{"$f":"AF23*#REF!/T23*#REF!/#REF!*-1","v":{"$error":"#REF!"}},null,null,{"$f":"AF23*#REF!/T23*#REF!/#REF!*-1","v":{"$error":"#REF!"}},{"$f":"AF23*#REF!/T23*#REF!/#REF!*-1","v":{"$error":"#REF!"}},{"$f":"AF23*#REF!/T23*#REF!/#REF!*-1","v":{"$error":"#REF!"}},{"$f":"AF23*#REF!/T23*#REF!/#REF!*-1","v":{"$error":"#REF!"}},null,{"$f":"SUM(C23:L23)","v":{"$error":"#REF!"}},"Fishing","EXOF","EXO",null,{"$error":"#REF!"},{"$f":"(#REF!+#REF!+#REF!+#REF!)*#REF!+(#REF!+#REF!)*#REF!+#REF!*#REF!","v":{"$error":"#REF!"}},null,null,null,null,null,null,null,null,null,null,null,{"$f":"((#REF!+#REF!+#REF!+#REF!)*#REF!+(#REF!+#REF!)*#REF!+#REF!*#REF!)*#REF!*#REF!*-1","v":{"$error":"#REF!"}},{"$f":"(N23+AF23)*-1","v":{"$error":"#REF!"}},{"$f":"-(C23*Emissionsfaktorer!$B$2+D23*Emissionsfaktorer!$B$3+E23*Emissionsfaktorer!$B$4+F23*Emissionsfaktorer!$B$5+G23*Emissionsfaktorer!$B$6+H23*Emissionsfaktorer!$B$7+I23*Emissionsfaktorer!$B$8+J23*Emissionsfaktorer!$B$9+K23*Emissionsfaktorer!$B$10+L23*Emissionsfaktorer!$B$11+M23*Emissionsfaktorer!$B$12)","v":{"$error":"#REF!"}}]
[null,null,{"$f":"AF24*#REF!/T24*#REF!/#REF!*-1","v":{"$error":"#REF!"}},null,{"$f":"AF24*#REF!/T24*#REF!/#REF!*-1","v":{"$error":"#REF!"}},{"$f":"AF24*#REF!/T24*#REF!/#REF!*-1","v":{"$error":"#REF!"}},null,null,{"$f":"AF24*#REF!/T24*#REF!/#REF!*-1","v":{"$error":"#REF!"}},{"$f":"AF24*#REF!/T24*#REF!/#REF!*-1","v":{"$error":"#REF!"}},{"$f":"AF24*#REF!/T24*#REF!/#REF!*-1","v":{"$error":"#REF!"}},{"$f":"AF24*#REF!/T24*#REF!/#REF!*-1","v":{"$error":"#REF!"}},null,{"$f":"SUM(C24:L24)","v":{"$error":"#REF!"}},"Non-specified","EXON","EXO",null,{"$error":"#REF!"},{"$f":"(#REF!+#REF!+#REF!+#REF!)*#REF!+(#REF!+#REF!)*#REF!+#REF!*#REF!","v":{"$error":"#REF!"}},null,null,null,null,null,null,null,null,null,null,null,{"$f":"((#REF!+#REF!+#REF!+#REF!)*#REF!+(#REF!+#REF!)*#REF!+#REF!*#REF!)*#REF!*#REF!*-1","v":{"$error":"#REF!"}},{"$f":"(N24+AF24)*-1","v":{"$error":"#REF!"}},{"$f":"-(C24*Emissionsfaktorer!$B$2+D24*Emissionsfaktorer!$B$3+E24*Emissionsfaktorer!$B$4+F24*Emissionsfaktorer!$B$5+G24*Emissionsfaktorer!$B$6+H24*Emissionsfaktorer!$B$7+I24*Emissionsfaktorer!$B$8+J24*Emissionsfaktorer!$B$9+K24*Emissionsfaktorer!$B$10+L24*Emissionsfaktorer!$B$11+M24*Emissionsfaktorer!$B$12)","v":{"$error":"#REF!"}}]
[null,null,null,null,null,null,null,null,null,null,null,null,null,{"$f":"N16","v":{"$error":"#REF!"}},"Energy Services","EN",null,null,{"$error":"#REF!"},{"$f":"AF25/N25*-1","v":{"$error":"#REF!"}},null,null,null,null,null,null,null,null,null,null,null,{"$f":"AF16","v":{"$error":"#REF!"}},{"$f":"-(S25+N25)","v":{"$error":"#REF!"}}]

{"sheet":"BL China 2030","index":63,"n_rows":25,"n_cols":34,"rows_kept":25,"cut":false,"hidden":true,"merged":[]}
[null,"Consumption","Coal","Crude oil","Oil Products","Natual Gas","Nuclear","Hydro","Geothermal, solar, wind, etc.","Biofuels and waste","Electricity","Heat","Energy Services","Total consumption","China 2030",null,null,"Faktor","Total production","Efficiency","Production","Coal","Crude oil","Oil Products","Natual Gas","Nuclear","Hydro","Geothermal, solar, wind, etc.","Biofuels and waste","Electricity","Heat","Energy Services","Loss","CO2-emissions"]
["ID","C ","CC","CCO","COP","CNG","CNU","CHY","CGSW","CWB","CE","CH","CES","fbrbr",null,"ID","ID Parent","factor","pbrpr","pvrkg","P ","PC","PCO","POP","PNG","PNU","PHY","PGSW","PWB","PE","PH","PES","PTAB","PCO2"]
["ID Parent",null,"C","C","C ","C ","C ","C","C","C ","C ","C ","C ",null,"Structures",null,null,null,null,null,null,"P ","P ","P ","P ","P ","P ","P","P ","P ","P ","P "]
["Factor",null,null,null,null,null,null,null,null,null,null,null,null,null,null,null,null,null,null,null,{"$f":"B4","v":0},null,null,null,null,null,null,null,null,null,null,null,{"$f":"U4","v":0},{"$f":"U4","v":0}]
[null,null,null,null,null,null,null,null,null,null,null,null,null,{"$f":"SUM(C5:M5)","v":0},"Entry fuels","ETP",null,null,{"$f":"SUM(V5:AF5)","v":{"$error":"#REF!"}},null,null,{"$f":"-(C6+C5)","v":{"$error":"#REF!"}},{"$f":"-(D6+D5)","v":{"$error":"#REF!"}},null,{"$f":"-(F6+F5)","v":{"$error":"#REF!"}},{"$f":"-(G6+G5)","v":{"$error":"#REF!"}},null,null,{"$f":"-(J6+J5)","v":{"$error":"#REF!"}}]
[null,null,{"$f":"-V6","v":{"$error":"#REF!"}},{"$f":"-W6","v":{"$error":"#REF!"}},null,{"$f":"-Y6","v":{"$error":"#REF!"}},{"$f":"-Z6","v":{"$error":"#REF!"}},null,null,{"$f":"-AC6","v":{"$error":"#REF!"}},null,null,null,{"$f":"SUM(C6:M6)","v":{"$error":"#REF!"}},"Transport of fuels","TRAP",null,null,{"$f":"SUM(V6:AF6)","v":{"$error":"#REF!"}},null,null,{"$f":"-(C16+C8)","v":{"$error":"#REF!"}},{"$f":"-(D16+D8)","v":{"$error":"#REF!"}},null,{"$f":"-(F16+F8)","v":{"$error":"#REF!"}},{"$f":"-(G16+G8)","v":{"$error":"#REF!"}},null,null,{"$f":"-(J16+J8)","v":{"$error":"#REF!"}},null,null,null,{"$f":"-(N6+S6)","v":{"$error":"#REF!"}}]
[null,null,null,null,null,null,null,null,null,null,null,null,null,0,"Entry On-Grid RE ","ELP1",null,null,{"$error":"#REF!"},null,null,null,null,null,null,null,{"$f":"-H8","v":{"$error":"#REF!"}},{"$f":"-I8","v":{"$error":"#REF!"}}]
[null,null,{"$f":"SUM(C9:C13)","v":{"$error":"#REF!"}},{"$f":"SUM(D9:D13)","v":{"$error":"#REF!"}},{"$error":"#REF!"},{"$error":"#REF!"},{"$error":"#REF!"},{"$error":"#REF!"},{"$error":"#REF!"},{"$error":"#REF!"},{"$error":"#REF!"},{"$error":"#REF!"},0,{"$error":"#REF!"},"Entry electricity, district heating and oil products","ES",null,null,{"$error":"#REF!"},null,null,{"$f":"SUM(V9:V13)","v":0},null,{"$f":"(E14+E8)*-1","v":{"$error":"#REF!"}},null,null,null,null,null,{"$f":"(K14+K8)*-1","v":{"$error":"#REF!"}},{"$f":"(L14+L8)*-1","v":{"$error":"#REF!"}},null,{"$f":"-(N8+S8)","v":{"$error":"#REF!"}},{"$f":"SUM(AH9:AH13)","v":{"$error":"#REF!"}}]
[null,null,{"$f":"-($AD$9+$H$9+$I$9)/$T$9*#REF!","v":{"$error":"#REF!"}},{"$f":"-($AD$9+$H$9+$I$9)/$T$9*#REF!","v":{"$error":"#REF!"}},{"$f":"-($AD$9+$H$9+$I$9)/$T$9*#REF!","v":{"$error":"#REF!"}},{"$f":"-($AD$9+$H$9+$I$9)/$T$9*#REF!","v":{"$error":"#REF!"}},{"$f":"-($AD$9+$H$9+$I$9)/$T$9*#REF!","v":{"$error":"#REF!"}},{"$f":"AD9*#REF!*-1","v":{"$error":"#REF!"}},{"$f":"AD9*#REF!*-1","v":{"$error":"#REF!"}},{"$f":"-($AD$9+$H$9+$I$9)/$T$9*#REF!","v":{"$error":"#REF!"}},null,null,null,{"$error":"#REF!"},"Electricity-only plants","ESEP","ES",null,{"$error":"#REF!"},{"$f":"#REF!","v":{"$error":"#REF!"}},null,null,null,null,null,null,null,null,null,{"$f":"AD8-AD10","v":{"$error":"#REF!"}},null,null,{"$f":"-(S9+N9)","v":{"$error":"#REF!"}},{"$f":"-(C9*Emissionsfaktorer!$B$2*(1-#REF!)+D9*Emissionsfaktorer!$B$3+E9*Emissionsfaktorer!$B$4*(1-#REF!)+F9*Emissionsfaktorer!$B$5*(1-#REF!)+G9*Emissionsfaktorer!$B$6+H9*Emissionsfaktorer!$B$7+I9*Emissionsfaktorer!$B$8-J9*Emissionsfaktorer!B13*#REF!+K9*Emissionsfaktorer!$B$10+L9*Emissionsfaktorer!$B$11+M9*Emissionsfaktorer!$B$12)","v":{"$error":"#REF!"}}]
[null,null,{"$f":"-($AD$10+$AE$10+$H$10+$I$10)/$T$10*#REF!","v":{"$error":"#REF!"}},{"$f":"-($AD$10+$AE$10+$H$10+$I$10)/$T$10*#REF!","v":{"$error":"#REF!"}},{"$f":"-($AD$10+$AE$10+$H$10+$I$10)/$T$10*#REF!","v":{"$error":"#REF!"}},{"$f":"-($AD$10+$AE$10+$H$10+$I$10)/$T$10*#REF!","v":{"$error":"#REF!"}},{"$f":"-($AD$10+$AE$10+$H$10+$I$10)/$T$10*#REF!","v":{"$error":"#REF!"}},null,{"$f":"(AD10+AE10)*#REF!*-1","v":{"$error":"#REF!"}},{"$f":"-($AD$10+$AE$10+$H$10+$I$10)/$T$10*#REF!","v":{"$error":"#REF!"}},null,null,null,{"$error":"#REF!"},"CHP plants","ESCHP","ES",null,{"$error":"#REF!"},{"$f":"#REF!","v":{"$error":"#REF!"}},null,null,null,null,null,null,null,null,null,{"$f":"AE10*#REF!","v":{"$error":"#REF!"}},{"$f":"AE8*#REF!","v":{"$error":"#REF!"}},null,{"$f":"-(S10+N10)","v":{"$error":"#REF!"}},{"$f":"-(C10*Emissionsfaktorer!$B$2*(1-#REF!)+D10*Emissionsfaktorer!$B$3+E10*Emissionsfaktorer!$B$4*(1-#REF!)+F10*Emissionsfaktorer!$B$5*(1-#REF!)+G10*Emissionsfaktorer!$B$6+H10*Emissionsfaktorer!$B$7+I10*Emissionsfaktorer!$B$8-J10*Emissionsfaktorer!B14*#REF!+K10*Emissionsfaktorer!$B$10+L10*Emissionsfaktorer!$B$11+M10*Emissionsfaktorer!$B$12)","v":{"$error":"#REF!"}}]
[null,null,{"$f":"-($AE$11+$H$11+$I$11)/IF($T$11=0,1,$T$11)*#REF!","v":{"$error":"#REF!"}},{"$f":"-($AE$11+$H$11+$I$11)/IF($T$11=0,1,$T$11)*#REF!","v":{"$error":"#REF!"}},{"$f":"-($AE$11+$H$11+$I$11)/IF($T$11=0,1,$T$11)*#REF!","v":{"$error":"#REF!"}},{"$f":"-($AE$11+$H$11+$I$11)/IF($T$11=0,1,$T$11)*#REF!","v":{"$error":"#REF!"}},{"$f":"-($AE$11+$H$11+$I$11)/IF($T$11=0,1,T11)*#REF!","v":{"$error":"#REF!"}},null,{"$f":"AE11*#REF!*-1","v":{"$error":"#REF!"}},{"$f":"-($AE$11+$H$11+$I$11)/IF($T$11=0,1,T11)*#REF!","v":{"$error":"#REF!"}},{"$f":"AE11*#REF!*-1","v":{"$error":"#REF!"}},null,null,{"$error":"#REF!"},"Heat Plants","ESHP","ES",null,{"$error":"#REF!"},{"$f":"#REF!","v":{"$error":"#REF!"}},null,null,null,null,null,null,null,null,null,null,{"$f":"AE8*#REF!","v":{"$error":"#REF!"}},null,{"$f":"-(S11+N11)","v":{"$error":"#REF!"}},{"$f":"-(C11*Emissionsfaktorer!$B$2+D11*Emissionsfaktorer!$B$3+E11*Emissionsfaktorer!$B$4+F11*Emissionsfaktorer!$B$5+G11*Emissionsfaktorer!$B$6+H11*Emissionsfaktorer!$B$7+I11*Emissionsfaktorer!$B$8+J11*Emissionsfaktorer!$B$9+K11*Emissionsfaktorer!$B$10+L11*Emissionsfaktorer!$B$11+M11*Emissionsfaktorer!$B$12)","v":{"$error":"#REF!"}}]
[null,null,null,{"$f":"-X12/T12*#REF!","v":{"$error":"#REF!"}},null,null,null,null,null,{"$f":"-X12/T12*#REF!","v":{"$error":"#REF!"}},null,null,null,{"$error":"#REF!"},"Oil refineries","ESOR","ES",null,{"$error":"#REF!"},{"$f":"#REF!","v":{"$error":"#REF!"}},null,null,null,{"$f":"-(E9+E10+E11+E13+E14)","v":{"$error":"#REF!"}},null,null,null,null,null,null,null,null,{"$f":"-(S12+N12)","v":{"$error":"#REF!"}},{"$f":"J12*Emissionsfaktorer!B4","v":{"$error":"#REF!"}}]
[null,null,{"$f":"N13*#REF!","v":{"$error":"#REF!"}},{"$f":"N13*#REF!","v":{"$error":"#REF!"}},{"$f":"N13*#REF!","v":{"$error":"#REF!"}},{"$f":"N13*#REF!","v":{"$error":"#REF!"}},null,null,null,{"$f":"N13*#REF!","v":{"$error":"#REF!"}},{"$f":"N13*#REF!","v":{"$error":"#REF!"}},{"$f":"N13*#REF!","v":{"$error":"#REF!"}},null,{"$f":"N16*#REF!","v":{"$error":"#REF!"}},"Energy Industry one use","ESNSP","ES",null,0,0,null,null,null,null,null,null,null,null,null,null,null,null,{"$f":"-(S13+N13)","v":{"$error":"#REF!"}},{"$f":"-(C13*Emissionsfaktorer!$B$2+D13*Emissionsfaktorer!$B$3+E13*Emissionsfaktorer!$B$4+F13*Emissionsfaktorer!$B$5+G13*Emissionsfaktorer!$B$6+H13*Emissionsfaktorer!$B$7+I13*Emissionsfaktorer!$B$8+J13*Emissionsfaktorer!$B$9+K13*Emissionsfaktorer!$B$10+L13*Emissionsfaktorer!$B$11+M13*Emissionsfaktorer!$B$12)","v":{"$error":"#REF!"}}]
[null,null,null,null,{"$f":"-X14*1","v":{"$error":"#REF!"}},null,null,null,null,null,{"$f":"-AD14*(1+#REF!)","v":{"$error":"#REF!"}},{"$f":"-AE14*(1+#REF!)","v":{"$error":"#REF!"}},null,{"$error":"#REF!"},"Transport electricity, district heating and oil products","TRAS",null,null,{"$error":"#REF!"},null,null,null,null,{"$f":"-E16","v":{"$error":"#REF!"}},null,null,null,null,null,{"$f":"-K16","v":{"$error":"#REF!"}},{"$f":"-L16","v":{"$error":"#REF!"}},null,{"$f":"-(N14+S14)","v":{"$error":"#REF!"}}]
[null,null,null,null,null,null,null,null,null,null,null,null,null,0,"Entry Off-Grid RE","ELP2",null,null,{"$error":"#REF!"},null,null,null,null,null,null,null,null,{"$f":"I16*-1","v":{"$error":"#REF!"}}]
[null,null,{"$f":"SUM(C17:C19)","v":{"$error":"#REF!"}},{"$error":"#REF!"},{"$error":"#REF!"},{"$error":"#REF!"},0,0,{"$error":"#REF!"},{"$error":"#REF!"},{"$error":"#REF!"},{"$error":"#REF!"},0,{"$f":"#REF!","v":{"$error":"#REF!"}},"Exit energy","EX",null,null,{"$error":"#REF!"},null,null,null,null,null,null,null,null,null,null,null,null,{"$f":"SUM(AF17:AF19)","v":{"$error":"#REF!"}},{"$f":"SUM(AG17:AG19)","v":{"$error":"#REF!"}},{"$f":"SUM(AH17:AH19)","v":{"$error":"#REF!"}}]
[null,null,{"$f":"AF17*#REF!/T17*#REF!/#REF!*-1","v":{"$error":"#REF!"}},{"$f":"AF17*#REF!/T17*#REF!/#REF!*-1","v":{"$error":"#REF!"}},{"$f":"AF17*#REF!/T17*#REF!/#REF!*-1","v":{"$error":"#REF!"}},{"$f":"AF17*#REF!/T17*#REF!/#REF!*-1","v":{"$error":"#REF!"}},null,null,{"$f":"AF17*#REF!/T17*#REF!/#REF!*-1","v":{"$error":"#REF!"}},{"$f":"AF17*#REF!*#REF!/T17/#REF!*-1","v":{"$error":"#REF!"}},{"$f":"AF17*#REF!*#REF!/T17/#REF!*-1","v":{"$error":"#REF!"}},{"$f":"AF17*#REF!*#REF!/T17/#REF!*-1","v":{"$error":"#REF!"}},null,{"$f":"SUM(C17:L17)","v":{"$error":"#REF!"}},"Industry","EXI","EX",null,{"$error":"#REF!"},{"$f":"(#REF!+#REF!+#REF!+#REF!+#REF!)*#REF!+(#REF!+#REF!)*#REF!+#REF!*#REF!","v":{"$error":"#REF!"}},null,null,null,null,null,null,null,null,null,null,null,{"$f":"#REF!*#REF!*((#REF!+#REF!+#REF!+#REF!+#REF!)*#REF!+(#REF!+#REF!)*#REF!+#REF!*#REF!)*-1","v":{"$error":"#REF!"}},{"$f":"(S17+SUM(C17:M17))*-1","v":{"$error":"#REF!"}},{"$f":"-(C17*Emissionsfaktorer!$B$2+D17*Emissionsfaktorer!$B$3+E17*Emissionsfaktorer!$B$4+F17*Emissionsfaktorer!$B$5+G17*Emissionsfaktorer!$B$6+H17*Emissionsfaktorer!$B$7+I17*Emissionsfaktorer!$B$8+J17*Emissionsfaktorer!$B$9+K17*Emissionsfaktorer!$B$10+L17*Emissionsfaktorer!$B$11+M17*Emissionsfaktorer!$B$12)","v":{"$error":"#REF!"}}]
[null,null,{"$f":"AF18*#REF!/T18*#REF!/#REF!*-1","v":{"$error":"#REF!"}},null,{"$f":"AF18*#REF!/T18*#REF!/#REF!*-1","v":{"$error":"#REF!"}},{"$f":"AF18*#REF!/T18*#REF!/#REF!*-1","v":{"$error":"#REF!"}},null,null,{"$f":"AF18*#REF!/T18*#REF!/#REF!*-1","v":{"$error":"#REF!"}},{"$f":"AF18*#REF!/T18*#REF!/#REF!*-1","v":{"$error":"#REF!"}},{"$f":"AF18*#REF!/T18*#REF!/#REF!*-1","v":{"$error":"#REF!"}},{"$f":"AF18*#REF!/T18*#REF!/#REF!*-1","v":{"$error":"#REF!"}},null,{"$f":"SUM(C18:L18)","v":{"$error":"#REF!"}},"Transport","EXT","EX",null,{"$error":"#REF!"},{"$f":"(#REF!+#REF!+#REF!+#REF!)*#REF!+(#REF!+#REF!)*#REF!+#REF!*#REF!","v":{"$error":"#REF!"}},null,null,null,null,null,null,null,null,null,null,null,{"$f":"#REF!*#REF!*-1*((#REF!+#REF!+#REF!+#REF!)*#REF!+(#REF!+#REF!)*#REF!+#REF!*#REF!)","v":{"$error":"#REF!"}},{"$f":"(S18+SUM(C18:M18))*-1","v":{"$error":"#REF!"}},{"$f":"-(C18*Emissionsfaktorer!$B$2+D18*Emissionsfaktorer!$B$3+E18*Emissionsfaktorer!$B$4+F18*Emissionsfaktorer!$B$5+G18*Emissionsfaktorer!$B$6+H18*Emissionsfaktorer!$B$7+I18*Emissionsfaktorer!$B$8+J18*Emissionsfaktorer!$B$9+K18*Emissionsfaktorer!$B$10+L18*Emissionsfaktorer!$B$11+M18*Emissionsfaktorer!$B$12)","v":{"$error":"#REF!"}}]
[null,null,{"$f":"SUM(C20:C24)","v":{"$error":"#REF!"}},{"$f":"SUM(D20:D24)","v":0},{"$error":"#REF!"},{"$error":"#REF!"},0,0,{"$error":"#REF!"},{"$error":"#REF!"},{"$error":"#REF!"},{"$error":"#REF!"},0,{"$f":"SUM(N20:N24)","v":{"$error":"#REF!"}},"Other ","EXO","EX",null,{"$error":"#REF!"},0.8,null,{"$f":"SUM(V20:V24)","v":0},{"$f":"SUM(W20:W24)","v":0},0,0,0,0,0,0,0,0,{"$error":"#REF!"},{"$error":"#REF!"},{"$error":"#REF!"}]
[null,null,{"$f":"AF20*#REF!/T20*#REF!/#REF!*-1","v":{"$error":"#REF!"}},null,{"$f":"AF20*#REF!/T20*#REF!/#REF!*-1","v":{"$error":"#REF!"}},{"$f":"AF20*#REF!/T20*#REF!/#REF!*-1","v":{"$error":"#REF!"}},null,null,{"$f":"AF20*#REF!/T20*#REF!/#REF!*-1","v":{"$error":"#REF!"}},{"$f":"AF20*#REF!/T20*#REF!/#REF!*-1","v":{"$error":"#REF!"}},{"$f":"AF20*#REF!/T20*#REF!/#REF!*-1","v":{"$error":"#REF!"}},{"$f":"AF20*#REF!/T20*#REF!/#REF!*-1","v":{"$error":"#REF!"}},null,{"$f":"SUM(C20:L20)","v":{"$error":"#REF!"}},"Residential","EXOR","EXO",null,{"$error":"#REF!"},{"$f":"(#REF!+#REF!+#REF!+#REF!)*#REF!+(#REF!+#REF!)*#REF!+#REF!*#REF!","v":{"$error":"#REF!"}},null,null,null,null,null,null,null,null,null,null,null,{"$f":"#REF!*#REF!*((#REF!+#REF!+#REF!+#REF!)*#REF!+(#REF!+#REF!)*#REF!+#REF!*#REF!)*-1","v":{"$error":"#REF!"}},{"$f":"(N20+AF20)*-1","v":{"$error":"#REF!"}},{"$f":"-(C20*Emissionsfaktorer!$B$2+D20*Emissionsfaktorer!$B$3+E20*Emissionsfaktorer!$B$4+F20*Emissionsfaktorer!$B$5+G20*Emissionsfaktorer!$B$6+H20*Emissionsfaktorer!$B$7+I20*Emissionsfaktorer!$B$8+J20*Emissionsfaktorer!$B$9+K20*Emissionsfaktorer!$B$10+L20*Emissionsfaktorer!$B$11+M20*Emissionsfaktorer!$B$12)","v":{"$error":"#REF!"}}]
[null,null,{"$f":"AF21*#REF!/T21*#REF!/#REF!*-1","v":{"$error":"#REF!"}},null,{"$f":"AF21*#REF!/T21*#REF!/#REF!*-1","v":{"$error":"#REF!"}},{"$f":"AF21*#REF!/T21*#REF!/#REF!*-1","v":{"$error":"#REF!"}},null,null,{"$f":"AF21*#REF!/T21*#REF!/#REF!*-1","v":{"$error":"#REF!"}},{"$f":"AF21*#REF!/T21*#REF!/#REF!*-1","v":{"$error":"#REF!"}},{"$f":"AF21*#REF!/T21*#REF!/#REF!*-1","v":{"$error":"#REF!"}},{"$f":"AF21*#REF!/T21*#REF!/#REF!*-1","v":{"$error":"#REF!"}},null,{"$f":"SUM(C21:L21)","v":{"$error":"#REF!"}},"Commercial and public services","EXOC","EXO",null,{"$error":"#REF!"},{"$f":"(#REF!+#REF!+#REF!+#REF!)*#REF!+(#REF!+#REF!)*#REF!+#REF!*#REF!","v":{"$error":"#REF!"}},null,null,null,null,null,null,null,null,null,null,null,{"$f":"#REF!*#REF!*((#REF!+#REF!+#REF!+#REF!)*#REF!+(#REF!+#REF!)*#REF!+#REF!*#REF!)*-1","v":{"$error":"#REF!"}},{"$f":"(N21+AF21)*-1","v":{"$error":"#REF!"}},{"$f":"-(C21*Emissionsfaktorer!$B$2+D21*Emissionsfaktorer!$B$3+E21*Emissionsfaktorer!$B$4+F21*Emissionsfaktorer!$B$5+G21*Emissionsfaktorer!$B$6+H21*Emissionsfaktorer!$B$7+I21*Emissionsfaktorer!$B$8+J21*Emissionsfaktorer!$B$9+K21*Emissionsfaktorer!$B$10+L21*Emissionsfaktorer!$B$11+M21*Emissionsfaktorer!$B$12)","v":{"$error":"#REF!"}}]
[null,null,{"$f":"AF22*#REF!/T22*#REF!/#REF!*-1","v":{"$error":"#REF!"}},null,{"$f":"AF22*#REF!/T22*#REF!/#REF!*-1","v":{"$error":"#REF!"}},{"$f":"AF22*#REF!/T22*#REF!/#REF!*-1","v":{"$error":"#REF!"}},null,null,{"$f":"AF22*#REF!/T22*#REF!/#REF!*-1","v":{"$error":"#REF!"}},{"$f":"AF22*#REF!/T22*#REF!/#REF!*-1","v":{"$error":"#REF!"}},{"$f":"AF22*#REF!/T22*#REF!/#REF!*-1","v":{"$error":"#REF!"}},{"$f":"AF22*#REF!/T22*#REF!/#REF!*-1","v":{"$error":"#REF!"}},null,{"$f":"SUM(C22:L22)","v":{"$error":"#REF!"}},"Agriculture / forestry","EXOA","EXO",null,{"$error":"#REF!"},{"$f":"(#REF!+#REF!+#REF!+#REF!)*#REF!+(#REF!+#REF!)*#REF!+#REF!*#REF!","v":{"$error":"#REF!"}},null,null,null,null,null,null,null,null,null,null,null,{"$f":"((#REF!+#REF!+#REF!+#REF!)*#REF!+(#REF!+#REF!)*#REF!+#REF!*#REF!)*#REF!*#REF!*-1","v":{"$error":"#REF!"}},{"$f":"(N22+AF22)*-1","v":{"$error":"#REF!"}},{"$f":"-(C22*Emissionsfaktorer!$B$2+D22*Emissionsfaktorer!$B$3+E22*Emissionsfaktorer!$B$4+F22*Emissionsfaktorer!$B$5+G22*Emissionsfaktorer!$B$6+H22*Emissionsfaktorer!$B$7+I22*Emissionsfaktorer!$B$8+J22*Emissionsfaktorer!$B$9+K22*Emissionsfaktorer!$B$10+L22*Emissionsfaktorer!$B$11+M22*Emissionsfaktorer!$B$12)","v":{"$error":"#REF!"}}]
[null,null,{"$f":"AF23*#REF!/T23*#REF!/#REF!*-1","v":{"$error":"#REF!"}},null,{"$f":"AF23*#REF!/T23*#REF!/#REF!*-1","v":{"$error":"#REF!"}},{"$f":"AF23*#REF!/T23*#REF!/#REF!*-1","v":{"$error":"#REF!"}},null,null,{"$f":"AF23*#REF!/T23*#REF!/#REF!*-1","v":{"$error":"#REF!"}},{"$f":"AF23*#REF!/T23*#REF!/#REF!*-1","v":{"$error":"#REF!"}},{"$f":"AF23*#REF!/T23*#REF!/#REF!*-1","v":{"$error":"#REF!"}},{"$f":"AF23*#REF!/T23*#REF!/#REF!*-1","v":{"$error":"#REF!"}},null,{"$f":"SUM(C23:L23)","v":{"$error":"#REF!"}},"Fishing","EXOF","EXO",null,{"$error":"#REF!"},{"$f":"(#REF!+#REF!+#REF!+#REF!)*#REF!+(#REF!+#REF!)*#REF!+#REF!*#REF!","v":{"$error":"#REF!"}},null,null,null,null,null,null,null,null,null,null,null,{"$f":"((#REF!+#REF!+#REF!+#REF!)*#REF!+(#REF!+#REF!)*#REF!+#REF!*#REF!)*#REF!*#REF!*-1","v":{"$error":"#REF!"}},{"$f":"(N23+AF23)*-1","v":{"$error":"#REF!"}},{"$f":"-(C23*Emissionsfaktorer!$B$2+D23*Emissionsfaktorer!$B$3+E23*Emissionsfaktorer!$B$4+F23*Emissionsfaktorer!$B$5+G23*Emissionsfaktorer!$B$6+H23*Emissionsfaktorer!$B$7+I23*Emissionsfaktorer!$B$8+J23*Emissionsfaktorer!$B$9+K23*Emissionsfaktorer!$B$10+L23*Emissionsfaktorer!$B$11+M23*Emissionsfaktorer!$B$12)","v":{"$error":"#REF!"}}]
[null,null,{"$f":"AF24*#REF!/T24*#REF!/#REF!*-1","v":{"$error":"#REF!"}},null,{"$f":"AF24*#REF!/T24*#REF!/#REF!*-1","v":{"$error":"#REF!"}},{"$f":"AF24*#REF!/T24*#REF!/#REF!*-1","v":{"$error":"#REF!"}},null,null,{"$f":"AF24*#REF!/T24*#REF!/#REF!*-1","v":{"$error":"#REF!"}},{"$f":"AF24*#REF!/T24*#REF!/#REF!*-1","v":{"$error":"#REF!"}},{"$f":"AF24*#REF!/T24*#REF!/#REF!*-1","v":{"$error":"#REF!"}},{"$f":"AF24*#REF!/T24*#REF!/#REF!*-1","v":{"$error":"#REF!"}},null,{"$f":"SUM(C24:L24)","v":{"$error":"#REF!"}},"Non-specified","EXON","EXO",null,{"$error":"#REF!"},{"$f":"(#REF!+#REF!+#REF!+#REF!)*#REF!+(#REF!+#REF!)*#REF!+#REF!*#REF!","v":{"$error":"#REF!"}},null,null,null,null,null,null,null,null,null,null,null,{"$f":"((#REF!+#REF!+#REF!+#REF!)*#REF!+(#REF!+#REF!)*#REF!+#REF!*#REF!)*#REF!*#REF!*-1","v":{"$error":"#REF!"}},{"$f":"(N24+AF24)*-1","v":{"$error":"#REF!"}},{"$f":"-(C24*Emissionsfaktorer!$B$2+D24*Emissionsfaktorer!$B$3+E24*Emissionsfaktorer!$B$4+F24*Emissionsfaktorer!$B$5+G24*Emissionsfaktorer!$B$6+H24*Emissionsfaktorer!$B$7+I24*Emissionsfaktorer!$B$8+J24*Emissionsfaktorer!$B$9+K24*Emissionsfaktorer!$B$10+L24*Emissionsfaktorer!$B$11+M24*Emissionsfaktorer!$B$12)","v":{"$error":"#REF!"}}]
[null,null,null,null,null,null,null,null,null,null,null,null,null,{"$f":"N16","v":{"$error":"#REF!"}},"Energy Services","EN",null,null,{"$error":"#REF!"},{"$f":"AF25/N25*-1","v":{"$error":"#REF!"}},null,null,null,null,null,null,null,null,null,null,null,{"$f":"AF16","v":{"$error":"#REF!"}},{"$f":"-(S25+N25)","v":{"$error":"#REF!"}}]

{"sheet":"China 1995","index":64,"n_rows":32,"n_cols":12,"rows_kept":32,"cut":false,"hidden":true,"merged":[]}
[null,"Coal*","Crude oil","Oil products","Natural gas","Nuclear","Hydro","Geothermal, solar, etc.","Biofuels and waste","Electricity","Heat","Total**"]
[null,"ktoe","ktoe","ktoe","ktoe","ktoe","ktoe","ktoe","ktoe","ktoe","ktoe","ktoe"]
["Production",673626,150044,null,15019,3344,16387,1294,204786,null,null,1064499]
["Imports",6432,17090,34902,26,null,null,null,11,704,null,59165]
["Exports",-24492,-18227,-13200,-22,null,null,null,-1,-646,null,-56587]
["International marine bunkers",null,null,-5043,null,null,null,null,null,null,null,-5043]
["International aviation bunkers",null,null,-3852,null,null,null,null,null,null,null,-3852]
["Stock changes",-1920,-958,-303,null,null,null,null,null,null,null,-3181]
["TES",653646,147949,12504,15024,3344,16387,1294,204795,58,null,1055000]
["Transfers"]
["Statistical differences",16107,916,4867,-100,null,null,-95,null,-10,null,21685]
["Electricity plants",-221327,-616,-13092,-688,-3344,-16387,-7,-996,89065,null,-167391]
["CHP plants"]
["Heat plants",-28162,-44,-3975,-34,null,null,null,-164,null,25604,-6775]
["Gas works",-449,null,-1201,472,null,null,null,null,null,null,-1177]
["Oil refineries",null,-143534,141991,null,null,null,null,null,null,null,-1543]
["Coal transformation",-33312,null,null,null,null,null,null,null,null,null,-33312]
["Liquefication plants"]
["Other transformation"]
["Energy industry own use",-27753,-1750,-12434,-4806,null,null,null,null,-13872,-5732,-66348]
["Losses",null,-1571,-18,-323,null,null,null,null,-6756,-374,-9042]
["Total final consumption",358750,1350,128641,9545,null,null,1192,203635,68485,19498,791096]
["Industry",239866,749,24313,4119,null,null,40,null,46451,15748,331287]
["Transport",2908,null,41574,null,null,null,null,null,831,null,45313]
["Residential",70134,null,7289,1870,null,null,726,203615,9293,3018,295945]
["Commercial and public services",8870,null,10571,408,null,null,298,10,4882,68,25107]
["Agriculture / forestry",9874,null,19019,2,null,null,121,null,5008,4,34028]
["Fishing"]
["Non-specified",13313,326,null,null,null,null,7,10,2020,660,16336]
["Non-energy use",13785,275,25874,3147,null,null,null,null,null,null,43080]
[]
[null,{"$f":"SUM(B9,B10:B21,B22*-1)","v":0},{"$f":"SUM(C9,C10:C21,C22*-1)","v":0},1,0,0,0,0,0,0,0,1]

{"sheet":"China 2000","index":65,"n_rows":32,"n_cols":12,"rows_kept":32,"cut":false,"hidden":true,"merged":[]}
[null,"Coal*","Crude oil","Oil products","Natural gas","Nuclear","Hydro","Geothermal, solar, etc.","Biofuels and waste","Electricity","Heat","Total**"]
[null,"ktoe","ktoe","ktoe","ktoe","ktoe","ktoe","ktoe","ktoe","ktoe","ktoe","ktoe"]
["Production",713503,163080,null,22763,4361,19124,2646,198175,null,null,1123652]
["Imports",5233,70265,39456,2452,null,null,null,7,1010,null,118422]
["Exports",-45589,-10306,-11873,-2007,null,null,null,-2,-951,null,-70728]
["International marine bunkers",null,null,-6346,null,null,null,null,null,null,null,-6346]
["International aviation bunkers",null,null,-4214,null,null,null,null,null,null,null,-4214]
["Stock changes",-4695,-9129,-3546,null,null,null,null,null,null,null,-17369]
["TES",668453,213910,13477,23208,4361,19124,2646,198180,59,null,1143418]
["Transfers",null,-80,94,null,null,null,null,null,null,null,14]
["Statistical differences",12846,-1510,1780,-147,null,null,-94,null,40,null,12916]
["Electricity plants",-288517,-850,-10800,-3724,-4361,-19124,-55,-833,119266,null,-208998]
["CHP plants"]
["Heat plants",-45416,-140,-4033,-1193,null,null,null,-487,null,34904,-16364]
["Gas works",-1540,null,-893,560,null,null,null,null,null,null,-1873]
["Oil refineries",null,-203053,199973,null,null,null,null,null,null,null,-3080]
["Coal transformation",-35953,null,null,null,null,null,null,null,null,null,-35953]
["Liquefication plants"]
["Other transformation"]
["Energy industry own use",-35312,-4109,-15815,-5209,null,null,null,null,-18929,-8983,-88357]
["Losses",-96,-1909,-24,-557,null,null,null,null,-8185,-421,-11193]
["Total final consumption",274465,2259,183759,12938,null,null,2497,196861,92251,25501,790531]
["Industry",188560,1233,31302,4215,null,null,67,null,59758,18889,304025]
["Transport",468,null,85342,155,null,null,null,null,1431,null,87396]
["Residential",46521,null,11988,3003,null,null,1660,196852,13255,5549,278827]
["Commercial and public services",8300,null,7927,764,null,null,554,4,7961,444,25953]
["Agriculture / forestry",5797,null,8053,null,null,null,205,null,4583,9,18647]
["Fishing"]
["Non-specified",12303,212,null,null,null,null,11,4,5264,609,18404]
["Non-energy use",12517,814,39148,4801,null,null,null,null,null,null,57279]
[]
[null,{"$f":"SUM(B9,B10:B21,B22*-1)","v":0},{"$f":"SUM(C9,C10:C21,C22*-1)","v":0},0,0,0,0,0,-1,0,-1,-1]

{"sheet":"China 2005","index":66,"n_rows":32,"n_cols":12,"rows_kept":32,"cut":false,"hidden":true,"merged":[]}
[null,"Coal*","Crude oil","Oil products","Natural gas","Nuclear","Hydro","Geothermal, solar, etc.","Biofuels and waste","Electricity","Heat","Total**"]
[null,"ktoe","ktoe","ktoe","ktoe","ktoe","ktoe","ktoe","ktoe","ktoe","ktoe","ktoe"]
["Production",1227032,181427,null,41274,13833,34137,5282,168399,null,null,1671385]
["Imports",21586,126817,57367,2189,null,null,null,6,1377,null,209341]
["Exports",-55262,-8067,-19018,-2485,null,null,null,-1,-1349,null,-86182]
["International marine bunkers",null,null,-10665,null,null,null,null,null,null,null,-10665]
["International aviation bunkers",null,null,-8329,null,null,null,null,null,null,null,-8329]
["Stock changes",17007,788,595,null,null,null,null,null,null,null,18390]
["TES",1210363,300965,19949,40978,13833,34137,5282,168405,28,null,1793941]
["Transfers",null,-74,88,null,null,null,null,null,null,null,13]
["Statistical differences",26692,-1,925,186,null,null,null,null,170,null,27972]
["Electricity plants",-291344,-413,-12034,-3550,-13833,-34137,-281,-1789,139210,null,-218171]
["CHP plants",-279177,null,null,-1710,null,null,null,null,79097,49889,-151901]
["Heat plants",-2255,-30,-2867,null,null,null,null,-483,null,4782,-853]
["Gas works",-2308,null,-808,243,null,null,null,null,null,null,-2874]
["Oil refineries",null,-290405,285339,null,null,null,null,null,null,null,-5066]
["Coal transformation",-84471,null,null,null,null,null,null,null,null,null,-84471]
["Liquefication plants"]
["Other transformation"]
["Energy industry own use",-38629,-4887,-17687,-5598,null,null,null,null,-28724,-10650,-106176]
["Losses",null,-1538,-20,-864,null,null,null,null,-14832,-630,-17884]
["Total final consumption",538872,3617,272883,29685,null,null,5001,166133,174949,43391,1234531]
["Industry",419591,2486,42836,10887,null,null,96,null,116875,29163,621935]
["Transport",1,null,132133,1477,null,null,null,697,2779,null,137086]
["Residential",54477,null,18308,6979,null,null,3658,165425,25660,12430,286939]
["Commercial and public services",14253,null,9794,3004,null,null,936,5,12281,796,41068]
["Agriculture / forestry",9549,null,14830,null,null,null,294,null,6675,13,31361]
["Fishing"]
["Non-specified",18801,null,null,null,null,null,16,5,10680,988,30490]
["Non-energy use",22201,1131,54983,7338,null,null,null,null,null,null,85653]
[]
[null,{"$f":"SUM(B9,B10:B21,B22*-1)","v":-1},{"$f":"SUM(C9,C10:C21,C22*-1)","v":0},2,0,0,0,0,0,0,0,-1]

{"sheet":"China 2010","index":67,"n_rows":32,"n_cols":12,"rows_kept":32,"cut":false,"hidden":true,"merged":[]}
[null,"Coal*","Crude oil","Oil products","Natural gas","Nuclear","Hydro","Geothermal, solar, etc.","Biofuels and waste","Electricity","Heat","Total**"]
[null,"ktoe","ktoe","ktoe","ktoe","ktoe","ktoe","ktoe","ktoe","ktoe","ktoe","ktoe"]
["Production",1722489,203159,null,80164,19250,61168,15887,133369,null,null,2235487]
["Imports",105156,237682,70611,15722,null,null,null,5,1427,null,430602]
["Exports",-14534,-3030,-31155,-3373,null,null,null,-2,-1863,null,-53957]
["International marine bunkers",null,null,-20808,null,null,null,null,null,null,null,-20808]
["International aviation bunkers",null,null,-10660,null,null,null,null,null,null,null,-10660]
["Stock changes",-16328,-8900,-5586,null,null,null,null,null,null,null,-30814]
["TES",1796783,428911,2402,92514,19250,61168,15887,133372,-436,null,2549851]
["Transfers",-354,-334,852,null,null,null,null,null,null,null,164]
["Statistical differences",-41827,-20,-1141,15341,null,null,null,null,-18,null,-27663]
["Electricity plants",-448161,-37,-3650,-13458,-19250,-61168,-4006,-11648,245662,null,-315717]
["CHP plants",-374146,null,null,-7655,null,null,null,-49,118529,60375,-202945]
["Heat plants",-6774,-33,-5731,null,null,null,null,-1129,null,11805,-1862]
["Gas works",-1212,null,-277,-71,null,null,null,-13,null,null,-1574]
["Oil refineries",null,-419168,404598,null,null,null,null,null,null,null,-14570]
["Coal transformation",-134750,null,null,null,null,null,null,null,null,null,-134750]
["Liquefication plants",-1205,663,null,null,null,null,null,null,null,null,-542]
["Other transformation"]
["Energy industry own use",-75564,-4823,-28236,-11200,null,null,null,null,-41182,-9656,-170661]
["Losses",null,-1920,-29,-1577,null,null,null,null,-22240,-809,-26575]
["Total final consumption",712789,3239,368788,73894,null,null,11881,120534,300314,61715,1653155]
["Industry",584149,1686,59444,34696,null,null,150,null,203435,42461,926022]
["Transport",null,null,185146,6882,null,null,null,1735,5533,null,199296]
["Residential",50448,null,22600,19317,null,null,9387,118793,45004,16101,281649]
["Commercial and public services",16653,null,13382,5799,null,null,1864,3,18901,1334,57936]
["Agriculture / forestry",11196,null,14127,42,null,null,456,null,8396,22,34238]
["Fishing"]
["Non-specified",20527,null,null,null,null,null,25,3,19044,1798,41397]
["Non-energy use",29817,1553,74090,7158,null,null,null,null,null,null,112618]
[]
[null,{"$f":"SUM(B9,B10:B21,B22*-1)","v":1},{"$f":"SUM(C9,C10:C21,C22*-1)","v":0},0,0,0,0,0,-1,1,0,1]

{"sheet":"China 2015","index":68,"n_rows":32,"n_cols":12,"rows_kept":32,"cut":false,"hidden":true,"merged":[]}
[null,"Coal*","Crude oil","Oil products","Natural gas","Nuclear","Hydro","Geothermal, solar, etc.","Biofuels and waste","Electricity","Heat","Total**"]
[null,"ktoe","ktoe","ktoe","ktoe","ktoe","ktoe","ktoe","ktoe","ktoe","ktoe","ktoe"]
["Production",1882737,214760,null,112651,44501,95827,49576,113755,null,null,2513806]
["Imports",115644,335483,73962,51307,null,null,null,4,1544,null,577944]
["Exports",-9602,-2866,-42057,-2716,null,null,null,null,-1706,null,-58946]
["International marine bunkers",null,null,-17795,null,null,null,null,null,null,null,-17795]
["International aviation bunkers",null,null,-14205,null,null,null,null,null,null,null,-14205]
["Stock changes",14733,-6238,-2865,null,null,null,null,null,null,null,5630]
["TES",2003512,541139,-2959,161242,44501,95827,49576,113759,-162,null,3006435]
["Transfers",-971,-908,2303,null,null,null,null,null,null,null,423]
["Statistical differences",-10367,-52,1338,689,null,null,null,16,-17,null,-8391]
["Electricity plants",-555532,-125,-2316,-16450,-44501,-95827,-19939,-21922,358228,null,-398383]
["CHP plants",-444196,null,null,-17385,null,null,null,-80,147508,82839,-231314]
["Heat plants",-8900,-67,-4625,null,null,null,null,-1469,null,13083,-1978]
["Gas works",-4742,null,-284,1323,null,null,null,-11,null,null,-3714]
["Oil refineries",null,-533291,517571,null,null,null,null,null,null,null,-15720]
["Coal transformation",-164956,null,null,null,null,null,null,null,null,null,-164956]
["Liquefication plants",-3642,2003,null,null,null,null,null,null,null,null,-1639]
["Other transformation"]
["Energy industry own use",-56026,-4404,-30773,-21725,null,null,null,null,-56640,-11474,-181043]
["Losses",null,-872,-4,-1839,null,null,null,null,-25850,-1153,-29717]
["Total final consumption",754180,3423,480251,105855,null,null,29637,90294,423067,83295,1970002]
["Industry",599431,2066,44971,38346,null,null,358,null,276470,55733,1017374]
["Transport",3,null,264485,16607,null,null,null,2181,8491,null,291766]
["Residential",49185,null,35949,30432,null,null,23548,88106,66061,22414,315695]
["Commercial and public services",20185,null,15812,10407,null,null,4579,3,28690,2163,81839]
["Agriculture / forestry",13637,null,17717,79,null,null,1091,null,8941,25,41491]
["Fishing"]
["Non-specified",23532,null,null,null,null,null,61,4,34414,2960,60970]
["Non-energy use",48207,1357,101318,9983,null,null,null,null,null,null,160866]
[]
[null,{"$f":"SUM(B9,B10:B21,B22*-1)","v":0},{"$f":"SUM(C9,C10:C21,C22*-1)","v":0},0,0,0,0,0,-1,0,0,1]

{"sheet":"China 2018","index":69,"n_rows":32,"n_cols":12,"rows_kept":32,"cut":false,"hidden":true,"merged":[]}
[null,"Coal*","Crude oil","Oil products","Natural gas","Nuclear","Hydro","Geothermal, solar, etc.","Biofuels and waste","Electricity","Heat","Total**"]
[null,"ktoe","ktoe","ktoe","ktoe","ktoe","ktoe","ktoe","ktoe","ktoe","ktoe","ktoe"]
["Production",1859684,189351,null,135314,76865,103113,81120,116799,null,null,2562246]
["Imports",156091,461885,90998,100508,null,null,null,3,1680,null,811167]
["Exports",-6574,-2627,-64546,-2834,null,null,null,null,-1856,null,-78437]
["International marine bunkers",null,null,-21462,null,null,null,null,null,null,null,-21462]
["International aviation bunkers",null,null,-17052,null,null,null,null,null,null,null,-17052]
["Stock changes",-23376,-18849,-3676,null,null,null,null,null,null,null,-45901]
["TES",1985825,629760,-15737,232988,76865,103113,81120,116802,-176,null,3210561]
["Transfers",-1156,-4513,6276,null,null,null,null,null,null,null,606]
["Statistical differences",-7497,-3626,-15170,2262,null,null,null,-7,-2804,3995,-22847]
["Electricity plants",-638388,-155,-2564,-25114,-76865,-103113,-46851,-35771,448305,null,-480515]
["CHP plants",-508303,null,null,-24950,null,null,null,-94,169533,101547,-262266]
["Heat plants",-8513,null,-4428,null,null,null,null,-1322,null,12393,-1870]
["Gas works",-5837,null,-273,1488,null,null,null,-7,null,null,-4630]
["Oil refineries",null,-623188,607085,null,null,null,null,null,null,null,-16103]
["Coal transformation",-127400,null,null,null,null,null,null,null,null,null,-127400]
["Liquefication plants",-10573,5815,null,null,null,null,null,null,null,null,-4758]
["Other transformation"]
["Energy industry own use",-42256,-3082,-36718,-30113,null,null,null,null,-65303,-13390,-190861]
["Losses",null,-476,-12,-2668,null,null,null,null,-28913,-1212,-33282]
["Total final consumption",635903,536,538459,153894,null,null,34269,79602,520642,103332,2066636]
["Industry",495570,536,45681,65460,null,null,482,null,320591,69351,997672]
["Transport",2,null,290492,22269,null,null,null,2311,12162,null,327235]
["Residential",45329,null,43877,41301,null,null,26626,77286,85253,27042,346713]
["Commercial and public services",17122,null,16387,14599,null,null,5606,3,38439,2806,94962]
["Agriculture / forestry",13790,null,18884,111,null,null,1472,null,10914,34,45204]
["Fishing"]
["Non-specified",18776,null,null,null,null,null,82,3,53283,4100,76243]
["Non-energy use",45314,null,123138,10154,null,null,null,null,null,null,178606]
[]
[null,{"$f":"SUM(B9,B10:B21,B22*-1)","v":-1},{"$f":"SUM(C9,C10:C21,C22*-1)","v":-1},0,-1,0,0,0,-1,0,1,-1]

{"sheet":"BL Asia excluding China 2050","index":70,"n_rows":25,"n_cols":34,"rows_kept":25,"cut":false,"hidden":true,"merged":[]}
[null,"Consumption","Coal","Crude oil","Oil Products","Natual Gas","Nuclear","Hydro","Geothermal, solar, wind, etc.","Biofuels and waste","Electricity","Heat","Energy Services","Total consumption","Asia excluding China 2050",null,null,"Faktor","Total production","Efficiency","Production","Coal","Crude oil","Oil Products","Natual Gas","Nuclear","Hydro","Geothermal, solar, wind, etc.","Biofuels and waste","Electricity","Heat","Energy Services","Loss","CO2-emissions"]
["ID","C ","CC","CCO","COP","CNG","CNU","CHY","CGSW","CWB","CE","CH","CES","fbrbr",null,"ID","ID Parent","factor","pbrpr","pvrkg","P ","PC","PCO","POP","PNG","PNU","PHY","PGSW","PWB","PE","PH","PES","PTAB","PCO2"]
["ID Parent",null,"C","C","C ","C ","C ","C","C","C ","C ","C ","C ",null,"Structures",null,null,null,null,null,null,"P ","P ","P ","P ","P ","P ","P","P ","P ","P ","P "]
["Factor",null,null,null,null,null,null,null,null,null,null,null,null,null,null,null,null,null,null,null,{"$f":"B4","v":0},null,null,null,null,null,null,null,null,null,null,null,{"$f":"U4","v":0},{"$f":"U4","v":0}]
[null,null,null,null,null,null,null,null,null,null,null,null,null,{"$f":"SUM(C5:M5)","v":0},"Entry fuels","ETP",null,null,{"$f":"SUM(V5:AF5)","v":{"$error":"#REF!"}},null,null,{"$f":"-(C6+C5)","v":{"$error":"#REF!"}},{"$f":"-(D6+D5)","v":{"$error":"#REF!"}},null,{"$f":"-(F6+F5)","v":{"$error":"#REF!"}},{"$f":"-(G6+G5)","v":{"$error":"#REF!"}},null,null,{"$f":"-(J6+J5)","v":{"$error":"#REF!"}}]
[null,null,{"$f":"-V6","v":{"$error":"#REF!"}},{"$f":"-W6","v":{"$error":"#REF!"}},null,{"$f":"-Y6","v":{"$error":"#REF!"}},{"$f":"-Z6","v":{"$error":"#REF!"}},null,null,{"$f":"-AC6","v":{"$error":"#REF!"}},null,null,null,{"$f":"SUM(C6:M6)","v":{"$error":"#REF!"}},"Transport of fuels","TRAP",null,null,{"$f":"SUM(V6:AF6)","v":{"$error":"#REF!"}},null,null,{"$f":"-(C16+C8)","v":{"$error":"#REF!"}},{"$f":"-(D16+D8)","v":{"$error":"#REF!"}},null,{"$f":"-(F16+F8)","v":{"$error":"#REF!"}},{"$f":"-(G16+G8)","v":{"$error":"#REF!"}},null,null,{"$f":"-(J16+J8)","v":{"$error":"#REF!"}},null,null,null,{"$f":"-(N6+S6)","v":{"$error":"#REF!"}}]
[null,null,null,null,null,null,null,null,null,null,null,null,null,0,"Entry On-Grid RE ","ELP1",null,null,{"$error":"#REF!"},null,null,null,null,null,null,null,{"$f":"-H8","v":{"$error":"#REF!"}},{"$f":"-I8","v":{"$error":"#REF!"}}]
[null,null,{"$f":"SUM(C9:C13)","v":{"$error":"#REF!"}},{"$f":"SUM(D9:D13)","v":{"$error":"#REF!"}},{"$error":"#REF!"},{"$error":"#REF!"},{"$error":"#REF!"},{"$error":"#REF!"},{"$error":"#REF!"},{"$error":"#REF!"},{"$error":"#REF!"},{"$error":"#REF!"},0,{"$error":"#REF!"},"Entry electricity, district heating and oil products","ES",null,null,{"$error":"#REF!"},null,null,{"$f":"SUM(V9:V13)","v":0},null,{"$f":"(E14+E8)*-1","v":{"$error":"#REF!"}},null,null,null,null,null,{"$f":"(K14+K8)*-1","v":{"$error":"#REF!"}},{"$f":"(L14+L8)*-1","v":{"$error":"#REF!"}},null,{"$f":"-(N8+S8)","v":{"$error":"#REF!"}},{"$f":"SUM(AH9:AH13)","v":{"$error":"#REF!"}}]
[null,null,{"$f":"-($AD$9+$H$9+$I$9)/$T$9*#REF!","v":{"$error":"#REF!"}},{"$f":"-($AD$9+$H$9+$I$9)/$T$9*#REF!","v":{"$error":"#REF!"}},{"$f":"-($AD$9+$H$9+$I$9)/$T$9*#REF!","v":{"$error":"#REF!"}},{"$f":"-($AD$9+$H$9+$I$9)/$T$9*#REF!","v":{"$error":"#REF!"}},{"$f":"-($AD$9+$H$9+$I$9)/$T$9*#REF!","v":{"$error":"#REF!"}},{"$f":"AD9*#REF!*-1","v":{"$error":"#REF!"}},{"$f":"AD9*#REF!*-1","v":{"$error":"#REF!"}},{"$f":"-($AD$9+$H$9+$I$9)/$T$9*#REF!","v":{"$error":"#REF!"}},null,null,null,{"$error":"#REF!"},"Electricity-only plants","ESEP","ES",null,{"$error":"#REF!"},{"$f":"#REF!","v":{"$error":"#REF!"}},null,null,null,null,null,null,null,null,null,{"$f":"AD8-AD10","v":{"$error":"#REF!"}},null,null,{"$f":"-(S9+N9)","v":{"$error":"#REF!"}},{"$f":"-(C9*Emissionsfaktorer!$B$2*(1-#REF!)+D9*Emissionsfaktorer!$B$3+E9*Emissionsfaktorer!$B$4*(1-#REF!)+F9*Emissionsfaktorer!$B$5*(1-#REF!)+G9*Emissionsfaktorer!$B$6+H9*Emissionsfaktorer!$B$7+I9*Emissionsfaktorer!$B$8-J9*Emissionsfaktorer!B13*#REF!+K9*Emissionsfaktorer!$B$10+L9*Emissionsfaktorer!$B$11+M9*Emissionsfaktorer!$B$12)","v":{"$error":"#REF!"}}]
[null,null,{"$f":"-($AD$10+$AE$10+$H$10+$I$10)/$T$10*#REF!","v":{"$error":"#REF!"}},{"$f":"-($AD$10+$AE$10+$H$10+$I$10)/$T$10*#REF!","v":{"$error":"#REF!"}},{"$f":"-($AD$10+$AE$10+$H$10+$I$10)/$T$10*#REF!","v":{"$error":"#REF!"}},{"$f":"-($AD$10+$AE$10+$H$10+$I$10)/$T$10*#REF!","v":{"$error":"#REF!"}},{"$f":"-($AD$10+$AE$10+$H$10+$I$10)/$T$10*#REF!","v":{"$error":"#REF!"}},null,{"$f":"(AD10+AE10)*#REF!*-1","v":{"$error":"#REF!"}},{"$f":"-($AD$10+$AE$10+$H$10+$I$10)/$T$10*#REF!","v":{"$error":"#REF!"}},null,null,null,{"$error":"#REF!"},"CHP plants","ESCHP","ES",null,{"$error":"#REF!"},{"$f":"#REF!","v":{"$error":"#REF!"}},null,null,null,null,null,null,null,null,null,{"$f":"AE10*#REF!","v":{"$error":"#REF!"}},{"$f":"AE8*#REF!","v":{"$error":"#REF!"}},null,{"$f":"-(S10+N10)","v":{"$error":"#REF!"}},{"$f":"-(C10*Emissionsfaktorer!$B$2*(1-#REF!)+D10*Emissionsfaktorer!$B$3+E10*Emissionsfaktorer!$B$4*(1-#REF!)+F10*Emissionsfaktorer!$B$5*(1-#REF!)+G10*Emissionsfaktorer!$B$6+H10*Emissionsfaktorer!$B$7+I10*Emissionsfaktorer!$B$8-J10*Emissionsfaktorer!B14*#REF!+K10*Emissionsfaktorer!$B$10+L10*Emissionsfaktorer!$B$11+M10*Emissionsfaktorer!$B$12)","v":{"$error":"#REF!"}}]
[null,null,{"$f":"-($AE$11+$H$11+$I$11)/IF($T$11=0,1,$T$11)*#REF!","v":{"$error":"#REF!"}},{"$f":"-($AE$11+$H$11+$I$11)/IF($T$11=0,1,$T$11)*#REF!","v":{"$error":"#REF!"}},{"$f":"-($AE$11+$H$11+$I$11)/IF($T$11=0,1,$T$11)*#REF!","v":{"$error":"#REF!"}},{"$f":"-($AE$11+$H$11+$I$11)/IF($T$11=0,1,$T$11)*#REF!","v":{"$error":"#REF!"}},{"$f":"-($AE$11+$H$11+$I$11)/IF($T$11=0,1,$T$11)*#REF!","v":{"$error":"#REF!"}},null,{"$f":"AE11*#REF!*-1","v":{"$error":"#REF!"}},{"$f":"-($AE$11+$H$11+$I$11)/IF($T$11=0,1,$T$11)*#REF!","v":{"$error":"#REF!"}},{"$f":"AE11*#REF!*-1","v":{"$error":"#REF!"}},null,null,{"$error":"#REF!"},"Heat Plants","ESHP","ES",null,{"$error":"#REF!"},{"$f":"#REF!","v":{"$error":"#REF!"}},null,null,null,null,null,null,null,null,null,null,{"$f":"AE8*#REF!","v":{"$error":"#REF!"}},null,{"$f":"-(S11+N11)","v":{"$error":"#REF!"}},{"$f":"-(C11*Emissionsfaktorer!$B$2+D11*Emissionsfaktorer!$B$3+E11*Emissionsfaktorer!$B$4+F11*Emissionsfaktorer!$B$5+G11*Emissionsfaktorer!$B$6+H11*Emissionsfaktorer!$B$7+I11*Emissionsfaktorer!$B$8+J11*Emissionsfaktorer!$B$9+K11*Emissionsfaktorer!$B$10+L11*Emissionsfaktorer!$B$11+M11*Emissionsfaktorer!$B$12)","v":{"$error":"#REF!"}}]
[null,null,null,{"$f":"-X12/T12*#REF!","v":{"$error":"#REF!"}},null,null,null,null,null,{"$f":"-X12/T12*#REF!","v":{"$error":"#REF!"}},null,null,null,{"$error":"#REF!"},"Oil refineries","ESOR","ES",null,{"$error":"#REF!"},{"$f":"#REF!","v":{"$error":"#REF!"}},null,null,null,{"$f":"-(E9+E10+E11+E13+E14)","v":{"$error":"#REF!"}},null,null,null,null,null,null,null,null,{"$f":"-(S12+N12)","v":{"$error":"#REF!"}},{"$f":"J12*Emissionsfaktorer!B4","v":{"$error":"#REF!"}}]
[null,null,{"$f":"N13*#REF!","v":{"$error":"#REF!"}},{"$f":"N13*#REF!","v":{"$error":"#REF!"}},{"$f":"N13*#REF!","v":{"$error":"#REF!"}},{"$f":"N13*#REF!","v":{"$error":"#REF!"}},null,null,null,{"$f":"N13*#REF!","v":{"$error":"#REF!"}},{"$f":"N13*#REF!","v":{"$error":"#REF!"}},{"$f":"N13*#REF!","v":{"$error":"#REF!"}},null,{"$f":"N16*#REF!","v":{"$error":"#REF!"}},"Energy Industry one use","ESNSP","ES",null,0,0,null,null,null,null,null,null,null,null,null,null,null,null,{"$f":"-(S13+N13)","v":{"$error":"#REF!"}},{"$f":"-(C13*Emissionsfaktorer!$B$2+D13*Emissionsfaktorer!$B$3+E13*Emissionsfaktorer!$B$4+F13*Emissionsfaktorer!$B$5+G13*Emissionsfaktorer!$B$6+H13*Emissionsfaktorer!$B$7+I13*Emissionsfaktorer!$B$8+J13*Emissionsfaktorer!$B$9+K13*Emissionsfaktorer!$B$10+L13*Emissionsfaktorer!$B$11+M13*Emissionsfaktorer!$B$12)","v":{"$error":"#REF!"}}]
[null,null,null,null,{"$f":"-X14*1","v":{"$error":"#REF!"}},null,null,null,null,null,{"$f":"-AD14*(1+#REF!)","v":{"$error":"#REF!"}},{"$f":"-AE14*(1+#REF!)","v":{"$error":"#REF!"}},null,{"$error":"#REF!"},"Transport electricity, district heating and oil products","TRAS",null,null,{"$error":"#REF!"},null,null,null,null,{"$f":"-E16","v":{"$error":"#REF!"}},null,null,null,null,null,{"$f":"-K16","v":{"$error":"#REF!"}},{"$f":"-L16","v":{"$error":"#REF!"}},null,{"$f":"-(N14+S14)","v":{"$error":"#REF!"}}]
[null,null,null,null,null,null,null,null,null,null,null,null,null,0,"Entry Off-Grid RE","ELP2",null,null,{"$error":"#REF!"},null,null,null,null,null,null,null,null,{"$f":"I16*-1","v":{"$error":"#REF!"}}]
[null,null,{"$f":"SUM(C17:C19)","v":{"$error":"#REF!"}},{"$error":"#REF!"},{"$error":"#REF!"},{"$error":"#REF!"},0,0,{"$error":"#REF!"},{"$error":"#REF!"},{"$error":"#REF!"},{"$error":"#REF!"},0,{"$f":"#REF!","v":{"$error":"#REF!"}},"Exit energy","EX",null,null,{"$error":"#REF!"},null,null,null,null,null,null,null,null,null,null,null,null,{"$f":"SUM(AF17:AF19)","v":{"$error":"#REF!"}},{"$f":"SUM(AG17:AG19)","v":{"$error":"#REF!"}},{"$f":"SUM(AH17:AH19)","v":{"$error":"#REF!"}}]
[null,null,{"$f":"AF17*#REF!/T17*#REF!/#REF!*-1","v":{"$error":"#REF!"}},{"$f":"AF17*#REF!/T17*#REF!/#REF!*-1","v":{"$error":"#REF!"}},{"$f":"AF17*#REF!/T17*#REF!/#REF!*-1","v":{"$error":"#REF!"}},{"$f":"AF17*#REF!/T17*#REF!/#REF!*-1","v":{"$error":"#REF!"}},null,null,{"$f":"AF17*#REF!/T17*#REF!/#REF!*-1","v":{"$error":"#REF!"}},{"$f":"AF17*#REF!*#REF!/T17/#REF!*-1","v":{"$error":"#REF!"}},{"$f":"AF17*#REF!*#REF!/T17/#REF!*-1","v":{"$error":"#REF!"}},{"$f":"AF17*#REF!*#REF!/T17/#REF!*-1","v":{"$error":"#REF!"}},null,{"$f":"SUM(C17:L17)","v":{"$error":"#REF!"}},"Industry","EXI","EX",null,{"$error":"#REF!"},{"$f":"(#REF!+#REF!+#REF!+#REF!+#REF!)*#REF!+(#REF!+#REF!)*#REF!+#REF!*#REF!","v":{"$error":"#REF!"}},null,null,null,null,null,null,null,null,null,null,null,{"$f":"#REF!*#REF!*((#REF!+#REF!+#REF!+#REF!+#REF!)*#REF!+(#REF!+#REF!)*#REF!+#REF!*#REF!)*-1","v":{"$error":"#REF!"}},{"$f":"(S17+SUM(C17:M17))*-1","v":{"$error":"#REF!"}},{"$f":"-(C17*Emissionsfaktorer!$B$2+D17*Emissionsfaktorer!$B$3+E17*Emissionsfaktorer!$B$4+F17*Emissionsfaktorer!$B$5+G17*Emissionsfaktorer!$B$6+H17*Emissionsfaktorer!$B$7+I17*Emissionsfaktorer!$B$8+J17*Emissionsfaktorer!$B$9+K17*Emissionsfaktorer!$B$10+L17*Emissionsfaktorer!$B$11+M17*Emissionsfaktorer!$B$12)","v":{"$error":"#REF!"}}]
[null,null,{"$f":"AF18*#REF!/T18*#REF!/#REF!*-1","v":{"$error":"#REF!"}},null,{"$f":"AF18*#REF!/T18*#REF!/#REF!*-1","v":{"$error":"#REF!"}},{"$f":"AF18*#REF!/T18*#REF!/#REF!*-1","v":{"$error":"#REF!"}},null,null,{"$f":"AF18*#REF!/T18*#REF!/#REF!*-1","v":{"$error":"#REF!"}},{"$f":"AF18*#REF!/T18*#REF!/#REF!*-1","v":{"$error":"#REF!"}},{"$f":"AF18*#REF!/T18*#REF!/#REF!*-1","v":{"$error":"#REF!"}},{"$f":"AF18*#REF!/T18*#REF!/#REF!*-1","v":{"$error":"#REF!"}},null,{"$f":"SUM(C18:L18)","v":{"$error":"#REF!"}},"Transport","EXT","EX",null,{"$error":"#REF!"},{"$f":"(#REF!+#REF!+#REF!+#REF!)*#REF!+(#REF!+#REF!)*#REF!+#REF!*#REF!","v":{"$error":"#REF!"}},null,null,null,null,null,null,null,null,null,null,null,{"$f":"#REF!*#REF!*-1*((#REF!+#REF!+#REF!+#REF!)*#REF!+(#REF!+#REF!)*#REF!+#REF!*#REF!)","v":{"$error":"#REF!"}},{"$f":"(S18+SUM(C18:M18))*-1","v":{"$error":"#REF!"}},{"$f":"-(C18*Emissionsfaktorer!$B$2+D18*Emissionsfaktorer!$B$3+E18*Emissionsfaktorer!$B$4+F18*Emissionsfaktorer!$B$5+G18*Emissionsfaktorer!$B$6+H18*Emissionsfaktorer!$B$7+I18*Emissionsfaktorer!$B$8+J18*Emissionsfaktorer!$B$9+K18*Emissionsfaktorer!$B$10+L18*Emissionsfaktorer!$B$11+M18*Emissionsfaktorer!$B$12)","v":{"$error":"#REF!"}}]
[null,null,{"$f":"SUM(C20:C24)","v":{"$error":"#REF!"}},{"$f":"SUM(D20:D24)","v":0},{"$error":"#REF!"},{"$error":"#REF!"},0,0,{"$error":"#REF!"},{"$error":"#REF!"},{"$error":"#REF!"},{"$error":"#REF!"},0,{"$f":"SUM(N20:N24)","v":{"$error":"#REF!"}},"Other ","EXO","EX",null,{"$error":"#REF!"},0.8,null,{"$f":"SUM(V20:V24)","v":0},{"$f":"SUM(W20:W24)","v":0},0,0,0,0,0,0,0,0,{"$error":"#REF!"},{"$error":"#REF!"},{"$error":"#REF!"}]
[null,null,{"$f":"AF20*#REF!/T20*#REF!/#REF!*-1","v":{"$error":"#REF!"}},null,{"$f":"AF20*#REF!/T20*#REF!/#REF!*-1","v":{"$error":"#REF!"}},{"$f":"AF20*#REF!/T20*#REF!/#REF!*-1","v":{"$error":"#REF!"}},null,null,{"$f":"AF20*#REF!/T20*#REF!/#REF!*-1","v":{"$error":"#REF!"}},{"$f":"AF20*#REF!/T20*#REF!/#REF!*-1","v":{"$error":"#REF!"}},{"$f":"AF20*#REF!/T20*#REF!/#REF!*-1","v":{"$error":"#REF!"}},{"$f":"AF20*#REF!/T20*#REF!/#REF!*-1","v":{"$error":"#REF!"}},null,{"$f":"SUM(C20:L20)","v":{"$error":"#REF!"}},"Residential","EXOR","EXO",null,{"$error":"#REF!"},{"$f":"(#REF!+#REF!+#REF!+#REF!)*#REF!+(#REF!+#REF!)*#REF!+#REF!*#REF!","v":{"$error":"#REF!"}},null,null,null,null,null,null,null,null,null,null,null,{"$f":"#REF!*#REF!*((#REF!+#REF!+#REF!+#REF!)*#REF!+(#REF!+#REF!)*#REF!+#REF!*#REF!)*-1","v":{"$error":"#REF!"}},{"$f":"(N20+AF20)*-1","v":{"$error":"#REF!"}},{"$f":"-(C20*Emissionsfaktorer!$B$2+D20*Emissionsfaktorer!$B$3+E20*Emissionsfaktorer!$B$4+F20*Emissionsfaktorer!$B$5+G20*Emissionsfaktorer!$B$6+H20*Emissionsfaktorer!$B$7+I20*Emissionsfaktorer!$B$8+J20*Emissionsfaktorer!$B$9+K20*Emissionsfaktorer!$B$10+L20*Emissionsfaktorer!$B$11+M20*Emissionsfaktorer!$B$12)","v":{"$error":"#REF!"}}]
[null,null,{"$f":"AF21*#REF!/T21*#REF!/#REF!*-1","v":{"$error":"#REF!"}},null,{"$f":"AF21*#REF!/T21*#REF!/#REF!*-1","v":{"$error":"#REF!"}},{"$f":"AF21*#REF!/T21*#REF!/#REF!*-1","v":{"$error":"#REF!"}},null,null,{"$f":"AF21*#REF!/T21*#REF!/#REF!*-1","v":{"$error":"#REF!"}},{"$f":"AF21*#REF!/T21*#REF!/#REF!*-1","v":{"$error":"#REF!"}},{"$f":"AF21*#REF!/T21*#REF!/#REF!*-1","v":{"$error":"#REF!"}},{"$f":"AF21*#REF!/T21*#REF!/#REF!*-1","v":{"$error":"#REF!"}},null,{"$f":"SUM(C21:L21)","v":{"$error":"#REF!"}},"Commercial and public services","EXOC","EXO",null,{"$error":"#REF!"},{"$f":"(#REF!+#REF!+#REF!+#REF!)*#REF!+(#REF!+#REF!)*#REF!+#REF!*#REF!","v":{"$error":"#REF!"}},null,null,null,null,null,null,null,null,null,null,null,{"$f":"#REF!*#REF!*((#REF!+#REF!+#REF!+#REF!)*#REF!+(#REF!+#REF!)*#REF!+#REF!*#REF!)*-1","v":{"$error":"#REF!"}},{"$f":"(N21+AF21)*-1","v":{"$error":"#REF!"}},{"$f":"-(C21*Emissionsfaktorer!$B$2+D21*Emissionsfaktorer!$B$3+E21*Emissionsfaktorer!$B$4+F21*Emissionsfaktorer!$B$5+G21*Emissionsfaktorer!$B$6+H21*Emissionsfaktorer!$B$7+I21*Emissionsfaktorer!$B$8+J21*Emissionsfaktorer!$B$9+K21*Emissionsfaktorer!$B$10+L21*Emissionsfaktorer!$B$11+M21*Emissionsfaktorer!$B$12)","v":{"$error":"#REF!"}}]
[null,null,{"$f":"AF22*#REF!/T22*#REF!/#REF!*-1","v":{"$error":"#REF!"}},null,{"$f":"AF22*#REF!/T22*#REF!/#REF!*-1","v":{"$error":"#REF!"}},{"$f":"AF22*#REF!/T22*#REF!/#REF!*-1","v":{"$error":"#REF!"}},null,null,{"$f":"AF22*#REF!/T22*#REF!/#REF!*-1","v":{"$error":"#REF!"}},{"$f":"AF22*#REF!/T22*#REF!/#REF!*-1","v":{"$error":"#REF!"}},{"$f":"AF22*#REF!/T22*#REF!/#REF!*-1","v":{"$error":"#REF!"}},{"$f":"AF22*#REF!/T22*#REF!/#REF!*-1","v":{"$error":"#REF!"}},null,{"$f":"SUM(C22:L22)","v":{"$error":"#REF!"}},"Agriculture / forestry","EXOA","EXO",null,{"$error":"#REF!"},{"$f":"(#REF!+#REF!+#REF!+#REF!)*#REF!+(#REF!+#REF!)*#REF!+#REF!*#REF!","v":{"$error":"#REF!"}},null,null,null,null,null,null,null,null,null,null,null,{"$f":"((#REF!+#REF!+#REF!+#REF!)*#REF!+(#REF!+#REF!)*#REF!+#REF!*#REF!)*#REF!*#REF!*-1","v":{"$error":"#REF!"}},{"$f":"(N22+AF22)*-1","v":{"$error":"#REF!"}},{"$f":"-(C22*Emissionsfaktorer!$B$2+D22*Emissionsfaktorer!$B$3+E22*Emissionsfaktorer!$B$4+F22*Emissionsfaktorer!$B$5+G22*Emissionsfaktorer!$B$6+H22*Emissionsfaktorer!$B$7+I22*Emissionsfaktorer!$B$8+J22*Emissionsfaktorer!$B$9+K22*Emissionsfaktorer!$B$10+L22*Emissionsfaktorer!$B$11+M22*Emissionsfaktorer!$B$12)","v":{"$error":"#REF!"}}]
[null,null,{"$f":"AF23*#REF!/T23*#REF!/#REF!*-1","v":{"$error":"#REF!"}},null,{"$f":"AF23*#REF!/T23*#REF!/#REF!*-1","v":{"$error":"#REF!"}},{"$f":"AF23*#REF!/T23*#REF!/#REF!*-1","v":{"$error":"#REF!"}},null,null,{"$f":"AF23*#REF!/T23*#REF!/#REF!*-1","v":{"$error":"#REF!"}},{"$f":"AF23*#REF!/T23*#REF!/#REF!*-1","v":{"$error":"#REF!"}},{"$f":"AF23*#REF!/T23*#REF!/#REF!*-1","v":{"$error":"#REF!"}},{"$f":"AF23*#REF!/T23*#REF!/#REF!*-1","v":{"$error":"#REF!"}},null,{"$f":"SUM(C23:L23)","v":{"$error":"#REF!"}},"Fishing","EXOF","EXO",null,{"$error":"#REF!"},{"$f":"(#REF!+#REF!+#REF!+#REF!)*#REF!+(#REF!+#REF!)*#REF!+#REF!*#REF!","v":{"$error":"#REF!"}},null,null,null,null,null,null,null,null,null,null,null,{"$f":"((#REF!+#REF!+#REF!+#REF!)*#REF!+(#REF!+#REF!)*#REF!+#REF!*#REF!)*#REF!*#REF!*-1","v":{"$error":"#REF!"}},{"$f":"(N23+AF23)*-1","v":{"$error":"#REF!"}},{"$f":"-(C23*Emissionsfaktorer!$B$2+D23*Emissionsfaktorer!$B$3+E23*Emissionsfaktorer!$B$4+F23*Emissionsfaktorer!$B$5+G23*Emissionsfaktorer!$B$6+H23*Emissionsfaktorer!$B$7+I23*Emissionsfaktorer!$B$8+J23*Emissionsfaktorer!$B$9+K23*Emissionsfaktorer!$B$10+L23*Emissionsfaktorer!$B$11+M23*Emissionsfaktorer!$B$12)","v":{"$error":"#REF!"}}]
[null,null,{"$f":"AF24*#REF!/T24*#REF!/#REF!*-1","v":{"$error":"#REF!"}},null,{"$f":"AF24*#REF!/T24*#REF!/#REF!*-1","v":{"$error":"#REF!"}},{"$f":"AF24*#REF!/T24*#REF!/#REF!*-1","v":{"$error":"#REF!"}},null,null,{"$f":"AF24*#REF!/T24*#REF!/#REF!*-1","v":{"$error":"#REF!"}},{"$f":"AF24*#REF!/T24*#REF!/#REF!*-1","v":{"$error":"#REF!"}},{"$f":"AF24*#REF!/T24*#REF!/#REF!*-1","v":{"$error":"#REF!"}},{"$f":"AF24*#REF!/T24*#REF!/#REF!*-1","v":{"$error":"#REF!"}},null,{"$f":"SUM(C24:L24)","v":{"$error":"#REF!"}},"Non-specified","EXON","EXO",null,{"$error":"#REF!"},{"$f":"(#REF!+#REF!+#REF!+#REF!)*#REF!+(#REF!+#REF!)*#REF!+#REF!*#REF!","v":{"$error":"#REF!"}},null,null,null,null,null,null,null,null,null,null,null,{"$f":"((#REF!+#REF!+#REF!+#REF!)*#REF!+(#REF!+#REF!)*#REF!+#REF!*#REF!)*#REF!*#REF!*-1","v":{"$error":"#REF!"}},{"$f":"(N24+AF24)*-1","v":{"$error":"#REF!"}},{"$f":"-(C24*Emissionsfaktorer!$B$2+D24*Emissionsfaktorer!$B$3+E24*Emissionsfaktorer!$B$4+F24*Emissionsfaktorer!$B$5+G24*Emissionsfaktorer!$B$6+H24*Emissionsfaktorer!$B$7+I24*Emissionsfaktorer!$B$8+J24*Emissionsfaktorer!$B$9+K24*Emissionsfaktorer!$B$10+L24*Emissionsfaktorer!$B$11+M24*Emissionsfaktorer!$B$12)","v":{"$error":"#REF!"}}]
[null,null,null,null,null,null,null,null,null,null,null,null,null,{"$f":"N16","v":{"$error":"#REF!"}},"Energy Services","EN",null,null,{"$error":"#REF!"},{"$f":"AF25/N25*-1","v":{"$error":"#REF!"}},null,null,null,null,null,null,null,null,null,null,null,{"$f":"AF16","v":{"$error":"#REF!"}},{"$f":"-(S25+N25)","v":{"$error":"#REF!"}}]

{"sheet":"BL Asia excluding China 2030","index":71,"n_rows":25,"n_cols":34,"rows_kept":25,"cut":false,"hidden":true,"merged":[]}
[null,"Consumption","Coal","Crude oil","Oil Products","Natual Gas","Nuclear","Hydro","Geothermal, solar, wind, etc.","Biofuels and waste","Electricity","Heat","Energy Services","Total consumption","Asia excluding China 2030",null,null,"Faktor","Total production","Efficiency","Production","Coal","Crude oil","Oil Products","Natual Gas","Nuclear","Hydro","Geothermal, solar, wind, etc.","Biofuels and waste","Electricity","Heat","Energy Services","Loss","CO2-emissions"]
["ID","C ","CC","CCO","COP","CNG","CNU","CHY","CGSW","CWB","CE","CH","CES","fbrbr",null,"ID","ID Parent","factor","pbrpr","pvrkg","P ","PC","PCO","POP","PNG","PNU","PHY","PGSW","PWB","PE","PH","PES","PTAB","PCO2"]
["ID Parent",null,"C","C","C ","C ","C ","C","C","C ","C ","C ","C ",null,"Structures",null,null,null,null,null,null,"P ","P ","P ","P ","P ","P ","P","P ","P ","P ","P "]
["Factor",null,null,null,null,null,null,null,null,null,null,null,null,null,null,null,null,null,null,null,{"$f":"B4","v":0},null,null,null,null,null,null,null,null,null,null,null,{"$f":"U4","v":0},{"$f":"U4","v":0}]
[null,null,null,null,null,null,null,null,null,null,null,null,null,{"$f":"SUM(C5:M5)","v":0},"Entry fuels","ETP",null,null,{"$f":"SUM(V5:AF5)","v":{"$error":"#REF!"}},null,null,{"$f":"-(C6+C5)","v":{"$error":"#REF!"}},{"$f":"-(D6+D5)","v":{"$error":"#REF!"}},null,{"$f":"-(F6+F5)","v":{"$error":"#REF!"}},{"$f":"-(G6+G5)","v":{"$error":"#REF!"}},null,null,{"$f":"-(J6+J5)","v":{"$error":"#REF!"}}]
[null,null,{"$f":"-V6","v":{"$error":"#REF!"}},{"$f":"-W6","v":{"$error":"#REF!"}},null,{"$f":"-Y6","v":{"$error":"#REF!"}},{"$f":"-Z6","v":{"$error":"#REF!"}},null,null,{"$f":"-AC6","v":{"$error":"#REF!"}},null,null,null,{"$f":"SUM(C6:M6)","v":{"$error":"#REF!"}},"Transport of fuels","TRAP",null,null,{"$f":"SUM(V6:AF6)","v":{"$error":"#REF!"}},null,null,{"$f":"-(C16+C8)","v":{"$error":"#REF!"}},{"$f":"-(D16+D8)","v":{"$error":"#REF!"}},null,{"$f":"-(F16+F8)","v":{"$error":"#REF!"}},{"$f":"-(G16+G8)","v":{"$error":"#REF!"}},null,null,{"$f":"-(J16+J8)","v":{"$error":"#REF!"}},null,null,null,{"$f":"-(N6+S6)","v":{"$error":"#REF!"}}]
[null,null,null,null,null,null,null,null,null,null,null,null,null,0,"Entry On-Grid RE ","ELP1",null,null,{"$error":"#REF!"},null,null,null,null,null,null,null,{"$f":"-H8","v":{"$error":"#REF!"}},{"$f":"-I8","v":{"$error":"#REF!"}}]
[null,null,{"$f":"SUM(C9:C13)","v":{"$error":"#REF!"}},{"$f":"SUM(D9:D13)","v":{"$error":"#REF!"}},{"$error":"#REF!"},{"$error":"#REF!"},{"$error":"#REF!"},{"$error":"#REF!"},{"$error":"#REF!"},{"$error":"#REF!"},{"$error":"#REF!"},{"$error":"#REF!"},0,{"$error":"#REF!"},"Entry electricity, district heating and oil products","ES",null,null,{"$error":"#REF!"},null,null,{"$f":"SUM(V9:V13)","v":0},null,{"$f":"(E14+E8)*-1","v":{"$error":"#REF!"}},null,null,null,null,null,{"$f":"(K14+K8)*-1","v":{"$error":"#REF!"}},{"$f":"(L14+L8)*-1","v":{"$error":"#REF!"}},null,{"$f":"-(N8+S8)","v":{"$error":"#REF!"}},{"$f":"SUM(AH9:AH13)","v":{"$error":"#REF!"}}]
[null,null,{"$f":"-($AD$9+$H$9+$I$9)/$T$9*#REF!","v":{"$error":"#REF!"}},{"$f":"-($AD$9+$H$9+$I$9)/$T$9*#REF!","v":{"$error":"#REF!"}},{"$f":"-($AD$9+$H$9+$I$9)/$T$9*#REF!","v":{"$error":"#REF!"}},{"$f":"-($AD$9+$H$9+$I$9)/$T$9*#REF!","v":{"$error":"#REF!"}},{"$f":"-($AD$9+$H$9+$I$9)/$T$9*#REF!","v":{"$error":"#REF!"}},{"$f":"AD9*#REF!*-1","v":{"$error":"#REF!"}},{"$f":"AD9*#REF!*-1","v":{"$error":"#REF!"}},{"$f":"-($AD$9+$H$9+$I$9)/$T$9*#REF!","v":{"$error":"#REF!"}},null,null,null,{"$error":"#REF!"},"Electricity-only plants","ESEP","ES",null,{"$error":"#REF!"},{"$f":"#REF!","v":{"$error":"#REF!"}},null,null,null,null,null,null,null,null,null,{"$f":"AD8-AD10","v":{"$error":"#REF!"}},null,null,{"$f":"-(S9+N9)","v":{"$error":"#REF!"}},{"$f":"-(C9*Emissionsfaktorer!$B$2*(1-#REF!)+D9*Emissionsfaktorer!$B$3+E9*Emissionsfaktorer!$B$4*(1-#REF!)+F9*Emissionsfaktorer!$B$5*(1-#REF!)+G9*Emissionsfaktorer!$B$6+H9*Emissionsfaktorer!$B$7+I9*Emissionsfaktorer!$B$8-J9*Emissionsfaktorer!B13*#REF!+K9*Emissionsfaktorer!$B$10+L9*Emissionsfaktorer!$B$11+M9*Emissionsfaktorer!$B$12)","v":{"$error":"#REF!"}}]
[null,null,{"$f":"-($AD$10+$AE$10+$H$10+$I$10)/$T$10*#REF!","v":{"$error":"#REF!"}},{"$f":"-($AD$10+$AE$10+$H$10+$I$10)/$T$10*#REF!","v":{"$error":"#REF!"}},{"$f":"-($AD$10+$AE$10+$H$10+$I$10)/$T$10*#REF!","v":{"$error":"#REF!"}},{"$f":"-($AD$10+$AE$10+$H$10+$I$10)/$T$10*#REF!","v":{"$error":"#REF!"}},{"$f":"-($AD$10+$AE$10+$H$10+$I$10)/$T$10*#REF!","v":{"$error":"#REF!"}},null,{"$f":"(AD10+AE10)*#REF!*-1","v":{"$error":"#REF!"}},{"$f":"-($AD$10+$AE$10+$H$10+$I$10)/$T$10*#REF!","v":{"$error":"#REF!"}},null,null,null,{"$error":"#REF!"},"CHP plants","ESCHP","ES",null,{"$error":"#REF!"},{"$f":"#REF!","v":{"$error":"#REF!"}},null,null,null,null,null,null,null,null,null,{"$f":"AE10*#REF!","v":{"$error":"#REF!"}},{"$f":"AE8*#REF!","v":{"$error":"#REF!"}},null,{"$f":"-(S10+N10)","v":{"$error":"#REF!"}},{"$f":"-(C10*Emissionsfaktorer!$B$2*(1-#REF!)+D10*Emissionsfaktorer!$B$3+E10*Emissionsfaktorer!$B$4*(1-#REF!)+F10*Emissionsfaktorer!$B$5*(1-#REF!)+G10*Emissionsfaktorer!$B$6+H10*Emissionsfaktorer!$B$7+I10*Emissionsfaktorer!$B$8-J10*Emissionsfaktorer!B14*#REF!+K10*Emissionsfaktorer!$B$10+L10*Emissionsfaktorer!$B$11+M10*Emissionsfaktorer!$B$12)","v":{"$error":"#REF!"}}]
[null,null,{"$f":"-($AE$11+$H$11+$I$11)/IF($T$11=0,1,$T$11)*#REF!","v":{"$error":"#REF!"}},{"$f":"-($AE$11+$H$11+$I$11)/IF($T$11=0,1,$T$11)*#REF!","v":{"$error":"#REF!"}},{"$f":"-($AE$11+$H$11+$I$11)/IF($T$11=0,1,$T$11)*#REF!","v":{"$error":"#REF!"}},{"$f":"-($AE$11+$H$11+$I$11)/IF($T$11=0,1,$T$11)*#REF!","v":{"$error":"#REF!"}},{"$f":"-($AE$11+$H$11+$I$11)/IF($T$11=0,1,T11)*#REF!","v":{"$error":"#REF!"}},null,{"$f":"AE11*#REF!*-1","v":{"$error":"#REF!"}},{"$f":"-($AE$11+$H$11+$I$11)/IF($T$11=0,1,T11)*#REF!","v":{"$error":"#REF!"}},{"$f":"AE11*#REF!*-1","v":{"$error":"#REF!"}},null,null,{"$error":"#REF!"},"Heat Plants","ESHP","ES",null,{"$error":"#REF!"},{"$f":"#REF!","v":{"$error":"#REF!"}},null,null,null,null,null,null,null,null,null,null,{"$f":"AE8*#REF!","v":{"$error":"#REF!"}},null,{"$f":"-(S11+N11)","v":{"$error":"#REF!"}},{"$f":"-(C11*Emissionsfaktorer!$B$2+D11*Emissionsfaktorer!$B$3+E11*Emissionsfaktorer!$B$4+F11*Emissionsfaktorer!$B$5+G11*Emissionsfaktorer!$B$6+H11*Emissionsfaktorer!$B$7+I11*Emissionsfaktorer!$B$8+J11*Emissionsfaktorer!$B$9+K11*Emissionsfaktorer!$B$10+L11*Emissionsfaktorer!$B$11+M11*Emissionsfaktorer!$B$12)","v":{"$error":"#REF!"}}]
[null,null,null,{"$f":"-X12/T12*#REF!","v":{"$error":"#REF!"}},null,null,null,null,null,{"$f":"-X12/T12*#REF!","v":{"$error":"#REF!"}},null,null,null,{"$error":"#REF!"},"Oil refineries","ESOR","ES",null,{"$error":"#REF!"},{"$f":"#REF!","v":{"$error":"#REF!"}},null,null,null,{"$f":"-(E9+E10+E11+E13+E14)","v":{"$error":"#REF!"}},null,null,null,null,null,null,null,null,{"$f":"-(S12+N12)","v":{"$error":"#REF!"}},{"$f":"J12*Emissionsfaktorer!B4","v":{"$error":"#REF!"}}]
[null,null,{"$f":"N13*#REF!","v":{"$error":"#REF!"}},{"$f":"N13*#REF!","v":{"$error":"#REF!"}},{"$f":"N13*#REF!","v":{"$error":"#REF!"}},{"$f":"N13*#REF!","v":{"$error":"#REF!"}},null,null,null,{"$f":"N13*#REF!","v":{"$error":"#REF!"}},{"$f":"N13*#REF!","v":{"$error":"#REF!"}},{"$f":"N13*#REF!","v":{"$error":"#REF!"}},null,{"$f":"N16*#REF!","v":{"$error":"#REF!"}},"Energy Industry one use","ESNSP","ES",null,0,0,null,null,null,null,null,null,null,null,null,null,null,null,{"$f":"-(S13+N13)","v":{"$error":"#REF!"}},{"$f":"-(C13*Emissionsfaktorer!$B$2+D13*Emissionsfaktorer!$B$3+E13*Emissionsfaktorer!$B$4+F13*Emissionsfaktorer!$B$5+G13*Emissionsfaktorer!$B$6+H13*Emissionsfaktorer!$B$7+I13*Emissionsfaktorer!$B$8+J13*Emissionsfaktorer!$B$9+K13*Emissionsfaktorer!$B$10+L13*Emissionsfaktorer!$B$11+M13*Emissionsfaktorer!$B$12)","v":{"$error":"#REF!"}}]
[null,null,null,null,{"$f":"-X14*1","v":{"$error":"#REF!"}},null,null,null,null,null,{"$f":"-AD14*(1+#REF!)","v":{"$error":"#REF!"}},{"$f":"-AE14*(1+#REF!)","v":{"$error":"#REF!"}},null,{"$error":"#REF!"},"Transport electricity, district heating and oil products","TRAS",null,null,{"$error":"#REF!"},null,null,null,null,{"$f":"-E16","v":{"$error":"#REF!"}},null,null,null,null,null,{"$f":"-K16","v":{"$error":"#REF!"}},{"$f":"-L16","v":{"$error":"#REF!"}},null,{"$f":"-(N14+S14)","v":{"$error":"#REF!"}}]
[null,null,null,null,null,null,null,null,null,null,null,null,null,0,"Entry Off-Grid RE","ELP2",null,null,{"$error":"#REF!"},null,null,null,null,null,null,null,null,{"$f":"I16*-1","v":{"$error":"#REF!"}}]
[null,null,{"$f":"SUM(C17:C19)","v":{"$error":"#REF!"}},{"$error":"#REF!"},{"$error":"#REF!"},{"$error":"#REF!"},0,0,{"$error":"#REF!"},{"$error":"#REF!"},{"$error":"#REF!"},{"$error":"#REF!"},0,{"$f":"#REF!","v":{"$error":"#REF!"}},"Exit energy","EX",null,null,{"$error":"#REF!"},null,null,null,null,null,null,null,null,null,null,null,null,{"$f":"SUM(AF17:AF19)","v":{"$error":"#REF!"}},{"$f":"SUM(AG17:AG19)","v":{"$error":"#REF!"}},{"$f":"SUM(AH17:AH19)","v":{"$error":"#REF!"}}]
[null,null,{"$f":"AF17*#REF!/T17*#REF!/#REF!*-1","v":{"$error":"#REF!"}},{"$f":"AF17*#REF!/T17*#REF!/#REF!*-1","v":{"$error":"#REF!"}},{"$f":"AF17*#REF!/T17*#REF!/#REF!*-1","v":{"$error":"#REF!"}},{"$f":"AF17*#REF!/T17*#REF!/#REF!*-1","v":{"$error":"#REF!"}},null,null,{"$f":"AF17*#REF!/T17*#REF!/#REF!*-1","v":{"$error":"#REF!"}},{"$f":"AF17*#REF!*#REF!/T17/#REF!*-1","v":{"$error":"#REF!"}},{"$f":"AF17*#REF!*#REF!/T17/#REF!*-1","v":{"$error":"#REF!"}},{"$f":"AF17*#REF!*#REF!/T17/#REF!*-1","v":{"$error":"#REF!"}},null,{"$f":"SUM(C17:L17)","v":{"$error":"#REF!"}},"Industry","EXI","EX",null,{"$error":"#REF!"},{"$f":"(#REF!+#REF!+#REF!+#REF!+#REF!)*#REF!+(#REF!+#REF!)*#REF!+#REF!*#REF!","v":{"$error":"#REF!"}},null,null,null,null,null,null,null,null,null,null,null,{"$f":"#REF!*#REF!*((#REF!+#REF!+#REF!+#REF!+#REF!)*#REF!+(#REF!+#REF!)*#REF!+#REF!*#REF!)*-1","v":{"$error":"#REF!"}},{"$f":"(S17+SUM(C17:M17))*-1","v":{"$error":"#REF!"}},{"$f":"-(C17*Emissionsfaktorer!$B$2+D17*Emissionsfaktorer!$B$3+E17*Emissionsfaktorer!$B$4+F17*Emissionsfaktorer!$B$5+G17*Emissionsfaktorer!$B$6+H17*Emissionsfaktorer!$B$7+I17*Emissionsfaktorer!$B$8+J17*Emissionsfaktorer!$B$9+K17*Emissionsfaktorer!$B$10+L17*Emissionsfaktorer!$B$11+M17*Emissionsfaktorer!$B$12)","v":{"$error":"#REF!"}}]
[null,null,{"$f":"AF18*#REF!/T18*#REF!/#REF!*-1","v":{"$error":"#REF!"}},null,{"$f":"AF18*#REF!/T18*#REF!/#REF!*-1","v":{"$error":"#REF!"}},{"$f":"AF18*#REF!/T18*#REF!/#REF!*-1","v":{"$error":"#REF!"}},null,null,{"$f":"AF18*#REF!/T18*#REF!/#REF!*-1","v":{"$error":"#REF!"}},{"$f":"AF18*#REF!/T18*#REF!/#REF!*-1","v":{"$error":"#REF!"}},{"$f":"AF18*#REF!/T18*#REF!/#REF!*-1","v":{"$error":"#REF!"}},{"$f":"AF18*#REF!/T18*#REF!/#REF!*-1","v":{"$error":"#REF!"}},null,{"$f":"SUM(C18:L18)","v":{"$error":"#REF!"}},"Transport","EXT","EX",null,{"$error":"#REF!"},{"$f":"(#REF!+#REF!+#REF!+#REF!)*#REF!+(#REF!+#REF!)*#REF!+#REF!*#REF!","v":{"$error":"#REF!"}},null,null,null,null,null,null,null,null,null,null,null,{"$f":"#REF!*#REF!*-1*((#REF!+#REF!+#REF!+#REF!)*#REF!+(#REF!+#REF!)*#REF!+#REF!*#REF!)","v":{"$error":"#REF!"}},{"$f":"(S18+SUM(C18:M18))*-1","v":{"$error":"#REF!"}},{"$f":"-(C18*Emissionsfaktorer!$B$2+D18*Emissionsfaktorer!$B$3+E18*Emissionsfaktorer!$B$4+F18*Emissionsfaktorer!$B$5+G18*Emissionsfaktorer!$B$6+H18*Emissionsfaktorer!$B$7+I18*Emissionsfaktorer!$B$8+J18*Emissionsfaktorer!$B$9+K18*Emissionsfaktorer!$B$10+L18*Emissionsfaktorer!$B$11+M18*Emissionsfaktorer!$B$12)","v":{"$error":"#REF!"}}]
[null,null,{"$f":"SUM(C20:C24)","v":{"$error":"#REF!"}},{"$f":"SUM(D20:D24)","v":0},{"$error":"#REF!"},{"$error":"#REF!"},0,0,{"$error":"#REF!"},{"$error":"#REF!"},{"$error":"#REF!"},{"$error":"#REF!"},0,{"$f":"SUM(N20:N24)","v":{"$error":"#REF!"}},"Other ","EXO","EX",null,{"$error":"#REF!"},0.8,null,{"$f":"SUM(V20:V24)","v":0},{"$f":"SUM(W20:W24)","v":0},0,0,0,0,0,0,0,0,{"$error":"#REF!"},{"$error":"#REF!"},{"$error":"#REF!"}]
[null,null,{"$f":"AF20*#REF!/T20*#REF!/#REF!*-1","v":{"$error":"#REF!"}},null,{"$f":"AF20*#REF!/T20*#REF!/#REF!*-1","v":{"$error":"#REF!"}},{"$f":"AF20*#REF!/T20*#REF!/#REF!*-1","v":{"$error":"#REF!"}},null,null,{"$f":"AF20*#REF!/T20*#REF!/#REF!*-1","v":{"$error":"#REF!"}},{"$f":"AF20*#REF!/T20*#REF!/#REF!*-1","v":{"$error":"#REF!"}},{"$f":"AF20*#REF!/T20*#REF!/#REF!*-1","v":{"$error":"#REF!"}},{"$f":"AF20*#REF!/T20*#REF!/#REF!*-1","v":{"$error":"#REF!"}},null,{"$f":"SUM(C20:L20)","v":{"$error":"#REF!"}},"Residential","EXOR","EXO",null,{"$error":"#REF!"},{"$f":"(#REF!+#REF!+#REF!+#REF!)*#REF!+(#REF!+#REF!)*#REF!+#REF!*#REF!","v":{"$error":"#REF!"}},null,null,null,null,null,null,null,null,null,null,null,{"$f":"#REF!*#REF!*((#REF!+#REF!+#REF!+#REF!)*#REF!+(#REF!+#REF!)*#REF!+#REF!*#REF!)*-1","v":{"$error":"#REF!"}},{"$f":"(N20+AF20)*-1","v":{"$error":"#REF!"}},{"$f":"-(C20*Emissionsfaktorer!$B$2+D20*Emissionsfaktorer!$B$3+E20*Emissionsfaktorer!$B$4+F20*Emissionsfaktorer!$B$5+G20*Emissionsfaktorer!$B$6+H20*Emissionsfaktorer!$B$7+I20*Emissionsfaktorer!$B$8+J20*Emissionsfaktorer!$B$9+K20*Emissionsfaktorer!$B$10+L20*Emissionsfaktorer!$B$11+M20*Emissionsfaktorer!$B$12)","v":{"$error":"#REF!"}}]
[null,null,{"$f":"AF21*#REF!/T21*#REF!/#REF!*-1","v":{"$error":"#REF!"}},null,{"$f":"AF21*#REF!/T21*#REF!/#REF!*-1","v":{"$error":"#REF!"}},{"$f":"AF21*#REF!/T21*#REF!/#REF!*-1","v":{"$error":"#REF!"}},null,null,{"$f":"AF21*#REF!/T21*#REF!/#REF!*-1","v":{"$error":"#REF!"}},{"$f":"AF21*#REF!/T21*#REF!/#REF!*-1","v":{"$error":"#REF!"}},{"$f":"AF21*#REF!/T21*#REF!/#REF!*-1","v":{"$error":"#REF!"}},{"$f":"AF21*#REF!/T21*#REF!/#REF!*-1","v":{"$error":"#REF!"}},null,{"$f":"SUM(C21:L21)","v":{"$error":"#REF!"}},"Commercial and public services","EXOC","EXO",null,{"$error":"#REF!"},{"$f":"(#REF!+#REF!+#REF!+#REF!)*#REF!+(#REF!+#REF!)*#REF!+#REF!*#REF!","v":{"$error":"#REF!"}},null,null,null,null,null,null,null,null,null,null,null,{"$f":"#REF!*#REF!*((#REF!+#REF!+#REF!+#REF!)*#REF!+(#REF!+#REF!)*#REF!+#REF!*#REF!)*-1","v":{"$error":"#REF!"}},{"$f":"(N21+AF21)*-1","v":{"$error":"#REF!"}},{"$f":"-(C21*Emissionsfaktorer!$B$2+D21*Emissionsfaktorer!$B$3+E21*Emissionsfaktorer!$B$4+F21*Emissionsfaktorer!$B$5+G21*Emissionsfaktorer!$B$6+H21*Emissionsfaktorer!$B$7+I21*Emissionsfaktorer!$B$8+J21*Emissionsfaktorer!$B$9+K21*Emissionsfaktorer!$B$10+L21*Emissionsfaktorer!$B$11+M21*Emissionsfaktorer!$B$12)","v":{"$error":"#REF!"}}]
[null,null,{"$f":"AF22*#REF!/T22*#REF!/#REF!*-1","v":{"$error":"#REF!"}},null,{"$f":"AF22*#REF!/T22*#REF!/#REF!*-1","v":{"$error":"#REF!"}},{"$f":"AF22*#REF!/T22*#REF!/#REF!*-1","v":{"$error":"#REF!"}},null,null,{"$f":"AF22*#REF!/T22*#REF!/#REF!*-1","v":{"$error":"#REF!"}},{"$f":"AF22*#REF!/T22*#REF!/#REF!*-1","v":{"$error":"#REF!"}},{"$f":"AF22*#REF!/T22*#REF!/#REF!*-1","v":{"$error":"#REF!"}},{"$f":"AF22*#REF!/T22*#REF!/#REF!*-1","v":{"$error":"#REF!"}},null,{"$f":"SUM(C22:L22)","v":{"$error":"#REF!"}},"Agriculture / forestry","EXOA","EXO",null,{"$error":"#REF!"},{"$f":"(#REF!+#REF!+#REF!+#REF!)*#REF!+(#REF!+#REF!)*#REF!+#REF!*#REF!","v":{"$error":"#REF!"}},null,null,null,null,null,null,null,null,null,null,null,{"$f":"((#REF!+#REF!+#REF!+#REF!)*#REF!+(#REF!+#REF!)*#REF!+#REF!*#REF!)*#REF!*#REF!*-1","v":{"$error":"#REF!"}},{"$f":"(N22+AF22)*-1","v":{"$error":"#REF!"}},{"$f":"-(C22*Emissionsfaktorer!$B$2+D22*Emissionsfaktorer!$B$3+E22*Emissionsfaktorer!$B$4+F22*Emissionsfaktorer!$B$5+G22*Emissionsfaktorer!$B$6+H22*Emissionsfaktorer!$B$7+I22*Emissionsfaktorer!$B$8+J22*Emissionsfaktorer!$B$9+K22*Emissionsfaktorer!$B$10+L22*Emissionsfaktorer!$B$11+M22*Emissionsfaktorer!$B$12)","v":{"$error":"#REF!"}}]
[null,null,{"$f":"AF23*#REF!/T23*#REF!/#REF!*-1","v":{"$error":"#REF!"}},null,{"$f":"AF23*#REF!/T23*#REF!/#REF!*-1","v":{"$error":"#REF!"}},{"$f":"AF23*#REF!/T23*#REF!/#REF!*-1","v":{"$error":"#REF!"}},null,null,{"$f":"AF23*#REF!/T23*#REF!/#REF!*-1","v":{"$error":"#REF!"}},{"$f":"AF23*#REF!/T23*#REF!/#REF!*-1","v":{"$error":"#REF!"}},{"$f":"AF23*#REF!/T23*#REF!/#REF!*-1","v":{"$error":"#REF!"}},{"$f":"AF23*#REF!/T23*#REF!/#REF!*-1","v":{"$error":"#REF!"}},null,{"$f":"SUM(C23:L23)","v":{"$error":"#REF!"}},"Fishing","EXOF","EXO",null,{"$error":"#REF!"},{"$f":"(#REF!+#REF!+#REF!+#REF!)*#REF!+(#REF!+#REF!)*#REF!+#REF!*#REF!","v":{"$error":"#REF!"}},null,null,null,null,null,null,null,null,null,null,null,{"$f":"((#REF!+#REF!+#REF!+#REF!)*#REF!+(#REF!+#REF!)*#REF!+#REF!*#REF!)*#REF!*#REF!*-1","v":{"$error":"#REF!"}},{"$f":"(N23+AF23)*-1","v":{"$error":"#REF!"}},{"$f":"-(C23*Emissionsfaktorer!$B$2+D23*Emissionsfaktorer!$B$3+E23*Emissionsfaktorer!$B$4+F23*Emissionsfaktorer!$B$5+G23*Emissionsfaktorer!$B$6+H23*Emissionsfaktorer!$B$7+I23*Emissionsfaktorer!$B$8+J23*Emissionsfaktorer!$B$9+K23*Emissionsfaktorer!$B$10+L23*Emissionsfaktorer!$B$11+M23*Emissionsfaktorer!$B$12)","v":{"$error":"#REF!"}}]
[null,null,{"$f":"AF24*#REF!/T24*#REF!/#REF!*-1","v":{"$error":"#REF!"}},null,{"$f":"AF24*#REF!/T24*#REF!/#REF!*-1","v":{"$error":"#REF!"}},{"$f":"AF24*#REF!/T24*#REF!/#REF!*-1","v":{"$error":"#REF!"}},null,null,{"$f":"AF24*#REF!/T24*#REF!/#REF!*-1","v":{"$error":"#REF!"}},{"$f":"AF24*#REF!/T24*#REF!/#REF!*-1","v":{"$error":"#REF!"}},{"$f":"AF24*#REF!/T24*#REF!/#REF!*-1","v":{"$error":"#REF!"}},{"$f":"AF24*#REF!/T24*#REF!/#REF!*-1","v":{"$error":"#REF!"}},null,{"$f":"SUM(C24:L24)","v":{"$error":"#REF!"}},"Non-specified","EXON","EXO",null,{"$error":"#REF!"},{"$f":"(#REF!+#REF!+#REF!+#REF!)*#REF!+(#REF!+#REF!)*#REF!+#REF!*#REF!","v":{"$error":"#REF!"}},null,null,null,null,null,null,null,null,null,null,null,{"$f":"((#REF!+#REF!+#REF!+#REF!)*#REF!+(#REF!+#REF!)*#REF!+#REF!*#REF!)*#REF!*#REF!*-1","v":{"$error":"#REF!"}},{"$f":"(N24+AF24)*-1","v":{"$error":"#REF!"}},{"$f":"-(C24*Emissionsfaktorer!$B$2+D24*Emissionsfaktorer!$B$3+E24*Emissionsfaktorer!$B$4+F24*Emissionsfaktorer!$B$5+G24*Emissionsfaktorer!$B$6+H24*Emissionsfaktorer!$B$7+I24*Emissionsfaktorer!$B$8+J24*Emissionsfaktorer!$B$9+K24*Emissionsfaktorer!$B$10+L24*Emissionsfaktorer!$B$11+M24*Emissionsfaktorer!$B$12)","v":{"$error":"#REF!"}}]
[null,null,null,null,null,null,null,null,null,null,null,null,null,{"$f":"N16","v":{"$error":"#REF!"}},"Energy Services","EN",null,null,{"$error":"#REF!"},{"$f":"AF25/N25*-1","v":{"$error":"#REF!"}},null,null,null,null,null,null,null,null,null,null,null,{"$f":"AF16","v":{"$error":"#REF!"}},{"$f":"-(S25+N25)","v":{"$error":"#REF!"}}]

{"sheet":"Asia excluding China 1995","index":72,"n_rows":32,"n_cols":12,"rows_kept":32,"cut":false,"hidden":true,"merged":[]}
[null,"Coal*","Crude oil","Oil products","Natural gas","Nuclear","Hydro","Geothermal, solar, etc.","Biofuels and waste","Electricity","Heat","Total**"]
[null,"ktoe","ktoe","ktoe","ktoe","ktoe","ktoe","ktoe","ktoe","ktoe","ktoe","ktoe"]
["Production",174089,187762,null,138194,11408,14150,9193,279512,null,null,814308]
["Imports",34505,170026,105268,4220,null,null,null,19,277,null,314315]
["Exports",-20506,-83073,-75257,-51394,null,null,null,-133,-205,null,-230567]
["International marine bunkers",null,null,-16217,null,null,null,null,null,null,null,-16217]
["International aviation bunkers",null,null,-10699,null,null,null,null,null,null,null,-10699]
["Stock changes",-3803,189,-970,-262,null,null,null,null,null,null,-4846]
["TES",184285,274904,2126,90758,11408,14150,9193,279399,72,null,866294]
["Transfers",null,-9271,9779,null,null,null,null,null,null,null,508]
["Statistical differences",-3731,-5865,1274,90,null,null,null,44,-98,-19,-8304]
["Electricity plants",-98125,null,-39544,-36059,-11408,-14150,-9122,-408,77517,null,-131298]
["CHP plants",-3419,null,-587,-67,null,null,null,null,1328,683,-2061]
["Heat plants"]
["Gas works",null,null,-95,86,null,null,null,null,null,null,-9]
["Oil refineries",null,-257958,252019,null,null,null,null,null,null,null,-5940]
["Coal transformation",-8757,null,null,null,null,null,null,null,null,null,-8757]
["Liquefication plants",null,329,null,-798,null,null,null,null,null,null,-469]
["Other transformation",null,null,null,null,null,null,null,-14071,null,null,-14071]
["Energy industry own use",-2075,-477,-13660,-20315,null,null,null,null,-4912,-41,-41480]
["Losses",-7,-96,-11,-2027,null,null,null,null,-11697,-28,-13865]
["Total final consumption",68172,1566,211301,31668,null,null,71,264963,62210,596,640548]
["Industry",53277,null,42144,11053,null,null,1,43625,28476,234,178811]
["Transport",147,null,97871,23,null,null,null,null,576,null,98617]
["Residential",3172,null,26701,3645,null,null,65,214980,13658,236,262458]
["Commercial and public services",3704,null,3372,604,null,null,3,5596,8210,111,21600]
["Agriculture / forestry",85,null,11215,105,null,null,null,4,8116,15,19541]
["Fishing",null,null,1587,null,null,null,null,null,141,null,1728]
["Non-specified",7589,null,1753,187,null,null,1,758,3032,null,13320]
["Non-energy use",197,1566,26659,16051,null,null,null,null,null,null,44472]
[]
[null,{"$f":"SUM(B9,B10:B21,B22*-1)","v":-1},{"$f":"SUM(C9,C10:C21,C22*-1)","v":0},0,0,0,0,0,1,0,-1,0]

{"sheet":"Asia excluding China 2000","index":73,"n_rows":32,"n_cols":12,"rows_kept":32,"cut":false,"hidden":true,"merged":[]}
[null,"Coal*","Crude oil","Oil products","Natural gas","Nuclear","Hydro","Geothermal, solar, etc.","Biofuels and waste","Electricity","Heat","Total**"]
[null,"ktoe","ktoe","ktoe","ktoe","ktoe","ktoe","ktoe","ktoe","ktoe","ktoe","ktoe"]
["Production",209107,183252,null,183047,14957,14361,18625,298274,null,null,921622]
["Imports",54828,236853,109934,8018,null,null,null,51,460,null,410144]
["Exports",-36261,-77148,-77782,-64038,null,null,null,-86,-407,null,-255722]
["International marine bunkers",null,null,-24199,null,null,null,null,null,null,null,-24199]
["International aviation bunkers",null,null,-13535,null,null,null,null,null,null,null,-13535]
["Stock changes",1733,-1055,-1366,-199,null,null,null,null,null,null,-888]
["TES",229406,341902,-6948,126827,14957,14361,18625,298240,53,null,1037422]
["Transfers",null,-9667,9982,null,null,null,null,null,null,null,315]
["Statistical differences",-4001,-1728,-892,695,null,null,null,-17,229,-77,-5792]
["Electricity plants",-139688,null,-42037,-55426,-14957,-14361,-18518,-1978,103894,null,-183072]
["CHP plants",-6207,null,-1015,-219,null,null,null,null,2747,689,-4005]
["Heat plants"]
["Gas works",-20,null,-120,105,null,null,null,null,null,null,-35]
["Oil refineries",null,-327489,323433,null,null,null,null,null,null,null,-4056]
["Coal transformation",-9684,null,null,null,null,null,null,null,null,null,-9684]
["Liquefication plants",null,163,null,-451,null,null,null,null,null,null,-288]
["Other transformation",null,null,-2,null,null,null,null,-13348,null,null,-13351]
["Energy industry own use",-1849,-778,-17129,-23646,null,null,null,null,-6460,-58,-49920]
["Losses",-7,-137,-50,-3802,null,null,null,null,-19401,-23,-23422]
["Total final consumption",67951,2265,265221,44083,null,null,106,282896,81061,530,744113]
["Industry",55842,null,50317,18224,null,null,2,48251,36333,196,209165]
["Transport",25,null,117613,204,null,null,null,70,784,null,118697]
["Residential",3193,null,34620,4786,null,null,97,227568,20166,266,290696]
["Commercial and public services",2910,null,5231,762,null,null,5,6267,11866,66,27106]
["Agriculture / forestry",25,null,14836,139,null,null,null,7,8139,3,23150]
["Fishing",null,null,1122,null,null,null,null,null,89,null,1211]
["Non-specified",5779,null,2833,69,null,null,2,732,3683,null,13097]
["Non-energy use",177,2265,38650,19899,null,null,null,null,null,null,60991]
[]
[null,{"$f":"SUM(B9,B10:B21,B22*-1)","v":-1},{"$f":"SUM(C9,C10:C21,C22*-1)","v":1},1,0,0,0,1,1,1,1,-1]

{"sheet":"Asia excluding China 2005","index":74,"n_rows":32,"n_cols":12,"rows_kept":32,"cut":false,"hidden":true,"merged":[]}
[null,"Coal*","Crude oil","Oil products","Natural gas","Nuclear","Hydro","Geothermal, solar, etc.","Biofuels and waste","Electricity","Heat","Total**"]
[null,"ktoe","ktoe","ktoe","ktoe","ktoe","ktoe","ktoe","ktoe","ktoe","ktoe","ktoe"]
["Production",314582,185310,null,231501,15576,19048,20606,317787,null,null,1104409]
["Imports",80018,308248,140205,27244,null,null,null,38,690,null,556443]
["Exports",-90504,-81523,-127593,-78617,null,null,null,-159,-657,null,-379053]
["International marine bunkers",null,null,-30795,null,null,null,null,null,null,null,-30795]
["International aviation bunkers",null,null,-17255,null,null,null,null,null,null,null,-17255]
["Stock changes",-5782,702,378,18,null,null,null,-4,null,null,-4688]
["TES",298314,412737,-35061,180147,15576,19048,20606,317661,33,null,1229060]
["Transfers",null,-9804,9413,null,null,null,null,null,null,null,-391]
["Statistical differences",-1496,-3025,1607,-931,null,null,null,12,1080,null,-2754]
["Electricity plants",-181037,null,-34286,-84761,-15576,-19048,-20420,-4488,134129,null,-225487]
["CHP plants",-8834,null,-1349,-223,null,null,null,-1008,3926,1902,-5587]
["Heat plants"]
["Gas works",-12,null,-118,106,null,null,null,null,null,null,-24]
["Oil refineries",null,-397981,391494,null,null,null,null,null,null,null,-6486]
["Coal transformation",-12186,null,null,null,null,null,null,null,null,null,-12186]
["Liquefication plants",null,962,null,-1567,null,null,null,null,null,null,-605]
["Other transformation",null,null,null,null,null,null,null,-13633,null,null,-13633]
["Energy industry own use",-1983,-457,-19377,-29797,null,null,null,null,-8001,-349,-59964]
["Losses",-58,-148,-29,-3155,null,null,null,null,-23201,-18,-26609]
["Total final consumption",92707,2283,312294,59820,null,null,186,298544,107965,1534,875334]
["Industry",79207,null,50716,28620,null,null,6,49489,48470,1044,257552]
["Transport",1,null,138493,1788,null,null,null,137,1026,null,141445]
["Residential",3567,null,37124,6337,null,null,164,241008,27222,305,315728]
["Commercial and public services",2851,null,5713,1079,null,null,11,7143,17189,138,34124]
["Agriculture / forestry",33,null,15230,144,null,null,null,8,8973,7,24395]
["Fishing",null,null,1201,null,null,null,null,null,92,null,1293]
["Non-specified",6858,null,4850,76,null,null,5,758,4993,41,17581]
["Non-energy use",190,2283,58967,21775,null,null,null,null,null,null,83216]
[]
[null,{"$f":"SUM(B9,B10:B21,B22*-1)","v":1},{"$f":"SUM(C9,C10:C21,C22*-1)","v":1},0,-1,0,0,0,0,1,1,0]

{"sheet":"Asia excluding China 2010","index":75,"n_rows":32,"n_cols":12,"rows_kept":32,"cut":false,"hidden":true,"merged":[]}
[null,"Coal*","Crude oil","Oil products","Natural gas","Nuclear","Hydro","Geothermal, solar, etc.","Biofuels and waste","Electricity","Heat","Total**"]
[null,"ktoe","ktoe","ktoe","ktoe","ktoe","ktoe","ktoe","ktoe","ktoe","ktoe","ktoe"]
["Production",467223,179337,null,274051,18582,23426,26846,351984,null,null,1341449]
["Imports",141781,349627,221423,45078,null,null,null,192,2318,null,760419]
["Exports",-183652,-58651,-193876,-84143,null,null,null,-744,-1269,null,-522335]
["International marine bunkers",null,null,-45362,null,null,null,null,null,null,null,-45362]
["International aviation bunkers",null,null,-20447,null,null,null,null,null,null,null,-20447]
["Stock changes",-3485,-993,2943,-33,null,null,null,14,null,null,-1555]
["TES",421866,469320,-35320,234953,18582,23426,26846,351446,1049,null,1512169]
["Transfers",null,368,-864,null,null,null,null,-47,null,null,-544]
["Statistical differences",246,-917,-986,-9421,null,null,null,-99,111,-2,-11067]
["Electricity plants",-247129,null,-34880,-116660,-18582,-23426,-26447,-11757,176190,null,-302691]
["CHP plants",-10085,null,-723,-239,null,null,null,-1037,3855,2710,-5520]
["Heat plants"]
["Gas works",-15,null,null,null,null,null,null,null,null,null,-15]
["Oil refineries",null,-465222,455983,null,null,null,null,null,null,null,-9239]
["Coal transformation",-12946,null,null,null,null,null,null,null,null,null,-12946]
["Liquefication plants",null,867,null,-1057,null,null,null,null,null,null,-190]
["Other transformation",null,null,null,null,null,null,null,-15490,null,null,-15491]
["Energy industry own use",-1992,-308,-18623,-23803,null,null,null,null,-10067,-502,-55295]
["Losses",-135,-188,null,-7130,null,null,null,null,-24725,-20,-32198]
["Total final consumption",149808,3920,364587,76644,null,null,399,323015,146413,2185,1066972]
["Industry",132864,null,47652,33534,null,null,18,53107,65304,1611,334089]
["Transport",33,null,177272,6724,null,null,null,1105,1463,null,186597]
["Residential",4164,null,36076,8596,null,null,336,260320,37351,336,347179]
["Commercial and public services",3531,null,7563,1948,null,null,31,7697,24325,205,45299]
["Agriculture / forestry",23,null,15642,183,null,null,null,9,12292,4,28153]
["Fishing",null,null,1535,null,null,null,null,4,92,null,1631]
["Non-specified",8912,null,6683,26,null,null,15,774,5586,28,22022]
["Non-energy use",283,3920,72165,25634,null,null,null,null,null,null,102001]
[]
[null,{"$f":"SUM(B9,B10:B21,B22*-1)","v":2},{"$f":"SUM(C9,C10:C21,C22*-1)","v":0},0,-1,0,0,0,1,0,1,1]

{"sheet":"Asia excluding China 2015","index":76,"n_rows":32,"n_cols":12,"rows_kept":32,"cut":false,"hidden":true,"merged":[]}
[null,"Coal*","Crude oil","Oil products","Natural gas","Nuclear","Hydro","Geothermal, solar, etc.","Biofuels and waste","Electricity","Heat","Total**"]
[null,"ktoe","ktoe","ktoe","ktoe","ktoe","ktoe","ktoe","ktoe","ktoe","ktoe","ktoe"]
["Production",574555,174732,null,263581,20451,28290,32179,346981,null,null,1440769]
["Imports",210638,403133,269939,64947,null,null,null,390,3457,null,952502]
["Exports",-232400,-56500,-204793,-81057,null,null,null,-881,-2197,null,-577827]
["International marine bunkers",null,null,-48937,null,null,null,null,null,null,null,-48937]
["International aviation bunkers",null,null,-25453,null,null,null,null,null,null,null,-25453]
["Stock changes",-4644,3124,-1409,-86,null,null,null,-88,null,null,-3102]
["TES",548149,524489,-10654,247386,20451,28290,32179,346401,1260,null,1737952]
["Transfers",null,-1816,1828,null,null,null,null,-27,null,null,-15]
["Statistical differences",-8114,-7926,8062,3512,null,null,null,-93,-302,-1,-4863]
["Electricity plants",-353645,null,-27024,-119991,-20451,-28290,-31406,-21034,231296,null,-370545]
["CHP plants",-11162,null,-317,-204,null,null,null,-1113,3857,2720,-6219]
["Heat plants"]
["Gas works",-20,null,null,null,null,null,null,null,null,null,-20]
["Oil refineries",null,-512709,502189,null,null,null,null,null,null,null,-10519]
["Coal transformation",-20105,null,null,null,null,null,null,null,null,null,-20105]
["Liquefication plants",null,465,null,-862,null,null,null,null,null,null,-397]
["Other transformation",null,null,null,null,null,null,null,-15380,null,null,-15380]
["Energy industry own use",-2633,-628,-22168,-29608,null,null,null,null,-13587,-495,-69119]
["Losses",-249,-200,null,-4800,null,null,null,null,-30216,-33,-35497]
["Total final consumption",152220,1674,451917,95433,null,null,773,308754,192308,2191,1205271]
["Industry",137333,null,64195,38794,null,null,40,63085,83288,1456,388190]
["Transport",16,null,227779,7704,null,null,null,3237,1798,null,240534]
["Residential",4305,null,40846,10155,null,null,631,233210,52477,404,342028]
["Commercial and public services",4607,null,8791,2789,null,null,68,8119,28673,294,53341]
["Agriculture / forestry",28,null,19369,182,null,null,null,320,16514,5,36418]
["Fishing",null,null,1298,null,null,null,null,3,108,null,1409]
["Non-specified",5633,null,7104,26,null,null,33,781,9451,32,23059]
["Non-energy use",298,1674,82536,35784,null,null,null,null,null,null,120293]
[]
[null,{"$f":"SUM(B9,B10:B21,B22*-1)","v":1},{"$f":"SUM(C9,C10:C21,C22*-1)","v":1},-1,0,0,0,0,0,0,0,2]

{"sheet":"Asia excluding China 2018","index":77,"n_rows":32,"n_cols":12,"rows_kept":32,"cut":false,"hidden":true,"merged":[]}
[null,"Coal*","Crude oil","Oil products","Natural gas","Nuclear","Hydro","Geothermal, solar, etc.","Biofuels and waste","Electricity","Heat","Total**"]
[null,"ktoe","ktoe","ktoe","ktoe","ktoe","ktoe","ktoe","ktoe","ktoe","ktoe","ktoe"]
["Production",656356,163312,null,257962,19790,36038,44854,348831,null,null,1527144]
["Imports",246070,447880,291067,82199,null,null,null,413,4745,null,1072375]
["Exports",-262799,-42631,-206240,-76506,null,null,null,-2265,-4047,null,-594489]
["International marine bunkers",null,null,-54316,null,null,null,null,null,null,null,-54316]
["International aviation bunkers",null,null,-30404,null,null,null,null,null,null,null,-30404]
["Stock changes",334,4643,-350,-179,null,null,null,269,null,null,4716]
["TES",639961,573204,-243,263476,19790,36038,44854,347248,698,null,1925025]
["Transfers",null,-3259,3426,null,null,null,null,null,null,null,167]
["Statistical differences",-9687,-11187,8395,6776,null,null,null,-29,-2190,-76,-7998]
["Electricity plants",-423080,null,-25565,-124180,-19790,-36038,-43746,-41939,275110,null,-439228]
["CHP plants",-11889,null,-466,-210,null,null,null,-1102,4053,3574,-6040]
["Heat plants"]
["Gas works",-22,null,null,null,null,null,null,null,null,null,-22]
["Oil refineries",null,-556307,546766,null,null,null,null,null,null,null,-9541]
["Coal transformation",-24450,null,null,null,null,null,null,null,null,null,-24450]
["Liquefication plants",null,544,null,-1103,null,null,null,null,null,null,-559]
["Other transformation",null,null,null,null,null,null,null,-11957,null,null,-11957]
["Energy industry own use",-2924,-284,-25004,-29773,null,null,null,-17,-14826,-570,-73397]
["Losses",-351,-212,null,-2543,null,null,null,null,-34176,-49,-37330]
["Total final consumption",167557,2500,507309,112443,null,null,1108,292205,228669,2879,1314670]
["Industry",150980,null,63040,48175,null,null,60,62672,99899,2104,426932]
["Transport",14,null,267297,8117,null,null,null,6566,2036,null,284030]
["Residential",4800,null,44086,12078,null,null,895,213489,64095,410,339854]
["Commercial and public services",5319,null,10907,3367,null,null,103,8350,34665,323,63034]
["Agriculture / forestry",13,null,19235,190,null,null,null,337,20418,5,40200]
["Fishing",null,null,1143,null,null,null,null,3,112,null,1258]
["Non-specified",6058,null,7069,51,null,null,50,788,7443,36,21495]
["Non-energy use",372,2500,94531,40465,null,null,null,null,null,null,137868]
[]
[null,{"$f":"SUM(B9,B10:B21,B22*-1)","v":1},{"$f":"SUM(C9,C10:C21,C22*-1)","v":-1},0,0,0,0,0,-1,0,0,0]

{"sheet":"BL Non-OECD Americas 2050","index":78,"n_rows":25,"n_cols":34,"rows_kept":25,"cut":false,"hidden":true,"merged":[]}
[null,"Consumption","Coal","Crude oil","Oil Products","Natual Gas","Nuclear","Hydro","Geothermal, solar, wind, etc.","Biofuels and waste","Electricity","Heat","Energy Services","Total consumption","Non-OECD Americas 2050",null,null,"Faktor","Total production","Efficiency","Production","Coal","Crude oil","Oil Products","Natual Gas","Nuclear","Hydro","Geothermal, solar, wind, etc.","Biofuels and waste","Electricity","Heat","Energy Services","Loss","CO2-emissions"]
["ID","C ","CC","CCO","COP","CNG","CNU","CHY","CGSW","CWB","CE","CH","CES","fbrbr",null,"ID","ID Parent","factor","pbrpr","pvrkg","P ","PC","PCO","POP","PNG","PNU","PHY","PGSW","PWB","PE","PH","PES","PTAB","PCO2"]
["ID Parent",null,"C","C","C ","C ","C ","C","C","C ","C ","C ","C ",null,"Structures",null,null,null,null,null,null,"P ","P ","P ","P ","P ","P ","P","P ","P ","P ","P "]
["Factor",null,null,null,null,null,null,null,null,null,null,null,null,null,null,null,null,null,null,null,{"$f":"B4","v":0},null,null,null,null,null,null,null,null,null,null,null,{"$f":"U4","v":0},{"$f":"U4","v":0}]
[null,null,null,null,null,null,null,null,null,null,null,null,null,{"$f":"SUM(C5:M5)","v":0},"Entry fuels","ETP",null,null,{"$f":"SUM(V5:AF5)","v":{"$error":"#REF!"}},null,null,{"$f":"-(C6+C5)","v":{"$error":"#REF!"}},{"$f":"-(D6+D5)","v":{"$error":"#REF!"}},null,{"$f":"-(F6+F5)","v":{"$error":"#REF!"}},{"$f":"-(G6+G5)","v":{"$error":"#REF!"}},null,null,{"$f":"-(J6+J5)","v":{"$error":"#REF!"}}]
[null,null,{"$f":"-V6","v":{"$error":"#REF!"}},{"$f":"-W6","v":{"$error":"#REF!"}},null,{"$f":"-Y6","v":{"$error":"#REF!"}},{"$f":"-Z6","v":{"$error":"#REF!"}},null,null,{"$f":"-AC6","v":{"$error":"#REF!"}},null,null,null,{"$f":"SUM(C6:M6)","v":{"$error":"#REF!"}},"Transport of fuels","TRAP",null,null,{"$f":"SUM(V6:AF6)","v":{"$error":"#REF!"}},null,null,{"$f":"-(C16+C8)","v":{"$error":"#REF!"}},{"$f":"-(D16+D8)","v":{"$error":"#REF!"}},null,{"$f":"-(F16+F8)","v":{"$error":"#REF!"}},{"$f":"-(G16+G8)","v":{"$error":"#REF!"}},null,null,{"$f":"-(J16+J8)","v":{"$error":"#REF!"}},null,null,null,{"$f":"-(N6+S6)","v":{"$error":"#REF!"}}]
[null,null,null,null,null,null,null,null,null,null,null,null,null,0,"Entry On-Grid RE ","ELP1",null,null,{"$error":"#REF!"},null,null,null,null,null,null,null,{"$f":"-H8","v":{"$error":"#REF!"}},{"$f":"-I8","v":{"$error":"#REF!"}}]
[null,null,{"$f":"SUM(C9:C13)","v":{"$error":"#REF!"}},{"$f":"SUM(D9:D13)","v":{"$error":"#REF!"}},{"$error":"#REF!"},{"$error":"#REF!"},{"$error":"#REF!"},{"$error":"#REF!"},{"$error":"#REF!"},{"$error":"#REF!"},{"$error":"#REF!"},{"$error":"#REF!"},0,{"$error":"#REF!"},"Entry electricity, district heating and oil products","ES",null,null,{"$error":"#REF!"},null,null,{"$f":"SUM(V9:V13)","v":0},null,{"$f":"(E14+E8)*-1","v":{"$error":"#REF!"}},null,null,null,null,null,{"$f":"(K14+K8)*-1","v":{"$error":"#REF!"}},{"$f":"(L14+L8)*-1","v":{"$error":"#REF!"}},null,{"$f":"-(N8+S8)","v":{"$error":"#REF!"}},{"$f":"SUM(AH9:AH13)","v":{"$error":"#REF!"}}]
[null,null,{"$f":"-($AD$9+$H$9+$I$9)/$T$9*#REF!","v":{"$error":"#REF!"}},{"$f":"-($AD$9+$H$9+$I$9)/$T$9*#REF!","v":{"$error":"#REF!"}},{"$f":"-($AD$9+$H$9+$I$9)/$T$9*#REF!","v":{"$error":"#REF!"}},{"$f":"-($AD$9+$H$9+$I$9)/$T$9*#REF!","v":{"$error":"#REF!"}},{"$f":"-($AD$9+$H$9+$I$9)/$T$9*#REF!","v":{"$error":"#REF!"}},{"$f":"AD9*#REF!*-1","v":{"$error":"#REF!"}},{"$f":"AD9*#REF!*-1","v":{"$error":"#REF!"}},{"$f":"-($AD$9+$H$9+$I$9)/$T$9*#REF!","v":{"$error":"#REF!"}},null,null,null,{"$error":"#REF!"},"Electricity-only plants","ESEP","ES",null,{"$error":"#REF!"},{"$f":"#REF!","v":{"$error":"#REF!"}},null,null,null,null,null,null,null,null,null,{"$f":"AD8-AD10","v":{"$error":"#REF!"}},null,null,{"$f":"-(S9+N9)","v":{"$error":"#REF!"}},{"$f":"-(C9*Emissionsfaktorer!$B$2*(1-#REF!)+D9*Emissionsfaktorer!$B$3+E9*Emissionsfaktorer!$B$4*(1-#REF!)+F9*Emissionsfaktorer!$B$5*(1-#REF!)+G9*Emissionsfaktorer!$B$6+H9*Emissionsfaktorer!$B$7+I9*Emissionsfaktorer!$B$8-J9*Emissionsfaktorer!B13*#REF!+K9*Emissionsfaktorer!$B$10+L9*Emissionsfaktorer!$B$11+M9*Emissionsfaktorer!$B$12)","v":{"$error":"#REF!"}}]
[null,null,{"$f":"-($AD$10+$AE$10+$H$10+$I$10)/$T$10*#REF!","v":{"$error":"#REF!"}},{"$f":"-($AD$10+$AE$10+$H$10+$I$10)/$T$10*#REF!","v":{"$error":"#REF!"}},{"$f":"-($AD$10+$AE$10+$H$10+$I$10)/$T$10*#REF!","v":{"$error":"#REF!"}},{"$f":"-($AD$10+$AE$10+$H$10+$I$10)/$T$10*#REF!","v":{"$error":"#REF!"}},{"$f":"-($AD$10+$AE$10+$H$10+$I$10)/$T$10*#REF!","v":{"$error":"#REF!"}},null,{"$f":"(AD10+AE10)*#REF!*-1","v":{"$error":"#REF!"}},{"$f":"-($AD$10+$AE$10+$H$10+$I$10)/$T$10*#REF!","v":{"$error":"#REF!"}},null,null,null,{"$error":"#REF!"},"CHP plants","ESCHP","ES",null,{"$error":"#REF!"},{"$f":"#REF!","v":{"$error":"#REF!"}},null,null,null,null,null,null,null,null,null,{"$f":"AE10*#REF!","v":{"$error":"#REF!"}},{"$f":"AE8*#REF!","v":{"$error":"#REF!"}},null,{"$f":"-(S10+N10)","v":{"$error":"#REF!"}},{"$f":"-(C10*Emissionsfaktorer!$B$2*(1-#REF!)+D10*Emissionsfaktorer!$B$3+E10*Emissionsfaktorer!$B$4*(1-#REF!)+F10*Emissionsfaktorer!$B$5*(1-#REF!)+G10*Emissionsfaktorer!$B$6+H10*Emissionsfaktorer!$B$7+I10*Emissionsfaktorer!$B$8-J10*Emissionsfaktorer!B14*#REF!+K10*Emissionsfaktorer!$B$10+L10*Emissionsfaktorer!$B$11+M10*Emissionsfaktorer!$B$12)","v":{"$error":"#REF!"}}]
[null,null,{"$f":"-($AE$11+$H$11+$I$11)/IF($T$11=0,1,$T$11)*#REF!","v":{"$error":"#REF!"}},{"$f":"-($AE$11+$H$11+$I$11)/IF($T$11=0,1,$T$11)*#REF!","v":{"$error":"#REF!"}},{"$f":"-($AE$11+$H$11+$I$11)/IF($T$11=0,1,$T$11)*#REF!","v":{"$error":"#REF!"}},{"$f":"-($AE$11+$H$11+$I$11)/IF($T$11=0,1,$T$11)*#REF!","v":{"$error":"#REF!"}},{"$f":"-($AE$11+$H$11+$I$11)/IF($T$11=0,1,$T$11)*#REF!","v":{"$error":"#REF!"}},null,{"$f":"AE11*#REF!*-1","v":{"$error":"#REF!"}},{"$f":"-($AE$11+$H$11+$I$11)/IF($T$11=0,1,$T$11)*#REF!","v":{"$error":"#REF!"}},{"$f":"AE11*#REF!*-1","v":{"$error":"#REF!"}},null,null,{"$error":"#REF!"},"Heat Plants","ESHP","ES",null,{"$error":"#REF!"},{"$f":"#REF!","v":{"$error":"#REF!"}},null,null,null,null,null,null,null,null,null,null,{"$f":"AE8*#REF!","v":{"$error":"#REF!"}},null,{"$f":"-(S11+N11)","v":{"$error":"#REF!"}},{"$f":"-(C11*Emissionsfaktorer!$B$2+D11*Emissionsfaktorer!$B$3+E11*Emissionsfaktorer!$B$4+F11*Emissionsfaktorer!$B$5+G11*Emissionsfaktorer!$B$6+H11*Emissionsfaktorer!$B$7+I11*Emissionsfaktorer!$B$8+J11*Emissionsfaktorer!$B$9+K11*Emissionsfaktorer!$B$10+L11*Emissionsfaktorer!$B$11+M11*Emissionsfaktorer!$B$12)","v":{"$error":"#REF!"}}]
[null,null,null,{"$f":"-X12/T12*#REF!","v":{"$error":"#REF!"}},null,null,null,null,null,{"$f":"-X12/T12*#REF!","v":{"$error":"#REF!"}},null,null,null,{"$error":"#REF!"},"Oil refineries","ESOR","ES",null,{"$error":"#REF!"},{"$f":"#REF!","v":{"$error":"#REF!"}},null,null,null,{"$f":"-(E9+E10+E11+E13+E14)","v":{"$error":"#REF!"}},null,null,null,null,null,null,null,null,{"$f":"-(S12+N12)","v":{"$error":"#REF!"}},{"$f":"J12*Emissionsfaktorer!B4","v":{"$error":"#REF!"}}]
[null,null,{"$f":"N13*#REF!","v":{"$error":"#REF!"}},{"$f":"N13*#REF!","v":{"$error":"#REF!"}},{"$f":"N13*#REF!","v":{"$error":"#REF!"}},{"$f":"N13*#REF!","v":{"$error":"#REF!"}},null,null,null,{"$f":"N13*#REF!","v":{"$error":"#REF!"}},{"$f":"N13*#REF!","v":{"$error":"#REF!"}},{"$f":"N13*#REF!","v":{"$error":"#REF!"}},null,{"$f":"N16*#REF!","v":{"$error":"#REF!"}},"Energy Industry one use","ESNSP","ES",null,0,0,null,null,null,null,null,null,null,null,null,null,null,null,{"$f":"-(S13+N13)","v":{"$error":"#REF!"}},{"$f":"-(C13*Emissionsfaktorer!$B$2+D13*Emissionsfaktorer!$B$3+E13*Emissionsfaktorer!$B$4+F13*Emissionsfaktorer!$B$5+G13*Emissionsfaktorer!$B$6+H13*Emissionsfaktorer!$B$7+I13*Emissionsfaktorer!$B$8+J13*Emissionsfaktorer!$B$9+K13*Emissionsfaktorer!$B$10+L13*Emissionsfaktorer!$B$11+M13*Emissionsfaktorer!$B$12)","v":{"$error":"#REF!"}}]
[null,null,null,null,{"$f":"-X14*1","v":{"$error":"#REF!"}},null,null,null,null,null,{"$f":"-AD14*(1+#REF!)","v":{"$error":"#REF!"}},{"$f":"-AE14*(1+#REF!)","v":{"$error":"#REF!"}},null,{"$error":"#REF!"},"Transport electricity, district heating and oil products","TRAS",null,null,{"$error":"#REF!"},null,null,null,null,{"$f":"-E16","v":{"$error":"#REF!"}},null,null,null,null,null,{"$f":"-K16","v":{"$error":"#REF!"}},{"$f":"-L16","v":{"$error":"#REF!"}},null,{"$f":"-(N14+S14)","v":{"$error":"#REF!"}}]
[null,null,null,null,null,null,null,null,null,null,null,null,null,0,"Entry Off-Grid RE","ELP2",null,null,{"$error":"#REF!"},null,null,null,null,null,null,null,null,{"$f":"I16*-1","v":{"$error":"#REF!"}}]
[null,null,{"$f":"SUM(C17:C19)","v":{"$error":"#REF!"}},{"$error":"#REF!"},{"$error":"#REF!"},{"$error":"#REF!"},0,0,{"$error":"#REF!"},{"$error":"#REF!"},{"$error":"#REF!"},{"$error":"#REF!"},0,{"$f":"#REF!","v":{"$error":"#REF!"}},"Exit energy","EX",null,null,{"$error":"#REF!"},null,null,null,null,null,null,null,null,null,null,null,null,{"$f":"SUM(AF17:AF19)","v":{"$error":"#REF!"}},{"$f":"SUM(AG17:AG19)","v":{"$error":"#REF!"}},{"$f":"SUM(AH17:AH19)","v":{"$error":"#REF!"}}]
[null,null,{"$f":"AF17*#REF!/T17*#REF!/#REF!*-1","v":{"$error":"#REF!"}},{"$f":"AF17*#REF!/T17*#REF!/#REF!*-1","v":{"$error":"#REF!"}},{"$f":"AF17*#REF!/T17*#REF!/#REF!*-1","v":{"$error":"#REF!"}},{"$f":"AF17*#REF!/T17*#REF!/#REF!*-1","v":{"$error":"#REF!"}},null,null,{"$f":"AF17*#REF!/T17*#REF!/#REF!*-1","v":{"$error":"#REF!"}},{"$f":"AF17*#REF!*#REF!/T17/#REF!*-1","v":{"$error":"#REF!"}},{"$f":"AF17*#REF!*#REF!/T17/#REF!*-1","v":{"$error":"#REF!"}},{"$f":"AF17*#REF!*#REF!/T17/#REF!*-1","v":{"$error":"#REF!"}},null,{"$f":"SUM(C17:L17)","v":{"$error":"#REF!"}},"Industry","EXI","EX",null,{"$error":"#REF!"},{"$f":"(#REF!+#REF!+#REF!+#REF!+#REF!)*#REF!+(#REF!+#REF!)*#REF!+#REF!*#REF!","v":{"$error":"#REF!"}},null,null,null,null,null,null,null,null,null,null,null,{"$f":"#REF!*#REF!*((#REF!+#REF!+#REF!+#REF!+#REF!)*#REF!+(#REF!+#REF!)*#REF!+#REF!*#REF!)*-1","v":{"$error":"#REF!"}},{"$f":"(S17+SUM(C17:M17))*-1","v":{"$error":"#REF!"}},{"$f":"-(C17*Emissionsfaktorer!$B$2+D17*Emissionsfaktorer!$B$3+E17*Emissionsfaktorer!$B$4+F17*Emissionsfaktorer!$B$5+G17*Emissionsfaktorer!$B$6+H17*Emissionsfaktorer!$B$7+I17*Emissionsfaktorer!$B$8+J17*Emissionsfaktorer!$B$9+K17*Emissionsfaktorer!$B$10+L17*Emissionsfaktorer!$B$11+M17*Emissionsfaktorer!$B$12)","v":{"$error":"#REF!"}}]
[null,null,{"$f":"AF18*#REF!/T18*#REF!/#REF!*-1","v":{"$error":"#REF!"}},null,{"$f":"AF18*#REF!/T18*#REF!/#REF!*-1","v":{"$error":"#REF!"}},{"$f":"AF18*#REF!/T18*#REF!/#REF!*-1","v":{"$error":"#REF!"}},null,null,{"$f":"AF18*#REF!/T18*#REF!/#REF!*-1","v":{"$error":"#REF!"}},{"$f":"AF18*#REF!/T18*#REF!/#REF!*-1","v":{"$error":"#REF!"}},{"$f":"AF18*#REF!/T18*#REF!/#REF!*-1","v":{"$error":"#REF!"}},{"$f":"AF18*#REF!/T18*#REF!/#REF!*-1","v":{"$error":"#REF!"}},null,{"$f":"SUM(C18:L18)","v":{"$error":"#REF!"}},"Transport","EXT","EX",null,{"$error":"#REF!"},{"$f":"(#REF!+#REF!+#REF!+#REF!)*#REF!+(#REF!+#REF!)*#REF!+#REF!*#REF!","v":{"$error":"#REF!"}},null,null,null,null,null,null,null,null,null,null,null,{"$f":"#REF!*#REF!*-1*((#REF!+#REF!+#REF!+#REF!)*#REF!+(#REF!+#REF!)*#REF!+#REF!*#REF!)","v":{"$error":"#REF!"}},{"$f":"(S18+SUM(C18:M18))*-1","v":{"$error":"#REF!"}},{"$f":"-(C18*Emissionsfaktorer!$B$2+D18*Emissionsfaktorer!$B$3+E18*Emissionsfaktorer!$B$4+F18*Emissionsfaktorer!$B$5+G18*Emissionsfaktorer!$B$6+H18*Emissionsfaktorer!$B$7+I18*Emissionsfaktorer!$B$8+J18*Emissionsfaktorer!$B$9+K18*Emissionsfaktorer!$B$10+L18*Emissionsfaktorer!$B$11+M18*Emissionsfaktorer!$B$12)","v":{"$error":"#REF!"}}]
[null,null,{"$f":"SUM(C20:C24)","v":{"$error":"#REF!"}},{"$f":"SUM(D20:D24)","v":0},{"$error":"#REF!"},{"$error":"#REF!"},0,0,{"$error":"#REF!"},{"$error":"#REF!"},{"$error":"#REF!"},{"$error":"#REF!"},0,{"$f":"SUM(N20:N24)","v":{"$error":"#REF!"}},"Other ","EXO","EX",null,{"$error":"#REF!"},0.8,null,{"$f":"SUM(V20:V24)","v":0},{"$f":"SUM(W20:W24)","v":0},0,0,0,0,0,0,0,0,{"$error":"#REF!"},{"$error":"#REF!"},{"$error":"#REF!"}]
[null,null,{"$f":"AF20*#REF!/T20*#REF!/#REF!*-1","v":{"$error":"#REF!"}},null,{"$f":"AF20*#REF!/T20*#REF!/#REF!*-1","v":{"$error":"#REF!"}},{"$f":"AF20*#REF!/T20*#REF!/#REF!*-1","v":{"$error":"#REF!"}},null,null,{"$f":"AF20*#REF!/T20*#REF!/#REF!*-1","v":{"$error":"#REF!"}},{"$f":"AF20*#REF!/T20*#REF!/#REF!*-1","v":{"$error":"#REF!"}},{"$f":"AF20*#REF!/T20*#REF!/#REF!*-1","v":{"$error":"#REF!"}},{"$f":"AF20*#REF!/T20*#REF!/#REF!*-1","v":{"$error":"#REF!"}},null,{"$f":"SUM(C20:L20)","v":{"$error":"#REF!"}},"Residential","EXOR","EXO",null,{"$error":"#REF!"},{"$f":"(#REF!+#REF!+#REF!+#REF!)*#REF!+(#REF!+#REF!)*#REF!+#REF!*#REF!","v":{"$error":"#REF!"}},null,null,null,null,null,null,null,null,null,null,null,{"$f":"#REF!*#REF!*((#REF!+#REF!+#REF!+#REF!)*#REF!+(#REF!+#REF!)*#REF!+#REF!*#REF!)*-1","v":{"$error":"#REF!"}},{"$f":"(N20+AF20)*-1","v":{"$error":"#REF!"}},{"$f":"-(C20*Emissionsfaktorer!$B$2+D20*Emissionsfaktorer!$B$3+E20*Emissionsfaktorer!$B$4+F20*Emissionsfaktorer!$B$5+G20*Emissionsfaktorer!$B$6+H20*Emissionsfaktorer!$B$7+I20*Emissionsfaktorer!$B$8+J20*Emissionsfaktorer!$B$9+K20*Emissionsfaktorer!$B$10+L20*Emissionsfaktorer!$B$11+M20*Emissionsfaktorer!$B$12)","v":{"$error":"#REF!"}}]
[null,null,{"$f":"AF21*#REF!/T21*#REF!/#REF!*-1","v":{"$error":"#REF!"}},null,{"$f":"AF21*#REF!/T21*#REF!/#REF!*-1","v":{"$error":"#REF!"}},{"$f":"AF21*#REF!/T21*#REF!/#REF!*-1","v":{"$error":"#REF!"}},null,null,{"$f":"AF21*#REF!/T21*#REF!/#REF!*-1","v":{"$error":"#REF!"}},{"$f":"AF21*#REF!/T21*#REF!/#REF!*-1","v":{"$error":"#REF!"}},{"$f":"AF21*#REF!/T21*#REF!/#REF!*-1","v":{"$error":"#REF!"}},{"$f":"AF21*#REF!/T21*#REF!/#REF!*-1","v":{"$error":"#REF!"}},null,{"$f":"SUM(C21:L21)","v":{"$error":"#REF!"}},"Commercial and public services","EXOC","EXO",null,{"$error":"#REF!"},{"$f":"(#REF!+#REF!+#REF!+#REF!)*#REF!+(#REF!+#REF!)*#REF!+#REF!*#REF!","v":{"$error":"#REF!"}},null,null,null,null,null,null,null,null,null,null,null,{"$f":"#REF!*#REF!*((#REF!+#REF!+#REF!+#REF!)*#REF!+(#REF!+#REF!)*#REF!+#REF!*#REF!)*-1","v":{"$error":"#REF!"}},{"$f":"(N21+AF21)*-1","v":{"$error":"#REF!"}},{"$f":"-(C21*Emissionsfaktorer!$B$2+D21*Emissionsfaktorer!$B$3+E21*Emissionsfaktorer!$B$4+F21*Emissionsfaktorer!$B$5+G21*Emissionsfaktorer!$B$6+H21*Emissionsfaktorer!$B$7+I21*Emissionsfaktorer!$B$8+J21*Emissionsfaktorer!$B$9+K21*Emissionsfaktorer!$B$10+L21*Emissionsfaktorer!$B$11+M21*Emissionsfaktorer!$B$12)","v":{"$error":"#REF!"}}]
[null,null,{"$f":"AF22*#REF!/T22*#REF!/#REF!*-1","v":{"$error":"#REF!"}},null,{"$f":"AF22*#REF!/T22*#REF!/#REF!*-1","v":{"$error":"#REF!"}},{"$f":"AF22*#REF!/T22*#REF!/#REF!*-1","v":{"$error":"#REF!"}},null,null,{"$f":"AF22*#REF!/T22*#REF!/#REF!*-1","v":{"$error":"#REF!"}},{"$f":"AF22*#REF!/T22*#REF!/#REF!*-1","v":{"$error":"#REF!"}},{"$f":"AF22*#REF!/T22*#REF!/#REF!*-1","v":{"$error":"#REF!"}},{"$f":"AF22*#REF!/T22*#REF!/#REF!*-1","v":{"$error":"#REF!"}},null,{"$f":"SUM(C22:L22)","v":{"$error":"#REF!"}},"Agriculture / forestry","EXOA","EXO",null,{"$error":"#REF!"},{"$f":"(#REF!+#REF!+#REF!+#REF!)*#REF!+(#REF!+#REF!)*#REF!+#REF!*#REF!","v":{"$error":"#REF!"}},null,null,null,null,null,null,null,null,null,null,null,{"$f":"((#REF!+#REF!+#REF!+#REF!)*#REF!+(#REF!+#REF!)*#REF!+#REF!*#REF!)*#REF!*#REF!*-1","v":{"$error":"#REF!"}},{"$f":"(N22+AF22)*-1","v":{"$error":"#REF!"}},{"$f":"-(C22*Emissionsfaktorer!$B$2+D22*Emissionsfaktorer!$B$3+E22*Emissionsfaktorer!$B$4+F22*Emissionsfaktorer!$B$5+G22*Emissionsfaktorer!$B$6+H22*Emissionsfaktorer!$B$7+I22*Emissionsfaktorer!$B$8+J22*Emissionsfaktorer!$B$9+K22*Emissionsfaktorer!$B$10+L22*Emissionsfaktorer!$B$11+M22*Emissionsfaktorer!$B$12)","v":{"$error":"#REF!"}}]
[null,null,{"$f":"AF23*#REF!/T23*#REF!/#REF!*-1","v":{"$error":"#REF!"}},null,{"$f":"AF23*#REF!/T23*#REF!/#REF!*-1","v":{"$error":"#REF!"}},{"$f":"AF23*#REF!/T23*#REF!/#REF!*-1","v":{"$error":"#REF!"}},null,null,{"$f":"AF23*#REF!/T23*#REF!/#REF!*-1","v":{"$error":"#REF!"}},{"$f":"AF23*#REF!/T23*#REF!/#REF!*-1","v":{"$error":"#REF!"}},{"$f":"AF23*#REF!/T23*#REF!/#REF!*-1","v":{"$error":"#REF!"}},{"$f":"AF23*#REF!/T23*#REF!/#REF!*-1","v":{"$error":"#REF!"}},null,{"$f":"SUM(C23:L23)","v":{"$error":"#REF!"}},"Fishing","EXOF","EXO",null,{"$error":"#REF!"},{"$f":"(#REF!+#REF!+#REF!+#REF!)*#REF!+(#REF!+#REF!)*#REF!+#REF!*#REF!","v":{"$error":"#REF!"}},null,null,null,null,null,null,null,null,null,null,null,{"$f":"((#REF!+#REF!+#REF!+#REF!)*#REF!+(#REF!+#REF!)*#REF!+#REF!*#REF!)*#REF!*#REF!*-1","v":{"$error":"#REF!"}},{"$f":"(N23+AF23)*-1","v":{"$error":"#REF!"}},{"$f":"-(C23*Emissionsfaktorer!$B$2+D23*Emissionsfaktorer!$B$3+E23*Emissionsfaktorer!$B$4+F23*Emissionsfaktorer!$B$5+G23*Emissionsfaktorer!$B$6+H23*Emissionsfaktorer!$B$7+I23*Emissionsfaktorer!$B$8+J23*Emissionsfaktorer!$B$9+K23*Emissionsfaktorer!$B$10+L23*Emissionsfaktorer!$B$11+M23*Emissionsfaktorer!$B$12)","v":{"$error":"#REF!"}}]
[null,null,{"$f":"AF24*#REF!/T24*#REF!/#REF!*-1","v":{"$error":"#REF!"}},null,{"$f":"AF24*#REF!/T24*#REF!/#REF!*-1","v":{"$error":"#REF!"}},{"$f":"AF24*#REF!/T24*#REF!/#REF!*-1","v":{"$error":"#REF!"}},null,null,{"$f":"AF24*#REF!/T24*#REF!/#REF!*-1","v":{"$error":"#REF!"}},{"$f":"AF24*#REF!/T24*#REF!/#REF!*-1","v":{"$error":"#REF!"}},{"$f":"AF24*#REF!/T24*#REF!/#REF!*-1","v":{"$error":"#REF!"}},{"$f":"AF24*#REF!/T24*#REF!/#REF!*-1","v":{"$error":"#REF!"}},null,{"$f":"SUM(C24:L24)","v":{"$error":"#REF!"}},"Non-specified","EXON","EXO",null,{"$error":"#REF!"},{"$f":"(#REF!+#REF!+#REF!+#REF!)*#REF!+(#REF!+#REF!)*#REF!+#REF!*#REF!","v":{"$error":"#REF!"}},null,null,null,null,null,null,null,null,null,null,null,{"$f":"((#REF!+#REF!+#REF!+#REF!)*#REF!+(#REF!+#REF!)*#REF!+#REF!*#REF!)*#REF!*#REF!*-1","v":{"$error":"#REF!"}},{"$f":"(N24+AF24)*-1","v":{"$error":"#REF!"}},{"$f":"-(C24*Emissionsfaktorer!$B$2+D24*Emissionsfaktorer!$B$3+E24*Emissionsfaktorer!$B$4+F24*Emissionsfaktorer!$B$5+G24*Emissionsfaktorer!$B$6+H24*Emissionsfaktorer!$B$7+I24*Emissionsfaktorer!$B$8+J24*Emissionsfaktorer!$B$9+K24*Emissionsfaktorer!$B$10+L24*Emissionsfaktorer!$B$11+M24*Emissionsfaktorer!$B$12)","v":{"$error":"#REF!"}}]
[null,null,null,null,null,null,null,null,null,null,null,null,null,{"$f":"N16","v":{"$error":"#REF!"}},"Energy Services","EN",null,null,{"$error":"#REF!"},{"$f":"AF25/N25*-1","v":{"$error":"#REF!"}},null,null,null,null,null,null,null,null,null,null,null,{"$f":"AF16","v":{"$error":"#REF!"}},{"$f":"-(S25+N25)","v":{"$error":"#REF!"}}]

{"sheet":"BL Non-OECD Americas 2030","index":79,"n_rows":25,"n_cols":34,"rows_kept":25,"cut":false,"hidden":true,"merged":[]}
[null,"Consumption","Coal","Crude oil","Oil Products","Natual Gas","Nuclear","Hydro","Geothermal, solar, wind, etc.","Biofuels and waste","Electricity","Heat","Energy Services","Total consumption","Non-OECD Americas 2030",null,null,"Faktor","Total production","Efficiency","Production","Coal","Crude oil","Oil Products","Natual Gas","Nuclear","Hydro","Geothermal, solar, wind, etc.","Biofuels and waste","Electricity","Heat","Energy Services","Loss","CO2-emissions"]
["ID","C ","CC","CCO","COP","CNG","CNU","CHY","CGSW","CWB","CE","CH","CES","fbrbr",null,"ID","ID Parent","factor","pbrpr","pvrkg","P ","PC","PCO","POP","PNG","PNU","PHY","PGSW","PWB","PE","PH","PES","PTAB","PCO2"]
["ID Parent",null,"C","C","C ","C ","C ","C","C","C ","C ","C ","C ",null,"Structures",null,null,null,null,null,null,"P ","P ","P ","P ","P ","P ","P","P ","P ","P ","P "]
["Factor",null,null,null,null,null,null,null,null,null,null,null,null,null,null,null,null,null,null,null,{"$f":"B4","v":0},null,null,null,null,null,null,null,null,null,null,null,{"$f":"U4","v":0},{"$f":"U4","v":0}]
[null,null,null,null,null,null,null,null,null,null,null,null,null,{"$f":"SUM(C5:M5)","v":0},"Entry fuels","ETP",null,null,{"$f":"SUM(V5:AF5)","v":{"$error":"#REF!"}},null,null,{"$f":"-(C6+C5)","v":{"$error":"#REF!"}},{"$f":"-(D6+D5)","v":{"$error":"#REF!"}},null,{"$f":"-(F6+F5)","v":{"$error":"#REF!"}},{"$f":"-(G6+G5)","v":{"$error":"#REF!"}},null,null,{"$f":"-(J6+J5)","v":{"$error":"#REF!"}}]
[null,null,{"$f":"-V6","v":{"$error":"#REF!"}},{"$f":"-W6","v":{"$error":"#REF!"}},null,{"$f":"-Y6","v":{"$error":"#REF!"}},{"$f":"-Z6","v":{"$error":"#REF!"}},null,null,{"$f":"-AC6","v":{"$error":"#REF!"}},null,null,null,{"$f":"SUM(C6:M6)","v":{"$error":"#REF!"}},"Transport of fuels","TRAP",null,null,{"$f":"SUM(V6:AF6)","v":{"$error":"#REF!"}},null,null,{"$f":"-(C16+C8)","v":{"$error":"#REF!"}},{"$f":"-(D16+D8)","v":{"$error":"#REF!"}},null,{"$f":"-(F16+F8)","v":{"$error":"#REF!"}},{"$f":"-(G16+G8)","v":{"$error":"#REF!"}},null,null,{"$f":"-(J16+J8)","v":{"$error":"#REF!"}},null,null,null,{"$f":"-(N6+S6)","v":{"$error":"#REF!"}}]
[null,null,null,null,null,null,null,null,null,null,null,null,null,0,"Entry On-Grid RE ","ELP1",null,null,{"$error":"#REF!"},null,null,null,null,null,null,null,{"$f":"-H8","v":{"$error":"#REF!"}},{"$f":"-I8","v":{"$error":"#REF!"}}]
[null,null,{"$f":"SUM(C9:C13)","v":{"$error":"#REF!"}},{"$f":"SUM(D9:D13)","v":{"$error":"#REF!"}},{"$error":"#REF!"},{"$error":"#REF!"},{"$error":"#REF!"},{"$error":"#REF!"},{"$error":"#REF!"},{"$error":"#REF!"},{"$error":"#REF!"},{"$error":"#REF!"},0,{"$error":"#REF!"},"Entry electricity, district heating and oil products","ES",null,null,{"$error":"#REF!"},null,null,{"$f":"SUM(V9:V13)","v":0},null,{"$f":"(E14+E8)*-1","v":{"$error":"#REF!"}},null,null,null,null,null,{"$f":"(K14+K8)*-1","v":{"$error":"#REF!"}},{"$f":"(L14+L8)*-1","v":{"$error":"#REF!"}},null,{"$f":"-(N8+S8)","v":{"$error":"#REF!"}},{"$f":"SUM(AH9:AH13)","v":{"$error":"#REF!"}}]
[null,null,{"$f":"-($AD$9+$H$9+$I$9)/$T$9*#REF!","v":{"$error":"#REF!"}},{"$f":"-($AD$9+$H$9+$I$9)/$T$9*#REF!","v":{"$error":"#REF!"}},{"$f":"-($AD$9+$H$9+$I$9)/$T$9*#REF!","v":{"$error":"#REF!"}},{"$f":"-($AD$9+$H$9+$I$9)/$T$9*#REF!","v":{"$error":"#REF!"}},{"$f":"-($AD$9+$H$9+$I$9)/$T$9*#REF!","v":{"$error":"#REF!"}},{"$f":"AD9*#REF!*-1","v":{"$error":"#REF!"}},{"$f":"AD9*#REF!*-1","v":{"$error":"#REF!"}},{"$f":"-($AD$9+$H$9+$I$9)/$T$9*#REF!","v":{"$error":"#REF!"}},null,null,null,{"$error":"#REF!"},"Electricity-only plants","ESEP","ES",null,{"$error":"#REF!"},{"$f":"#REF!","v":{"$error":"#REF!"}},null,null,null,null,null,null,null,null,null,{"$f":"AD8-AD10","v":{"$error":"#REF!"}},null,null,{"$f":"-(S9+N9)","v":{"$error":"#REF!"}},{"$f":"-(C9*Emissionsfaktorer!$B$2*(1-#REF!)+D9*Emissionsfaktorer!$B$3+E9*Emissionsfaktorer!$B$4*(1-#REF!)+F9*Emissionsfaktorer!$B$5*(1-#REF!)+G9*Emissionsfaktorer!$B$6+H9*Emissionsfaktorer!$B$7+I9*Emissionsfaktorer!$B$8-J9*Emissionsfaktorer!B13*#REF!+K9*Emissionsfaktorer!$B$10+L9*Emissionsfaktorer!$B$11+M9*Emissionsfaktorer!$B$12)","v":{"$error":"#REF!"}}]
[null,null,{"$f":"-($AD$10+$AE$10+$H$10+$I$10)/$T$10*#REF!","v":{"$error":"#REF!"}},{"$f":"-($AD$10+$AE$10+$H$10+$I$10)/$T$10*#REF!","v":{"$error":"#REF!"}},{"$f":"-($AD$10+$AE$10+$H$10+$I$10)/$T$10*#REF!","v":{"$error":"#REF!"}},{"$f":"-($AD$10+$AE$10+$H$10+$I$10)/$T$10*#REF!","v":{"$error":"#REF!"}},{"$f":"-($AD$10+$AE$10+$H$10+$I$10)/$T$10*#REF!","v":{"$error":"#REF!"}},null,{"$f":"(AD10+AE10)*#REF!*-1","v":{"$error":"#REF!"}},{"$f":"-($AD$10+$AE$10+$H$10+$I$10)/$T$10*#REF!","v":{"$error":"#REF!"}},null,null,null,{"$error":"#REF!"},"CHP plants","ESCHP","ES",null,{"$error":"#REF!"},{"$f":"#REF!","v":{"$error":"#REF!"}},null,null,null,null,null,null,null,null,null,{"$f":"AE10*#REF!","v":{"$error":"#REF!"}},{"$f":"AE8*#REF!","v":{"$error":"#REF!"}},null,{"$f":"-(S10+N10)","v":{"$error":"#REF!"}},{"$f":"-(C10*Emissionsfaktorer!$B$2*(1-#REF!)+D10*Emissionsfaktorer!$B$3+E10*Emissionsfaktorer!$B$4*(1-#REF!)+F10*Emissionsfaktorer!$B$5*(1-#REF!)+G10*Emissionsfaktorer!$B$6+H10*Emissionsfaktorer!$B$7+I10*Emissionsfaktorer!$B$8-J10*Emissionsfaktorer!B14*#REF!+K10*Emissionsfaktorer!$B$10+L10*Emissionsfaktorer!$B$11+M10*Emissionsfaktorer!$B$12)","v":{"$error":"#REF!"}}]
[null,null,{"$f":"-($AE$11+$H$11+$I$11)/IF($T$11=0,1,$T$11)*#REF!","v":{"$error":"#REF!"}},{"$f":"-($AE$11+$H$11+$I$11)/IF($T$11=0,1,$T$11)*#REF!","v":{"$error":"#REF!"}},{"$f":"-($AE$11+$H$11+$I$11)/IF($T$11=0,1,$T$11)*#REF!","v":{"$error":"#REF!"}},{"$f":"-($AE$11+$H$11+$I$11)/IF($T$11=0,1,$T$11)*#REF!","v":{"$error":"#REF!"}},{"$f":"-($AE$11+$H$11+$I$11)/IF($T$11=0,1,T11)*#REF!","v":{"$error":"#REF!"}},null,{"$f":"AE11*#REF!*-1","v":{"$error":"#REF!"}},{"$f":"-($AE$11+$H$11+$I$11)/IF($T$11=0,1,T11)*#REF!","v":{"$error":"#REF!"}},{"$f":"AE11*#REF!*-1","v":{"$error":"#REF!"}},null,null,{"$error":"#REF!"},"Heat Plants","ESHP","ES",null,{"$error":"#REF!"},{"$f":"#REF!","v":{"$error":"#REF!"}},null,null,null,null,null,null,null,null,null,null,{"$f":"AE8*#REF!","v":{"$error":"#REF!"}},null,{"$f":"-(S11+N11)","v":{"$error":"#REF!"}},{"$f":"-(C11*Emissionsfaktorer!$B$2+D11*Emissionsfaktorer!$B$3+E11*Emissionsfaktorer!$B$4+F11*Emissionsfaktorer!$B$5+G11*Emissionsfaktorer!$B$6+H11*Emissionsfaktorer!$B$7+I11*Emissionsfaktorer!$B$8+J11*Emissionsfaktorer!$B$9+K11*Emissionsfaktorer!$B$10+L11*Emissionsfaktorer!$B$11+M11*Emissionsfaktorer!$B$12)","v":{"$error":"#REF!"}}]
[null,null,null,{"$f":"-X12/T12*#REF!","v":{"$error":"#REF!"}},null,null,null,null,null,{"$f":"-X12/T12*#REF!","v":{"$error":"#REF!"}},null,null,null,{"$error":"#REF!"},"Oil refineries","ESOR","ES",null,{"$error":"#REF!"},{"$f":"#REF!","v":{"$error":"#REF!"}},null,null,null,{"$f":"-(E9+E10+E11+E13+E14)","v":{"$error":"#REF!"}},null,null,null,null,null,null,null,null,{"$f":"-(S12+N12)","v":{"$error":"#REF!"}},{"$f":"J12*Emissionsfaktorer!B4","v":{"$error":"#REF!"}}]
[null,null,{"$f":"N13*#REF!","v":{"$error":"#REF!"}},{"$f":"N13*#REF!","v":{"$error":"#REF!"}},{"$f":"N13*#REF!","v":{"$error":"#REF!"}},{"$f":"N13*#REF!","v":{"$error":"#REF!"}},null,null,null,{"$f":"N13*#REF!","v":{"$error":"#REF!"}},{"$f":"N13*#REF!","v":{"$error":"#REF!"}},{"$f":"N13*#REF!","v":{"$error":"#REF!"}},null,{"$f":"N16*#REF!","v":{"$error":"#REF!"}},"Energy Industry one use","ESNSP","ES",null,0,0,null,null,null,null,null,null,null,null,null,null,null,null,{"$f":"-(S13+N13)","v":{"$error":"#REF!"}},{"$f":"-(C13*Emissionsfaktorer!$B$2+D13*Emissionsfaktorer!$B$3+E13*Emissionsfaktorer!$B$4+F13*Emissionsfaktorer!$B$5+G13*Emissionsfaktorer!$B$6+H13*Emissionsfaktorer!$B$7+I13*Emissionsfaktorer!$B$8+J13*Emissionsfaktorer!$B$9+K13*Emissionsfaktorer!$B$10+L13*Emissionsfaktorer!$B$11+M13*Emissionsfaktorer!$B$12)","v":{"$error":"#REF!"}}]
[null,null,null,null,{"$f":"-X14*1","v":{"$error":"#REF!"}},null,null,null,null,null,{"$f":"-AD14*(1+#REF!)","v":{"$error":"#REF!"}},{"$f":"-AE14*(1+#REF!)","v":{"$error":"#REF!"}},null,{"$error":"#REF!"},"Transport electricity, district heating and oil products","TRAS",null,null,{"$error":"#REF!"},null,null,null,null,{"$f":"-E16","v":{"$error":"#REF!"}},null,null,null,null,null,{"$f":"-K16","v":{"$error":"#REF!"}},{"$f":"-L16","v":{"$error":"#REF!"}},null,{"$f":"-(N14+S14)","v":{"$error":"#REF!"}}]
[null,null,null,null,null,null,null,null,null,null,null,null,null,0,"Entry Off-Grid RE","ELP2",null,null,{"$error":"#REF!"},null,null,null,null,null,null,null,null,{"$f":"I16*-1","v":{"$error":"#REF!"}}]
[null,null,{"$f":"SUM(C17:C19)","v":{"$error":"#REF!"}},{"$error":"#REF!"},{"$error":"#REF!"},{"$error":"#REF!"},0,0,{"$error":"#REF!"},{"$error":"#REF!"},{"$error":"#REF!"},{"$error":"#REF!"},0,{"$f":"#REF!","v":{"$error":"#REF!"}},"Exit energy","EX",null,null,{"$error":"#REF!"},null,null,null,null,null,null,null,null,null,null,null,null,{"$f":"SUM(AF17:AF19)","v":{"$error":"#REF!"}},{"$f":"SUM(AG17:AG19)","v":{"$error":"#REF!"}},{"$f":"SUM(AH17:AH19)","v":{"$error":"#REF!"}}]
[null,null,{"$f":"AF17*#REF!/T17*#REF!/#REF!*-1","v":{"$error":"#REF!"}},{"$f":"AF17*#REF!/T17*#REF!/#REF!*-1","v":{"$error":"#REF!"}},{"$f":"AF17*#REF!/T17*#REF!/#REF!*-1","v":{"$error":"#REF!"}},{"$f":"AF17*#REF!/T17*#REF!/#REF!*-1","v":{"$error":"#REF!"}},null,null,{"$f":"AF17*#REF!/T17*#REF!/#REF!*-1","v":{"$error":"#REF!"}},{"$f":"AF17*#REF!*#REF!/T17/#REF!*-1","v":{"$error":"#REF!"}},{"$f":"AF17*#REF!*#REF!/T17/#REF!*-1","v":{"$error":"#REF!"}},{"$f":"AF17*#REF!*#REF!/T17/#REF!*-1","v":{"$error":"#REF!"}},null,{"$f":"SUM(C17:L17)","v":{"$error":"#REF!"}},"Industry","EXI","EX",null,{"$error":"#REF!"},{"$f":"(#REF!+#REF!+#REF!+#REF!+#REF!)*#REF!+(#REF!+#REF!)*#REF!+#REF!*#REF!","v":{"$error":"#REF!"}},null,null,null,null,null,null,null,null,null,null,null,{"$f":"#REF!*#REF!*((#REF!+#REF!+#REF!+#REF!+#REF!)*#REF!+(#REF!+#REF!)*#REF!+#REF!*#REF!)*-1","v":{"$error":"#REF!"}},{"$f":"(S17+SUM(C17:M17))*-1","v":{"$error":"#REF!"}},{"$f":"-(C17*Emissionsfaktorer!$B$2+D17*Emissionsfaktorer!$B$3+E17*Emissionsfaktorer!$B$4+F17*Emissionsfaktorer!$B$5+G17*Emissionsfaktorer!$B$6+H17*Emissionsfaktorer!$B$7+I17*Emissionsfaktorer!$B$8+J17*Emissionsfaktorer!$B$9+K17*Emissionsfaktorer!$B$10+L17*Emissionsfaktorer!$B$11+M17*Emissionsfaktorer!$B$12)","v":{"$error":"#REF!"}}]
[null,null,{"$f":"AF18*#REF!/T18*#REF!/#REF!*-1","v":{"$error":"#REF!"}},null,{"$f":"AF18*#REF!/T18*#REF!/#REF!*-1","v":{"$error":"#REF!"}},{"$f":"AF18*#REF!/T18*#REF!/#REF!*-1","v":{"$error":"#REF!"}},null,null,{"$f":"AF18*#REF!/T18*#REF!/#REF!*-1","v":{"$error":"#REF!"}},{"$f":"AF18*#REF!/T18*#REF!/#REF!*-1","v":{"$error":"#REF!"}},{"$f":"AF18*#REF!/T18*#REF!/#REF!*-1","v":{"$error":"#REF!"}},{"$f":"AF18*#REF!/T18*#REF!/#REF!*-1","v":{"$error":"#REF!"}},null,{"$f":"SUM(C18:L18)","v":{"$error":"#REF!"}},"Transport","EXT","EX",null,{"$error":"#REF!"},{"$f":"(#REF!+#REF!+#REF!+#REF!)*#REF!+(#REF!+#REF!)*#REF!+#REF!*#REF!","v":{"$error":"#REF!"}},null,null,null,null,null,null,null,null,null,null,null,{"$f":"#REF!*#REF!*-1*((#REF!+#REF!+#REF!+#REF!)*#REF!+(#REF!+#REF!)*#REF!+#REF!*#REF!)","v":{"$error":"#REF!"}},{"$f":"(S18+SUM(C18:M18))*-1","v":{"$error":"#REF!"}},{"$f":"-(C18*Emissionsfaktorer!$B$2+D18*Emissionsfaktorer!$B$3+E18*Emissionsfaktorer!$B$4+F18*Emissionsfaktorer!$B$5+G18*Emissionsfaktorer!$B$6+H18*Emissionsfaktorer!$B$7+I18*Emissionsfaktorer!$B$8+J18*Emissionsfaktorer!$B$9+K18*Emissionsfaktorer!$B$10+L18*Emissionsfaktorer!$B$11+M18*Emissionsfaktorer!$B$12)","v":{"$error":"#REF!"}}]
[null,null,{"$f":"SUM(C20:C24)","v":{"$error":"#REF!"}},{"$f":"SUM(D20:D24)","v":0},{"$error":"#REF!"},{"$error":"#REF!"},0,0,{"$error":"#REF!"},{"$error":"#REF!"},{"$error":"#REF!"},{"$error":"#REF!"},0,{"$f":"SUM(N20:N24)","v":{"$error":"#REF!"}},"Other ","EXO","EX",null,{"$error":"#REF!"},0.8,null,{"$f":"SUM(V20:V24)","v":0},{"$f":"SUM(W20:W24)","v":0},0,0,0,0,0,0,0,0,{"$error":"#REF!"},{"$error":"#REF!"},{"$error":"#REF!"}]
[null,null,{"$f":"AF20*#REF!/T20*#REF!/#REF!*-1","v":{"$error":"#REF!"}},null,{"$f":"AF20*#REF!/T20*#REF!/#REF!*-1","v":{"$error":"#REF!"}},{"$f":"AF20*#REF!/T20*#REF!/#REF!*-1","v":{"$error":"#REF!"}},null,null,{"$f":"AF20*#REF!/T20*#REF!/#REF!*-1","v":{"$error":"#REF!"}},{"$f":"AF20*#REF!/T20*#REF!/#REF!*-1","v":{"$error":"#REF!"}},{"$f":"AF20*#REF!/T20*#REF!/#REF!*-1","v":{"$error":"#REF!"}},{"$f":"AF20*#REF!/T20*#REF!/#REF!*-1","v":{"$error":"#REF!"}},null,{"$f":"SUM(C20:L20)","v":{"$error":"#REF!"}},"Residential","EXOR","EXO",null,{"$error":"#REF!"},{"$f":"(#REF!+#REF!+#REF!+#REF!)*#REF!+(#REF!+#REF!)*#REF!+#REF!*#REF!","v":{"$error":"#REF!"}},null,null,null,null,null,null,null,null,null,null,null,{"$f":"#REF!*#REF!*((#REF!+#REF!+#REF!+#REF!)*#REF!+(#REF!+#REF!)*#REF!+#REF!*#REF!)*-1","v":{"$error":"#REF!"}},{"$f":"(N20+AF20)*-1","v":{"$error":"#REF!"}},{"$f":"-(C20*Emissionsfaktorer!$B$2+D20*Emissionsfaktorer!$B$3+E20*Emissionsfaktorer!$B$4+F20*Emissionsfaktorer!$B$5+G20*Emissionsfaktorer!$B$6+H20*Emissionsfaktorer!$B$7+I20*Emissionsfaktorer!$B$8+J20*Emissionsfaktorer!$B$9+K20*Emissionsfaktorer!$B$10+L20*Emissionsfaktorer!$B$11+M20*Emissionsfaktorer!$B$12)","v":{"$error":"#REF!"}}]
[null,null,{"$f":"AF21*#REF!/T21*#REF!/#REF!*-1","v":{"$error":"#REF!"}},null,{"$f":"AF21*#REF!/T21*#REF!/#REF!*-1","v":{"$error":"#REF!"}},{"$f":"AF21*#REF!/T21*#REF!/#REF!*-1","v":{"$error":"#REF!"}},null,null,{"$f":"AF21*#REF!/T21*#REF!/#REF!*-1","v":{"$error":"#REF!"}},{"$f":"AF21*#REF!/T21*#REF!/#REF!*-1","v":{"$error":"#REF!"}},{"$f":"AF21*#REF!/T21*#REF!/#REF!*-1","v":{"$error":"#REF!"}},{"$f":"AF21*#REF!/T21*#REF!/#REF!*-1","v":{"$error":"#REF!"}},null,{"$f":"SUM(C21:L21)","v":{"$error":"#REF!"}},"Commercial and public services","EXOC","EXO",null,{"$error":"#REF!"},{"$f":"(#REF!+#REF!+#REF!+#REF!)*#REF!+(#REF!+#REF!)*#REF!+#REF!*#REF!","v":{"$error":"#REF!"}},null,null,null,null,null,null,null,null,null,null,null,{"$f":"#REF!*#REF!*((#REF!+#REF!+#REF!+#REF!)*#REF!+(#REF!+#REF!)*#REF!+#REF!*#REF!)*-1","v":{"$error":"#REF!"}},{"$f":"(N21+AF21)*-1","v":{"$error":"#REF!"}},{"$f":"-(C21*Emissionsfaktorer!$B$2+D21*Emissionsfaktorer!$B$3+E21*Emissionsfaktorer!$B$4+F21*Emissionsfaktorer!$B$5+G21*Emissionsfaktorer!$B$6+H21*Emissionsfaktorer!$B$7+I21*Emissionsfaktorer!$B$8+J21*Emissionsfaktorer!$B$9+K21*Emissionsfaktorer!$B$10+L21*Emissionsfaktorer!$B$11+M21*Emissionsfaktorer!$B$12)","v":{"$error":"#REF!"}}]
[null,null,{"$f":"AF22*#REF!/T22*#REF!/#REF!*-1","v":{"$error":"#REF!"}},null,{"$f":"AF22*#REF!/T22*#REF!/#REF!*-1","v":{"$error":"#REF!"}},{"$f":"AF22*#REF!/T22*#REF!/#REF!*-1","v":{"$error":"#REF!"}},null,null,{"$f":"AF22*#REF!/T22*#REF!/#REF!*-1","v":{"$error":"#REF!"}},{"$f":"AF22*#REF!/T22*#REF!/#REF!*-1","v":{"$error":"#REF!"}},{"$f":"AF22*#REF!/T22*#REF!/#REF!*-1","v":{"$error":"#REF!"}},{"$f":"AF22*#REF!/T22*#REF!/#REF!*-1","v":{"$error":"#REF!"}},null,{"$f":"SUM(C22:L22)","v":{"$error":"#REF!"}},"Agriculture / forestry","EXOA","EXO",null,{"$error":"#REF!"},{"$f":"(#REF!+#REF!+#REF!+#REF!)*#REF!+(#REF!+#REF!)*#REF!+#REF!*#REF!","v":{"$error":"#REF!"}},null,null,null,null,null,null,null,null,null,null,null,{"$f":"((#REF!+#REF!+#REF!+#REF!)*#REF!+(#REF!+#REF!)*#REF!+#REF!*#REF!)*#REF!*#REF!*-1","v":{"$error":"#REF!"}},{"$f":"(N22+AF22)*-1","v":{"$error":"#REF!"}},{"$f":"-(C22*Emissionsfaktorer!$B$2+D22*Emissionsfaktorer!$B$3+E22*Emissionsfaktorer!$B$4+F22*Emissionsfaktorer!$B$5+G22*Emissionsfaktorer!$B$6+H22*Emissionsfaktorer!$B$7+I22*Emissionsfaktorer!$B$8+J22*Emissionsfaktorer!$B$9+K22*Emissionsfaktorer!$B$10+L22*Emissionsfaktorer!$B$11+M22*Emissionsfaktorer!$B$12)","v":{"$error":"#REF!"}}]
[null,null,{"$f":"AF23*#REF!/T23*#REF!/#REF!*-1","v":{"$error":"#REF!"}},null,{"$f":"AF23*#REF!/T23*#REF!/#REF!*-1","v":{"$error":"#REF!"}},{"$f":"AF23*#REF!/T23*#REF!/#REF!*-1","v":{"$error":"#REF!"}},null,null,{"$f":"AF23*#REF!/T23*#REF!/#REF!*-1","v":{"$error":"#REF!"}},{"$f":"AF23*#REF!/T23*#REF!/#REF!*-1","v":{"$error":"#REF!"}},{"$f":"AF23*#REF!/T23*#REF!/#REF!*-1","v":{"$error":"#REF!"}},{"$f":"AF23*#REF!/T23*#REF!/#REF!*-1","v":{"$error":"#REF!"}},null,{"$f":"SUM(C23:L23)","v":{"$error":"#REF!"}},"Fishing","EXOF","EXO",null,{"$error":"#REF!"},{"$f":"(#REF!+#REF!+#REF!+#REF!)*#REF!+(#REF!+#REF!)*#REF!+#REF!*#REF!","v":{"$error":"#REF!"}},null,null,null,null,null,null,null,null,null,null,null,{"$f":"((#REF!+#REF!+#REF!+#REF!)*#REF!+(#REF!+#REF!)*#REF!+#REF!*#REF!)*#REF!*#REF!*-1","v":{"$error":"#REF!"}},{"$f":"(N23+AF23)*-1","v":{"$error":"#REF!"}},{"$f":"-(C23*Emissionsfaktorer!$B$2+D23*Emissionsfaktorer!$B$3+E23*Emissionsfaktorer!$B$4+F23*Emissionsfaktorer!$B$5+G23*Emissionsfaktorer!$B$6+H23*Emissionsfaktorer!$B$7+I23*Emissionsfaktorer!$B$8+J23*Emissionsfaktorer!$B$9+K23*Emissionsfaktorer!$B$10+L23*Emissionsfaktorer!$B$11+M23*Emissionsfaktorer!$B$12)","v":{"$error":"#REF!"}}]
[null,null,{"$f":"AF24*#REF!/T24*#REF!/#REF!*-1","v":{"$error":"#REF!"}},null,{"$f":"AF24*#REF!/T24*#REF!/#REF!*-1","v":{"$error":"#REF!"}},{"$f":"AF24*#REF!/T24*#REF!/#REF!*-1","v":{"$error":"#REF!"}},null,null,{"$f":"AF24*#REF!/T24*#REF!/#REF!*-1","v":{"$error":"#REF!"}},{"$f":"AF24*#REF!/T24*#REF!/#REF!*-1","v":{"$error":"#REF!"}},{"$f":"AF24*#REF!/T24*#REF!/#REF!*-1","v":{"$error":"#REF!"}},{"$f":"AF24*#REF!/T24*#REF!/#REF!*-1","v":{"$error":"#REF!"}},null,{"$f":"SUM(C24:L24)","v":{"$error":"#REF!"}},"Non-specified","EXON","EXO",null,{"$error":"#REF!"},{"$f":"(#REF!+#REF!+#REF!+#REF!)*#REF!+(#REF!+#REF!)*#REF!+#REF!*#REF!","v":{"$error":"#REF!"}},null,null,null,null,null,null,null,null,null,null,null,{"$f":"((#REF!+#REF!+#REF!+#REF!)*#REF!+(#REF!+#REF!)*#REF!+#REF!*#REF!)*#REF!*#REF!*-1","v":{"$error":"#REF!"}},{"$f":"(N24+AF24)*-1","v":{"$error":"#REF!"}},{"$f":"-(C24*Emissionsfaktorer!$B$2+D24*Emissionsfaktorer!$B$3+E24*Emissionsfaktorer!$B$4+F24*Emissionsfaktorer!$B$5+G24*Emissionsfaktorer!$B$6+H24*Emissionsfaktorer!$B$7+I24*Emissionsfaktorer!$B$8+J24*Emissionsfaktorer!$B$9+K24*Emissionsfaktorer!$B$10+L24*Emissionsfaktorer!$B$11+M24*Emissionsfaktorer!$B$12)","v":{"$error":"#REF!"}}]
[null,null,null,null,null,null,null,null,null,null,null,null,null,{"$f":"N16","v":{"$error":"#REF!"}},"Energy Services","EN",null,null,{"$error":"#REF!"},{"$f":"AF25/N25*-1","v":{"$error":"#REF!"}},null,null,null,null,null,null,null,null,null,null,null,{"$f":"AF16","v":{"$error":"#REF!"}},{"$f":"-(S25+N25)","v":{"$error":"#REF!"}}]

{"sheet":"Non-OECD Americas 1995","index":80,"n_rows":32,"n_cols":12,"rows_kept":32,"cut":false,"hidden":true,"merged":[]}
[null,"Coal*","Crude oil","Oil products","Natural gas","Nuclear","Hydro","Geothermal, solar, etc.","Biofuels and waste","Electricity","Heat","Total**"]
[null,"ktoe","ktoe","ktoe","ktoe","ktoe","ktoe","ktoe","ktoe","ktoe","ktoe","ktoe"]
["Production",21909,308892,null,56910,2497,38295,928,76695,null,null,506126]
["Imports",11206,62836,44232,1764,null,null,null,1262,3333,null,124634]
["Exports",-15069,-155592,-74126,-1986,null,null,null,-216,-3320,null,-250307]
["International marine bunkers",null,null,-7512,null,null,null,null,null,null,null,-7512]
["International aviation bunkers",null,null,-4267,null,null,null,null,null,null,null,-4267]
["Stock changes",-998,2414,-909,null,null,null,null,-10,null,null,497]
["TES",17048,218551,-42581,56688,2497,38295,928,77731,14,null,369171]
["Transfers",null,-7642,8593,null,null,null,null,null,null,null,951]
["Statistical differences",-91,1238,70,-776,null,null,-28,105,170,null,688]
["Electricity plants",-3119,-1028,-14709,-14446,-2497,-38295,-899,-1057,51614,null,-24437]
["CHP plants",-453,null,-627,-176,null,null,null,-1148,960,null,-1443]
["Heat plants"]
["Gas works",11,null,-136,105,null,null,null,null,null,null,-20]
["Oil refineries",null,-211347,204322,null,null,null,null,null,null,null,-7026]
["Coal transformation",-4179,null,-194,null,null,null,null,-44,null,null,-4417]
["Liquefication plants"]
["Other transformation",null,1602,-1579,null,null,null,null,-6934,null,null,-6911]
["Energy industry own use",-972,-168,-10428,-11401,null,null,null,-7173,-1591,null,-31732]
["Losses",-1235,-23,-113,-311,null,null,null,-196,-8522,null,-10399]
["Total final consumption",7010,1183,142620,29683,null,null,2,61285,42644,null,284426]
["Industry",6763,1077,22378,17331,null,null,null,26732,19833,null,94114]
["Transport",1,null,79556,1604,null,null,null,6883,152,null,88195]
["Residential",149,null,12773,5582,null,null,null,24068,11822,null,54394]
["Commercial and public services",3,5,2155,1520,null,null,2,452,8773,null,12909]
["Agriculture / forestry",null,3,8271,null,null,null,null,3025,1042,null,12342]
["Fishing",null,null,294,null,null,null,null,null,null,null,294]
["Non-specified",1,98,1502,21,null,null,null,125,1022,null,2770]
["Non-energy use",93,null,15691,3624,null,null,null,null,null,null,19408]
[]
[null,{"$f":"SUM(B9,B10:B21,B22*-1)","v":0},{"$f":"SUM(C9,C10:C21,C22*-1)","v":0},-2,0,0,0,-1,-1,1,0,-1]

{"sheet":"Non-OECD Americas 2000","index":81,"n_rows":32,"n_cols":12,"rows_kept":32,"cut":false,"hidden":true,"merged":[]}
[null,"Coal*","Crude oil","Oil products","Natural gas","Nuclear","Hydro","Geothermal, solar, etc.","Biofuels and waste","Electricity","Heat","Total**"]
[null,"ktoe","ktoe","ktoe","ktoe","ktoe","ktoe","ktoe","ktoe","ktoe","ktoe","ktoe"]
["Production",33411,368454,null,83985,3185,45777,1542,74858,null,74,611286]
["Imports",12035,67044,50123,2209,null,null,null,52,4698,null,136161]
["Exports",-29128,-167028,-89334,-9268,null,null,null,-127,-4805,null,-299690]
["International marine bunkers",null,null,-11315,null,null,null,null,null,null,null,-11315]
["International aviation bunkers",null,null,-5049,null,null,null,null,null,null,null,-5049]
["Stock changes",1164,-1587,-1363,null,null,null,null,950,null,null,-836]
["TES",17482,266883,-56937,76927,3185,45777,1542,75732,-107,74,430557]
["Transfers",null,-5959,6400,null,null,null,null,null,null,null,441]
["Statistical differences",709,-3434,-1078,419,null,null,null,143,-50,null,-3292]
["Electricity plants",-3491,-1437,-17989,-19820,-3185,-45777,-1453,-1448,64116,-74,-30558]
["CHP plants",-983,null,-703,-570,null,null,null,-1609,1494,null,-2370]
["Heat plants"]
["Gas works",11,null,-42,21,null,null,null,null,null,null,-10]
["Oil refineries",null,-257493,253310,null,null,null,null,null,null,null,-4183]
["Coal transformation",-3295,null,-681,null,null,null,null,null,null,null,-3976]
["Liquefication plants"]
["Other transformation",null,2977,-2942,null,null,null,null,-5689,null,null,-5655]
["Energy industry own use",-750,-192,-15269,-18200,null,null,null,-5546,-1843,null,-41799]
["Losses",-417,-7,-458,-982,null,null,null,-169,-10703,null,-12736]
["Total final consumption",9267,1337,163611,37795,null,null,89,61413,52908,null,326419]
["Industry",8989,1337,26009,19435,null,null,null,29227,23519,null,108515]
["Transport",1,null,89878,2706,null,null,null,5829,190,null,98604]
["Residential",79,null,13694,7653,null,null,56,23193,15031,null,59706]
["Commercial and public services",3,null,2542,1650,null,null,2,525,12216,null,16939]
["Agriculture / forestry",8,null,8815,null,null,null,null,2478,1566,null,12867]
["Fishing",null,null,257,null,null,null,null,1,null,null,259]
["Non-specified",1,null,1131,25,null,null,30,160,385,null,1733]
["Non-energy use",185,null,21285,6326,null,null,null,null,null,null,27796]
[]
[null,{"$f":"SUM(B9,B10:B21,B22*-1)","v":-1},{"$f":"SUM(C9,C10:C21,C22*-1)","v":1},0,0,0,0,0,1,-1,0,0]

{"sheet":"Non-OECD Americas 2005","index":82,"n_rows":32,"n_cols":12,"rows_kept":32,"cut":false,"hidden":true,"merged":[]}
[null,"Coal*","Crude oil","Oil products","Natural gas","Nuclear","Hydro","Geothermal, solar, etc.","Biofuels and waste","Electricity","Heat","Total**"]
[null,"ktoe","ktoe","ktoe","ktoe","ktoe","ktoe","ktoe","ktoe","ktoe","ktoe","ktoe"]
["Production",46174,393211,null,114156,4359,51169,2343,94108,null,165,705683]
["Imports",13605,62509,50412,10010,null,null,null,68,4412,null,141016]
["Exports",-40170,-182170,-94930,-26132,null,null,null,-1317,-4454,null,-349172]
["International marine bunkers",null,null,-11666,null,null,null,null,null,null,null,-11666]
["International aviation bunkers",null,null,-6272,null,null,null,null,null,null,null,-6272]
["Stock changes",-886,-165,7071,-31,null,null,null,339,null,null,6327]
["TES",18723,273384,-55386,98003,4359,51169,2343,93197,-42,165,485916]
["Transfers",null,-10786,11612,null,null,null,null,null,null,null,826]
["Statistical differences",4,-4051,3162,4313,null,null,null,202,-62,null,3568]
["Electricity plants",-3784,-2787,-19625,-26354,-4359,-51169,-2178,-2150,73933,-165,-38637]
["CHP plants",-1110,null,-552,-1084,null,null,null,-2803,2219,null,-3332]
["Heat plants"]
["Gas works",null,null,-25,22,null,null,null,null,null,null,-2]
["Oil refineries",null,-257981,248979,null,null,null,null,null,null,null,-9002]
["Coal transformation",-3898,null,-557,null,null,null,null,null,null,null,-4456]
["Liquefication plants"]
["Other transformation",null,2936,-2936,null,null,null,null,-7238,null,null,-7238]
["Energy industry own use",-760,-163,-16172,-19501,null,null,null,-8086,-2264,null,-46946]
["Losses",-393,-1,-236,-1026,null,null,null,-192,-12584,null,-14432]
["Total final consumption",8782,553,168264,54373,null,null,164,72931,61199,null,366265]
["Industry",8508,553,24019,27675,null,null,null,35805,28282,null,124842]
["Transport",1,null,95822,5863,null,null,null,6993,233,null,108912]
["Residential",67,null,12606,8692,null,null,60,25920,16733,null,64078]
["Commercial and public services",null,null,2326,2001,null,null,3,872,13757,null,18959]
["Agriculture / forestry",5,null,10257,4,null,null,null,3183,1818,null,15267]
["Fishing",null,null,268,10,null,null,null,1,null,null,279]
["Non-specified",2,null,1670,26,null,null,102,157,376,null,2333]
["Non-energy use",200,null,21295,10103,null,null,null,null,null,null,31597]
[]
[null,{"$f":"SUM(B9,B10:B21,B22*-1)","v":0},{"$f":"SUM(C9,C10:C21,C22*-1)","v":-2},0,0,0,0,1,-1,1,0,0]

{"sheet":"Non-OECD Americas 2010","index":83,"n_rows":32,"n_cols":12,"rows_kept":32,"cut":false,"hidden":true,"merged":[]}
[null,"Coal*","Crude oil","Oil products","Natural gas","Nuclear","Hydro","Geothermal, solar, etc.","Biofuels and waste","Electricity","Heat","Total**"]
[null,"ktoe","ktoe","ktoe","ktoe","ktoe","ktoe","ktoe","ktoe","ktoe","ktoe","ktoe"]
["Production",52524,404710,null,133137,5653,57791,3439,117953,null,68,775276]
["Imports",15537,46539,76171,16876,null,null,null,124,4165,null,159412]
["Exports",-47005,-194585,-57613,-30858,null,null,null,-2337,-4164,null,-336561]
["International marine bunkers",null,null,-14116,null,null,null,null,null,null,null,-14116]
["International aviation bunkers",null,null,-7802,null,null,null,null,null,null,null,-7802]
["Stock changes",385,1810,-263,-6,null,null,null,-788,null,null,1139]
["TES",21442,258474,-3622,119150,5653,57791,3439,114952,1,68,577348]
["Transfers",null,-13745,14453,null,null,null,null,null,null,null,708]
["Statistical differences",-335,426,-2554,-976,null,null,null,-89,-472,null,-4001]
["Electricity plants",-4488,-2869,-26350,-32659,-5653,-57791,-3057,-3588,87570,-68,-48952]
["CHP plants",-1511,null,-695,-2119,null,null,null,-5946,4433,null,-5839]
["Heat plants"]
["Gas works",null,null,-17,15,null,null,null,null,null,null,-2]
["Oil refineries",null,-243609,235457,null,null,null,null,null,null,null,-8151]
["Coal transformation",-3612,null,-1166,null,null,null,null,-18,null,null,-4796]
["Liquefication plants"]
["Other transformation",null,3036,-3036,null,null,null,null,-5597,null,null,-5597]
["Energy industry own use",-466,-563,-15500,-22373,null,null,null,-12838,-3465,null,-55204]
["Losses",-319,-24,-514,-1826,null,null,null,-120,-14350,null,-17152]
["Total final consumption",10711,1127,196455,59214,null,null,382,86757,73717,null,428362]
["Industry",10466,1101,26977,27113,null,null,null,41384,32305,null,139347]
["Transport",1,5,116376,6791,null,null,null,15126,488,null,138787]
["Residential",55,null,13348,10467,null,null,8,25950,21201,null,71029]
["Commercial and public services",null,20,2656,2291,null,null,5,767,17408,null,23147]
["Agriculture / forestry",null,null,11391,2,null,null,null,3445,2010,null,16848]
["Fishing",null,null,113,8,null,null,null,2,19,null,141]
["Non-specified",null,null,1999,4,null,null,368,83,285,null,2740]
["Non-energy use",189,null,23596,12539,null,null,null,null,null,null,36324]
[]
[null,{"$f":"SUM(B9,B10:B21,B22*-1)","v":0},{"$f":"SUM(C9,C10:C21,C22*-1)","v":-1},1,-2,0,0,0,-1,0,0,0]

{"sheet":"Non-OECD Americas 2015","index":84,"n_rows":32,"n_cols":12,"rows_kept":32,"cut":false,"hidden":true,"merged":[]}
[null,"Coal*","Crude oil","Oil products","Natural gas","Nuclear","Hydro","Geothermal, solar, etc.","Biofuels and waste","Electricity","Heat","Total**"]
[null,"ktoe","ktoe","ktoe","ktoe","ktoe","ktoe","ktoe","ktoe","ktoe","ktoe","ktoe"]
["Production",59450,417877,null,148568,5673,55293,6646,125426,null,79,819012]
["Imports",19496,45820,90079,27872,null,null,null,767,4066,null,188101]
["Exports",-48871,-213110,-51420,-34328,null,null,null,-1916,-4020,null,-353665]
["International marine bunkers",null,null,-13752,null,null,null,null,null,null,null,-13752]
["International aviation bunkers",null,null,-8965,null,null,null,null,null,null,null,-8965]
["Stock changes",-2423,-1310,2191,-26,null,null,null,886,null,null,-682]
["TES",27652,249278,18134,142086,5673,55293,6646,125162,47,79,630049]
["Transfers",null,-4220,3441,null,null,null,null,null,null,null,-779]
["Statistical differences",-985,2564,1924,-3395,null,null,null,-49,26,null,85]
["Electricity plants",-8463,-2594,-30335,-49454,-5673,-55293,-5916,-4560,98446,-79,-63922]
["CHP plants",-1975,null,-880,-2634,null,null,null,-8836,6473,null,-7852]
["Heat plants"]
["Gas works",null,null,-16,14,null,null,null,null,null,null,-2]
["Oil refineries",null,-247623,238581,null,null,null,null,null,null,null,-9042]
["Coal transformation",-3507,null,-1347,null,null,null,null,-51,null,null,-4905]
["Liquefication plants"]
["Other transformation",null,3755,-2982,-967,null,null,null,-5356,null,null,-5549]
["Energy industry own use",-401,-485,-16541,-23529,null,null,null,-13274,-4502,null,-58734]
["Losses",-289,-1,-235,-2011,null,null,null,-59,-16488,null,-19084]
["Total final consumption",12031,674,209744,60111,null,null,730,92976,84001,null,460266]
["Industry",11782,669,22640,26344,null,null,null,41451,32520,null,135406]
["Transport",null,5,134667,7576,null,null,null,20402,331,null,162981]
["Residential",66,null,13583,11865,null,null,22,26101,25540,null,77177]
["Commercial and public services",1,null,2699,2361,null,null,13,1024,21893,null,27991]
["Agriculture / forestry",1,null,10870,null,null,null,null,3900,2822,null,17594]
["Fishing",null,null,134,42,null,null,null,5,26,null,207]
["Non-specified",1,null,3132,772,null,null,695,92,868,null,5560]
["Non-energy use",179,null,22018,11151,null,null,null,null,null,null,33349]
[]
[null,{"$f":"SUM(B9,B10:B21,B22*-1)","v":1},{"$f":"SUM(C9,C10:C21,C22*-1)","v":0},0,-1,0,0,0,1,1,0,-1]

{"sheet":"Non-OECD Americas 2018","index":85,"n_rows":32,"n_cols":12,"rows_kept":32,"cut":false,"hidden":true,"merged":[]}
[null,"Coal*","Crude oil","Oil products","Natural gas","Nuclear","Hydro","Geothermal, solar, etc.","Biofuels and waste","Electricity","Heat","Total**"]
[null,"ktoe","ktoe","ktoe","ktoe","ktoe","ktoe","ktoe","ktoe","ktoe","ktoe","ktoe"]
["Production",57036,348534,null,145098,5882,59290,10266,130979,null,91,757177]
["Imports",19138,33744,98970,19768,null,null,null,1255,4223,null,177097]
["Exports",-56380,-180813,-46055,-31480,null,null,null,-2242,-4187,null,-321156]
["International marine bunkers",null,null,-13275,null,null,null,null,null,null,null,-13275]
["International aviation bunkers",null,null,-9712,null,null,null,null,null,null,null,-9712]
["Stock changes",4678,3854,1125,5,null,null,null,-816,null,null,8845]
["TES",24472,205319,31053,133392,5882,59290,10266,129176,36,91,598977]
["Transfers",null,-5703,5416,null,null,null,null,null,null,null,-287]
["Statistical differences",41,9253,-203,-1650,null,null,null,-32,-133,null,7276]
["Electricity plants",-6630,-2130,-19343,-44637,-5882,-59290,-9319,-4941,97837,-91,-54427]
["CHP plants",-1790,null,-795,-2776,null,null,null,-9552,7003,null,-7911]
["Heat plants"]
["Gas works",null,null,-15,13,null,null,null,null,null,null,-1]
["Oil refineries",null,-208780,203752,null,null,null,null,null,null,null,-5028]
["Coal transformation",-3066,null,-1685,null,null,null,null,-50,null,null,-4801]
["Liquefication plants"]
["Other transformation",null,3683,-2873,-889,null,null,null,-5272,null,null,-5351]
["Energy industry own use",-589,-464,-11976,-23485,null,null,null,-14379,-4488,null,-55381]
["Losses",-294,-1,-67,-2362,null,null,null,-61,-16784,null,-19570]
["Total final consumption",12143,1176,203264,57605,null,null,947,94888,83471,null,453494]
["Industry",11864,1170,20617,24822,null,null,null,40579,31924,null,130975]
["Transport",null,6,132372,7656,null,null,null,22106,336,null,162476]
["Residential",62,null,13602,11394,null,null,28,27253,25705,null,78045]
["Commercial and public services",null,null,2898,2430,null,null,16,996,21934,null,28274]
["Agriculture / forestry",null,null,10855,2,null,null,null,3874,3170,null,17901]
["Fishing",null,null,51,2,null,null,null,2,32,null,87]
["Non-specified",1,null,2780,783,null,null,902,78,370,null,4915]
["Non-energy use",215,null,20088,10516,null,null,null,null,null,null,30820]
[]
[null,{"$f":"SUM(B9,B10:B21,B22*-1)","v":1},{"$f":"SUM(C9,C10:C21,C22*-1)","v":1},0,1,0,0,0,1,0,0,2]

{"sheet":"BL Non-OECD Europe Eurasia 2050","index":86,"n_rows":25,"n_cols":34,"rows_kept":25,"cut":false,"hidden":true,"merged":[]}
[null,"Consumption","Coal","Crude oil","Oil Products","Natual Gas","Nuclear","Hydro","Geothermal, solar, wind, etc.","Biofuels and waste","Electricity","Heat","Energy Services","Total consumption","Non-OECD Europe Eurasia 2050",null,null,"Faktor","Total production","Efficiency","Production","Coal","Crude oil","Oil Products","Natual Gas","Nuclear","Hydro","Geothermal, solar, wind, etc.","Biofuels and waste","Electricity","Heat","Energy Services","Loss","CO2-emissions"]
["ID","C ","CC","CCO","COP","CNG","CNU","CHY","CGSW","CWB","CE","CH","CES","fbrbr",null,"ID","ID Parent","factor","pbrpr","pvrkg","P ","PC","PCO","POP","PNG","PNU","PHY","PGSW","PWB","PE","PH","PES","PTAB","PCO2"]
["ID Parent",null,"C","C","C ","C ","C ","C","C","C ","C ","C ","C ",null,"Structures",null,null,null,null,null,null,"P ","P ","P ","P ","P ","P ","P","P ","P ","P ","P "]
["Factor",null,null,null,null,null,null,null,null,null,null,null,null,null,null,null,null,null,null,null,{"$f":"B4","v":0},null,null,null,null,null,null,null,null,null,null,null,{"$f":"U4","v":0},{"$f":"U4","v":0}]
[null,null,null,null,null,null,null,null,null,null,null,null,null,{"$f":"SUM(C5:M5)","v":0},"Entry fuels","ETP",null,null,{"$f":"SUM(V5:AF5)","v":{"$error":"#REF!"}},null,null,{"$f":"-(C6+C5)","v":{"$error":"#REF!"}},{"$f":"-(D6+D5)","v":{"$error":"#REF!"}},null,{"$f":"-(F6+F5)","v":{"$error":"#REF!"}},{"$f":"-(G6+G5)","v":{"$error":"#REF!"}},null,null,{"$f":"-(J6+J5)","v":{"$error":"#REF!"}}]
[null,null,{"$f":"-V6","v":{"$error":"#REF!"}},{"$f":"-W6","v":{"$error":"#REF!"}},null,{"$f":"-Y6","v":{"$error":"#REF!"}},{"$f":"-Z6","v":{"$error":"#REF!"}},null,null,{"$f":"-AC6","v":{"$error":"#REF!"}},null,null,null,{"$f":"SUM(C6:M6)","v":{"$error":"#REF!"}},"Transport of fuels","TRAP",null,null,{"$f":"SUM(V6:AF6)","v":{"$error":"#REF!"}},null,null,{"$f":"-(C16+C8)","v":{"$error":"#REF!"}},{"$f":"-(D16+D8)","v":{"$error":"#REF!"}},null,{"$f":"-(F16+F8)","v":{"$error":"#REF!"}},{"$f":"-(G16+G8)","v":{"$error":"#REF!"}},null,null,{"$f":"-(J16+J8)","v":{"$error":"#REF!"}},null,null,null,{"$f":"-(N6+S6)","v":{"$error":"#REF!"}}]
[null,null,null,null,null,null,null,null,null,null,null,null,null,0,"Entry On-Grid RE ","ELP1",null,null,{"$error":"#REF!"},null,null,null,null,null,null,null,{"$f":"-H8","v":{"$error":"#REF!"}},{"$f":"-I8","v":{"$error":"#REF!"}}]
[null,null,{"$f":"SUM(C9:C13)","v":{"$error":"#REF!"}},{"$f":"SUM(D9:D13)","v":{"$error":"#REF!"}},{"$error":"#REF!"},{"$error":"#REF!"},{"$error":"#REF!"},{"$error":"#REF!"},{"$error":"#REF!"},{"$error":"#REF!"},{"$error":"#REF!"},{"$error":"#REF!"},0,{"$error":"#REF!"},"Entry electricity, district heating and oil products","ES",null,{"$f":"'Størrelse på strømme'!E18","v":0},{"$error":"#REF!"},null,null,{"$f":"SUM(V9:V13)","v":0},null,{"$f":"(E14+E8)*-1","v":{"$error":"#REF!"}},null,null,null,null,null,{"$f":"(K14+K8)*-1","v":{"$error":"#REF!"}},{"$f":"(L14+L8)*-1","v":{"$error":"#REF!"}},null,{"$f":"-(N8+S8)","v":{"$error":"#REF!"}},{"$f":"SUM(AH9:AH13)","v":{"$error":"#REF!"}}]
[null,null,{"$f":"-($AD$9+$H$9+$I$9)/$T$9*#REF!","v":{"$error":"#REF!"}},{"$f":"-($AD$9+$H$9+$I$9)/$T$9*#REF!","v":{"$error":"#REF!"}},{"$f":"-($AD$9+$H$9+$I$9)/$T$9*#REF!","v":{"$error":"#REF!"}},{"$f":"-($AD$9+$H$9+$I$9)/$T$9*#REF!","v":{"$error":"#REF!"}},{"$f":"-($AD$9+$H$9+$I$9)/$T$9*#REF!","v":{"$error":"#REF!"}},{"$f":"AD9*#REF!*-1","v":{"$error":"#REF!"}},{"$f":"AD9*#REF!*-1","v":{"$error":"#REF!"}},{"$f":"-($AD$9+$H$9+$I$9)/$T$9*#REF!","v":{"$error":"#REF!"}},null,null,null,{"$error":"#REF!"},"Electricity-only plants","ESEP","ES",null,{"$error":"#REF!"},{"$f":"#REF!","v":{"$error":"#REF!"}},null,null,null,null,null,null,null,null,null,{"$f":"AD8-AD10","v":{"$error":"#REF!"}},null,null,{"$f":"-(S9+N9)","v":{"$error":"#REF!"}},{"$f":"-(C9*Emissionsfaktorer!$B$2*(1-#REF!)+D9*Emissionsfaktorer!$B$3+E9*Emissionsfaktorer!$B$4*(1-#REF!)+F9*Emissionsfaktorer!$B$5*(1-#REF!)+G9*Emissionsfaktorer!$B$6+H9*Emissionsfaktorer!$B$7+I9*Emissionsfaktorer!$B$8-J9*Emissionsfaktorer!B13*#REF!+K9*Emissionsfaktorer!$B$10+L9*Emissionsfaktorer!$B$11+M9*Emissionsfaktorer!$B$12)","v":{"$error":"#REF!"}}]
[null,null,{"$f":"-($AD$10+$AE$10+$H$10+$I$10)/$T$10*#REF!","v":{"$error":"#REF!"}},{"$f":"-($AD$10+$AE$10+$H$10+$I$10)/$T$10*#REF!","v":{"$error":"#REF!"}},{"$f":"-($AD$10+$AE$10+$H$10+$I$10)/$T$10*#REF!","v":{"$error":"#REF!"}},{"$f":"-($AD$10+$AE$10+$H$10+$I$10)/$T$10*#REF!","v":{"$error":"#REF!"}},{"$f":"-($AD$10+$AE$10+$H$10+$I$10)/$T$10*#REF!","v":{"$error":"#REF!"}},null,{"$f":"(AD10+AE10)*#REF!*-1","v":{"$error":"#REF!"}},{"$f":"-($AD$10+$AE$10+$H$10+$I$10)/$T$10*#REF!","v":{"$error":"#REF!"}},null,null,null,{"$error":"#REF!"},"CHP plants","ESCHP","ES",null,{"$error":"#REF!"},{"$f":"#REF!","v":{"$error":"#REF!"}},null,null,null,null,null,null,null,null,null,{"$f":"AE10*#REF!","v":{"$error":"#REF!"}},{"$f":"AE8*#REF!","v":{"$error":"#REF!"}},null,{"$f":"-(S10+N10)","v":{"$error":"#REF!"}},{"$f":"-(C10*Emissionsfaktorer!$B$2*(1-#REF!)+D10*Emissionsfaktorer!$B$3+E10*Emissionsfaktorer!$B$4*(1-#REF!)+F10*Emissionsfaktorer!$B$5*(1-#REF!)+G10*Emissionsfaktorer!$B$6+H10*Emissionsfaktorer!$B$7+I10*Emissionsfaktorer!$B$8-J10*Emissionsfaktorer!B14*#REF!+K10*Emissionsfaktorer!$B$10+L10*Emissionsfaktorer!$B$11+M10*Emissionsfaktorer!$B$12)","v":{"$error":"#REF!"}}]
[null,null,{"$f":"-($AE$11+$H$11+$I$11)/$T$11*#REF!","v":{"$error":"#REF!"}},{"$f":"-($AE$11+$H$11+$I$11)/$T$11*#REF!","v":{"$error":"#REF!"}},{"$f":"-($AE$11+$H$11+$I$11)/$T$11*#REF!","v":{"$error":"#REF!"}},{"$f":"-($AE$11+$H$11+$I$11)/$T$11*#REF!","v":{"$error":"#REF!"}},{"$f":"-($AE$11+$H$11+$I$11)/$T$11*#REF!","v":{"$error":"#REF!"}},null,{"$f":"AE11*#REF!*-1","v":{"$error":"#REF!"}},{"$f":"-($AE$11+$H$11+$I$11)/$T$11*#REF!","v":{"$error":"#REF!"}},{"$f":"AE11*#REF!*-1","v":{"$error":"#REF!"}},null,null,{"$error":"#REF!"},"Heat Plants","ESHP","ES",null,{"$error":"#REF!"},{"$f":"#REF!","v":{"$error":"#REF!"}},null,null,null,null,null,null,null,null,null,null,{"$f":"AE8*#REF!","v":{"$error":"#REF!"}},null,{"$f":"-(S11+N11)","v":{"$error":"#REF!"}},{"$f":"-(C11*Emissionsfaktorer!$B$2+D11*Emissionsfaktorer!$B$3+E11*Emissionsfaktorer!$B$4+F11*Emissionsfaktorer!$B$5+G11*Emissionsfaktorer!$B$6+H11*Emissionsfaktorer!$B$7+I11*Emissionsfaktorer!$B$8+J11*Emissionsfaktorer!$B$9+K11*Emissionsfaktorer!$B$10+L11*Emissionsfaktorer!$B$11+M11*Emissionsfaktorer!$B$12)","v":{"$error":"#REF!"}}]
[null,null,null,{"$f":"-X12/T12*#REF!","v":{"$error":"#REF!"}},null,null,null,null,null,{"$f":"-X12/T12*#REF!","v":{"$error":"#REF!"}},null,null,null,{"$error":"#REF!"},"Oil refineries","ESOR","ES",null,{"$error":"#REF!"},{"$f":"#REF!","v":{"$error":"#REF!"}},null,null,null,{"$f":"-(E9+E10+E11+E13+E14)","v":{"$error":"#REF!"}},null,null,null,null,null,null,null,null,{"$f":"-(S12+N12)","v":{"$error":"#REF!"}},{"$f":"J12*Emissionsfaktorer!B4","v":{"$error":"#REF!"}}]
[null,null,{"$f":"N13*#REF!","v":{"$error":"#REF!"}},{"$f":"N13*#REF!","v":{"$error":"#REF!"}},{"$f":"N13*#REF!","v":{"$error":"#REF!"}},{"$f":"N13*#REF!","v":{"$error":"#REF!"}},null,null,null,{"$f":"N13*#REF!","v":{"$error":"#REF!"}},{"$f":"N13*#REF!","v":{"$error":"#REF!"}},{"$f":"N13*#REF!","v":{"$error":"#REF!"}},null,{"$f":"N16*#REF!","v":{"$error":"#REF!"}},"Energy Industry one use","ESNSP","ES",null,0,0,null,null,null,null,null,null,null,null,null,null,null,null,{"$f":"-(S13+N13)","v":{"$error":"#REF!"}},{"$f":"-(C13*Emissionsfaktorer!$B$2+D13*Emissionsfaktorer!$B$3+E13*Emissionsfaktorer!$B$4+F13*Emissionsfaktorer!$B$5+G13*Emissionsfaktorer!$B$6+H13*Emissionsfaktorer!$B$7+I13*Emissionsfaktorer!$B$8+J13*Emissionsfaktorer!$B$9+K13*Emissionsfaktorer!$B$10+L13*Emissionsfaktorer!$B$11+M13*Emissionsfaktorer!$B$12)","v":{"$error":"#REF!"}}]
[null,null,null,null,{"$f":"-X14*1","v":{"$error":"#REF!"}},null,null,null,null,null,{"$f":"-AD14*(1+#REF!)","v":{"$error":"#REF!"}},{"$f":"-AE14*(1+#REF!)","v":{"$error":"#REF!"}},null,{"$error":"#REF!"},"Transport electricity, district heating and oil products","TRAS",null,null,{"$error":"#REF!"},null,null,null,null,{"$f":"-E16","v":{"$error":"#REF!"}},null,null,null,null,null,{"$f":"-K16","v":{"$error":"#REF!"}},{"$f":"-L16","v":{"$error":"#REF!"}},null,{"$f":"-(N14+S14)","v":{"$error":"#REF!"}}]
[null,null,null,null,null,null,null,null,null,null,null,null,null,0,"Entry Off-Grid RE","ELP2",null,null,{"$error":"#REF!"},null,null,null,null,null,null,null,null,{"$f":"I16*-1","v":{"$error":"#REF!"}}]
[null,null,{"$f":"SUM(C17:C19)","v":{"$error":"#REF!"}},{"$error":"#REF!"},{"$error":"#REF!"},{"$error":"#REF!"},0,0,{"$error":"#REF!"},{"$error":"#REF!"},{"$error":"#REF!"},{"$error":"#REF!"},0,{"$f":"#REF!","v":{"$error":"#REF!"}},"Exit energy","EX",null,{"$f":"'Størrelse på strømme'!E20","v":0},{"$error":"#REF!"},null,null,null,null,null,null,null,null,null,null,null,null,{"$f":"SUM(AF17:AF19)","v":{"$error":"#REF!"}},{"$f":"SUM(AG17:AG19)","v":{"$error":"#REF!"}},{"$f":"SUM(AH17:AH19)","v":{"$error":"#REF!"}}]
[null,null,{"$f":"AF17*#REF!/T17*#REF!/#REF!*-1","v":{"$error":"#REF!"}},{"$f":"AF17*#REF!/T17*#REF!/#REF!*-1","v":{"$error":"#REF!"}},{"$f":"AF17*#REF!/T17*#REF!/#REF!*-1","v":{"$error":"#REF!"}},{"$f":"AF17*#REF!/T17*#REF!/#REF!*-1","v":{"$error":"#REF!"}},null,null,{"$f":"AF17*#REF!/T17*#REF!/#REF!*-1","v":{"$error":"#REF!"}},{"$f":"AF17*#REF!*#REF!/T17/#REF!*-1","v":{"$error":"#REF!"}},{"$f":"AF17*#REF!*#REF!/T17/#REF!*-1","v":{"$error":"#REF!"}},{"$f":"AF17*#REF!*#REF!/T17/#REF!*-1","v":{"$error":"#REF!"}},null,{"$f":"SUM(C17:L17)","v":{"$error":"#REF!"}},"Industry","EXI","EX",null,{"$error":"#REF!"},{"$f":"(#REF!+#REF!+#REF!+#REF!+#REF!)*#REF!+(#REF!+#REF!)*#REF!+#REF!*#REF!","v":{"$error":"#REF!"}},null,null,null,null,null,null,null,null,null,null,null,{"$f":"#REF!*#REF!*((#REF!+#REF!+#REF!+#REF!+#REF!)*#REF!+(#REF!+#REF!)*#REF!+#REF!*#REF!)*-1","v":{"$error":"#REF!"}},{"$f":"(S17+SUM(C17:M17))*-1","v":{"$error":"#REF!"}},{"$f":"-(C17*Emissionsfaktorer!$B$2+D17*Emissionsfaktorer!$B$3+E17*Emissionsfaktorer!$B$4+F17*Emissionsfaktorer!$B$5+G17*Emissionsfaktorer!$B$6+H17*Emissionsfaktorer!$B$7+I17*Emissionsfaktorer!$B$8+J17*Emissionsfaktorer!$B$9+K17*Emissionsfaktorer!$B$10+L17*Emissionsfaktorer!$B$11+M17*Emissionsfaktorer!$B$12)","v":{"$error":"#REF!"}}]
[null,null,{"$f":"AF18*#REF!/T18*#REF!/#REF!*-1","v":{"$error":"#REF!"}},null,{"$f":"AF18*#REF!/T18*#REF!/#REF!*-1","v":{"$error":"#REF!"}},{"$f":"AF18*#REF!/T18*#REF!/#REF!*-1","v":{"$error":"#REF!"}},null,null,{"$f":"AF18*#REF!/T18*#REF!/#REF!*-1","v":{"$error":"#REF!"}},{"$f":"AF18*#REF!/T18*#REF!/#REF!*-1","v":{"$error":"#REF!"}},{"$f":"AF18*#REF!/T18*#REF!/#REF!*-1","v":{"$error":"#REF!"}},{"$f":"AF18*#REF!/T18*#REF!/#REF!*-1","v":{"$error":"#REF!"}},null,{"$f":"SUM(C18:L18)","v":{"$error":"#REF!"}},"Transport","EXT","EX",null,{"$error":"#REF!"},{"$f":"(#REF!+#REF!+#REF!+#REF!)*#REF!+(#REF!+#REF!)*#REF!+#REF!*#REF!","v":{"$error":"#REF!"}},null,null,null,null,null,null,null,null,null,null,null,{"$f":"#REF!*#REF!*-1*((#REF!+#REF!+#REF!+#REF!)*#REF!+(#REF!+#REF!)*#REF!+#REF!*#REF!)","v":{"$error":"#REF!"}},{"$f":"(S18+SUM(C18:M18))*-1","v":{"$error":"#REF!"}},{"$f":"-(C18*Emissionsfaktorer!$B$2+D18*Emissionsfaktorer!$B$3+E18*Emissionsfaktorer!$B$4+F18*Emissionsfaktorer!$B$5+G18*Emissionsfaktorer!$B$6+H18*Emissionsfaktorer!$B$7+I18*Emissionsfaktorer!$B$8+J18*Emissionsfaktorer!$B$9+K18*Emissionsfaktorer!$B$10+L18*Emissionsfaktorer!$B$11+M18*Emissionsfaktorer!$B$12)","v":{"$error":"#REF!"}}]
[null,null,{"$f":"SUM(C20:C24)","v":{"$error":"#REF!"}},{"$f":"SUM(D20:D24)","v":0},{"$error":"#REF!"},{"$error":"#REF!"},0,0,{"$error":"#REF!"},{"$error":"#REF!"},{"$error":"#REF!"},{"$error":"#REF!"},0,{"$f":"SUM(N20:N24)","v":{"$error":"#REF!"}},"Other ","EXO","EX",null,{"$error":"#REF!"},0.8,null,{"$f":"SUM(V20:V24)","v":0},{"$f":"SUM(W20:W24)","v":0},0,0,0,0,0,0,0,0,{"$error":"#REF!"},{"$error":"#REF!"},{"$error":"#REF!"}]
[null,null,{"$f":"AF20*#REF!/T20*#REF!/#REF!*-1","v":{"$error":"#REF!"}},null,{"$f":"AF20*#REF!/T20*#REF!/#REF!*-1","v":{"$error":"#REF!"}},{"$f":"AF20*#REF!/T20*#REF!/#REF!*-1","v":{"$error":"#REF!"}},null,null,{"$f":"AF20*#REF!/T20*#REF!/#REF!*-1","v":{"$error":"#REF!"}},{"$f":"AF20*#REF!/T20*#REF!/#REF!*-1","v":{"$error":"#REF!"}},{"$f":"AF20*#REF!/T20*#REF!/#REF!*-1","v":{"$error":"#REF!"}},{"$f":"AF20*#REF!/T20*#REF!/#REF!*-1","v":{"$error":"#REF!"}},null,{"$f":"SUM(C20:L20)","v":{"$error":"#REF!"}},"Residential","EXOR","EXO",null,{"$error":"#REF!"},{"$f":"(#REF!+#REF!+#REF!+#REF!)*#REF!+(#REF!+#REF!)*#REF!+#REF!*#REF!","v":{"$error":"#REF!"}},null,null,null,null,null,null,null,null,null,null,null,{"$f":"#REF!*#REF!*((#REF!+#REF!+#REF!+#REF!)*#REF!+(#REF!+#REF!)*#REF!+#REF!*#REF!)*-1","v":{"$error":"#REF!"}},{"$f":"(N20+AF20)*-1","v":{"$error":"#REF!"}},{"$f":"-(C20*Emissionsfaktorer!$B$2+D20*Emissionsfaktorer!$B$3+E20*Emissionsfaktorer!$B$4+F20*Emissionsfaktorer!$B$5+G20*Emissionsfaktorer!$B$6+H20*Emissionsfaktorer!$B$7+I20*Emissionsfaktorer!$B$8+J20*Emissionsfaktorer!$B$9+K20*Emissionsfaktorer!$B$10+L20*Emissionsfaktorer!$B$11+M20*Emissionsfaktorer!$B$12)","v":{"$error":"#REF!"}}]
[null,null,{"$f":"AF21*#REF!/T21*#REF!/#REF!*-1","v":{"$error":"#REF!"}},null,{"$f":"AF21*#REF!/T21*#REF!/#REF!*-1","v":{"$error":"#REF!"}},{"$f":"AF21*#REF!/T21*#REF!/#REF!*-1","v":{"$error":"#REF!"}},null,null,{"$f":"AF21*#REF!/T21*#REF!/#REF!*-1","v":{"$error":"#REF!"}},{"$f":"AF21*#REF!/T21*#REF!/#REF!*-1","v":{"$error":"#REF!"}},{"$f":"AF21*#REF!/T21*#REF!/#REF!*-1","v":{"$error":"#REF!"}},{"$f":"AF21*#REF!/T21*#REF!/#REF!*-1","v":{"$error":"#REF!"}},null,{"$f":"SUM(C21:L21)","v":{"$error":"#REF!"}},"Commercial and public services","EXOC","EXO",null,{"$error":"#REF!"},{"$f":"(#REF!+#REF!+#REF!+#REF!)*#REF!+(#REF!+#REF!)*#REF!+#REF!*#REF!","v":{"$error":"#REF!"}},null,null,null,null,null,null,null,null,null,null,null,{"$f":"#REF!*#REF!*((#REF!+#REF!+#REF!+#REF!)*#REF!+(#REF!+#REF!)*#REF!+#REF!*#REF!)*-1","v":{"$error":"#REF!"}},{"$f":"(N21+AF21)*-1","v":{"$error":"#REF!"}},{"$f":"-(C21*Emissionsfaktorer!$B$2+D21*Emissionsfaktorer!$B$3+E21*Emissionsfaktorer!$B$4+F21*Emissionsfaktorer!$B$5+G21*Emissionsfaktorer!$B$6+H21*Emissionsfaktorer!$B$7+I21*Emissionsfaktorer!$B$8+J21*Emissionsfaktorer!$B$9+K21*Emissionsfaktorer!$B$10+L21*Emissionsfaktorer!$B$11+M21*Emissionsfaktorer!$B$12)","v":{"$error":"#REF!"}}]
[null,null,{"$f":"AF22*#REF!/T22*#REF!/#REF!*-1","v":{"$error":"#REF!"}},null,{"$f":"AF22*#REF!/T22*#REF!/#REF!*-1","v":{"$error":"#REF!"}},{"$f":"AF22*#REF!/T22*#REF!/#REF!*-1","v":{"$error":"#REF!"}},null,null,{"$f":"AF22*#REF!/T22*#REF!/#REF!*-1","v":{"$error":"#REF!"}},{"$f":"AF22*#REF!/T22*#REF!/#REF!*-1","v":{"$error":"#REF!"}},{"$f":"AF22*#REF!/T22*#REF!/#REF!*-1","v":{"$error":"#REF!"}},{"$f":"AF22*#REF!/T22*#REF!/#REF!*-1","v":{"$error":"#REF!"}},null,{"$f":"SUM(C22:L22)","v":{"$error":"#REF!"}},"Agriculture / forestry","EXOA","EXO",null,{"$error":"#REF!"},{"$f":"(#REF!+#REF!+#REF!+#REF!)*#REF!+(#REF!+#REF!)*#REF!+#REF!*#REF!","v":{"$error":"#REF!"}},null,null,null,null,null,null,null,null,null,null,null,{"$f":"((#REF!+#REF!+#REF!+#REF!)*#REF!+(#REF!+#REF!)*#REF!+#REF!*#REF!)*#REF!*#REF!*-1","v":{"$error":"#REF!"}},{"$f":"(N22+AF22)*-1","v":{"$error":"#REF!"}},{"$f":"-(C22*Emissionsfaktorer!$B$2+D22*Emissionsfaktorer!$B$3+E22*Emissionsfaktorer!$B$4+F22*Emissionsfaktorer!$B$5+G22*Emissionsfaktorer!$B$6+H22*Emissionsfaktorer!$B$7+I22*Emissionsfaktorer!$B$8+J22*Emissionsfaktorer!$B$9+K22*Emissionsfaktorer!$B$10+L22*Emissionsfaktorer!$B$11+M22*Emissionsfaktorer!$B$12)","v":{"$error":"#REF!"}}]
[null,null,{"$f":"AF23*#REF!/T23*#REF!/#REF!*-1","v":{"$error":"#REF!"}},null,{"$f":"AF23*#REF!/T23*#REF!/#REF!*-1","v":{"$error":"#REF!"}},{"$f":"AF23*#REF!/T23*#REF!/#REF!*-1","v":{"$error":"#REF!"}},null,null,{"$f":"AF23*#REF!/T23*#REF!/#REF!*-1","v":{"$error":"#REF!"}},{"$f":"AF23*#REF!/T23*#REF!/#REF!*-1","v":{"$error":"#REF!"}},{"$f":"AF23*#REF!/T23*#REF!/#REF!*-1","v":{"$error":"#REF!"}},{"$f":"AF23*#REF!/T23*#REF!/#REF!*-1","v":{"$error":"#REF!"}},null,{"$f":"SUM(C23:L23)","v":{"$error":"#REF!"}},"Fishing","EXOF","EXO",null,{"$error":"#REF!"},{"$f":"(#REF!+#REF!+#REF!+#REF!)*#REF!+(#REF!+#REF!)*#REF!+#REF!*#REF!","v":{"$error":"#REF!"}},null,null,null,null,null,null,null,null,null,null,null,{"$f":"((#REF!+#REF!+#REF!+#REF!)*#REF!+(#REF!+#REF!)*#REF!+#REF!*#REF!)*#REF!*#REF!*-1","v":{"$error":"#REF!"}},{"$f":"(N23+AF23)*-1","v":{"$error":"#REF!"}},{"$f":"-(C23*Emissionsfaktorer!$B$2+D23*Emissionsfaktorer!$B$3+E23*Emissionsfaktorer!$B$4+F23*Emissionsfaktorer!$B$5+G23*Emissionsfaktorer!$B$6+H23*Emissionsfaktorer!$B$7+I23*Emissionsfaktorer!$B$8+J23*Emissionsfaktorer!$B$9+K23*Emissionsfaktorer!$B$10+L23*Emissionsfaktorer!$B$11+M23*Emissionsfaktorer!$B$12)","v":{"$error":"#REF!"}}]
[null,null,{"$f":"AF24*#REF!/T24*#REF!/#REF!*-1","v":{"$error":"#REF!"}},null,{"$f":"AF24*#REF!/T24*#REF!/#REF!*-1","v":{"$error":"#REF!"}},{"$f":"AF24*#REF!/T24*#REF!/#REF!*-1","v":{"$error":"#REF!"}},null,null,{"$f":"AF24*#REF!/T24*#REF!/#REF!*-1","v":{"$error":"#REF!"}},{"$f":"AF24*#REF!/T24*#REF!/#REF!*-1","v":{"$error":"#REF!"}},{"$f":"AF24*#REF!/T24*#REF!/#REF!*-1","v":{"$error":"#REF!"}},{"$f":"AF24*#REF!/T24*#REF!/#REF!*-1","v":{"$error":"#REF!"}},null,{"$f":"SUM(C24:L24)","v":{"$error":"#REF!"}},"Non-specified","EXON","EXO",null,{"$error":"#REF!"},{"$f":"(#REF!+#REF!+#REF!+#REF!)*#REF!+(#REF!+#REF!)*#REF!+#REF!*#REF!","v":{"$error":"#REF!"}},null,null,null,null,null,null,null,null,null,null,null,{"$f":"((#REF!+#REF!+#REF!+#REF!)*#REF!+(#REF!+#REF!)*#REF!+#REF!*#REF!)*#REF!*#REF!*-1","v":{"$error":"#REF!"}},{"$f":"(N24+AF24)*-1","v":{"$error":"#REF!"}},{"$f":"-(C24*Emissionsfaktorer!$B$2+D24*Emissionsfaktorer!$B$3+E24*Emissionsfaktorer!$B$4+F24*Emissionsfaktorer!$B$5+G24*Emissionsfaktorer!$B$6+H24*Emissionsfaktorer!$B$7+I24*Emissionsfaktorer!$B$8+J24*Emissionsfaktorer!$B$9+K24*Emissionsfaktorer!$B$10+L24*Emissionsfaktorer!$B$11+M24*Emissionsfaktorer!$B$12)","v":{"$error":"#REF!"}}]
[null,null,null,null,null,null,null,null,null,null,null,null,null,{"$f":"N16","v":{"$error":"#REF!"}},"Energy Services","EN",null,null,{"$error":"#REF!"},{"$f":"AF25/N25*-1","v":{"$error":"#REF!"}},null,null,null,null,null,null,null,null,null,null,null,{"$f":"AF16","v":{"$error":"#REF!"}},{"$f":"-(S25+N25)","v":{"$error":"#REF!"}}]

{"sheet":"BL Non-OECD Europe Aurasia 2030","index":87,"n_rows":25,"n_cols":34,"rows_kept":25,"cut":false,"hidden":true,"merged":[]}
[null,"Consumption","Coal","Crude oil","Oil Products","Natual Gas","Nuclear","Hydro","Geothermal, solar, wind, etc.","Biofuels and waste","Electricity","Heat","Energy Services","Total consumption","Non-OECD Europe Eurasia 2030",null,null,"Faktor","Total production","Efficiency","Production","Coal","Crude oil","Oil Products","Natual Gas","Nuclear","Hydro","Geothermal, solar, wind, etc.","Biofuels and waste","Electricity","Heat","Energy Services","Loss","CO2-emissions"]
["ID","C ","CC","CCO","COP","CNG","CNU","CHY","CGSW","CWB","CE","CH","CES","fbrbr",null,"ID","ID Parent","factor","pbrpr","pvrkg","P ","PC","PCO","POP","PNG","PNU","PHY","PGSW","PWB","PE","PH","PES","PTAB","PCO2"]
["ID Parent",null,"C","C","C ","C ","C ","C","C","C ","C ","C ","C ",null,"Structures",null,null,null,null,null,null,"P ","P ","P ","P ","P ","P ","P","P ","P ","P ","P "]
["Factor",null,null,null,null,null,null,null,null,null,null,null,null,null,null,null,null,null,null,null,{"$f":"B4","v":0},null,null,null,null,null,null,null,null,null,null,null,{"$f":"U4","v":0},{"$f":"U4","v":0}]
[null,null,null,null,null,null,null,null,null,null,null,null,null,{"$f":"SUM(C5:M5)","v":0},"Entry fuels","ETP",null,null,{"$f":"SUM(V5:AF5)","v":{"$error":"#REF!"}},null,null,{"$f":"-(C6+C5)","v":{"$error":"#REF!"}},{"$f":"-(D6+D5)","v":{"$error":"#REF!"}},null,{"$f":"-(F6+F5)","v":{"$error":"#REF!"}},{"$f":"-(G6+G5)","v":{"$error":"#REF!"}},null,null,{"$f":"-(J6+J5)","v":{"$error":"#REF!"}}]
[null,null,{"$f":"-V6","v":{"$error":"#REF!"}},{"$f":"-W6","v":{"$error":"#REF!"}},null,{"$f":"-Y6","v":{"$error":"#REF!"}},{"$f":"-Z6","v":{"$error":"#REF!"}},null,null,{"$f":"-AC6","v":{"$error":"#REF!"}},null,null,null,{"$f":"SUM(C6:M6)","v":{"$error":"#REF!"}},"Transport of fuels","TRAP",null,null,{"$f":"SUM(V6:AF6)","v":{"$error":"#REF!"}},null,null,{"$f":"-(C16+C8)","v":{"$error":"#REF!"}},{"$f":"-(D16+D8)","v":{"$error":"#REF!"}},null,{"$f":"-(F16+F8)","v":{"$error":"#REF!"}},{"$f":"-(G16+G8)","v":{"$error":"#REF!"}},null,null,{"$f":"-(J16+J8)","v":{"$error":"#REF!"}},null,null,null,{"$f":"-(N6+S6)","v":{"$error":"#REF!"}}]
[null,null,null,null,null,null,null,null,null,null,null,null,null,0,"Entry On-Grid RE ","ELP1",null,null,{"$error":"#REF!"},null,null,null,null,null,null,null,{"$f":"-H8","v":{"$error":"#REF!"}},{"$f":"-I8","v":{"$error":"#REF!"}}]
[null,null,{"$f":"SUM(C9:C13)","v":{"$error":"#REF!"}},{"$f":"SUM(D9:D13)","v":{"$error":"#REF!"}},{"$error":"#REF!"},{"$error":"#REF!"},{"$error":"#REF!"},{"$error":"#REF!"},{"$error":"#REF!"},{"$error":"#REF!"},{"$error":"#REF!"},{"$error":"#REF!"},0,{"$error":"#REF!"},"Entry electricity, district heating and oil products","ES",null,{"$f":"'Størrelse på strømme'!E18","v":0},{"$error":"#REF!"},null,null,{"$f":"SUM(V9:V13)","v":0},null,{"$f":"(E14+E8)*-1","v":{"$error":"#REF!"}},null,null,null,null,null,{"$f":"(K14+K8)*-1","v":{"$error":"#REF!"}},{"$f":"(L14+L8)*-1","v":{"$error":"#REF!"}},null,{"$f":"-(N8+S8)","v":{"$error":"#REF!"}},{"$f":"SUM(AH9:AH13)","v":{"$error":"#REF!"}}]
[null,null,{"$f":"-($AD$9+$H$9+$I$9)/$T$9*#REF!","v":{"$error":"#REF!"}},{"$f":"-($AD$9+$H$9+$I$9)/$T$9*#REF!","v":{"$error":"#REF!"}},{"$f":"-($AD$9+$H$9+$I$9)/$T$9*#REF!","v":{"$error":"#REF!"}},{"$f":"-($AD$9+$H$9+$I$9)/$T$9*#REF!","v":{"$error":"#REF!"}},{"$f":"-($AD$9+$H$9+$I$9)/$T$9*#REF!","v":{"$error":"#REF!"}},{"$f":"AD9*#REF!*-1","v":{"$error":"#REF!"}},{"$f":"AD9*#REF!*-1","v":{"$error":"#REF!"}},{"$f":"-($AD$9+$H$9+$I$9)/$T$9*#REF!","v":{"$error":"#REF!"}},null,null,null,{"$error":"#REF!"},"Electricity-only plants","ESEP","ES",null,{"$error":"#REF!"},{"$f":"#REF!","v":{"$error":"#REF!"}},null,null,null,null,null,null,null,null,null,{"$f":"AD8-AD10","v":{"$error":"#REF!"}},null,null,{"$f":"-(S9+N9)","v":{"$error":"#REF!"}},{"$f":"-(C9*Emissionsfaktorer!$B$2*(1-#REF!)+D9*Emissionsfaktorer!$B$3+E9*Emissionsfaktorer!$B$4*(1-#REF!)+F9*Emissionsfaktorer!$B$5*(1-#REF!)+G9*Emissionsfaktorer!$B$6+H9*Emissionsfaktorer!$B$7+I9*Emissionsfaktorer!$B$8-J9*Emissionsfaktorer!B13*#REF!+K9*Emissionsfaktorer!$B$10+L9*Emissionsfaktorer!$B$11+M9*Emissionsfaktorer!$B$12)","v":{"$error":"#REF!"}}]
[null,null,{"$f":"-($AD$10+$AE$10+$H$10+$I$10)/$T$10*#REF!","v":{"$error":"#REF!"}},{"$f":"-($AD$10+$AE$10+$H$10+$I$10)/$T$10*#REF!","v":{"$error":"#REF!"}},{"$f":"-($AD$10+$AE$10+$H$10+$I$10)/$T$10*#REF!","v":{"$error":"#REF!"}},{"$f":"-($AD$10+$AE$10+$H$10+$I$10)/$T$10*#REF!","v":{"$error":"#REF!"}},{"$f":"-($AD$10+$AE$10+$H$10+$I$10)/$T$10*#REF!","v":{"$error":"#REF!"}},null,{"$f":"(AD10+AE10)*#REF!*-1","v":{"$error":"#REF!"}},{"$f":"-($AD$10+$AE$10+$H$10+$I$10)/$T$10*#REF!","v":{"$error":"#REF!"}},null,null,null,{"$error":"#REF!"},"CHP plants","ESCHP","ES",null,{"$error":"#REF!"},{"$f":"#REF!","v":{"$error":"#REF!"}},null,null,null,null,null,null,null,null,null,{"$f":"AE10*#REF!","v":{"$error":"#REF!"}},{"$f":"AE8*#REF!","v":{"$error":"#REF!"}},null,{"$f":"-(S10+N10)","v":{"$error":"#REF!"}},{"$f":"-(C10*Emissionsfaktorer!$B$2*(1-#REF!)+D10*Emissionsfaktorer!$B$3+E10*Emissionsfaktorer!$B$4*(1-#REF!)+F10*Emissionsfaktorer!$B$5*(1-#REF!)+G10*Emissionsfaktorer!$B$6+H10*Emissionsfaktorer!$B$7+I10*Emissionsfaktorer!$B$8-J10*Emissionsfaktorer!B14*#REF!+K10*Emissionsfaktorer!$B$10+L10*Emissionsfaktorer!$B$11+M10*Emissionsfaktorer!$B$12)","v":{"$error":"#REF!"}}]
[null,null,{"$f":"-($AE$11+$H$11+$I$11)/$T$11*#REF!","v":{"$error":"#REF!"}},{"$f":"-($AE$11+$H$11+$I$11)/$T$11*#REF!","v":{"$error":"#REF!"}},{"$f":"-($AE$11+$H$11+$I$11)/$T$11*#REF!","v":{"$error":"#REF!"}},{"$f":"-($AE$11+$H$11+$I$11)/$T$11*#REF!","v":{"$error":"#REF!"}},{"$f":"-($AE$11+$H$11+$I$11)/$T$11*#REF!","v":{"$error":"#REF!"}},null,{"$f":"AE11*#REF!*-1","v":{"$error":"#REF!"}},{"$f":"-($AE$11+$H$11+$I$11)/$T$11*#REF!","v":{"$error":"#REF!"}},{"$f":"AE11*#REF!*-1","v":{"$error":"#REF!"}},null,null,{"$error":"#REF!"},"Heat Plants","ESHP","ES",null,{"$error":"#REF!"},{"$f":"#REF!","v":{"$error":"#REF!"}},null,null,null,null,null,null,null,null,null,null,{"$f":"AE8*#REF!","v":{"$error":"#REF!"}},null,{"$f":"-(S11+N11)","v":{"$error":"#REF!"}},{"$f":"-(C11*Emissionsfaktorer!$B$2+D11*Emissionsfaktorer!$B$3+E11*Emissionsfaktorer!$B$4+F11*Emissionsfaktorer!$B$5+G11*Emissionsfaktorer!$B$6+H11*Emissionsfaktorer!$B$7+I11*Emissionsfaktorer!$B$8+J11*Emissionsfaktorer!$B$9+K11*Emissionsfaktorer!$B$10+L11*Emissionsfaktorer!$B$11+M11*Emissionsfaktorer!$B$12)","v":{"$error":"#REF!"}}]
[null,null,null,{"$f":"-X12/T12*#REF!","v":{"$error":"#REF!"}},null,null,null,null,null,{"$f":"-X12/T12*#REF!","v":{"$error":"#REF!"}},null,null,null,{"$error":"#REF!"},"Oil refineries","ESOR","ES",null,{"$error":"#REF!"},{"$f":"#REF!","v":{"$error":"#REF!"}},null,null,null,{"$f":"-(E9+E10+E11+E13+E14)","v":{"$error":"#REF!"}},null,null,null,null,null,null,null,null,{"$f":"-(S12+N12)","v":{"$error":"#REF!"}},{"$f":"J12*Emissionsfaktorer!B4","v":{"$error":"#REF!"}}]
[null,null,{"$f":"N13*#REF!","v":{"$error":"#REF!"}},{"$f":"N13*#REF!","v":{"$error":"#REF!"}},{"$f":"N13*#REF!","v":{"$error":"#REF!"}},{"$f":"N13*#REF!","v":{"$error":"#REF!"}},null,null,null,{"$f":"N13*#REF!","v":{"$error":"#REF!"}},{"$f":"N13*#REF!","v":{"$error":"#REF!"}},{"$f":"N13*#REF!","v":{"$error":"#REF!"}},null,{"$f":"N16*#REF!","v":{"$error":"#REF!"}},"Energy Industry one use","ESNSP","ES",null,0,0,null,null,null,null,null,null,null,null,null,null,null,null,{"$f":"-(S13+N13)","v":{"$error":"#REF!"}},{"$f":"-(C13*Emissionsfaktorer!$B$2+D13*Emissionsfaktorer!$B$3+E13*Emissionsfaktorer!$B$4+F13*Emissionsfaktorer!$B$5+G13*Emissionsfaktorer!$B$6+H13*Emissionsfaktorer!$B$7+I13*Emissionsfaktorer!$B$8+J13*Emissionsfaktorer!$B$9+K13*Emissionsfaktorer!$B$10+L13*Emissionsfaktorer!$B$11+M13*Emissionsfaktorer!$B$12)","v":{"$error":"#REF!"}}]
[null,null,null,null,{"$f":"-X14*1","v":{"$error":"#REF!"}},null,null,null,null,null,{"$f":"-AD14*(1+#REF!)","v":{"$error":"#REF!"}},{"$f":"-AE14*(1+#REF!)","v":{"$error":"#REF!"}},null,{"$error":"#REF!"},"Transport electricity, district heating and oil products","TRAS",null,null,{"$error":"#REF!"},null,null,null,null,{"$f":"-E16","v":{"$error":"#REF!"}},null,null,null,null,null,{"$f":"-K16","v":{"$error":"#REF!"}},{"$f":"-L16","v":{"$error":"#REF!"}},null,{"$f":"-(N14+S14)","v":{"$error":"#REF!"}}]
[null,null,null,null,null,null,null,null,null,null,null,null,null,0,"Entry Off-Grid RE","ELP2",null,null,{"$error":"#REF!"},null,null,null,null,null,null,null,null,{"$f":"I16*-1","v":{"$error":"#REF!"}}]
[null,null,{"$f":"SUM(C17:C19)","v":{"$error":"#REF!"}},{"$error":"#REF!"},{"$error":"#REF!"},{"$error":"#REF!"},0,0,{"$error":"#REF!"},{"$error":"#REF!"},{"$error":"#REF!"},{"$error":"#REF!"},0,{"$f":"#REF!","v":{"$error":"#REF!"}},"Exit energy","EX",null,{"$f":"'Størrelse på strømme'!E20","v":0},{"$error":"#REF!"},null,null,null,null,null,null,null,null,null,null,null,null,{"$f":"SUM(AF17:AF19)","v":{"$error":"#REF!"}},{"$f":"SUM(AG17:AG19)","v":{"$error":"#REF!"}},{"$f":"SUM(AH17:AH19)","v":{"$error":"#REF!"}}]
[null,null,{"$f":"AF17*#REF!/T17*#REF!/#REF!*-1","v":{"$error":"#REF!"}},{"$f":"AF17*#REF!/T17*#REF!/#REF!*-1","v":{"$error":"#REF!"}},{"$f":"AF17*#REF!/T17*#REF!/#REF!*-1","v":{"$error":"#REF!"}},{"$f":"AF17*#REF!/T17*#REF!/#REF!*-1","v":{"$error":"#REF!"}},null,null,{"$f":"AF17*#REF!/T17*#REF!/#REF!*-1","v":{"$error":"#REF!"}},{"$f":"AF17*#REF!*#REF!/T17/#REF!*-1","v":{"$error":"#REF!"}},{"$f":"AF17*#REF!*#REF!/T17/#REF!*-1","v":{"$error":"#REF!"}},{"$f":"AF17*#REF!*#REF!/T17/#REF!*-1","v":{"$error":"#REF!"}},null,{"$f":"SUM(C17:L17)","v":{"$error":"#REF!"}},"Industry","EXI","EX",null,{"$error":"#REF!"},{"$f":"(#REF!+#REF!+#REF!+#REF!+#REF!)*#REF!+(#REF!+#REF!)*#REF!+#REF!*#REF!","v":{"$error":"#REF!"}},null,null,null,null,null,null,null,null,null,null,null,{"$f":"#REF!*#REF!*((#REF!+#REF!+#REF!+#REF!+#REF!)*#REF!+(#REF!+#REF!)*#REF!+#REF!*#REF!)*-1","v":{"$error":"#REF!"}},{"$f":"(S17+SUM(C17:M17))*-1","v":{"$error":"#REF!"}},{"$f":"-(C17*Emissionsfaktorer!$B$2+D17*Emissionsfaktorer!$B$3+E17*Emissionsfaktorer!$B$4+F17*Emissionsfaktorer!$B$5+G17*Emissionsfaktorer!$B$6+H17*Emissionsfaktorer!$B$7+I17*Emissionsfaktorer!$B$8+J17*Emissionsfaktorer!$B$9+K17*Emissionsfaktorer!$B$10+L17*Emissionsfaktorer!$B$11+M17*Emissionsfaktorer!$B$12)","v":{"$error":"#REF!"}}]
[null,null,{"$f":"AF18*#REF!/T18*#REF!/#REF!*-1","v":{"$error":"#REF!"}},null,{"$f":"AF18*#REF!/T18*#REF!/#REF!*-1","v":{"$error":"#REF!"}},{"$f":"AF18*#REF!/T18*#REF!/#REF!*-1","v":{"$error":"#REF!"}},null,null,{"$f":"AF18*#REF!/T18*#REF!/#REF!*-1","v":{"$error":"#REF!"}},{"$f":"AF18*#REF!/T18*#REF!/#REF!*-1","v":{"$error":"#REF!"}},{"$f":"AF18*#REF!/T18*#REF!/#REF!*-1","v":{"$error":"#REF!"}},{"$f":"AF18*#REF!/T18*#REF!/#REF!*-1","v":{"$error":"#REF!"}},null,{"$f":"SUM(C18:L18)","v":{"$error":"#REF!"}},"Transport","EXT","EX",null,{"$error":"#REF!"},{"$f":"(#REF!+#REF!+#REF!+#REF!)*#REF!+(#REF!+#REF!)*#REF!+#REF!*#REF!","v":{"$error":"#REF!"}},null,null,null,null,null,null,null,null,null,null,null,{"$f":"#REF!*#REF!*-1*((#REF!+#REF!+#REF!+#REF!)*#REF!+(#REF!+#REF!)*#REF!+#REF!*#REF!)","v":{"$error":"#REF!"}},{"$f":"(S18+SUM(C18:M18))*-1","v":{"$error":"#REF!"}},{"$f":"-(C18*Emissionsfaktorer!$B$2+D18*Emissionsfaktorer!$B$3+E18*Emissionsfaktorer!$B$4+F18*Emissionsfaktorer!$B$5+G18*Emissionsfaktorer!$B$6+H18*Emissionsfaktorer!$B$7+I18*Emissionsfaktorer!$B$8+J18*Emissionsfaktorer!$B$9+K18*Emissionsfaktorer!$B$10+L18*Emissionsfaktorer!$B$11+M18*Emissionsfaktorer!$B$12)","v":{"$error":"#REF!"}}]
[null,null,{"$f":"SUM(C20:C24)","v":{"$error":"#REF!"}},{"$f":"SUM(D20:D24)","v":0},{"$error":"#REF!"},{"$error":"#REF!"},0,0,{"$error":"#REF!"},{"$error":"#REF!"},{"$error":"#REF!"},{"$error":"#REF!"},0,{"$f":"SUM(N20:N24)","v":{"$error":"#REF!"}},"Other ","EXO","EX",null,{"$error":"#REF!"},0.8,null,{"$f":"SUM(V20:V24)","v":0},{"$f":"SUM(W20:W24)","v":0},0,0,0,0,0,0,0,0,{"$error":"#REF!"},{"$error":"#REF!"},{"$error":"#REF!"}]
[null,null,{"$f":"AF20*#REF!/T20*#REF!/#REF!*-1","v":{"$error":"#REF!"}},null,{"$f":"AF20*#REF!/T20*#REF!/#REF!*-1","v":{"$error":"#REF!"}},{"$f":"AF20*#REF!/T20*#REF!/#REF!*-1","v":{"$error":"#REF!"}},null,null,{"$f":"AF20*#REF!/T20*#REF!/#REF!*-1","v":{"$error":"#REF!"}},{"$f":"AF20*#REF!/T20*#REF!/#REF!*-1","v":{"$error":"#REF!"}},{"$f":"AF20*#REF!/T20*#REF!/#REF!*-1","v":{"$error":"#REF!"}},{"$f":"AF20*#REF!/T20*#REF!/#REF!*-1","v":{"$error":"#REF!"}},null,{"$f":"SUM(C20:L20)","v":{"$error":"#REF!"}},"Residential","EXOR","EXO",null,{"$error":"#REF!"},{"$f":"(#REF!+#REF!+#REF!+#REF!)*#REF!+(#REF!+#REF!)*#REF!+#REF!*#REF!","v":{"$error":"#REF!"}},null,null,null,null,null,null,null,null,null,null,null,{"$f":"#REF!*#REF!*((#REF!+#REF!+#REF!+#REF!)*#REF!+(#REF!+#REF!)*#REF!+#REF!*#REF!)*-1","v":{"$error":"#REF!"}},{"$f":"(N20+AF20)*-1","v":{"$error":"#REF!"}},{"$f":"-(C20*Emissionsfaktorer!$B$2+D20*Emissionsfaktorer!$B$3+E20*Emissionsfaktorer!$B$4+F20*Emissionsfaktorer!$B$5+G20*Emissionsfaktorer!$B$6+H20*Emissionsfaktorer!$B$7+I20*Emissionsfaktorer!$B$8+J20*Emissionsfaktorer!$B$9+K20*Emissionsfaktorer!$B$10+L20*Emissionsfaktorer!$B$11+M20*Emissionsfaktorer!$B$12)","v":{"$error":"#REF!"}}]
[null,null,{"$f":"AF21*#REF!/T21*#REF!/#REF!*-1","v":{"$error":"#REF!"}},null,{"$f":"AF21*#REF!/T21*#REF!/#REF!*-1","v":{"$error":"#REF!"}},{"$f":"AF21*#REF!/T21*#REF!/#REF!*-1","v":{"$error":"#REF!"}},null,null,{"$f":"AF21*#REF!/T21*#REF!/#REF!*-1","v":{"$error":"#REF!"}},{"$f":"AF21*#REF!/T21*#REF!/#REF!*-1","v":{"$error":"#REF!"}},{"$f":"AF21*#REF!/T21*#REF!/#REF!*-1","v":{"$error":"#REF!"}},{"$f":"AF21*#REF!/T21*#REF!/#REF!*-1","v":{"$error":"#REF!"}},null,{"$f":"SUM(C21:L21)","v":{"$error":"#REF!"}},"Commercial and public services","EXOC","EXO",null,{"$error":"#REF!"},{"$f":"(#REF!+#REF!+#REF!+#REF!)*#REF!+(#REF!+#REF!)*#REF!+#REF!*#REF!","v":{"$error":"#REF!"}},null,null,null,null,null,null,null,null,null,null,null,{"$f":"#REF!*#REF!*((#REF!+#REF!+#REF!+#REF!)*#REF!+(#REF!+#REF!)*#REF!+#REF!*#REF!)*-1","v":{"$error":"#REF!"}},{"$f":"(N21+AF21)*-1","v":{"$error":"#REF!"}},{"$f":"-(C21*Emissionsfaktorer!$B$2+D21*Emissionsfaktorer!$B$3+E21*Emissionsfaktorer!$B$4+F21*Emissionsfaktorer!$B$5+G21*Emissionsfaktorer!$B$6+H21*Emissionsfaktorer!$B$7+I21*Emissionsfaktorer!$B$8+J21*Emissionsfaktorer!$B$9+K21*Emissionsfaktorer!$B$10+L21*Emissionsfaktorer!$B$11+M21*Emissionsfaktorer!$B$12)","v":{"$error":"#REF!"}}]
[null,null,{"$f":"AF22*#REF!/T22*#REF!/#REF!*-1","v":{"$error":"#REF!"}},null,{"$f":"AF22*#REF!/T22*#REF!/#REF!*-1","v":{"$error":"#REF!"}},{"$f":"AF22*#REF!/T22*#REF!/#REF!*-1","v":{"$error":"#REF!"}},null,null,{"$f":"AF22*#REF!/T22*#REF!/#REF!*-1","v":{"$error":"#REF!"}},{"$f":"AF22*#REF!/T22*#REF!/#REF!*-1","v":{"$error":"#REF!"}},{"$f":"AF22*#REF!/T22*#REF!/#REF!*-1","v":{"$error":"#REF!"}},{"$f":"AF22*#REF!/T22*#REF!/#REF!*-1","v":{"$error":"#REF!"}},null,{"$f":"SUM(C22:L22)","v":{"$error":"#REF!"}},"Agriculture / forestry","EXOA","EXO",null,{"$error":"#REF!"},{"$f":"(#REF!+#REF!+#REF!+#REF!)*#REF!+(#REF!+#REF!)*#REF!+#REF!*#REF!","v":{"$error":"#REF!"}},null,null,null,null,null,null,null,null,null,null,null,{"$f":"((#REF!+#REF!+#REF!+#REF!)*#REF!+(#REF!+#REF!)*#REF!+#REF!*#REF!)*#REF!*#REF!*-1","v":{"$error":"#REF!"}},{"$f":"(N22+AF22)*-1","v":{"$error":"#REF!"}},{"$f":"-(C22*Emissionsfaktorer!$B$2+D22*Emissionsfaktorer!$B$3+E22*Emissionsfaktorer!$B$4+F22*Emissionsfaktorer!$B$5+G22*Emissionsfaktorer!$B$6+H22*Emissionsfaktorer!$B$7+I22*Emissionsfaktorer!$B$8+J22*Emissionsfaktorer!$B$9+K22*Emissionsfaktorer!$B$10+L22*Emissionsfaktorer!$B$11+M22*Emissionsfaktorer!$B$12)","v":{"$error":"#REF!"}}]
[null,null,{"$f":"AF23*#REF!/T23*#REF!/#REF!*-1","v":{"$error":"#REF!"}},null,{"$f":"AF23*#REF!/T23*#REF!/#REF!*-1","v":{"$error":"#REF!"}},{"$f":"AF23*#REF!/T23*#REF!/#REF!*-1","v":{"$error":"#REF!"}},null,null,{"$f":"AF23*#REF!/T23*#REF!/#REF!*-1","v":{"$error":"#REF!"}},{"$f":"AF23*#REF!/T23*#REF!/#REF!*-1","v":{"$error":"#REF!"}},{"$f":"AF23*#REF!/T23*#REF!/#REF!*-1","v":{"$error":"#REF!"}},{"$f":"AF23*#REF!/T23*#REF!/#REF!*-1","v":{"$error":"#REF!"}},null,{"$f":"SUM(C23:L23)","v":{"$error":"#REF!"}},"Fishing","EXOF","EXO",null,{"$error":"#REF!"},{"$f":"(#REF!+#REF!+#REF!+#REF!)*#REF!+(#REF!+#REF!)*#REF!+#REF!*#REF!","v":{"$error":"#REF!"}},null,null,null,null,null,null,null,null,null,null,null,{"$f":"((#REF!+#REF!+#REF!+#REF!)*#REF!+(#REF!+#REF!)*#REF!+#REF!*#REF!)*#REF!*#REF!*-1","v":{"$error":"#REF!"}},{"$f":"(N23+AF23)*-1","v":{"$error":"#REF!"}},{"$f":"-(C23*Emissionsfaktorer!$B$2+D23*Emissionsfaktorer!$B$3+E23*Emissionsfaktorer!$B$4+F23*Emissionsfaktorer!$B$5+G23*Emissionsfaktorer!$B$6+H23*Emissionsfaktorer!$B$7+I23*Emissionsfaktorer!$B$8+J23*Emissionsfaktorer!$B$9+K23*Emissionsfaktorer!$B$10+L23*Emissionsfaktorer!$B$11+M23*Emissionsfaktorer!$B$12)","v":{"$error":"#REF!"}}]
[null,null,{"$f":"AF24*#REF!/T24*#REF!/#REF!*-1","v":{"$error":"#REF!"}},null,{"$f":"AF24*#REF!/T24*#REF!/#REF!*-1","v":{"$error":"#REF!"}},{"$f":"AF24*#REF!/T24*#REF!/#REF!*-1","v":{"$error":"#REF!"}},null,null,{"$f":"AF24*#REF!/T24*#REF!/#REF!*-1","v":{"$error":"#REF!"}},{"$f":"AF24*#REF!/T24*#REF!/#REF!*-1","v":{"$error":"#REF!"}},{"$f":"AF24*#REF!/T24*#REF!/#REF!*-1","v":{"$error":"#REF!"}},{"$f":"AF24*#REF!/T24*#REF!/#REF!*-1","v":{"$error":"#REF!"}},null,{"$f":"SUM(C24:L24)","v":{"$error":"#REF!"}},"Non-specified","EXON","EXO",null,{"$error":"#REF!"},{"$f":"(#REF!+#REF!+#REF!+#REF!)*#REF!+(#REF!+#REF!)*#REF!+#REF!*#REF!","v":{"$error":"#REF!"}},null,null,null,null,null,null,null,null,null,null,null,{"$f":"((#REF!+#REF!+#REF!+#REF!)*#REF!+(#REF!+#REF!)*#REF!+#REF!*#REF!)*#REF!*#REF!*-1","v":{"$error":"#REF!"}},{"$f":"(N24+AF24)*-1","v":{"$error":"#REF!"}},{"$f":"-(C24*Emissionsfaktorer!$B$2+D24*Emissionsfaktorer!$B$3+E24*Emissionsfaktorer!$B$4+F24*Emissionsfaktorer!$B$5+G24*Emissionsfaktorer!$B$6+H24*Emissionsfaktorer!$B$7+I24*Emissionsfaktorer!$B$8+J24*Emissionsfaktorer!$B$9+K24*Emissionsfaktorer!$B$10+L24*Emissionsfaktorer!$B$11+M24*Emissionsfaktorer!$B$12)","v":{"$error":"#REF!"}}]
[null,null,null,null,null,null,null,null,null,null,null,null,null,{"$f":"N16","v":{"$error":"#REF!"}},"Energy Services","EN",null,null,{"$error":"#REF!"},{"$f":"AF25/N25*-1","v":{"$error":"#REF!"}},null,null,null,null,null,null,null,null,null,null,null,{"$f":"AF16","v":{"$error":"#REF!"}},{"$f":"-(S25+N25)","v":{"$error":"#REF!"}}]

{"sheet":"Non-OECD Europe Eurasia 1995","index":88,"n_rows":32,"n_cols":12,"rows_kept":32,"cut":false,"hidden":true,"merged":[]}
[null,"Coal*","Crude oil","Oil products","Natural gas","Nuclear","Hydro","Geothermal, solar, etc.","Biofuels and waste","Electricity","Heat","Total**"]
[null,"ktoe","ktoe","ktoe","ktoe","ktoe","ktoe","ktoe","ktoe","ktoe","ktoe","ktoe"]
["Production",236411,365112,null,591700,49202,23880,71,14467,null,null,1280844]
["Imports",31966,57332,27616,92930,null,null,null,2,6636,null,216482]
["Exports",-29718,-134472,-64288,-178552,null,null,null,-9,-7158,null,-414196]
["International marine bunkers",null,null,-2313,null,null,null,null,null,null,null,-2313]
["International aviation bunkers",null,null,-6616,null,null,null,null,null,null,null,-6616]
["Stock changes",3123,-2995,684,-13382,null,null,null,32,null,null,-12539]
["TES",241781,284977,-44917,492697,49202,23880,71,14492,-522,null,1061663]
["Transfers",null,-600,630,null,null,null,null,null,null,null,30]
["Statistical differences",3174,-1310,-4037,6467,null,null,null,-21,-281,-195,3796]
["Electricity plants",-39124,null,-7391,-15646,-48886,-23880,-26,null,57620,null,-77334]
["CHP plants",-82971,-392,-29388,-158153,-316,null,null,-1392,65406,118180,-89027]
["Heat plants",-23500,-1,-25929,-90880,null,null,null,-2826,null,130493,-12643]
["Gas works",9,null,-12,null,null,null,null,null,null,null,-3]
["Oil refineries",null,-278922,268414,null,null,null,null,null,null,null,-10508]
["Coal transformation",-35408,null,null,null,null,null,null,null,null,null,-35408]
["Liquefication plants"]
["Other transformation",null,24,null,-22,null,null,null,-17,null,null,-14]
["Energy industry own use",-3465,-2423,-9205,-16553,null,null,null,-98,-18417,-17084,-67245]
["Losses",-6726,-1043,-188,-10525,null,null,-2,-30,-13626,-13515,-45656]
["Total final consumption",53770,310,147976,207385,null,null,44,10108,90180,217878,727651]
["Industry",34493,38,22406,58316,null,null,null,953,43173,90152,249532]
["Transport",17,10,67208,34711,null,null,null,6,7570,null,109522]
["Residential",14034,133,9376,70515,null,null,null,7578,20772,91055,213463]
["Commercial and public services",1435,null,941,13153,null,null,2,574,8527,15786,40417]
["Agriculture / forestry",414,null,14787,1381,null,null,12,479,9350,8572,34994]
["Fishing"]
["Non-specified",3363,null,6443,8880,null,null,31,518,789,12314,32337]
["Non-energy use",13,129,26816,20429,null,null,null,null,null,null,47387]
[]
[null,{"$f":"SUM(B9,B10:B21,B22*-1)","v":0},{"$f":"SUM(C9,C10:C21,C22*-1)","v":0},1,0,0,0,-1,0,0,1,0]

{"sheet":"Non-OECD Europe Eurasia 2000","index":89,"n_rows":32,"n_cols":12,"rows_kept":32,"cut":false,"hidden":true,"merged":[]}
[null,"Coal*","Crude oil","Oil products","Natural gas","Nuclear","Hydro","Geothermal, solar, etc.","Biofuels and waste","Electricity","Heat","Total**"]
[null,"ktoe","ktoe","ktoe","ktoe","ktoe","ktoe","ktoe","ktoe","ktoe","ktoe","ktoe"]
["Production",223408,403729,null,595351,61255,22950,117,15135,null,null,1321945]
["Imports",26119,41965,21268,92311,null,null,null,66,5369,null,187098]
["Exports",-42773,-183286,-74517,-196266,null,null,null,-71,-5807,null,-502720]
["International marine bunkers",null,null,-3532,null,null,null,null,null,null,null,-3532]
["International aviation bunkers",null,null,-6174,null,null,null,null,null,null,null,-6174]
["Stock changes",1969,-101,380,-5795,null,null,null,-107,null,null,-3653]
["TES",208723,262308,-62574,485601,61255,22950,117,15023,-438,null,992964]
["Transfers",null,-656,717,null,null,null,null,null,null,null,61]
["Statistical differences",-2145,2349,-583,3757,null,null,null,null,62,11,3452]
["Electricity plants",-32406,-7,-4110,-14574,-60891,-22950,-51,null,58625,null,-76365]
["CHP plants",-83365,-67,-18686,-154466,-364,null,null,-1639,63033,95894,-99660]
["Heat plants",-17161,-999,-13078,-89255,null,null,null,-2374,null,100785,-22082]
["Gas works",9,null,-12,null,null,null,null,null,null,null,-3]
["Oil refineries",null,-258671,255620,null,null,null,null,null,null,null,-3050]
["Coal transformation",-32749,null,null,null,null,null,null,null,null,null,-32749]
["Liquefication plants"]
["Other transformation",null,343,-5,-3023,null,null,null,-19,null,null,-2703]
["Energy industry own use",-3377,-1623,-14275,-18128,null,null,null,-117,-19073,-11573,-68165]
["Losses",-1257,-2007,-281,-9853,null,null,-1,null,-16129,-14659,-44188]
["Total final consumption",36272,971,142733,200058,null,null,65,10874,86081,170458,647513]
["Industry",20488,46,24411,53705,null,null,null,1151,41296,63496,204593]
["Transport",7,10,69353,32908,null,null,null,null,6814,null,109093]
["Residential",12700,722,6619,77030,null,null,9,8614,22464,82431,210590]
["Commercial and public services",568,null,1705,10584,null,null,8,211,9017,14700,36792]
["Agriculture / forestry",338,1,10171,753,null,null,12,224,5651,4637,21788]
["Fishing",null,null,56,null,null,null,null,null,2,null,58]
["Non-specified",745,67,4558,5519,null,null,35,673,838,5194,17631]
["Non-energy use",1426,125,25858,19559,null,null,null,null,null,null,46967]
[]
[null,{"$f":"SUM(B9,B10:B21,B22*-1)","v":0},{"$f":"SUM(C9,C10:C21,C22*-1)","v":-1},0,1,0,0,0,0,-1,0,-1]

{"sheet":"Non-OECD Europe Eurasia 2005","index":90,"n_rows":32,"n_cols":12,"rows_kept":32,"cut":false,"hidden":true,"merged":[]}
[null,"Coal*","Crude oil","Oil products","Natural gas","Nuclear","Hydro","Geothermal, solar, etc.","Biofuels and waste","Electricity","Heat","Total**"]
[null,"ktoe","ktoe","ktoe","ktoe","ktoe","ktoe","ktoe","ktoe","ktoe","ktoe","ktoe"]
["Production",255358,585299,null,665132,69404,25864,475,16133,null,null,1617666]
["Imports",27253,64507,23790,103047,null,null,null,65,6292,null,224954]
["Exports",-69147,-328292,-124346,-230114,null,null,null,-130,-8121,null,-760149]
["International marine bunkers",null,null,-5008,null,null,null,null,null,null,null,-5008]
["International aviation bunkers",null,null,-7660,null,null,null,null,null,null,null,-7660]
["Stock changes",-2279,627,338,-2830,null,null,null,-80,null,null,-4224]
["TES",211185,322142,-112886,535236,69404,25864,475,15987,-1829,null,1065578]
["Transfers",null,-768,916,null,null,null,null,null,null,null,148]
["Statistical differences",-2613,-316,600,79,null,null,null,7,5,4,-2233]
["Electricity plants",-29079,-49,-3374,-14884,-69081,-25864,-358,-4,63510,null,-79183]
["CHP plants",-89619,-4,-11807,-176306,-323,null,null,-1733,70808,88374,-120610]
["Heat plants",-16715,-762,-9294,-84570,null,null,-1,-2745,null,103390,-10697]
["Gas works",12,null,-13,null,null,null,null,null,null,null,-1]
["Oil refineries",null,-316964,311336,null,null,null,null,null,null,null,-5628]
["Coal transformation",-31936,null,-2,null,null,null,null,-5,null,null,-31942]
["Liquefication plants",null,null,null,-20,null,null,null,null,null,null,-20]
["Other transformation",-49,375,-1247,-2075,null,null,null,-43,null,null,-3039]
["Energy industry own use",-3723,-367,-17914,-26623,null,null,null,-279,-21064,-17812,-87782]
["Losses",-1058,-3101,-193,-10283,null,null,-1,null,-17087,-19008,-50730]
["Total final consumption",36406,186,156123,220553,null,null,115,11185,94344,154948,673859]
["Industry",24768,38,19236,57484,null,null,1,1165,46204,61403,210297]
["Transport",60,19,81303,40825,null,null,null,1,8901,null,131109]
["Residential",4277,null,9246,74883,null,null,53,8387,20072,65792,182711]
["Commercial and public services",2907,31,1776,12420,null,null,53,839,14610,19482,52119]
["Agriculture / forestry",1102,7,8313,1014,null,null,8,365,4029,3435,18273]
["Fishing",null,null,646,null,null,null,null,null,25,12,684]
["Non-specified",707,null,4719,3336,null,null,1,428,502,4826,14518]
["Non-energy use",2584,90,30884,30590,null,null,null,null,null,null,64148]
[]
[null,{"$f":"SUM(B9,B10:B21,B22*-1)","v":-1},{"$f":"SUM(C9,C10:C21,C22*-1)","v":0},-1,1,0,0,0,0,-1,0,2]

{"sheet":"Non-OECD Europe Eurasia 2010","index":91,"n_rows":32,"n_cols":12,"rows_kept":32,"cut":false,"hidden":true,"merged":[]}
[null,"Coal*","Crude oil","Oil products","Natural gas","Nuclear","Hydro","Geothermal, solar, etc.","Biofuels and waste","Electricity","Heat","Total**"]
[null,"ktoe","ktoe","ktoe","ktoe","ktoe","ktoe","ktoe","ktoe","ktoe","ktoe","ktoe"]
["Production",275611,667156,null,696195,75691,26315,749,19543,null,55,1761315]
["Imports",30023,50375,35227,65673,null,null,null,217,4133,null,185648]
["Exports",-105325,-365961,-149854,-195137,null,null,null,-298,-7152,null,-823727]
["International marine bunkers",null,null,-7476,null,null,null,null,null,null,null,-7476]
["International aviation bunkers",null,null,-8957,null,null,null,null,null,null,null,-8957]
["Stock changes",6250,-3130,-1562,3587,null,null,null,31,null,null,5176]
["TES",206560,348441,-132622,570318,75691,26315,749,19492,-3020,55,1111980]
["Transfers",null,-1083,1141,null,null,null,null,null,null,null,58]
["Statistical differences",6849,-58,386,-5677,null,null,null,-14,553,-1373,667]
["Electricity plants",-35794,null,-2989,-16640,-75166,-26315,-537,-48,69208,-5,-88285]
["CHP plants",-85326,-11,-4399,-189677,-525,null,null,-2358,75992,88848,-117456]
["Heat plants",-14978,-776,-7411,-77567,null,null,null,-3200,null,95069,-8862]
["Gas works",-32,null,null,-4,null,null,null,null,null,null,-37]
["Oil refineries",null,-340484,337698,null,null,null,null,null,null,null,-2786]
["Coal transformation",-29142,null,null,null,null,null,null,-7,null,null,-29149]
["Liquefication plants"]
["Other transformation",-57,764,-609,-1780,null,null,null,-198,null,null,-1879]
["Energy industry own use",-5138,-729,-17590,-35857,null,null,-1,-157,-24193,-21642,-105307]
["Losses",-1603,-5516,-63,-10409,null,null,-2,null,-15918,-14222,-47734]
["Total final consumption",41340,549,173543,232706,null,null,210,13511,102622,146730,711211]
["Industry",29727,437,17062,55601,null,null,3,1039,45513,55184,204566]
["Transport",37,null,96257,39382,null,null,null,159,8959,null,144794]
["Residential",4079,null,6978,79688,null,null,123,10740,23517,64960,190085]
["Commercial and public services",3722,null,3138,14960,null,null,74,1139,20809,19589,63430]
["Agriculture / forestry",296,12,6952,1132,null,null,11,268,3412,3714,15797]
["Fishing",6,null,870,3,null,null,null,null,26,35,940]
["Non-specified",2613,18,4218,819,null,null,null,167,388,3249,11472]
["Non-energy use",859,81,38066,41121,null,null,null,null,null,null,80127]
[]
[null,{"$f":"SUM(B9,B10:B21,B22*-1)","v":-1},{"$f":"SUM(C9,C10:C21,C22*-1)","v":-1},-1,1,0,0,-1,-1,0,0,-1]

{"sheet":"Non-OECD Europe Eurasia 2015","index":92,"n_rows":32,"n_cols":12,"rows_kept":32,"cut":false,"hidden":true,"merged":[]}
[null,"Coal*","Crude oil","Oil products","Natural gas","Nuclear","Hydro","Geothermal, solar, etc.","Biofuels and waste","Electricity","Heat","Total**"]
[null,"ktoe","ktoe","ktoe","ktoe","ktoe","ktoe","ktoe","ktoe","ktoe","ktoe","ktoe"]
["Production",286650,688436,null,702306,81939,24437,1687,22450,null,610,1808515]
["Imports",30667,48526,38213,52541,null,null,null,569,5479,null,175995]
["Exports",-113670,-353508,-175234,-246077,null,null,null,-1517,-7626,null,-897632]
["International marine bunkers",null,null,-19233,null,null,null,null,null,null,null,-19233]
["International aviation bunkers",null,null,-7631,null,null,null,null,null,null,null,-7631]
["Stock changes",1942,-1751,1494,-5203,null,null,null,23,null,null,-3493]
["TES",205588,381703,-162391,503567,81939,24437,1687,21526,-2146,610,1056520]
["Transfers",null,-1792,1909,null,null,null,null,null,null,null,117]
["Statistical differences",2078,-582,5690,4807,null,null,null,-46,-786,601,11763]
["Electricity plants",-32832,null,-2335,-20693,-81436,-24437,-1453,-139,71268,-191,-92247]
["CHP plants",-84816,-7,-4471,-193566,-503,null,null,-2970,76551,89462,-120320]
["Heat plants",-11444,-587,-5902,-53783,null,null,-20,-2934,null,67075,-7595]
["Gas works",-31,-3,null,null,null,null,null,null,null,null,-34]
["Oil refineries",null,-371458,369078,null,null,null,null,null,null,null,-2380]
["Coal transformation",-26761,null,null,null,null,null,null,-1,null,null,-26762]
["Liquefication plants"]
["Other transformation",-182,905,-499,-2393,null,null,null,-397,null,null,-2566]
["Energy industry own use",-3600,-1390,-19153,-18986,null,null,null,-310,-25007,-17463,-85908]
["Losses",-739,-6122,-36,-8694,null,null,-3,-3,-15294,-11145,-42035]
["Total final consumption",47261,668,181890,210261,null,null,211,14724,104587,128949,688552]
["Industry",37316,529,21947,51252,null,null,1,1900,44872,43623,201442]
["Transport",13,3,99852,33135,null,null,null,457,8388,null,141849]
["Residential",6111,null,12042,71820,null,null,97,10702,26342,57523,184636]
["Commercial and public services",2399,null,3836,13595,null,null,100,1294,20940,20966,63129]
["Agriculture / forestry",231,10,7409,1610,null,null,13,252,3626,2820,15971]
["Fishing",1,null,580,1,null,null,null,1,24,8,615]
["Non-specified",536,58,4523,853,null,null,null,119,395,4009,10492]
["Non-energy use",655,67,31700,37996,null,null,null,null,null,null,70419]
[]
[null,{"$f":"SUM(B9,B10:B21,B22*-1)","v":0},{"$f":"SUM(C9,C10:C21,C22*-1)","v":-1},0,-2,0,0,0,2,-1,0,1]

{"sheet":"Non-OECD Europe Eurasia 2018","index":93,"n_rows":32,"n_cols":12,"rows_kept":32,"cut":false,"hidden":true,"merged":[]}
[null,"Coal*","Crude oil","Oil products","Natural gas","Nuclear","Hydro","Geothermal, solar, etc.","Biofuels and waste","Electricity","Heat","Total**"]
[null,"ktoe","ktoe","ktoe","ktoe","ktoe","ktoe","ktoe","ktoe","ktoe","ktoe","ktoe"]
["Production",329785,715656,null,801921,83474,27989,1902,26139,null,578,1987442]
["Imports",37665,44722,41260,56997,null,null,null,771,4224,null,185638]
["Exports",-146693,-369684,-165095,-292458,null,null,null,-1593,-7544,null,-983066]
["International marine bunkers",null,null,-18473,null,null,null,null,null,null,null,-18473]
["International aviation bunkers",null,null,-8859,null,null,null,null,null,null,null,-8859]
["Stock changes",-4229,-2002,38,2793,null,null,null,-124,null,null,-3523]
["TES",216528,388693,-151128,569252,83474,27989,1902,25194,-3320,578,1159160]
["Transfers",null,-1958,2093,null,null,null,null,null,null,null,134]
["Statistical differences",-9430,-2802,514,-9586,null,null,null,70,-236,164,-21307]
["Electricity plants",-30365,null,-2419,-21619,-82967,-27989,-1651,-356,75617,-139,-91886]
["CHP plants",-84702,-21,-3150,-190708,-506,null,null,-3318,79218,93446,-109741]
["Heat plants",-12112,-473,-4558,-51459,null,null,-14,-3508,-336,70225,-2235]
["Gas works",-37,null,null,null,null,null,null,null,null,null,-37]
["Oil refineries",null,-375546,364369,null,null,null,null,null,null,null,-11176]
["Coal transformation",-25825,null,null,null,null,null,null,-2,null,null,-25826]
["Liquefication plants"]
["Other transformation",-119,758,-263,-3520,null,null,null,-489,null,null,-3634]
["Energy industry own use",-3516,-2092,-8117,-26752,null,null,null,-193,-26383,-16981,-84033]
["Losses",-883,-6513,-16,-9090,null,null,-3,null,-14544,-13402,-44452]
["Total final consumption",49540,46,197324,256518,null,null,234,17398,110017,133890,764967]
["Industry",38363,30,14509,54587,null,null,2,2831,46961,45029,202311]
["Transport",16,2,106785,39979,null,null,null,655,8461,null,155898]
["Residential",8179,null,18549,96363,null,null,108,11999,28338,58635,222171]
["Commercial and public services",1708,null,3704,15055,null,null,112,1655,21271,24246,67752]
["Agriculture / forestry",197,2,6640,1916,null,null,11,240,4525,4201,17733]
["Fishing",1,null,795,2,null,null,null,null,33,14,845]
["Non-specified",278,3,4133,969,null,null,null,17,427,1765,7592]
["Non-energy use",799,9,42209,47648,null,null,null,null,null,null,90664]
[]
[null,{"$f":"SUM(B9,B10:B21,B22*-1)","v":-1},{"$f":"SUM(C9,C10:C21,C22*-1)","v":0},1,0,1,0,0,0,-1,1,0]

{"sheet":"OECD total 1995","index":94,"n_rows":32,"n_cols":12,"rows_kept":32,"cut":false,"hidden":true,"merged":[]}
[null,"Coal*","Crude oil","Oil products","Natural gas","Nuclear","Hydro","Geothermal, solar, etc.","Biofuels and waste","Electricity","Heat","Total**"]
[null,"ktoe","ktoe","ktoe","ktoe","ktoe","ktoe","ktoe","ktoe","ktoe","ktoe","ktoe"]
["Production",990295,1016065,null,824069,538703,113921,30509,170886,null,399,3684846]
["Imports",244419,1416380,356136,305723,null,null,null,600,23013,3,2346274]
["Exports",-208392,-379441,-277543,-136164,null,null,null,-250,-22783,-3,-1024577]
["International marine bunkers",null,null,-79798,null,null,null,null,null,null,null,-79798]
["International aviation bunkers",null,null,-58865,null,null,null,null,null,null,null,-58865]
["Stock changes",-2173,3240,11182,10381,null,null,null,11,null,null,22640]
["TES",1024149,2056244,-48888,1004008,538703,113921,30509,171247,230,399,4890520]
["Transfers",null,-48329,55954,null,null,null,null,null,null,null,7625]
["Statistical differences",18221,3069,-3248,-13328,null,null,127,-21,-485,-127,4207]
["Electricity plants",-704224,-16699,-113380,-161496,-531797,-113921,-25968,-18625,670904,-89,-1015296]
["CHP plants",-88827,-493,-10371,-79285,-6906,null,-536,-38646,66780,38271,-120014]
["Heat plants",-7775,-4,-3907,-7091,null,null,-371,-2333,-602,18352,-3731]
["Gas works",-1688,null,-5252,5670,null,null,null,-44,null,null,-1313]
["Oil refineries",null,-2012109,2008173,null,null,null,null,null,null,null,-3937]
["Coal transformation",-67901,66,-3401,-276,null,null,null,null,null,null,-71512]
["Liquefication plants",-453,583,null,-333,null,null,null,null,null,null,-203]
["Other transformation",null,22044,-21813,-1512,null,null,null,-370,null,-90,-1741]
["Energy industry own use",-16470,-1286,-124208,-79693,null,null,null,-53,-60473,-3259,-285443]
["Losses",-1127,null,-260,-2918,null,null,-6,null,-51177,-4776,-60265]
["Total final consumption",153906,3084,1729398,663747,null,null,3754,111153,625176,48680,3338899]
["Industry",118156,54,157818,240011,null,null,170,42638,251473,15586,825907]
["Transport",104,null,1006225,22103,null,null,null,2866,8484,null,1039782]
["Residential",24350,null,128354,235853,null,null,2451,61591,191136,23722,667458]
["Commercial and public services",5828,null,81296,119949,null,null,376,2668,166759,7527,384402]
["Agriculture / forestry",1963,null,48691,4885,null,null,115,1281,5879,353,63166]
["Fishing",31,null,3925,2,null,null,11,null,53,3,4025]
["Non-specified",547,null,5728,5613,null,null,630,110,1392,1489,15510]
["Non-energy use",2925,3031,297362,35330,null,null,null,null,null,null,338647]
[]
[null,{"$f":"SUM(B9,B10:B21,B22*-1)","v":-1},{"$f":"SUM(C9,C10:C21,C22*-1)","v":2},1,-1,0,0,1,2,1,1,-2]

{"sheet":"OECD total 2000","index":95,"n_rows":32,"n_cols":12,"rows_kept":32,"cut":false,"hidden":true,"merged":[]}
[null,"Coal*","Crude oil","Oil products","Natural gas","Nuclear","Hydro","Geothermal, solar, etc.","Biofuels and waste","Electricity","Heat","Total**"]
[null,"ktoe","ktoe","ktoe","ktoe","ktoe","ktoe","ktoe","ktoe","ktoe","ktoe","ktoe"]
["Production",967177,1041165,null,910442,588319,115316,36866,185325,null,587,3845198]
["Imports",303975,1613216,444090,426280,null,null,null,1053,30590,3,2819208]
["Exports",-210075,-472440,-337391,-188791,null,null,null,-590,-30502,-7,-1239796]
["International marine bunkers",null,null,-89419,null,null,null,null,null,null,null,-89419]
["International aviation bunkers",null,null,-74738,null,null,null,null,null,null,null,-74738]
["Stock changes",40148,1028,-8115,18128,null,null,null,105,null,null,51294]
["TES",1101225,2182969,-65573,1166058,588319,115316,36866,185893,88,584,5311747]
["Transfers",null,-45167,59885,null,null,null,null,null,null,null,14718]
["Statistical differences",12002,-8152,27953,-9286,null,null,-15,115,398,-156,22858]
["Electricity plants",-803323,-7742,-135316,-228268,-582339,-115316,-29688,-21052,763361,-125,-1159808]
["CHP plants",-83461,-831,-19364,-84914,-5981,null,-885,-21815,75026,43283,-98940]
["Heat plants",-5130,-2,-3358,-7385,null,null,-458,-2951,-524,16315,-3492]
["Gas works",-1910,null,-4266,5085,null,null,null,-19,null,null,-1111]
["Oil refineries",null,-2146057,2140373,null,null,null,null,null,null,null,-5684]
["Coal transformation",-67990,52,-2761,-194,null,null,null,null,null,null,-70893]
["Liquefication plants",-375,229,null,null,null,null,null,null,null,null,-146]
["Other transformation",-142,29726,-29336,-1774,null,null,null,-384,null,-237,-2147]
["Energy industry own use",-15901,-754,-124562,-90245,null,null,null,-11,-65335,-3577,-300385]
["Losses",-815,null,-199,-3893,null,null,-7,-1,-54012,-4185,-63113]
["Total final consumption",134181,4273,1843476,745184,null,null,5812,139775,719002,51901,3643605]
["Industry",113731,37,148713,286299,null,null,350,70358,281389,17994,918871]
["Transport",101,null,1115161,20995,null,null,null,4033,9006,null,1149297]
["Residential",13473,null,129140,258321,null,null,4503,59068,214911,21551,700967]
["Commercial and public services",2959,null,75765,127021,null,null,735,3016,206265,8584,424346]
["Agriculture / forestry",1091,null,46964,4948,null,null,146,1213,6611,492,61465]
["Fishing",9,null,4372,1,null,null,67,null,53,4,4506]
["Non-specified",309,null,3828,6556,null,null,12,2086,767,3276,16834]
["Non-energy use",2507,4235,319533,41044,null,null,null,null,null,null,367319]
[]
[null,{"$f":"SUM(B9,B10:B21,B22*-1)","v":-1},{"$f":"SUM(C9,C10:C21,C22*-1)","v":-2},0,0,-1,0,1,0,0,1,-1]

{"sheet":"OECD total 2005","index":96,"n_rows":32,"n_cols":12,"rows_kept":32,"cut":false,"hidden":true,"merged":[]}
[null,"Coal*","Crude oil","Oil products","Natural gas","Nuclear","Hydro","Geothermal, solar, etc.","Biofuels and waste","Electricity","Heat","Total**"]
[null,"ktoe","ktoe","ktoe","ktoe","ktoe","ktoe","ktoe","ktoe","ktoe","ktoe","ktoe"]
["Production",1011670,956443,null,909807,615592,112042,40404,213710,null,677,3860344]
["Imports",361960,1703936,553382,556736,null,null,null,4784,37170,4,3217971]
["Exports",-225059,-404900,-421748,-256977,null,null,null,-2296,-35885,-9,-1346875]
["International marine bunkers",null,null,-96032,null,null,null,null,null,null,null,-96032]
["International aviation bunkers",null,null,-86224,null,null,null,null,null,null,null,-86224]
["Stock changes",648,-8106,-2946,8929,null,null,null,18,null,null,-1457]
["TES",1149220,2247372,-53568,1218494,615592,112042,40404,216216,1285,671,5547728]
["Transfers",null,-65900,77605,null,null,null,null,null,null,null,11704]
["Statistical differences",-18176,-8635,-6235,3594,null,null,-15,-161,429,155,-29043]
["Electricity plants",-838354,-8210,-96461,-269268,-604507,-112042,-32323,-30145,813118,-313,-1178505]
["CHP plants",-85211,-57,-20111,-116112,-11085,null,-958,-28290,92627,53181,-116017]
["Heat plants",-4535,null,-2765,-9217,null,null,-640,-4263,-366,17317,-4469]
["Gas works",-1862,null,-2967,3803,null,null,null,-12,null,null,-1038]
["Oil refineries",null,-2189459,2181117,null,null,null,null,null,null,null,-8342]
["Coal transformation",-57458,23,-2434,-105,null,null,null,null,null,null,-59974]
["Liquefication plants",-495,346,null,null,null,null,null,null,null,null,-149]
["Other transformation",-163,29038,-27339,-2132,null,null,null,-336,null,-221,-1154]
["Energy industry own use",-14879,-58,-130233,-105155,null,null,null,-109,-66640,-5210,-322284]
["Losses",-1259,null,-62,-8052,null,null,-8,-141,-56927,-5181,-71631]
["Total final consumption",126826,4460,1916547,715850,null,null,6460,152758,783526,60400,3766826]
["Industry",105236,55,143392,247449,null,null,385,70207,272465,22467,861656]
["Transport",192,null,1179106,21888,null,null,null,11499,8849,null,1221535]
["Residential",12936,null,120186,269930,null,null,4944,62326,243161,22180,735662]
["Commercial and public services",3643,null,73261,135610,null,null,932,5986,233949,11194,464575]
["Agriculture / forestry",1530,null,49302,6668,null,null,82,1767,10549,354,70252]
["Fishing",12,null,5270,16,null,null,85,null,244,5,5631]
["Non-specified",112,null,4314,1857,null,null,32,972,14309,4200,25797]
["Non-energy use",3165,4405,341717,32433,null,null,null,null,null,null,381719]
[]
[null,{"$f":"SUM(B9,B10:B21,B22*-1)","v":2},{"$f":"SUM(C9,C10:C21,C22*-1)","v":0},0,0,0,0,0,1,0,-1,0]

{"sheet":"OECD total 2010","index":97,"n_rows":32,"n_cols":12,"rows_kept":32,"cut":false,"hidden":true,"merged":[]}
[null,"Coal*","Crude oil","Oil products","Natural gas","Nuclear","Hydro","Geothermal, solar, etc.","Biofuels and waste","Electricity","Heat","Total**"]
[null,"ktoe","ktoe","ktoe","ktoe","ktoe","ktoe","ktoe","ktoe","ktoe","ktoe","ktoe"]
["Production",997555,896144,null,966725,596384,116790,61532,267470,null,822,3903421]
["Imports",367281,1548640,567934,645276,null,null,null,13725,34291,5,3177151]
["Exports",-283293,-349869,-511362,-302880,null,null,null,-7090,-32727,-9,-1487231]
["International marine bunkers",null,null,-90897,null,null,null,null,null,null,null,-90897]
["International aviation bunkers",null,null,-85785,null,null,null,null,null,null,null,-85785]
["Stock changes",10677,-4667,4076,13991,null,null,null,22,null,null,24098]
["TES",1092221,2090248,-116035,1323111,596384,116790,61532,274127,1564,817,5440758]
["Transfers",null,-56171,68920,null,null,null,null,null,null,null,12749]
["Statistical differences",-7887,-10135,-4060,10556,null,null,2,-1897,-3477,-270,-17167]
["Electricity plants",-782665,-4132,-52866,-356440,-589518,-116790,-50298,-39214,841343,-310,-1150888]
["CHP plants",-88514,null,-15651,-117906,-6867,null,-2045,-33671,98847,60338,-105469]
["Heat plants",-5433,null,-2046,-9466,null,null,-882,-6407,-350,19685,-4899]
["Gas works",-2194,null,-2700,3802,null,null,null,-22,null,null,-1114]
["Oil refineries",null,-2045210,2051058,null,null,null,null,null,null,null,5847]
["Coal transformation",-61644,null,-2168,-54,null,null,null,-2,null,null,-63868]
["Liquefication plants",-791,496,null,null,null,null,null,null,null,null,-294]
["Other transformation",-152,31966,-28966,-3867,null,null,null,-421,null,-369,-1810]
["Energy industry own use",-16708,-102,-123707,-117340,null,null,-1,-690,-70349,-8576,-337474]
["Losses",-1157,null,-40,-4190,null,null,-9,-123,-57237,-6697,-69452]
["Total final consumption",125076,6959,1771738,728204,null,null,8301,191680,810341,64620,3706919]
["Industry",96430,113,115203,250101,null,null,299,68441,260527,25227,816342]
["Transport",109,32,1128157,22987,null,null,null,38368,8498,null,1198151]
["Residential",16252,555,97597,272150,null,null,5304,72858,260781,24446,749942]
["Commercial and public services",7469,98,55271,143439,null,null,2500,7604,254709,14517,485606]
["Agriculture / forestry",1353,82,47227,6474,null,null,97,3625,11203,279,70339]
["Fishing",5,null,4780,6,null,null,59,4,368,4,5227]
["Non-specified",106,null,3689,1927,null,null,41,781,14255,145,20944]
["Non-energy use",3353,6079,319815,31121,null,null,null,null,null,null,360367]
[]
[null,{"$f":"SUM(B9,B10:B21,B22*-1)","v":0},{"$f":"SUM(C9,C10:C21,C22*-1)","v":1},1,2,-1,0,-2,0,0,-2,0]

{"sheet":"OECD total 2015","index":98,"n_rows":32,"n_cols":12,"rows_kept":32,"cut":false,"hidden":true,"merged":[]}
[null,"Coal*","Crude oil","Oil products","Natural gas","Nuclear","Hydro","Geothermal, solar, etc.","Biofuels and waste","Electricity","Heat","Total**"]
[null,"ktoe","ktoe","ktoe","ktoe","ktoe","ktoe","ktoe","ktoe","ktoe","ktoe","ktoe"]
["Production",919570,1125436,null,1081882,513661,119098,108388,301012,null,1095,4170140]
["Imports",377843,1433868,604234,637449,null,null,null,21653,44912,6,3119965]
["Exports",-336277,-403017,-658786,-330080,null,null,null,-13344,-43761,-5,-1785270]
["International marine bunkers",null,null,-73576,-35,null,null,null,-175,null,null,-73787]
["International aviation bunkers",null,null,-95376,null,null,null,null,null,null,null,-95376]
["Stock changes",-13515,-17002,-14014,-10622,null,null,null,-437,null,null,-55590]
["TES",947621,2139285,-237518,1378593,513661,119098,108388,308709,1152,1096,5280083]
["Transfers",null,-93732,108990,null,null,null,null,null,null,null,15259]
["Statistical differences",-3212,-12167,17559,1044,null,null,-24,-137,-2748,-193,122]
["Electricity plants",-669735,-4901,-42395,-397676,-506584,-119098,-94745,-48331,841321,-520,-1042663]
["CHP plants",-76552,null,-12820,-107675,-7076,null,-2729,-46284,94142,53278,-105716]
["Heat plants",-3619,null,-1014,-8481,null,null,-1185,-7153,-373,17908,-3918]
["Gas works",-2223,null,-2182,3255,null,null,null,-210,null,null,-1360]
["Oil refineries",null,-2063773,2029621,null,null,null,null,null,null,null,-34152]
["Coal transformation",-64455,null,-1204,-64,null,null,null,-114,null,null,-65836]
["Liquefication plants",-1291,803,null,null,null,null,null,null,null,null,-488]
["Other transformation",-186,41345,-31499,-9614,null,null,null,-226,null,-569,-749]
["Energy industry own use",-16528,-58,-108871,-130529,null,null,null,-823,-67463,-7517,-331789]
["Losses",-1166,null,-23,-1981,null,null,-8,-92,-56217,-5935,-65423]
["Total final consumption",108654,6803,1718644,726871,null,null,9697,205340,809815,57549,3643371]
["Industry",86717,40,93182,262246,null,null,449,74544,261003,23846,802027]
["Transport",12,null,1137839,25034,null,null,null,51661,9268,null,1223814]
["Residential",11667,null,76045,251014,null,null,5471,65619,252285,22283,684384]
["Commercial and public services",5782,null,47468,145409,null,null,2871,9061,257444,10997,479032]
["Agriculture / forestry",1051,null,44089,5911,null,null,773,3797,12127,224,67971]
["Fishing",null,null,4278,55,null,null,43,14,458,22,4870]
["Non-specified",36,null,3709,1132,null,null,89,644,17231,176,23017]
["Non-energy use",3389,6763,312034,36071,null,null,null,null,null,null,358256]
[]
[null,{"$f":"SUM(B9,B10:B21,B22*-1)","v":0},{"$f":"SUM(C9,C10:C21,C22*-1)","v":-1},0,1,1,0,0,-1,-1,-1,-1]

{"sheet":"OECD total 2018","index":99,"n_rows":32,"n_cols":12,"rows_kept":32,"cut":false,"hidden":true,"merged":[]}
[null,"Coal*","Crude oil","Oil products","Natural gas","Nuclear","Hydro","Geothermal, solar, etc.","Biofuels and waste","Electricity","Heat","Total**"]
[null,"ktoe","ktoe","ktoe","ktoe","ktoe","ktoe","ktoe","ktoe","ktoe","ktoe","ktoe"]
["Production",832239,1237565,null,1206500,515808,123014,140668,321650,null,1271,4378716]
["Imports",355293,1438185,659870,684911,null,null,null,26707,42265,6,3207237]
["Exports",-351119,-525055,-717008,-392040,null,null,null,-18859,-41250,-2,-2045333]
["International marine bunkers",null,null,-82168,-90,null,null,null,-154,null,null,-82412]
["International aviation bunkers",null,null,-108957,null,null,null,null,null,null,null,-108957]
["Stock changes",17922,56,1960,657,null,null,null,-425,null,null,20169]
["TES",854335,2150751,-246303,1499938,515808,123014,140668,328919,1014,1275,5369420]
["Transfers",null,-101230,119733,null,null,null,null,null,null,null,18503]
["Statistical differences",-385,2646,14559,2379,null,null,-42,51,423,-116,19515]
["Electricity plants",-594566,-505,-36620,-438070,-512893,-123014,-124790,-52061,863521,-543,-1019542]
["CHP plants",-69518,null,-11073,-114727,-2915,null,-2921,-50278,97181,56528,-97722]
["Heat plants",-3471,null,-878,-8462,null,null,-1603,-7604,-375,19046,-3347]
["Gas works",-2432,null,-2529,3635,null,null,null,-664,null,null,-1990]
["Oil refineries",null,-2088702,2052406,null,null,null,null,null,null,null,-36296]
["Coal transformation",-63495,null,-845,-56,null,null,null,-108,null,null,-64504]
["Liquefication plants",-1673,1044,null,null,null,null,null,null,null,null,-629]
["Other transformation",-156,43626,-32887,-10328,null,null,null,-296,null,-541,-583]
["Energy industry own use",-16405,-89,-100001,-138645,null,null,null,-881,-71967,-8211,-336199]
["Losses",-658,null,-10,-1907,null,null,-9,-99,-53333,-6245,-62261]
["Total final consumption",101576,7541,1755552,793757,null,null,11302,216980,836464,61193,3784366]
["Industry",82361,38,93063,282598,null,null,474,81606,265204,25206,830550]
["Transport",13,null,1175741,30804,null,null,null,57807,10031,null,1274396]
["Residential",11171,null,70621,267744,null,null,7060,63701,259913,23091,703301]
["Commercial and public services",3488,null,42528,158736,null,null,2732,8970,263494,12526,492474]
["Agriculture / forestry",1075,null,47966,6156,null,null,863,4325,13696,241,74322]
["Fishing",1,null,4040,46,null,null,58,18,488,41,4692]
["Non-specified",151,null,3472,1044,null,null,115,553,23637,89,29062]
["Non-energy use",3316,7503,318122,46629,null,null,null,null,null,null,375570]
[]
[null,{"$f":"SUM(B9,B10:B21,B22*-1)","v":0},{"$f":"SUM(C9,C10:C21,C22*-1)","v":0},0,0,0,0,1,-1,0,0,-1]

{"sheet":"BL OECD Europe 2050","index":100,"n_rows":25,"n_cols":34,"rows_kept":25,"cut":false,"hidden":true,"merged":[]}
[null,"Consumption","Coal","Crude oil","Oil Products","Natual Gas","Nuclear","Hydro","Geothermal, solar, wind, etc.","Biofuels and waste","Electricity","Heat","Energy Services","Total consumption","OECD Europe 2050",null,null,"Faktor","Total production","Efficiency","Production","Coal","Crude oil","Oil Products","Natual Gas","Nuclear","Hydro","Geothermal, solar, wind, etc.","Biofuels and waste","Electricity","Heat","Energy Services","Loss","CO2-emissions"]
["ID","C ","CC","CCO","COP","CNG","CNU","CHY","CGSW","CWB","CE","CH","CES","fbrbr",null,"ID","ID Parent","factor","pbrpr","pvrkg","P ","PC","PCO","POP","PNG","PNU","PHY","PGSW","PWB","PE","PH","PES","PTAB","PCO2"]
["ID Parent",null,"C","C","C ","C ","C ","C","C","C ","C ","C ","C ",null,"Structures",null,null,null,null,null,null,"P ","P ","P ","P ","P ","P ","P","P ","P ","P ","P "]
["Factor",{"$f":"'Størrelse på strømme'!E9","v":0},null,null,null,null,null,null,null,null,null,null,null,null,null,null,null,null,null,null,{"$f":"B4","v":0},null,null,null,null,null,null,null,null,null,null,null,{"$f":"U4","v":0},{"$f":"U4","v":0}]
[null,null,null,null,null,null,null,null,null,null,null,null,null,{"$f":"SUM(C5:M5)","v":0},"Entry fuels","ETP",null,null,{"$f":"SUM(V5:AF5)","v":{"$error":"#REF!"}},null,null,{"$f":"-(C6+C5)","v":{"$error":"#REF!"}},{"$f":"-(D6+D5)","v":{"$error":"#REF!"}},null,{"$f":"-(F6+F5)","v":{"$error":"#REF!"}},{"$f":"-(G6+G5)","v":{"$error":"#REF!"}},null,null,{"$f":"-(J6+J5)","v":{"$error":"#REF!"}}]
[null,null,{"$f":"-V6","v":{"$error":"#REF!"}},{"$f":"-W6","v":{"$error":"#REF!"}},null,{"$f":"-Y6","v":{"$error":"#REF!"}},{"$f":"-Z6","v":{"$error":"#REF!"}},null,null,{"$f":"-AC6","v":{"$error":"#REF!"}},null,null,null,{"$f":"SUM(C6:M6)","v":{"$error":"#REF!"}},"Transport of fuels","TRAP",null,null,{"$f":"SUM(V6:AF6)","v":{"$error":"#REF!"}},null,null,{"$f":"-(C16+C8)","v":{"$error":"#REF!"}},{"$f":"-(D16+D8)","v":{"$error":"#REF!"}},null,{"$f":"-(F16+F8)","v":{"$error":"#REF!"}},{"$f":"-(G16+G8)","v":{"$error":"#REF!"}},null,null,{"$f":"-(J16+J8)","v":{"$error":"#REF!"}},null,null,null,{"$f":"-(N6+S6)","v":{"$error":"#REF!"}}]
[null,null,null,null,null,null,null,null,null,null,null,null,null,0,"Entry On-Grid RE ","ELP1",null,null,{"$error":"#REF!"},null,null,null,null,null,null,null,{"$f":"-H8","v":{"$error":"#REF!"}},{"$f":"-I8","v":{"$error":"#REF!"}}]
[null,null,{"$f":"SUM(C9:C13)","v":{"$error":"#REF!"}},{"$f":"SUM(D9:D13)","v":{"$error":"#REF!"}},{"$error":"#REF!"},{"$error":"#REF!"},{"$error":"#REF!"},{"$error":"#REF!"},{"$error":"#REF!"},{"$error":"#REF!"},{"$error":"#REF!"},{"$error":"#REF!"},0,{"$error":"#REF!"},"Entry electricity, district heating and oil products","ES",null,null,{"$error":"#REF!"},null,null,{"$f":"SUM(V9:V13)","v":0},null,{"$f":"(E14+E8)*-1","v":{"$error":"#REF!"}},null,null,null,null,null,{"$f":"(K14+K8)*-1","v":{"$error":"#REF!"}},{"$f":"(L14+L8)*-1","v":{"$error":"#REF!"}},null,{"$f":"-(N8+S8)","v":{"$error":"#REF!"}},{"$f":"SUM(AH9:AH13)","v":{"$error":"#REF!"}}]
[null,null,{"$f":"-($AD$9+$H$9+$I$9)/$T$9*#REF!","v":{"$error":"#REF!"}},{"$f":"-($AD$9+$H$9+$I$9)/$T$9*#REF!","v":{"$error":"#REF!"}},{"$f":"-($AD$9+$H$9+$I$9)/$T$9*#REF!","v":{"$error":"#REF!"}},{"$f":"-($AD$9+$H$9+$I$9)/$T$9*#REF!","v":{"$error":"#REF!"}},{"$f":"-($AD$9+$H$9+$I$9)/$T$9*#REF!","v":{"$error":"#REF!"}},{"$f":"AD9*#REF!*-1","v":{"$error":"#REF!"}},{"$f":"AD9*#REF!*-1","v":{"$error":"#REF!"}},{"$f":"-($AD$9+$H$9+$I$9)/$T$9*#REF!","v":{"$error":"#REF!"}},null,null,null,{"$error":"#REF!"},"Electricity-only plants","ESEP","ES",null,{"$error":"#REF!"},{"$f":"#REF!","v":{"$error":"#REF!"}},null,null,null,null,null,null,null,null,null,{"$f":"AD8-AD10","v":{"$error":"#REF!"}},null,null,{"$f":"-(S9+N9)","v":{"$error":"#REF!"}},{"$f":"-(C9*Emissionsfaktorer!$B$2*(1-#REF!)+D9*Emissionsfaktorer!$B$3+E9*Emissionsfaktorer!$B$4*(1-#REF!)+F9*Emissionsfaktorer!$B$5*(1-#REF!)+G9*Emissionsfaktorer!$B$6+H9*Emissionsfaktorer!$B$7+I9*Emissionsfaktorer!$B$8-J9*Emissionsfaktorer!B13*#REF!+K9*Emissionsfaktorer!$B$10+L9*Emissionsfaktorer!$B$11+M9*Emissionsfaktorer!$B$12)","v":{"$error":"#REF!"}}]
[null,null,{"$f":"-($AD$10+$AE$10+$H$10+$I$10)/$T$10*#REF!","v":{"$error":"#REF!"}},{"$f":"-($AD$10+$AE$10+$H$10+$I$10)/$T$10*#REF!","v":{"$error":"#REF!"}},{"$f":"-($AD$10+$AE$10+$H$10+$I$10)/$T$10*#REF!","v":{"$error":"#REF!"}},{"$f":"-($AD$10+$AE$10+$H$10+$I$10)/$T$10*#REF!","v":{"$error":"#REF!"}},{"$f":"-($AD$10+$AE$10+$H$10+$I$10)/$T$10*#REF!","v":{"$error":"#REF!"}},null,{"$f":"(AD10+AE10)*#REF!*-1","v":{"$error":"#REF!"}},{"$f":"-($AD$10+$AE$10+$H$10+$I$10)/$T$10*#REF!","v":{"$error":"#REF!"}},null,null,null,{"$error":"#REF!"},"CHP plants","ESCHP","ES",null,{"$error":"#REF!"},{"$f":"#REF!","v":{"$error":"#REF!"}},null,null,null,null,null,null,null,null,null,{"$f":"AE10*#REF!","v":{"$error":"#REF!"}},{"$f":"AE8*#REF!","v":{"$error":"#REF!"}},null,{"$f":"-(S10+N10)","v":{"$error":"#REF!"}},{"$f":"-(C10*Emissionsfaktorer!$B$2*(1-#REF!)+D10*Emissionsfaktorer!$B$3+E10*Emissionsfaktorer!$B$4*(1-#REF!)+F10*Emissionsfaktorer!$B$5*(1-#REF!)+G10*Emissionsfaktorer!$B$6+H10*Emissionsfaktorer!$B$7+I10*Emissionsfaktorer!$B$8-J10*Emissionsfaktorer!B14*#REF!+K10*Emissionsfaktorer!$B$10+L10*Emissionsfaktorer!$B$11+M10*Emissionsfaktorer!$B$12)","v":{"$error":"#REF!"}}]
[null,null,{"$f":"-($AE$11+$H$11+$I$11)/$T$11*#REF!","v":{"$error":"#REF!"}},{"$f":"-($AE$11+$H$11+$I$11)/$T$11*#REF!","v":{"$error":"#REF!"}},{"$f":"-($AE$11+$H$11+$I$11)/$T$11*#REF!","v":{"$error":"#REF!"}},{"$f":"-($AE$11+$H$11+$I$11)/$T$11*#REF!","v":{"$error":"#REF!"}},{"$f":"-($AE$11+$H$11+$I$11)/$T$11*#REF!","v":{"$error":"#REF!"}},null,{"$f":"AE11*#REF!*-1","v":{"$error":"#REF!"}},{"$f":"-($AE$11+$H$11+$I$11)/$T$11*#REF!","v":{"$error":"#REF!"}},{"$f":"AE11*#REF!*-1","v":{"$error":"#REF!"}},null,null,{"$error":"#REF!"},"Heat Plants","ESHP","ES",null,{"$error":"#REF!"},{"$f":"#REF!","v":{"$error":"#REF!"}},null,null,null,null,null,null,null,null,null,null,{"$f":"AE8*#REF!","v":{"$error":"#REF!"}},null,{"$f":"-(S11+N11)","v":{"$error":"#REF!"}},{"$f":"-(C11*Emissionsfaktorer!$B$2+D11*Emissionsfaktorer!$B$3+E11*Emissionsfaktorer!$B$4+F11*Emissionsfaktorer!$B$5+G11*Emissionsfaktorer!$B$6+H11*Emissionsfaktorer!$B$7+I11*Emissionsfaktorer!$B$8+J11*Emissionsfaktorer!$B$9+K11*Emissionsfaktorer!$B$10+L11*Emissionsfaktorer!$B$11+M11*Emissionsfaktorer!$B$12)","v":{"$error":"#REF!"}}]
[null,null,null,{"$f":"-X12/T12*#REF!","v":{"$error":"#REF!"}},null,null,null,null,null,{"$f":"-X12/T12*#REF!","v":{"$error":"#REF!"}},null,null,null,{"$error":"#REF!"},"Oil refineries","ESOR","ES",null,{"$error":"#REF!"},{"$f":"#REF!","v":{"$error":"#REF!"}},null,null,null,{"$f":"-(E9+E10+E11+E13+E14)","v":{"$error":"#REF!"}},null,null,null,null,null,null,null,null,{"$f":"-(S12+N12)","v":{"$error":"#REF!"}},{"$f":"J12*Emissionsfaktorer!B4","v":{"$error":"#REF!"}}]
[null,null,{"$f":"N13*#REF!","v":{"$error":"#REF!"}},{"$f":"N13*#REF!","v":{"$error":"#REF!"}},{"$f":"N13*#REF!","v":{"$error":"#REF!"}},{"$f":"N13*#REF!","v":{"$error":"#REF!"}},null,null,null,{"$f":"N13*#REF!","v":{"$error":"#REF!"}},{"$f":"N13*#REF!","v":{"$error":"#REF!"}},{"$f":"N13*#REF!","v":{"$error":"#REF!"}},null,{"$f":"N16*#REF!","v":{"$error":"#REF!"}},"Energy Industry one use","ESNSP","ES",null,0,0,null,null,null,null,null,null,null,null,null,null,null,null,{"$f":"-(S13+N13)","v":{"$error":"#REF!"}},{"$f":"-(C13*Emissionsfaktorer!$B$2+D13*Emissionsfaktorer!$B$3+E13*Emissionsfaktorer!$B$4+F13*Emissionsfaktorer!$B$5+G13*Emissionsfaktorer!$B$6+H13*Emissionsfaktorer!$B$7+I13*Emissionsfaktorer!$B$8+J13*Emissionsfaktorer!$B$9+K13*Emissionsfaktorer!$B$10+L13*Emissionsfaktorer!$B$11+M13*Emissionsfaktorer!$B$12)","v":{"$error":"#REF!"}}]
[null,null,null,null,{"$f":"-X14*1","v":{"$error":"#REF!"}},null,null,null,null,null,{"$f":"-AD14*(1+#REF!)","v":{"$error":"#REF!"}},{"$f":"-AE14*(1+#REF!)","v":{"$error":"#REF!"}},null,{"$error":"#REF!"},"Transport electricity, district heating and oil products","TRAS",null,null,{"$error":"#REF!"},null,null,null,null,{"$f":"-E16","v":{"$error":"#REF!"}},null,null,null,null,null,{"$f":"-K16","v":{"$error":"#REF!"}},{"$f":"-L16","v":{"$error":"#REF!"}},null,{"$f":"-(N14+S14)","v":{"$error":"#REF!"}}]
[null,null,null,null,null,null,null,null,null,null,null,null,null,0,"Entry Off-Grid RE","ELP2",null,null,{"$error":"#REF!"},null,null,null,null,null,null,null,null,{"$f":"I16*-1","v":{"$error":"#REF!"}}]
[null,null,{"$f":"SUM(C17:C19)","v":{"$error":"#REF!"}},{"$error":"#REF!"},{"$error":"#REF!"},{"$error":"#REF!"},0,0,{"$error":"#REF!"},{"$error":"#REF!"},{"$error":"#REF!"},{"$error":"#REF!"},0,{"$f":"#REF!","v":{"$error":"#REF!"}},"Exit energy","EX",null,null,{"$error":"#REF!"},null,null,null,null,null,null,null,null,null,null,null,null,{"$f":"SUM(AF17:AF19)","v":{"$error":"#REF!"}},{"$f":"SUM(AG17:AG19)","v":{"$error":"#REF!"}},{"$f":"SUM(AH17:AH19)","v":{"$error":"#REF!"}}]
[null,null,{"$f":"AF17*#REF!/T17*#REF!/#REF!*-1","v":{"$error":"#REF!"}},{"$f":"AF17*#REF!/T17*#REF!/#REF!*-1","v":{"$error":"#REF!"}},{"$f":"AF17*#REF!/T17*#REF!/#REF!*-1","v":{"$error":"#REF!"}},{"$f":"AF17*#REF!/T17*#REF!/#REF!*-1","v":{"$error":"#REF!"}},null,null,{"$f":"AF17*#REF!/T17*#REF!/#REF!*-1","v":{"$error":"#REF!"}},{"$f":"AF17*#REF!*#REF!/T17/#REF!*-1","v":{"$error":"#REF!"}},{"$f":"AF17*#REF!*#REF!/T17/#REF!*-1","v":{"$error":"#REF!"}},{"$f":"AF17*#REF!*#REF!/T17/#REF!*-1","v":{"$error":"#REF!"}},null,{"$f":"SUM(C17:L17)","v":{"$error":"#REF!"}},"Industry","EXI","EX",null,{"$error":"#REF!"},{"$f":"(#REF!+#REF!+#REF!+#REF!+#REF!)*#REF!+(#REF!+#REF!)*#REF!+#REF!*#REF!","v":{"$error":"#REF!"}},null,null,null,null,null,null,null,null,null,null,null,{"$f":"#REF!*#REF!*((#REF!+#REF!+#REF!+#REF!+#REF!)*#REF!+(#REF!+#REF!)*#REF!+#REF!*#REF!)*-1","v":{"$error":"#REF!"}},{"$f":"(S17+SUM(C17:M17))*-1","v":{"$error":"#REF!"}},{"$f":"-(C17*Emissionsfaktorer!$B$2+D17*Emissionsfaktorer!$B$3+E17*Emissionsfaktorer!$B$4+F17*Emissionsfaktorer!$B$5+G17*Emissionsfaktorer!$B$6+H17*Emissionsfaktorer!$B$7+I17*Emissionsfaktorer!$B$8+J17*Emissionsfaktorer!$B$9+K17*Emissionsfaktorer!$B$10+L17*Emissionsfaktorer!$B$11+M17*Emissionsfaktorer!$B$12)","v":{"$error":"#REF!"}}]
[null,null,{"$f":"AF18*#REF!/T18*#REF!/#REF!*-1","v":{"$error":"#REF!"}},null,{"$f":"AF18*#REF!/T18*#REF!/#REF!*-1","v":{"$error":"#REF!"}},{"$f":"AF18*#REF!/T18*#REF!/#REF!*-1","v":{"$error":"#REF!"}},null,null,{"$f":"AF18*#REF!/T18*#REF!/#REF!*-1","v":{"$error":"#REF!"}},{"$f":"AF18*#REF!/T18*#REF!/#REF!*-1","v":{"$error":"#REF!"}},{"$f":"AF18*#REF!/T18*#REF!/#REF!*-1","v":{"$error":"#REF!"}},{"$f":"AF18*#REF!/T18*#REF!/#REF!*-1","v":{"$error":"#REF!"}},null,{"$f":"SUM(C18:L18)","v":{"$error":"#REF!"}},"Transport","EXT","EX",null,{"$error":"#REF!"},{"$f":"(#REF!+#REF!+#REF!+#REF!)*#REF!+(#REF!+#REF!)*#REF!+#REF!*#REF!","v":{"$error":"#REF!"}},null,null,null,null,null,null,null,null,null,null,null,{"$f":"#REF!*#REF!*-1*((#REF!+#REF!+#REF!+#REF!)*#REF!+(#REF!+#REF!)*#REF!+#REF!*#REF!)","v":{"$error":"#REF!"}},{"$f":"(S18+SUM(C18:M18))*-1","v":{"$error":"#REF!"}},{"$f":"-(C18*Emissionsfaktorer!$B$2+D18*Emissionsfaktorer!$B$3+E18*Emissionsfaktorer!$B$4+F18*Emissionsfaktorer!$B$5+G18*Emissionsfaktorer!$B$6+H18*Emissionsfaktorer!$B$7+I18*Emissionsfaktorer!$B$8+J18*Emissionsfaktorer!$B$9+K18*Emissionsfaktorer!$B$10+L18*Emissionsfaktorer!$B$11+M18*Emissionsfaktorer!$B$12)","v":{"$error":"#REF!"}}]
[null,null,{"$f":"SUM(C20:C24)","v":{"$error":"#REF!"}},{"$f":"SUM(D20:D24)","v":0},{"$error":"#REF!"},{"$error":"#REF!"},0,0,{"$error":"#REF!"},{"$error":"#REF!"},{"$error":"#REF!"},{"$error":"#REF!"},0,{"$f":"SUM(N20:N24)","v":{"$error":"#REF!"}},"Other ","EXO","EX",null,{"$error":"#REF!"},0.8,null,{"$f":"SUM(V20:V24)","v":0},{"$f":"SUM(W20:W24)","v":0},0,0,0,0,0,0,0,0,{"$error":"#REF!"},{"$error":"#REF!"},{"$error":"#REF!"}]
[null,null,{"$f":"AF20*#REF!/T20*#REF!/#REF!*-1","v":{"$error":"#REF!"}},null,{"$f":"AF20*#REF!/T20*#REF!/#REF!*-1","v":{"$error":"#REF!"}},{"$f":"AF20*#REF!/T20*#REF!/#REF!*-1","v":{"$error":"#REF!"}},null,null,{"$f":"AF20*#REF!/T20*#REF!/#REF!*-1","v":{"$error":"#REF!"}},{"$f":"AF20*#REF!/T20*#REF!/#REF!*-1","v":{"$error":"#REF!"}},{"$f":"AF20*#REF!/T20*#REF!/#REF!*-1","v":{"$error":"#REF!"}},{"$f":"AF20*#REF!/T20*#REF!/#REF!*-1","v":{"$error":"#REF!"}},null,{"$f":"SUM(C20:L20)","v":{"$error":"#REF!"}},"Residential","EXOR","EXO",null,{"$error":"#REF!"},{"$f":"(#REF!+#REF!+#REF!+#REF!)*#REF!+(#REF!+#REF!)*#REF!+#REF!*#REF!","v":{"$error":"#REF!"}},null,null,null,null,null,null,null,null,null,null,null,{"$f":"#REF!*#REF!*((#REF!+#REF!+#REF!+#REF!)*#REF!+(#REF!+#REF!)*#REF!+#REF!*#REF!)*-1","v":{"$error":"#REF!"}},{"$f":"(N20+AF20)*-1","v":{"$error":"#REF!"}},{"$f":"-(C20*Emissionsfaktorer!$B$2+D20*Emissionsfaktorer!$B$3+E20*Emissionsfaktorer!$B$4+F20*Emissionsfaktorer!$B$5+G20*Emissionsfaktorer!$B$6+H20*Emissionsfaktorer!$B$7+I20*Emissionsfaktorer!$B$8+J20*Emissionsfaktorer!$B$9+K20*Emissionsfaktorer!$B$10+L20*Emissionsfaktorer!$B$11+M20*Emissionsfaktorer!$B$12)","v":{"$error":"#REF!"}}]
[null,null,{"$f":"AF21*#REF!/T21*#REF!/#REF!*-1","v":{"$error":"#REF!"}},null,{"$f":"AF21*#REF!/T21*#REF!/#REF!*-1","v":{"$error":"#REF!"}},{"$f":"AF21*#REF!/T21*#REF!/#REF!*-1","v":{"$error":"#REF!"}},null,null,{"$f":"AF21*#REF!/T21*#REF!/#REF!*-1","v":{"$error":"#REF!"}},{"$f":"AF21*#REF!/T21*#REF!/#REF!*-1","v":{"$error":"#REF!"}},{"$f":"AF21*#REF!/T21*#REF!/#REF!*-1","v":{"$error":"#REF!"}},{"$f":"AF21*#REF!/T21*#REF!/#REF!*-1","v":{"$error":"#REF!"}},null,{"$f":"SUM(C21:L21)","v":{"$error":"#REF!"}},"Commercial and public services","EXOC","EXO",null,{"$error":"#REF!"},{"$f":"(#REF!+#REF!+#REF!+#REF!)*#REF!+(#REF!+#REF!)*#REF!+#REF!*#REF!","v":{"$error":"#REF!"}},null,null,null,null,null,null,null,null,null,null,null,{"$f":"#REF!*#REF!*((#REF!+#REF!+#REF!+#REF!)*#REF!+(#REF!+#REF!)*#REF!+#REF!*#REF!)*-1","v":{"$error":"#REF!"}},{"$f":"(N21+AF21)*-1","v":{"$error":"#REF!"}},{"$f":"-(C21*Emissionsfaktorer!$B$2+D21*Emissionsfaktorer!$B$3+E21*Emissionsfaktorer!$B$4+F21*Emissionsfaktorer!$B$5+G21*Emissionsfaktorer!$B$6+H21*Emissionsfaktorer!$B$7+I21*Emissionsfaktorer!$B$8+J21*Emissionsfaktorer!$B$9+K21*Emissionsfaktorer!$B$10+L21*Emissionsfaktorer!$B$11+M21*Emissionsfaktorer!$B$12)","v":{"$error":"#REF!"}}]
[null,null,{"$f":"AF22*#REF!/T22*#REF!/#REF!*-1","v":{"$error":"#REF!"}},null,{"$f":"AF22*#REF!/T22*#REF!/#REF!*-1","v":{"$error":"#REF!"}},{"$f":"AF22*#REF!/T22*#REF!/#REF!*-1","v":{"$error":"#REF!"}},null,null,{"$f":"AF22*#REF!/T22*#REF!/#REF!*-1","v":{"$error":"#REF!"}},{"$f":"AF22*#REF!/T22*#REF!/#REF!*-1","v":{"$error":"#REF!"}},{"$f":"AF22*#REF!/T22*#REF!/#REF!*-1","v":{"$error":"#REF!"}},{"$f":"AF22*#REF!/T22*#REF!/#REF!*-1","v":{"$error":"#REF!"}},null,{"$f":"SUM(C22:L22)","v":{"$error":"#REF!"}},"Agriculture / forestry","EXOA","EXO",null,{"$error":"#REF!"},{"$f":"(#REF!+#REF!+#REF!+#REF!)*#REF!+(#REF!+#REF!)*#REF!+#REF!*#REF!","v":{"$error":"#REF!"}},null,null,null,null,null,null,null,null,null,null,null,{"$f":"((#REF!+#REF!+#REF!+#REF!)*#REF!+(#REF!+#REF!)*#REF!+#REF!*#REF!)*#REF!*#REF!*-1","v":{"$error":"#REF!"}},{"$f":"(N22+AF22)*-1","v":{"$error":"#REF!"}},{"$f":"-(C22*Emissionsfaktorer!$B$2+D22*Emissionsfaktorer!$B$3+E22*Emissionsfaktorer!$B$4+F22*Emissionsfaktorer!$B$5+G22*Emissionsfaktorer!$B$6+H22*Emissionsfaktorer!$B$7+I22*Emissionsfaktorer!$B$8+J22*Emissionsfaktorer!$B$9+K22*Emissionsfaktorer!$B$10+L22*Emissionsfaktorer!$B$11+M22*Emissionsfaktorer!$B$12)","v":{"$error":"#REF!"}}]
[null,null,{"$f":"AF23*#REF!/T23*#REF!/#REF!*-1","v":{"$error":"#REF!"}},null,{"$f":"AF23*#REF!/T23*#REF!/#REF!*-1","v":{"$error":"#REF!"}},{"$f":"AF23*#REF!/T23*#REF!/#REF!*-1","v":{"$error":"#REF!"}},null,null,{"$f":"AF23*#REF!/T23*#REF!/#REF!*-1","v":{"$error":"#REF!"}},{"$f":"AF23*#REF!/T23*#REF!/#REF!*-1","v":{"$error":"#REF!"}},{"$f":"AF23*#REF!/T23*#REF!/#REF!*-1","v":{"$error":"#REF!"}},{"$f":"AF23*#REF!/T23*#REF!/#REF!*-1","v":{"$error":"#REF!"}},null,{"$f":"SUM(C23:L23)","v":{"$error":"#REF!"}},"Fishing","EXOF","EXO",null,{"$error":"#REF!"},{"$f":"(#REF!+#REF!+#REF!+#REF!)*#REF!+(#REF!+#REF!)*#REF!+#REF!*#REF!","v":{"$error":"#REF!"}},null,null,null,null,null,null,null,null,null,null,null,{"$f":"((#REF!+#REF!+#REF!+#REF!)*#REF!+(#REF!+#REF!)*#REF!+#REF!*#REF!)*#REF!*#REF!*-1","v":{"$error":"#REF!"}},{"$f":"(N23+AF23)*-1","v":{"$error":"#REF!"}},{"$f":"-(C23*Emissionsfaktorer!$B$2+D23*Emissionsfaktorer!$B$3+E23*Emissionsfaktorer!$B$4+F23*Emissionsfaktorer!$B$5+G23*Emissionsfaktorer!$B$6+H23*Emissionsfaktorer!$B$7+I23*Emissionsfaktorer!$B$8+J23*Emissionsfaktorer!$B$9+K23*Emissionsfaktorer!$B$10+L23*Emissionsfaktorer!$B$11+M23*Emissionsfaktorer!$B$12)","v":{"$error":"#REF!"}}]
[null,null,{"$f":"AF24*#REF!/T24*#REF!/#REF!*-1","v":{"$error":"#REF!"}},null,{"$f":"AF24*#REF!/T24*#REF!/#REF!*-1","v":{"$error":"#REF!"}},{"$f":"AF24*#REF!/T24*#REF!/#REF!*-1","v":{"$error":"#REF!"}},null,null,{"$f":"AF24*#REF!/T24*#REF!/#REF!*-1","v":{"$error":"#REF!"}},{"$f":"AF24*#REF!/T24*#REF!/#REF!*-1","v":{"$error":"#REF!"}},{"$f":"AF24*#REF!/T24*#REF!/#REF!*-1","v":{"$error":"#REF!"}},{"$f":"AF24*#REF!/T24*#REF!/#REF!*-1","v":{"$error":"#REF!"}},null,{"$f":"SUM(C24:L24)","v":{"$error":"#REF!"}},"Non-specified","EXON","EXO",null,{"$error":"#REF!"},{"$f":"(#REF!+#REF!+#REF!+#REF!)*#REF!+(#REF!+#REF!)*#REF!+#REF!*#REF!","v":{"$error":"#REF!"}},null,null,null,null,null,null,null,null,null,null,null,{"$f":"((#REF!+#REF!+#REF!+#REF!)*#REF!+(#REF!+#REF!)*#REF!+#REF!*#REF!)*#REF!*#REF!*-1","v":{"$error":"#REF!"}},{"$f":"(N24+AF24)*-1","v":{"$error":"#REF!"}},{"$f":"-(C24*Emissionsfaktorer!$B$2+D24*Emissionsfaktorer!$B$3+E24*Emissionsfaktorer!$B$4+F24*Emissionsfaktorer!$B$5+G24*Emissionsfaktorer!$B$6+H24*Emissionsfaktorer!$B$7+I24*Emissionsfaktorer!$B$8+J24*Emissionsfaktorer!$B$9+K24*Emissionsfaktorer!$B$10+L24*Emissionsfaktorer!$B$11+M24*Emissionsfaktorer!$B$12)","v":{"$error":"#REF!"}}]
[null,null,null,null,null,null,null,null,null,null,null,null,null,{"$f":"N16","v":{"$error":"#REF!"}},"Energy Services","EN",null,null,{"$error":"#REF!"},{"$f":"AF25/N25*-1","v":{"$error":"#REF!"}},null,null,null,null,null,null,null,null,null,null,null,{"$f":"AF16","v":{"$error":"#REF!"}},{"$f":"-(S25+N25)","v":{"$error":"#REF!"}}]

{"sheet":"BL OECD Europe 2030","index":101,"n_rows":25,"n_cols":34,"rows_kept":25,"cut":false,"hidden":true,"merged":[]}
[null,"Consumption","Coal","Crude oil","Oil Products","Natual Gas","Nuclear","Hydro","Geothermal, solar, wind, etc.","Biofuels and waste","Electricity","Heat","Energy Services","Total consumption","OECD Europe 2030",null,null,"Faktor","Total production","Efficiency","Production","Coal","Crude oil","Oil Products","Natual Gas","Nuclear","Hydro","Geothermal, solar, wind, etc.","Biofuels and waste","Electricity","Heat","Energy Services","Loss","CO2-emissions"]
["ID","C ","CC","CCO","COP","CNG","CNU","CHY","CGSW","CWB","CE","CH","CES","fbrbr",null,"ID","ID Parent","factor","pbrpr","pvrkg","P ","PC","PCO","POP","PNG","PNU","PHY","PGSW","PWB","PE","PH","PES","PTAB","PCO2"]
["ID Parent",null,"C","C","C ","C ","C ","C","C","C ","C ","C ","C ",null,"Structures",null,null,null,null,null,null,"P ","P ","P ","P ","P ","P ","P","P ","P ","P ","P "]
["Factor",{"$f":"'Størrelse på strømme'!E9","v":0},null,null,null,null,null,null,null,null,null,null,null,null,null,null,null,null,null,null,{"$f":"B4","v":0},null,null,null,null,null,null,null,null,null,null,null,{"$f":"U4","v":0},{"$f":"U4","v":0}]
[null,null,null,null,null,null,null,null,null,null,null,null,null,{"$f":"SUM(C5:M5)","v":0},"Entry fuels","ETP",null,null,{"$f":"SUM(V5:AF5)","v":{"$error":"#REF!"}},null,null,{"$f":"-(C6+C5)","v":{"$error":"#REF!"}},{"$f":"-(D6+D5)","v":{"$error":"#REF!"}},null,{"$f":"-(F6+F5)","v":{"$error":"#REF!"}},{"$f":"-(G6+G5)","v":{"$error":"#REF!"}},null,null,{"$f":"-(J6+J5)","v":{"$error":"#REF!"}}]
[null,null,{"$f":"-V6","v":{"$error":"#REF!"}},{"$f":"-W6","v":{"$error":"#REF!"}},null,{"$f":"-Y6","v":{"$error":"#REF!"}},{"$f":"-Z6","v":{"$error":"#REF!"}},null,null,{"$f":"-AC6","v":{"$error":"#REF!"}},null,null,null,{"$f":"SUM(C6:M6)","v":{"$error":"#REF!"}},"Transport of fuels","TRAP",null,null,{"$f":"SUM(V6:AF6)","v":{"$error":"#REF!"}},null,null,{"$f":"-(C16+C8)","v":{"$error":"#REF!"}},{"$f":"-(D16+D8)","v":{"$error":"#REF!"}},null,{"$f":"-(F16+F8)","v":{"$error":"#REF!"}},{"$f":"-(G16+G8)","v":{"$error":"#REF!"}},null,null,{"$f":"-(J16+J8)","v":{"$error":"#REF!"}},null,null,null,{"$f":"-(N6+S6)","v":{"$error":"#REF!"}}]
[null,null,null,null,null,null,null,null,null,null,null,null,null,0,"Entry On-Grid RE ","ELP1",null,null,{"$error":"#REF!"},null,null,null,null,null,null,null,{"$f":"-H8","v":{"$error":"#REF!"}},{"$f":"-I8","v":{"$error":"#REF!"}}]
[null,null,{"$f":"SUM(C9:C13)","v":{"$error":"#REF!"}},{"$f":"SUM(D9:D13)","v":{"$error":"#REF!"}},{"$error":"#REF!"},{"$error":"#REF!"},{"$error":"#REF!"},{"$error":"#REF!"},{"$error":"#REF!"},{"$error":"#REF!"},{"$error":"#REF!"},{"$error":"#REF!"},0,{"$error":"#REF!"},"Entry electricity, district heating and oil products","ES",null,null,{"$error":"#REF!"},null,null,{"$f":"SUM(V9:V13)","v":0},null,{"$f":"(E14+E8)*-1","v":{"$error":"#REF!"}},null,null,null,null,null,{"$f":"(K14+K8)*-1","v":{"$error":"#REF!"}},{"$f":"(L14+L8)*-1","v":{"$error":"#REF!"}},null,{"$f":"-(N8+S8)","v":{"$error":"#REF!"}},{"$f":"SUM(AH9:AH13)","v":{"$error":"#REF!"}}]
[null,null,{"$f":"-($AD$9+$H$9+$I$9)/$T$9*#REF!","v":{"$error":"#REF!"}},{"$f":"-($AD$9+$H$9+$I$9)/$T$9*#REF!","v":{"$error":"#REF!"}},{"$f":"-($AD$9+$H$9+$I$9)/$T$9*#REF!","v":{"$error":"#REF!"}},{"$f":"-($AD$9+$H$9+$I$9)/$T$9*#REF!","v":{"$error":"#REF!"}},{"$f":"-($AD$9+$H$9+$I$9)/$T$9*#REF!","v":{"$error":"#REF!"}},{"$f":"AD9*#REF!*-1","v":{"$error":"#REF!"}},{"$f":"AD9*#REF!*-1","v":{"$error":"#REF!"}},{"$f":"-($AD$9+$H$9+$I$9)/$T$9*#REF!","v":{"$error":"#REF!"}},null,null,null,{"$error":"#REF!"},"Electricity-only plants","ESEP","ES",null,{"$error":"#REF!"},{"$f":"#REF!","v":{"$error":"#REF!"}},null,null,null,null,null,null,null,null,null,{"$f":"AD8-AD10","v":{"$error":"#REF!"}},null,null,{"$f":"-(S9+N9)","v":{"$error":"#REF!"}},{"$f":"-(C9*Emissionsfaktorer!$B$2*(1-#REF!)+D9*Emissionsfaktorer!$B$3+E9*Emissionsfaktorer!$B$4*(1-#REF!)+F9*Emissionsfaktorer!$B$5*(1-#REF!)+G9*Emissionsfaktorer!$B$6+H9*Emissionsfaktorer!$B$7+I9*Emissionsfaktorer!$B$8-J9*Emissionsfaktorer!B13*#REF!+K9*Emissionsfaktorer!$B$10+L9*Emissionsfaktorer!$B$11+M9*Emissionsfaktorer!$B$12)","v":{"$error":"#REF!"}}]
[null,null,{"$f":"-($AD$10+$AE$10+$H$10+$I$10)/$T$10*#REF!","v":{"$error":"#REF!"}},{"$f":"-($AD$10+$AE$10+$H$10+$I$10)/$T$10*#REF!","v":{"$error":"#REF!"}},{"$f":"-($AD$10+$AE$10+$H$10+$I$10)/$T$10*#REF!","v":{"$error":"#REF!"}},{"$f":"-($AD$10+$AE$10+$H$10+$I$10)/$T$10*#REF!","v":{"$error":"#REF!"}},{"$f":"-($AD$10+$AE$10+$H$10+$I$10)/$T$10*#REF!","v":{"$error":"#REF!"}},null,{"$f":"(AD10+AE10)*#REF!*-1","v":{"$error":"#REF!"}},{"$f":"-($AD$10+$AE$10+$H$10+$I$10)/$T$10*#REF!","v":{"$error":"#REF!"}},null,null,null,{"$error":"#REF!"},"CHP plants","ESCHP","ES",null,{"$error":"#REF!"},{"$f":"#REF!","v":{"$error":"#REF!"}},null,null,null,null,null,null,null,null,null,{"$f":"AE10*#REF!","v":{"$error":"#REF!"}},{"$f":"AE8*#REF!","v":{"$error":"#REF!"}},null,{"$f":"-(S10+N10)","v":{"$error":"#REF!"}},{"$f":"-(C10*Emissionsfaktorer!$B$2*(1-#REF!)+D10*Emissionsfaktorer!$B$3+E10*Emissionsfaktorer!$B$4*(1-#REF!)+F10*Emissionsfaktorer!$B$5*(1-#REF!)+G10*Emissionsfaktorer!$B$6+H10*Emissionsfaktorer!$B$7+I10*Emissionsfaktorer!$B$8-J10*Emissionsfaktorer!B14*#REF!+K10*Emissionsfaktorer!$B$10+L10*Emissionsfaktorer!$B$11+M10*Emissionsfaktorer!$B$12)","v":{"$error":"#REF!"}}]
[null,null,{"$f":"-($AE$11+$H$11+$I$11)/$T$11*#REF!","v":{"$error":"#REF!"}},{"$f":"-($AE$11+$H$11+$I$11)/$T$11*#REF!","v":{"$error":"#REF!"}},{"$f":"-($AE$11+$H$11+$I$11)/$T$11*#REF!","v":{"$error":"#REF!"}},{"$f":"-($AE$11+$H$11+$I$11)/$T$11*#REF!","v":{"$error":"#REF!"}},{"$f":"-($AE$11+$H$11+$I$11)/$T$11*#REF!","v":{"$error":"#REF!"}},null,{"$f":"AE11*#REF!*-1","v":{"$error":"#REF!"}},{"$f":"-($AE$11+$H$11+$I$11)/$T$11*#REF!","v":{"$error":"#REF!"}},{"$f":"AE11*#REF!*-1","v":{"$error":"#REF!"}},null,null,{"$error":"#REF!"},"Heat Plants","ESHP","ES",null,{"$error":"#REF!"},{"$f":"#REF!","v":{"$error":"#REF!"}},null,null,null,null,null,null,null,null,null,null,{"$f":"AE8*#REF!","v":{"$error":"#REF!"}},null,{"$f":"-(S11+N11)","v":{"$error":"#REF!"}},{"$f":"-(C11*Emissionsfaktorer!$B$2+D11*Emissionsfaktorer!$B$3+E11*Emissionsfaktorer!$B$4+F11*Emissionsfaktorer!$B$5+G11*Emissionsfaktorer!$B$6+H11*Emissionsfaktorer!$B$7+I11*Emissionsfaktorer!$B$8+J11*Emissionsfaktorer!$B$9+K11*Emissionsfaktorer!$B$10+L11*Emissionsfaktorer!$B$11+M11*Emissionsfaktorer!$B$12)","v":{"$error":"#REF!"}}]
[null,null,null,{"$f":"-X12/T12*#REF!","v":{"$error":"#REF!"}},null,null,null,null,null,{"$f":"-X12/T12*#REF!","v":{"$error":"#REF!"}},null,null,null,{"$error":"#REF!"},"Oil refineries","ESOR","ES",null,{"$error":"#REF!"},{"$f":"#REF!","v":{"$error":"#REF!"}},null,null,null,{"$f":"-(E9+E10+E11+E13+E14)","v":{"$error":"#REF!"}},null,null,null,null,null,null,null,null,{"$f":"-(S12+N12)","v":{"$error":"#REF!"}},{"$f":"J12*Emissionsfaktorer!B4","v":{"$error":"#REF!"}}]
[null,null,{"$f":"N13*#REF!","v":{"$error":"#REF!"}},{"$f":"N13*#REF!","v":{"$error":"#REF!"}},{"$f":"N13*#REF!","v":{"$error":"#REF!"}},{"$f":"N13*#REF!","v":{"$error":"#REF!"}},null,null,null,{"$f":"N13*#REF!","v":{"$error":"#REF!"}},{"$f":"N13*#REF!","v":{"$error":"#REF!"}},{"$f":"N13*#REF!","v":{"$error":"#REF!"}},null,{"$f":"N16*#REF!","v":{"$error":"#REF!"}},"Energy Industry one use","ESNSP","ES",null,0,0,null,null,null,null,null,null,null,null,null,null,null,null,{"$f":"-(S13+N13)","v":{"$error":"#REF!"}},{"$f":"-(C13*Emissionsfaktorer!$B$2+D13*Emissionsfaktorer!$B$3+E13*Emissionsfaktorer!$B$4+F13*Emissionsfaktorer!$B$5+G13*Emissionsfaktorer!$B$6+H13*Emissionsfaktorer!$B$7+I13*Emissionsfaktorer!$B$8+J13*Emissionsfaktorer!$B$9+K13*Emissionsfaktorer!$B$10+L13*Emissionsfaktorer!$B$11+M13*Emissionsfaktorer!$B$12)","v":{"$error":"#REF!"}}]
[null,null,null,null,{"$f":"-X14*1","v":{"$error":"#REF!"}},null,null,null,null,null,{"$f":"-AD14*(1+#REF!)","v":{"$error":"#REF!"}},{"$f":"-AE14*(1+#REF!)","v":{"$error":"#REF!"}},null,{"$error":"#REF!"},"Transport electricity, district heating and oil products","TRAS",null,null,{"$error":"#REF!"},null,null,null,null,{"$f":"-E16","v":{"$error":"#REF!"}},null,null,null,null,null,{"$f":"-K16","v":{"$error":"#REF!"}},{"$f":"-L16","v":{"$error":"#REF!"}},null,{"$f":"-(N14+S14)","v":{"$error":"#REF!"}}]
[null,null,null,null,null,null,null,null,null,null,null,null,null,0,"Entry Off-Grid RE","ELP2",null,null,{"$error":"#REF!"},null,null,null,null,null,null,null,null,{"$f":"I16*-1","v":{"$error":"#REF!"}}]
[null,null,{"$f":"SUM(C17:C19)","v":{"$error":"#REF!"}},{"$error":"#REF!"},{"$error":"#REF!"},{"$error":"#REF!"},0,0,{"$error":"#REF!"},{"$error":"#REF!"},{"$error":"#REF!"},{"$error":"#REF!"},0,{"$f":"#REF!","v":{"$error":"#REF!"}},"Exit energy","EX",null,null,{"$error":"#REF!"},null,null,null,null,null,null,null,null,null,null,null,null,{"$f":"SUM(AF17:AF19)","v":{"$error":"#REF!"}},{"$f":"SUM(AG17:AG19)","v":{"$error":"#REF!"}},{"$f":"SUM(AH17:AH19)","v":{"$error":"#REF!"}}]
[null,null,{"$f":"AF17*#REF!/T17*#REF!/#REF!*-1","v":{"$error":"#REF!"}},{"$f":"AF17*#REF!/T17*#REF!/#REF!*-1","v":{"$error":"#REF!"}},{"$f":"AF17*#REF!/T17*#REF!/#REF!*-1","v":{"$error":"#REF!"}},{"$f":"AF17*#REF!/T17*#REF!/#REF!*-1","v":{"$error":"#REF!"}},null,null,{"$f":"AF17*#REF!/T17*#REF!/#REF!*-1","v":{"$error":"#REF!"}},{"$f":"AF17*#REF!*#REF!/T17/#REF!*-1","v":{"$error":"#REF!"}},{"$f":"AF17*#REF!*#REF!/T17/#REF!*-1","v":{"$error":"#REF!"}},{"$f":"AF17*#REF!*#REF!/T17/#REF!*-1","v":{"$error":"#REF!"}},null,{"$f":"SUM(C17:L17)","v":{"$error":"#REF!"}},"Industry","EXI","EX",null,{"$error":"#REF!"},{"$f":"(#REF!+#REF!+#REF!+#REF!+#REF!)*#REF!+(#REF!+#REF!)*#REF!+#REF!*#REF!","v":{"$error":"#REF!"}},null,null,null,null,null,null,null,null,null,null,null,{"$f":"#REF!*#REF!*((#REF!+#REF!+#REF!+#REF!+#REF!)*#REF!+(#REF!+#REF!)*#REF!+#REF!*#REF!)*-1","v":{"$error":"#REF!"}},{"$f":"(S17+SUM(C17:M17))*-1","v":{"$error":"#REF!"}},{"$f":"-(C17*Emissionsfaktorer!$B$2+D17*Emissionsfaktorer!$B$3+E17*Emissionsfaktorer!$B$4+F17*Emissionsfaktorer!$B$5+G17*Emissionsfaktorer!$B$6+H17*Emissionsfaktorer!$B$7+I17*Emissionsfaktorer!$B$8+J17*Emissionsfaktorer!$B$9+K17*Emissionsfaktorer!$B$10+L17*Emissionsfaktorer!$B$11+M17*Emissionsfaktorer!$B$12)","v":{"$error":"#REF!"}}]
[null,null,{"$f":"AF18*#REF!/T18*#REF!/#REF!*-1","v":{"$error":"#REF!"}},null,{"$f":"AF18*#REF!/T18*#REF!/#REF!*-1","v":{"$error":"#REF!"}},{"$f":"AF18*#REF!/T18*#REF!/#REF!*-1","v":{"$error":"#REF!"}},null,null,{"$f":"AF18*#REF!/T18*#REF!/#REF!*-1","v":{"$error":"#REF!"}},{"$f":"AF18*#REF!/T18*#REF!/#REF!*-1","v":{"$error":"#REF!"}},{"$f":"AF18*#REF!/T18*#REF!/#REF!*-1","v":{"$error":"#REF!"}},{"$f":"AF18*#REF!/T18*#REF!/#REF!*-1","v":{"$error":"#REF!"}},null,{"$f":"SUM(C18:L18)","v":{"$error":"#REF!"}},"Transport","EXT","EX",null,{"$error":"#REF!"},{"$f":"(#REF!+#REF!+#REF!+#REF!)*#REF!+(#REF!+#REF!)*#REF!+#REF!*#REF!","v":{"$error":"#REF!"}},null,null,null,null,null,null,null,null,null,null,null,{"$f":"#REF!*#REF!*-1*((#REF!+#REF!+#REF!+#REF!)*#REF!+(#REF!+#REF!)*#REF!+#REF!*#REF!)","v":{"$error":"#REF!"}},{"$f":"(S18+SUM(C18:M18))*-1","v":{"$error":"#REF!"}},{"$f":"-(C18*Emissionsfaktorer!$B$2+D18*Emissionsfaktorer!$B$3+E18*Emissionsfaktorer!$B$4+F18*Emissionsfaktorer!$B$5+G18*Emissionsfaktorer!$B$6+H18*Emissionsfaktorer!$B$7+I18*Emissionsfaktorer!$B$8+J18*Emissionsfaktorer!$B$9+K18*Emissionsfaktorer!$B$10+L18*Emissionsfaktorer!$B$11+M18*Emissionsfaktorer!$B$12)","v":{"$error":"#REF!"}}]
[null,null,{"$f":"SUM(C20:C24)","v":{"$error":"#REF!"}},{"$f":"SUM(D20:D24)","v":0},{"$error":"#REF!"},{"$error":"#REF!"},0,0,{"$error":"#REF!"},{"$error":"#REF!"},{"$error":"#REF!"},{"$error":"#REF!"},0,{"$f":"SUM(N20:N24)","v":{"$error":"#REF!"}},"Other ","EXO","EX",null,{"$error":"#REF!"},0.8,null,{"$f":"SUM(V20:V24)","v":0},{"$f":"SUM(W20:W24)","v":0},0,0,0,0,0,0,0,0,{"$error":"#REF!"},{"$error":"#REF!"},{"$error":"#REF!"}]
[null,null,{"$f":"AF20*#REF!/T20*#REF!/#REF!*-1","v":{"$error":"#REF!"}},null,{"$f":"AF20*#REF!/T20*#REF!/#REF!*-1","v":{"$error":"#REF!"}},{"$f":"AF20*#REF!/T20*#REF!/#REF!*-1","v":{"$error":"#REF!"}},null,null,{"$f":"AF20*#REF!/T20*#REF!/#REF!*-1","v":{"$error":"#REF!"}},{"$f":"AF20*#REF!/T20*#REF!/#REF!*-1","v":{"$error":"#REF!"}},{"$f":"AF20*#REF!/T20*#REF!/#REF!*-1","v":{"$error":"#REF!"}},{"$f":"AF20*#REF!/T20*#REF!/#REF!*-1","v":{"$error":"#REF!"}},null,{"$f":"SUM(C20:L20)","v":{"$error":"#REF!"}},"Residential","EXOR","EXO",null,{"$error":"#REF!"},{"$f":"(#REF!+#REF!+#REF!+#REF!)*#REF!+(#REF!+#REF!)*#REF!+#REF!*#REF!","v":{"$error":"#REF!"}},null,null,null,null,null,null,null,null,null,null,null,{"$f":"#REF!*#REF!*((#REF!+#REF!+#REF!+#REF!)*#REF!+(#REF!+#REF!)*#REF!+#REF!*#REF!)*-1","v":{"$error":"#REF!"}},{"$f":"(N20+AF20)*-1","v":{"$error":"#REF!"}},{"$f":"-(C20*Emissionsfaktorer!$B$2+D20*Emissionsfaktorer!$B$3+E20*Emissionsfaktorer!$B$4+F20*Emissionsfaktorer!$B$5+G20*Emissionsfaktorer!$B$6+H20*Emissionsfaktorer!$B$7+I20*Emissionsfaktorer!$B$8+J20*Emissionsfaktorer!$B$9+K20*Emissionsfaktorer!$B$10+L20*Emissionsfaktorer!$B$11+M20*Emissionsfaktorer!$B$12)","v":{"$error":"#REF!"}}]
[null,null,{"$f":"AF21*#REF!/T21*#REF!/#REF!*-1","v":{"$error":"#REF!"}},null,{"$f":"AF21*#REF!/T21*#REF!/#REF!*-1","v":{"$error":"#REF!"}},{"$f":"AF21*#REF!/T21*#REF!/#REF!*-1","v":{"$error":"#REF!"}},null,null,{"$f":"AF21*#REF!/T21*#REF!/#REF!*-1","v":{"$error":"#REF!"}},{"$f":"AF21*#REF!/T21*#REF!/#REF!*-1","v":{"$error":"#REF!"}},{"$f":"AF21*#REF!/T21*#REF!/#REF!*-1","v":{"$error":"#REF!"}},{"$f":"AF21*#REF!/T21*#REF!/#REF!*-1","v":{"$error":"#REF!"}},null,{"$f":"SUM(C21:L21)","v":{"$error":"#REF!"}},"Commercial and public services","EXOC","EXO",null,{"$error":"#REF!"},{"$f":"(#REF!+#REF!+#REF!+#REF!)*#REF!+(#REF!+#REF!)*#REF!+#REF!*#REF!","v":{"$error":"#REF!"}},null,null,null,null,null,null,null,null,null,null,null,{"$f":"#REF!*#REF!*((#REF!+#REF!+#REF!+#REF!)*#REF!+(#REF!+#REF!)*#REF!+#REF!*#REF!)*-1","v":{"$error":"#REF!"}},{"$f":"(N21+AF21)*-1","v":{"$error":"#REF!"}},{"$f":"-(C21*Emissionsfaktorer!$B$2+D21*Emissionsfaktorer!$B$3+E21*Emissionsfaktorer!$B$4+F21*Emissionsfaktorer!$B$5+G21*Emissionsfaktorer!$B$6+H21*Emissionsfaktorer!$B$7+I21*Emissionsfaktorer!$B$8+J21*Emissionsfaktorer!$B$9+K21*Emissionsfaktorer!$B$10+L21*Emissionsfaktorer!$B$11+M21*Emissionsfaktorer!$B$12)","v":{"$error":"#REF!"}}]
[null,null,{"$f":"AF22*#REF!/T22*#REF!/#REF!*-1","v":{"$error":"#REF!"}},null,{"$f":"AF22*#REF!/T22*#REF!/#REF!*-1","v":{"$error":"#REF!"}},{"$f":"AF22*#REF!/T22*#REF!/#REF!*-1","v":{"$error":"#REF!"}},null,null,{"$f":"AF22*#REF!/T22*#REF!/#REF!*-1","v":{"$error":"#REF!"}},{"$f":"AF22*#REF!/T22*#REF!/#REF!*-1","v":{"$error":"#REF!"}},{"$f":"AF22*#REF!/T22*#REF!/#REF!*-1","v":{"$error":"#REF!"}},{"$f":"AF22*#REF!/T22*#REF!/#REF!*-1","v":{"$error":"#REF!"}},null,{"$f":"SUM(C22:L22)","v":{"$error":"#REF!"}},"Agriculture / forestry","EXOA","EXO",null,{"$error":"#REF!"},{"$f":"(#REF!+#REF!+#REF!+#REF!)*#REF!+(#REF!+#REF!)*#REF!+#REF!*#REF!","v":{"$error":"#REF!"}},null,null,null,null,null,null,null,null,null,null,null,{"$f":"((#REF!+#REF!+#REF!+#REF!)*#REF!+(#REF!+#REF!)*#REF!+#REF!*#REF!)*#REF!*#REF!*-1","v":{"$error":"#REF!"}},{"$f":"(N22+AF22)*-1","v":{"$error":"#REF!"}},{"$f":"-(C22*Emissionsfaktorer!$B$2+D22*Emissionsfaktorer!$B$3+E22*Emissionsfaktorer!$B$4+F22*Emissionsfaktorer!$B$5+G22*Emissionsfaktorer!$B$6+H22*Emissionsfaktorer!$B$7+I22*Emissionsfaktorer!$B$8+J22*Emissionsfaktorer!$B$9+K22*Emissionsfaktorer!$B$10+L22*Emissionsfaktorer!$B$11+M22*Emissionsfaktorer!$B$12)","v":{"$error":"#REF!"}}]
[null,null,{"$f":"AF23*#REF!/T23*#REF!/#REF!*-1","v":{"$error":"#REF!"}},null,{"$f":"AF23*#REF!/T23*#REF!/#REF!*-1","v":{"$error":"#REF!"}},{"$f":"AF23*#REF!/T23*#REF!/#REF!*-1","v":{"$error":"#REF!"}},null,null,{"$f":"AF23*#REF!/T23*#REF!/#REF!*-1","v":{"$error":"#REF!"}},{"$f":"AF23*#REF!/T23*#REF!/#REF!*-1","v":{"$error":"#REF!"}},{"$f":"AF23*#REF!/T23*#REF!/#REF!*-1","v":{"$error":"#REF!"}},{"$f":"AF23*#REF!/T23*#REF!/#REF!*-1","v":{"$error":"#REF!"}},null,{"$f":"SUM(C23:L23)","v":{"$error":"#REF!"}},"Fishing","EXOF","EXO",null,{"$error":"#REF!"},{"$f":"(#REF!+#REF!+#REF!+#REF!)*#REF!+(#REF!+#REF!)*#REF!+#REF!*#REF!","v":{"$error":"#REF!"}},null,null,null,null,null,null,null,null,null,null,null,{"$f":"((#REF!+#REF!+#REF!+#REF!)*#REF!+(#REF!+#REF!)*#REF!+#REF!*#REF!)*#REF!*#REF!*-1","v":{"$error":"#REF!"}},{"$f":"(N23+AF23)*-1","v":{"$error":"#REF!"}},{"$f":"-(C23*Emissionsfaktorer!$B$2+D23*Emissionsfaktorer!$B$3+E23*Emissionsfaktorer!$B$4+F23*Emissionsfaktorer!$B$5+G23*Emissionsfaktorer!$B$6+H23*Emissionsfaktorer!$B$7+I23*Emissionsfaktorer!$B$8+J23*Emissionsfaktorer!$B$9+K23*Emissionsfaktorer!$B$10+L23*Emissionsfaktorer!$B$11+M23*Emissionsfaktorer!$B$12)","v":{"$error":"#REF!"}}]
[null,null,{"$f":"AF24*#REF!/T24*#REF!/#REF!*-1","v":{"$error":"#REF!"}},null,{"$f":"AF24*#REF!/T24*#REF!/#REF!*-1","v":{"$error":"#REF!"}},{"$f":"AF24*#REF!/T24*#REF!/#REF!*-1","v":{"$error":"#REF!"}},null,null,{"$f":"AF24*#REF!/T24*#REF!/#REF!*-1","v":{"$error":"#REF!"}},{"$f":"AF24*#REF!/T24*#REF!/#REF!*-1","v":{"$error":"#REF!"}},{"$f":"AF24*#REF!/T24*#REF!/#REF!*-1","v":{"$error":"#REF!"}},{"$f":"AF24*#REF!/T24*#REF!/#REF!*-1","v":{"$error":"#REF!"}},null,{"$f":"SUM(C24:L24)","v":{"$error":"#REF!"}},"Non-specified","EXON","EXO",null,{"$error":"#REF!"},{"$f":"(#REF!+#REF!+#REF!+#REF!)*#REF!+(#REF!+#REF!)*#REF!+#REF!*#REF!","v":{"$error":"#REF!"}},null,null,null,null,null,null,null,null,null,null,null,{"$f":"((#REF!+#REF!+#REF!+#REF!)*#REF!+(#REF!+#REF!)*#REF!+#REF!*#REF!)*#REF!*#REF!*-1","v":{"$error":"#REF!"}},{"$f":"(N24+AF24)*-1","v":{"$error":"#REF!"}},{"$f":"-(C24*Emissionsfaktorer!$B$2+D24*Emissionsfaktorer!$B$3+E24*Emissionsfaktorer!$B$4+F24*Emissionsfaktorer!$B$5+G24*Emissionsfaktorer!$B$6+H24*Emissionsfaktorer!$B$7+I24*Emissionsfaktorer!$B$8+J24*Emissionsfaktorer!$B$9+K24*Emissionsfaktorer!$B$10+L24*Emissionsfaktorer!$B$11+M24*Emissionsfaktorer!$B$12)","v":{"$error":"#REF!"}}]
[null,null,null,null,null,null,null,null,null,null,null,null,null,{"$f":"N16","v":{"$error":"#REF!"}},"Energy Services","EN",null,null,{"$error":"#REF!"},{"$f":"AF25/N25*-1","v":{"$error":"#REF!"}},null,null,null,null,null,null,null,null,null,null,null,{"$f":"AF16","v":{"$error":"#REF!"}},{"$f":"-(S25+N25)","v":{"$error":"#REF!"}}]

{"sheet":"OECD Europe 1995","index":102,"n_rows":32,"n_cols":12,"rows_kept":32,"cut":false,"hidden":true,"merged":[]}
[null,"Coal*","Crude oil","Oil products","Natural gas","Nuclear","Hydro","Geothermal, solar, etc.","Biofuels and waste","Electricity","Heat","Total**"]
[null,"ktoe","ktoe","ktoe","ktoe","ktoe","ktoe","ktoe","ktoe","ktoe","ktoe","ktoe"]
["Production",278436,315462,null,203307,231604,43331,5933,64117,null,399,1142588]
["Imports",114109,605010,214613,178454,null,null,null,493,18254,3,1130937]
["Exports",-35702,-232806,-191118,-59403,null,null,null,-191,-18016,-3,-537239]
["International marine bunkers",null,null,-35380,null,null,null,null,null,null,null,-35380]
["International aviation bunkers",null,null,-30496,null,null,null,null,null,null,null,-30496]
["Stock changes",6744,-411,2614,-998,null,null,null,-6,null,null,7943]
["TES",363587,687255,-39767,321361,231604,43331,5933,64413,238,399,1678353]
["Transfers",null,8652,-7053,null,null,null,null,null,null,null,1599]
["Statistical differences",-1065,943,6566,-5097,null,null,-17,-70,-200,-79,981]
["Electricity plants",-167359,-863,-38028,-34223,-224760,-43331,-3730,-4175,211654,-50,-304867]
["CHP plants",-70201,-493,-10227,-21995,-6843,null,-459,-6632,36286,29096,-51469]
["Heat plants",-6937,-4,-3440,-5506,null,null,-371,-2252,-541,15728,-3322]
["Gas works",379,null,-315,-381,null,null,null,-10,null,null,-326]
["Oil refineries",null,-707074,701542,null,null,null,null,null,null,null,-5532]
["Coal transformation",-26060,66,-2822,-47,null,null,null,null,null,null,-28863]
["Liquefication plants",-453,293,null,null,null,null,null,null,null,null,-160]
["Other transformation",null,14057,-14166,-84,null,null,null,-63,null,-90,-346]
["Energy industry own use",-9770,-831,-40138,-12786,null,null,null,-53,-22688,-2343,-88610]
["Losses",-974,null,-260,-2913,null,null,-6,null,-18387,-3288,-25830]
["Total final consumption",81147,2002,551891,238329,null,null,1350,51157,206361,39372,1171609]
["Industry",51859,14,57182,84119,null,null,48,16365,88067,9561,307215]
["Transport",14,null,282735,427,null,null,null,217,5791,null,289184]
["Residential",21063,null,67641,94925,null,null,899,32140,59980,23157,299804]
["Commercial and public services",4581,null,26028,35194,null,null,149,1073,47818,5020,119863]
["Agriculture / forestry",1941,null,21415,4347,null,null,19,1281,3573,351,32926]
["Fishing",null,null,1627,null,null,null,11,null,2,3,1644]
["Non-specified",547,null,2292,5613,null,null,224,80,1130,1281,11168]
["Non-energy use",1142,1988,92972,13704,null,null,null,null,null,null,109806]
[]
[null,{"$f":"SUM(B9,B10:B21,B22*-1)","v":0},{"$f":"SUM(C9,C10:C21,C22*-1)","v":-1},1,0,1,0,0,1,1,1,-1]

{"sheet":"OECD Europe 2000","index":103,"n_rows":32,"n_cols":12,"rows_kept":32,"cut":false,"hidden":true,"merged":[]}
[null,"Coal*","Crude oil","Oil products","Natural gas","Nuclear","Hydro","Geothermal, solar, etc.","Biofuels and waste","Electricity","Heat","Total**"]
[null,"ktoe","ktoe","ktoe","ktoe","ktoe","ktoe","ktoe","ktoe","ktoe","ktoe","ktoe"]
["Production",218138,338349,null,244258,247052,47195,9864,71762,null,587,1177205]
["Imports",131311,645984,250863,250553,null,null,null,850,24899,3,1304463]
["Exports",-28052,-273728,-220372,-91063,null,null,null,-501,-24714,-7,-638438]
["International marine bunkers",null,null,-42317,null,null,null,null,null,null,null,-42317]
["International aviation bunkers",null,null,-40359,null,null,null,null,null,null,null,-40359]
["Stock changes",9552,1177,-5449,-7356,null,null,null,54,null,null,-2021]
["TES",330950,711783,-57635,396392,247052,47195,9864,72165,184,584,1758534]
["Transfers",null,11125,-8588,null,null,null,null,null,null,null,2537]
["Statistical differences",380,904,7447,-3747,null,null,-15,-174,-82,-108,4604]
["Electricity plants",-170213,null,-30707,-61200,-241071,-47195,-6708,-6842,237818,-87,-326204]
["CHP plants",-59463,-831,-8058,-36050,-5981,null,-817,-8684,40589,31602,-47693]
["Heat plants",-5113,-2,-2904,-7073,null,null,-458,-2784,-430,15471,-3293]
["Gas works",53,null,-245,-51,null,null,null,-13,null,null,-256]
["Oil refineries",null,-737446,730125,null,null,null,null,null,null,null,-7321]
["Coal transformation",-25225,52,-1969,-84,null,null,null,null,null,null,-27226]
["Liquefication plants",-375,229,null,null,null,null,null,null,null,null,-146]
["Other transformation",-142,17368,-17328,-318,null,null,null,-80,null,-237,-737]
["Energy industry own use",-8290,-384,-39520,-14742,null,null,null,-11,-23640,-2280,-88867]
["Losses",-771,null,-199,-3877,null,null,-7,-1,-20765,-2971,-28592]
["Total final consumption",61789,2799,570419,269251,null,null,1858,53576,233674,41974,1235341]
["Industry",45611,12,54055,98639,null,null,109,17144,98757,10892,325219]
["Transport",10,null,310392,713,null,null,null,712,6145,null,317973]
["Residential",11476,null,62767,109566,null,null,1310,32975,65999,20449,304543]
["Commercial and public services",1961,null,23659,34970,null,null,317,1502,58439,6863,127712]
["Agriculture / forestry",1078,null,19282,4305,null,null,43,1213,3925,491,30337]
["Fishing",null,null,2101,null,null,null,67,null,2,4,2173]
["Non-specified",309,null,1854,6556,null,null,12,28,407,3276,12442]
["Non-energy use",1344,2787,96309,14501,null,null,null,null,null,null,114942]
[]
[null,{"$f":"SUM(B9,B10:B21,B22*-1)","v":2},{"$f":"SUM(C9,C10:C21,C22*-1)","v":-1},0,-1,0,0,1,0,0,0,-1]

{"sheet":"OECD Europe 2005","index":104,"n_rows":32,"n_cols":12,"rows_kept":32,"cut":false,"hidden":true,"merged":[]}
[null,"Coal*","Crude oil","Oil products","Natural gas","Nuclear","Hydro","Geothermal, solar, etc.","Biofuels and waste","Electricity","Heat","Total**"]
[null,"ktoe","ktoe","ktoe","ktoe","ktoe","ktoe","ktoe","ktoe","ktoe","ktoe","ktoe"]
["Production",197804,265042,null,254344,259902,42582,15543,93235,null,665,1129116]
["Imports",155431,674026,310308,341096,null,null,null,4186,31461,4,1516511]
["Exports",-24775,-193517,-287564,-140287,null,null,null,-2032,-30180,-9,-678365]
["International marine bunkers",null,null,-49421,null,null,null,null,null,null,null,-49421]
["International aviation bunkers",null,null,-44932,null,null,null,null,null,null,null,-44932]
["Stock changes",-3282,-427,-5295,524,null,null,null,-18,null,null,-8497]
["TES",325178,745124,-76904,455677,259902,42582,15543,95371,1281,659,1864412]
["Transfers",null,-600,3472,null,null,null,null,null,null,null,2872]
["Statistical differences",-67,531,1919,-3888,null,null,-15,null,-128,-195,-1844]
["Electricity plants",-172282,-2,-21022,-74829,-248817,-42582,-11473,-12286,245757,-255,-337791]
["CHP plants",-63533,-57,-12118,-60200,-11085,null,-869,-15634,58102,42568,-62826]
["Heat plants",-4521,null,-2067,-8708,null,null,-640,-3996,-267,16158,-4041]
["Gas works",-139,null,-107,-10,null,null,null,-11,null,null,-268]
["Oil refineries",null,-756235,746732,null,null,null,null,null,null,null,-9503]
["Coal transformation",-21777,23,-1936,-48,null,null,null,null,null,null,-23738]
["Liquefication plants",-495,346,null,null,null,null,null,null,null,null,-149]
["Other transformation",-163,14242,-14292,-396,null,null,null,-40,null,-221,-870]
["Energy industry own use",-7577,null,-41141,-15613,null,null,null,-109,-25488,-3211,-93138]
["Losses",-1231,null,-62,-2977,null,null,-8,-141,-21091,-4376,-29887]
["Total final consumption",53392,3371,582474,289008,null,null,2537,63153,258166,51129,1303229]
["Industry",37273,12,49156,99371,null,null,136,19255,105789,16194,327185]
["Transport",8,null,325843,2604,null,null,null,3218,5682,null,337355]
["Residential",11887,null,59683,121657,null,null,1835,36457,73815,20699,326032]
["Commercial and public services",1400,null,23955,45250,null,null,396,2638,68335,9679,151652]
["Agriculture / forestry",1072,null,19262,4333,null,null,61,1578,4287,352,30945]
["Fishing",null,null,1998,null,null,null,80,null,48,5,2130]
["Non-specified",112,null,2566,1857,null,null,30,7,211,4200,8984]
["Non-energy use",1639,3359,100012,13937,null,null,null,null,null,null,118946]
[]
[null,{"$f":"SUM(B9,B10:B21,B22*-1)","v":1},{"$f":"SUM(C9,C10:C21,C22*-1)","v":1},0,0,0,0,1,1,0,-2,0]

{"sheet":"OECD Europe 2010","index":105,"n_rows":32,"n_cols":12,"rows_kept":32,"cut":false,"hidden":true,"merged":[]}
[null,"Coal*","Crude oil","Oil products","Natural gas","Nuclear","Hydro","Geothermal, solar, etc.","Biofuels and waste","Electricity","Heat","Total**"]
[null,"ktoe","ktoe","ktoe","ktoe","ktoe","ktoe","ktoe","ktoe","ktoe","ktoe","ktoe"]
["Production",172254,195835,null,243680,238820,48157,28535,130223,null,730,1058233]
["Imports",142963,611274,336128,396483,null,null,null,12699,28680,5,1528231]
["Exports",-22256,-140885,-305928,-175867,null,null,null,-5782,-26822,-9,-677549]
["International marine bunkers",null,null,-48057,null,null,null,null,null,null,null,-48057]
["International aviation bunkers",null,null,-45076,null,null,null,null,null,null,null,-45076]
["Stock changes",7774,-293,2801,8307,null,null,null,119,null,null,18707]
["TES",300735,665930,-60132,472603,238820,48157,28535,137258,1858,726,1834489]
["Transfers",null,6018,-2896,null,null,null,null,null,null,null,3122]
["Statistical differences",-1752,1078,-3852,502,null,null,2,-126,-201,-56,-4406]
["Electricity plants",-138376,null,-9972,-89878,-231954,-48157,-21874,-17443,247758,-235,-310130]
["CHP plants",-69133,null,-10919,-65497,-6867,null,-1973,-25116,63877,43754,-71874]
["Heat plants",-5433,null,-1662,-8968,null,null,-882,-5749,-251,18432,-4511]
["Gas works",-295,null,-174,24,null,null,null,-13,null,null,-458]
["Oil refineries",null,-686729,678575,null,null,null,null,null,null,null,-8154]
["Coal transformation",-21290,null,-1635,-54,null,null,null,null,null,null,-22979]
["Liquefication plants",-791,496,null,null,null,null,null,null,null,null,-294]
["Other transformation",-152,16015,-15827,-1134,null,null,null,-133,null,-369,-1600]
["Energy industry own use",-7332,null,-36998,-19623,null,null,-1,-689,-25119,-4435,-94199]
["Losses",-1132,null,-40,-2627,null,null,-9,-123,-20921,-5187,-30040]
["Total final consumption",55048,2809,534468,285347,null,null,3799,87865,267000,52629,1288965]
["Industry",31043,12,37377,88868,null,null,156,22620,99164,17210,296449]
["Transport",14,null,313588,2767,null,null,null,13145,5378,null,334892]
["Residential",15342,null,47415,125455,null,null,3050,45676,79034,22657,338628]
["Commercial and public services",5670,null,19446,48384,null,null,472,4149,77762,12336,168219]
["Agriculture / forestry",1308,null,17823,4374,null,null,66,2268,4888,279,31006]
["Fishing",null,null,1819,4,null,null,56,4,145,4,2033]
["Non-specified",106,null,1970,1927,null,null,1,3,628,142,4777]
["Non-energy use",1566,2797,95030,13569,null,null,null,null,null,null,112961]
[]
[null,{"$f":"SUM(B9,B10:B21,B22*-1)","v":1},{"$f":"SUM(C9,C10:C21,C22*-1)","v":-1},0,1,-1,0,-1,1,1,1,1]

{"sheet":"OECD Europe 2015","index":106,"n_rows":32,"n_cols":12,"rows_kept":32,"cut":false,"hidden":true,"merged":[]}
[null,"Coal*","Crude oil","Oil products","Natural gas","Nuclear","Hydro","Geothermal, solar, etc.","Biofuels and waste","Electricity","Heat","Total**"]
[null,"ktoe","ktoe","ktoe","ktoe","ktoe","ktoe","ktoe","ktoe","ktoe","ktoe","ktoe"]
["Production",148325,163977,null,200155,222388,49020,55644,144371,null,1031,984911]
["Imports",148371,615409,365835,383500,null,null,null,17554,37505,6,1568181]
["Exports",-18313,-118518,-365015,-194328,null,null,null,-10388,-36460,-5,-743027]
["International marine bunkers",null,null,-40678,-35,null,null,null,null,null,null,-40713]
["International aviation bunkers",null,null,-50295,null,null,null,null,null,null,null,-50295]
["Stock changes",7734,-5089,-8690,3367,null,null,null,63,null,null,-2614]
["TES",286118,655780,-98843,392659,222388,49020,55644,151601,1045,1032,1716442]
["Transfers",null,3209,165,null,null,null,null,null,null,null,3375]
["Statistical differences",-1314,-319,-1757,3222,null,null,-24,18,-1005,61,-1118]
["Electricity plants",-140448,null,-7971,-52603,-215312,-49020,-46429,-22101,249366,-457,-284974]
["CHP plants",-60732,null,-7520,-49834,-7076,null,-2654,-34054,58035,38484,-65352]
["Heat plants",-3619,null,-892,-8132,null,null,-1185,-6490,-287,16766,-3838]
["Gas works",-239,null,-131,221,null,null,null,-206,null,null,-355]
["Oil refineries",null,-675861,669952,null,null,null,null,null,null,null,-5909]
["Coal transformation",-22965,null,-731,-64,null,null,null,null,null,null,-23759]
["Liquefication plants",-1291,803,null,null,null,null,null,null,null,null,-488]
["Other transformation",-186,18580,-17343,-1841,null,null,null,-141,null,-569,-1499]
["Energy industry own use",-7202,null,-33580,-21620,null,null,null,-675,-22665,-4090,-89833]
["Losses",-1145,null,-23,-1932,null,null,-8,-91,-20973,-4677,-28850]
["Total final consumption",46978,2191,501325,260076,null,null,5343,87862,263515,46550,1213840]
["Industry",28262,null,29610,85310,null,null,317,25089,99910,16369,284867]
["Transport",10,null,314728,3250,null,null,null,13845,5538,null,337371]
["Residential",10993,null,35936,106142,null,null,3776,42313,75094,20707,294962]
["Commercial and public services",4881,null,17032,46614,null,null,479,4060,77366,9072,159504]
["Agriculture / forestry",1004,null,15106,3553,null,null,726,2539,5195,224,28347]
["Fishing",null,null,1701,51,null,null,40,14,160,22,1988]
["Non-specified",36,null,2069,1065,null,null,5,3,252,156,3586]
["Non-energy use",1790,2191,85144,14090,null,null,null,null,null,null,103215]
[]
[null,{"$f":"SUM(B9,B10:B21,B22*-1)","v":-1},{"$f":"SUM(C9,C10:C21,C22*-1)","v":1},1,0,0,0,1,-1,1,0,2]

{"sheet":"OECD Europe 2018","index":107,"n_rows":32,"n_cols":12,"rows_kept":32,"cut":false,"hidden":true,"merged":[]}
[null,"Coal*","Crude oil","Oil products","Natural gas","Nuclear","Hydro","Geothermal, solar, etc.","Biofuels and waste","Electricity","Heat","Total**"]
[null,"ktoe","ktoe","ktoe","ktoe","ktoe","ktoe","ktoe","ktoe","ktoe","ktoe","ktoe"]
["Production",133922,162754,null,191170,215079,48742,69919,151624,null,1220,974431]
["Imports",134125,609999,384275,408419,null,null,null,22710,35797,6,1595331]
["Exports",-13605,-124973,-370650,-167495,null,null,null,-13240,-34084,-2,-724049]
["International marine bunkers",null,null,-43837,-90,null,null,null,-17,null,null,-43943]
["International aviation bunkers",null,null,-58029,null,null,null,null,null,null,null,-58029]
["Stock changes",941,727,2779,-5692,null,null,null,-179,null,null,-1425]
["TES",255384,648507,-85462,426312,215079,48742,69919,160898,1713,1224,1742315]
["Transfers",null,9157,-5741,null,null,null,null,null,null,null,3416]
["Statistical differences",-2117,355,-2906,2225,null,null,-42,7,-314,-16,-2808]
["Electricity plants",-115185,null,-6276,-64605,-212164,-48742,-59627,-22809,255081,-481,-274810]
["CHP plants",-56748,null,-6858,-54348,-2915,null,-2846,-36940,59295,39351,-62009]
["Heat plants",-3470,null,-653,-8066,null,null,-1603,-6858,-290,17783,-3157]
["Gas works",-470,null,-134,658,null,null,null,-662,null,null,-608]
["Oil refineries",null,-674894,668595,null,null,null,null,null,null,null,-6299]
["Coal transformation",-23054,null,-392,-56,null,null,null,null,null,null,-23502]
["Liquefication plants",-1673,1044,null,null,null,null,null,null,null,null,-629]
["Other transformation",-156,17565,-16480,-1883,null,null,null,-141,null,-541,-1636]
["Energy industry own use",-7629,null,-30940,-22673,null,null,null,-616,-22940,-4275,-89074]
["Losses",-634,null,-10,-1825,null,null,-9,-99,-20851,-4820,-28247]
["Total final consumption",44248,1735,512742,275738,null,null,5792,92781,271695,48225,1252954]
["Industry",27758,null,31012,91246,null,null,341,28355,103774,16513,298999]
["Transport",12,null,327489,3946,null,null,null,17029,5825,null,354301]
["Residential",10696,null,31885,111144,null,null,4038,40245,76786,21015,295808]
["Commercial and public services",2858,null,14686,49057,null,null,542,4328,79345,10346,161163]
["Agriculture / forestry",1030,null,18433,3652,null,null,809,2804,5590,241,32561]
["Fishing",null,null,1715,43,null,null,55,18,190,41,2062]
["Non-specified",151,null,1865,949,null,null,6,2,185,69,3227]
["Non-energy use",1742,1735,85657,15700,null,null,null,null,null,null,104834]
[]
[null,{"$f":"SUM(B9,B10:B21,B22*-1)","v":0},{"$f":"SUM(C9,C10:C21,C22*-1)","v":-1},1,1,0,0,0,-1,-1,0,-2]

{"sheet":"BL OECD Asia Oceania 2030","index":108,"n_rows":25,"n_cols":34,"rows_kept":25,"cut":false,"hidden":true,"merged":[]}
[null,"Consumption","Coal","Crude oil","Oil Products","Natual Gas","Nuclear","Hydro","Geothermal, solar, wind, etc.","Biofuels and waste","Electricity","Heat","Energy Services","Total consumption","OECD Asia Oceania 2030",null,null,"Faktor","Total production","Efficiency","Production","Coal","Crude oil","Oil Products","Natual Gas","Nuclear","Hydro","Geothermal, solar, wind, etc.","Biofuels and waste","Electricity","Heat","Energy Services","Loss","CO2-emissions"]
["ID","C ","CC","CCO","COP","CNG","CNU","CHY","CGSW","CWB","CE","CH","CES","fbrbr",null,"ID","ID Parent","factor","pbrpr","pvrkg","P ","PC","PCO","POP","PNG","PNU","PHY","PGSW","PWB","PE","PH","PES","PTAB","PCO2"]
["ID Parent",null,"C","C","C ","C ","C ","C","C","C ","C ","C ","C ",null,"Structures",null,null,null,null,null,null,"P ","P ","P ","P ","P ","P ","P","P ","P ","P ","P "]
["Factor",{"$f":"'Størrelse på strømme'!E9","v":0},null,null,null,null,null,null,null,null,null,null,null,null,null,null,null,null,null,null,{"$f":"B4","v":0},null,null,null,null,null,null,null,null,null,null,null,{"$f":"U4","v":0},{"$f":"U4","v":0}]
[null,null,null,null,null,null,null,null,null,null,null,null,null,{"$f":"SUM(C5:M5)","v":0},"Entry fuels","ETP",null,null,{"$f":"SUM(V5:AF5)","v":{"$error":"#REF!"}},null,null,{"$f":"-(C6+C5)","v":{"$error":"#REF!"}},{"$f":"-(D6+D5)","v":{"$error":"#REF!"}},null,{"$f":"-(F6+F5)","v":{"$error":"#REF!"}},{"$f":"-(G6+G5)","v":{"$error":"#REF!"}},null,null,{"$f":"-(J6+J5)","v":{"$error":"#REF!"}}]
[null,null,{"$f":"-V6","v":{"$error":"#REF!"}},{"$f":"-W6","v":{"$error":"#REF!"}},null,{"$f":"-Y6","v":{"$error":"#REF!"}},{"$f":"-Z6","v":{"$error":"#REF!"}},null,null,{"$f":"-AC6","v":{"$error":"#REF!"}},null,null,null,{"$f":"SUM(C6:M6)","v":{"$error":"#REF!"}},"Transport of fuels","TRAP",null,null,{"$f":"SUM(V6:AF6)","v":{"$error":"#REF!"}},null,null,{"$f":"-(C16+C8)","v":{"$error":"#REF!"}},{"$f":"-(D16+D8)","v":{"$error":"#REF!"}},null,{"$f":"-(F16+F8)","v":{"$error":"#REF!"}},{"$f":"-(G16+G8)","v":{"$error":"#REF!"}},null,null,{"$f":"-(J16+J8)","v":{"$error":"#REF!"}},null,null,null,{"$f":"-(N6+S6)","v":{"$error":"#REF!"}}]
[null,null,null,null,null,null,null,null,null,null,null,null,null,0,"Entry On-Grid RE ","ELP1",null,null,{"$error":"#REF!"},null,null,null,null,null,null,null,{"$f":"-H8","v":{"$error":"#REF!"}},{"$f":"-I8","v":{"$error":"#REF!"}}]
[null,null,{"$f":"SUM(C9:C13)","v":{"$error":"#REF!"}},{"$f":"SUM(D9:D13)","v":{"$error":"#REF!"}},{"$error":"#REF!"},{"$error":"#REF!"},{"$error":"#REF!"},{"$error":"#REF!"},{"$error":"#REF!"},{"$error":"#REF!"},{"$error":"#REF!"},{"$error":"#REF!"},0,{"$error":"#REF!"},"Entry electricity, district heating and oil products","ES",null,null,{"$error":"#REF!"},null,null,{"$f":"SUM(V9:V13)","v":0},null,{"$f":"(E14+E8)*-1","v":{"$error":"#REF!"}},null,null,null,null,null,{"$f":"(K14+K8)*-1","v":{"$error":"#REF!"}},{"$f":"(L14+L8)*-1","v":{"$error":"#REF!"}},null,{"$f":"-(N8+S8)","v":{"$error":"#REF!"}},{"$f":"SUM(AH9:AH13)","v":{"$error":"#REF!"}}]
[null,null,{"$f":"-($AD$9+$H$9+$I$9)/$T$9*#REF!","v":{"$error":"#REF!"}},{"$f":"-($AD$9+$H$9+$I$9)/$T$9*#REF!","v":{"$error":"#REF!"}},{"$f":"-($AD$9+$H$9+$I$9)/$T$9*#REF!","v":{"$error":"#REF!"}},{"$f":"-($AD$9+$H$9+$I$9)/$T$9*#REF!","v":{"$error":"#REF!"}},{"$f":"-($AD$9+$H$9+$I$9)/$T$9*#REF!","v":{"$error":"#REF!"}},{"$f":"AD9*#REF!*-1","v":{"$error":"#REF!"}},{"$f":"AD9*#REF!*-1","v":{"$error":"#REF!"}},{"$f":"-($AD$9+$H$9+$I$9)/$T$9*#REF!","v":{"$error":"#REF!"}},null,null,null,{"$error":"#REF!"},"Electricity-only plants","ESEP","ES",null,{"$error":"#REF!"},{"$f":"#REF!","v":{"$error":"#REF!"}},null,null,null,null,null,null,null,null,null,{"$f":"AD8-AD10","v":{"$error":"#REF!"}},null,null,{"$f":"-(S9+N9)","v":{"$error":"#REF!"}},{"$f":"-(C9*Emissionsfaktorer!$B$2*(1-#REF!)+D9*Emissionsfaktorer!$B$3+E9*Emissionsfaktorer!$B$4*(1-#REF!)+F9*Emissionsfaktorer!$B$5*(1-#REF!)+G9*Emissionsfaktorer!$B$6+H9*Emissionsfaktorer!$B$7+I9*Emissionsfaktorer!$B$8-J9*Emissionsfaktorer!B13*#REF!+K9*Emissionsfaktorer!$B$10+L9*Emissionsfaktorer!$B$11+M9*Emissionsfaktorer!$B$12)","v":{"$error":"#REF!"}}]
[null,null,{"$f":"-($AD$10+$AE$10+$H$10+$I$10)/$T$10*#REF!","v":{"$error":"#REF!"}},{"$f":"-($AD$10+$AE$10+$H$10+$I$10)/$T$10*#REF!","v":{"$error":"#REF!"}},{"$f":"-($AD$10+$AE$10+$H$10+$I$10)/$T$10*#REF!","v":{"$error":"#REF!"}},{"$f":"-($AD$10+$AE$10+$H$10+$I$10)/$T$10*#REF!","v":{"$error":"#REF!"}},{"$f":"-($AD$10+$AE$10+$H$10+$I$10)/$T$10*#REF!","v":{"$error":"#REF!"}},null,{"$f":"(AD10+AE10)*#REF!*-1","v":{"$error":"#REF!"}},{"$f":"-($AD$10+$AE$10+$H$10+$I$10)/$T$10*#REF!","v":{"$error":"#REF!"}},null,null,null,{"$error":"#REF!"},"CHP plants","ESCHP","ES",null,{"$error":"#REF!"},{"$f":"#REF!","v":{"$error":"#REF!"}},null,null,null,null,null,null,null,null,null,{"$f":"AE10*#REF!","v":{"$error":"#REF!"}},{"$f":"AE8*#REF!","v":{"$error":"#REF!"}},null,{"$f":"-(S10+N10)","v":{"$error":"#REF!"}},{"$f":"-(C10*Emissionsfaktorer!$B$2*(1-#REF!)+D10*Emissionsfaktorer!$B$3+E10*Emissionsfaktorer!$B$4*(1-#REF!)+F10*Emissionsfaktorer!$B$5*(1-#REF!)+G10*Emissionsfaktorer!$B$6+H10*Emissionsfaktorer!$B$7+I10*Emissionsfaktorer!$B$8-J10*Emissionsfaktorer!B14*#REF!+K10*Emissionsfaktorer!$B$10+L10*Emissionsfaktorer!$B$11+M10*Emissionsfaktorer!$B$12)","v":{"$error":"#REF!"}}]
[null,null,{"$f":"-($AE$11+$H$11+$I$11)/$T$11*#REF!","v":{"$error":"#REF!"}},{"$f":"-($AE$11+$H$11+$I$11)/$T$11*#REF!","v":{"$error":"#REF!"}},{"$f":"-($AE$11+$H$11+$I$11)/$T$11*#REF!","v":{"$error":"#REF!"}},{"$f":"-($AE$11+$H$11+$I$11)/$T$11*#REF!","v":{"$error":"#REF!"}},{"$f":"-($AE$11+$H$11+$I$11)/$T$11*#REF!","v":{"$error":"#REF!"}},null,{"$f":"AE11*#REF!*-1","v":{"$error":"#REF!"}},{"$f":"-($AE$11+$H$11+$I$11)/$T$11*#REF!","v":{"$error":"#REF!"}},{"$f":"AE11*#REF!*-1","v":{"$error":"#REF!"}},null,null,{"$error":"#REF!"},"Heat Plants","ESHP","ES",null,{"$error":"#REF!"},{"$f":"#REF!","v":{"$error":"#REF!"}},null,null,null,null,null,null,null,null,null,null,{"$f":"AE8*#REF!","v":{"$error":"#REF!"}},null,{"$f":"-(S11+N11)","v":{"$error":"#REF!"}},{"$f":"-(C11*Emissionsfaktorer!$B$2+D11*Emissionsfaktorer!$B$3+E11*Emissionsfaktorer!$B$4+F11*Emissionsfaktorer!$B$5+G11*Emissionsfaktorer!$B$6+H11*Emissionsfaktorer!$B$7+I11*Emissionsfaktorer!$B$8+J11*Emissionsfaktorer!$B$9+K11*Emissionsfaktorer!$B$10+L11*Emissionsfaktorer!$B$11+M11*Emissionsfaktorer!$B$12)","v":{"$error":"#REF!"}}]
[null,null,null,{"$f":"-X12/T12*#REF!","v":{"$error":"#REF!"}},null,null,null,null,null,{"$f":"-X12/T12*#REF!","v":{"$error":"#REF!"}},null,null,null,{"$error":"#REF!"},"Oil refineries","ESOR","ES",null,{"$error":"#REF!"},{"$f":"#REF!","v":{"$error":"#REF!"}},null,null,null,{"$f":"-(E9+E10+E11+E13+E14)","v":{"$error":"#REF!"}},null,null,null,null,null,null,null,null,{"$f":"-(S12+N12)","v":{"$error":"#REF!"}},{"$f":"J12*Emissionsfaktorer!B4","v":{"$error":"#REF!"}}]
[null,null,{"$f":"N13*#REF!","v":{"$error":"#REF!"}},{"$f":"N13*#REF!","v":{"$error":"#REF!"}},{"$f":"N13*#REF!","v":{"$error":"#REF!"}},{"$f":"N13*#REF!","v":{"$error":"#REF!"}},null,null,null,{"$f":"N13*#REF!","v":{"$error":"#REF!"}},{"$f":"N13*#REF!","v":{"$error":"#REF!"}},{"$f":"N13*#REF!","v":{"$error":"#REF!"}},null,{"$f":"N16*#REF!","v":{"$error":"#REF!"}},"Energy Industry one use","ESNSP","ES",null,0,0,null,null,null,null,null,null,null,null,null,null,null,null,{"$f":"-(S13+N13)","v":{"$error":"#REF!"}},{"$f":"-(C13*Emissionsfaktorer!$B$2+D13*Emissionsfaktorer!$B$3+E13*Emissionsfaktorer!$B$4+F13*Emissionsfaktorer!$B$5+G13*Emissionsfaktorer!$B$6+H13*Emissionsfaktorer!$B$7+I13*Emissionsfaktorer!$B$8+J13*Emissionsfaktorer!$B$9+K13*Emissionsfaktorer!$B$10+L13*Emissionsfaktorer!$B$11+M13*Emissionsfaktorer!$B$12)","v":{"$error":"#REF!"}}]
[null,null,null,null,{"$f":"-X14*1","v":{"$error":"#REF!"}},null,null,null,null,null,{"$f":"-AD14*(1+#REF!)","v":{"$error":"#REF!"}},{"$f":"-AE14*(1+#REF!)","v":{"$error":"#REF!"}},null,{"$error":"#REF!"},"Transport electricity, district heating and oil products","TRAS",null,null,{"$error":"#REF!"},null,null,null,null,{"$f":"-E16","v":{"$error":"#REF!"}},null,null,null,null,null,{"$f":"-K16","v":{"$error":"#REF!"}},{"$f":"-L16","v":{"$error":"#REF!"}},null,{"$f":"-(N14+S14)","v":{"$error":"#REF!"}}]
[null,null,null,null,null,null,null,null,null,null,null,null,null,0,"Entry Off-Grid RE","ELP2",null,null,{"$error":"#REF!"},null,null,null,null,null,null,null,null,{"$f":"I16*-1","v":{"$error":"#REF!"}}]
[null,null,{"$f":"SUM(C17:C19)","v":{"$error":"#REF!"}},{"$error":"#REF!"},{"$error":"#REF!"},{"$error":"#REF!"},0,0,{"$error":"#REF!"},{"$error":"#REF!"},{"$error":"#REF!"},{"$error":"#REF!"},0,{"$f":"#REF!","v":{"$error":"#REF!"}},"Exit energy","EX",null,null,{"$error":"#REF!"},null,null,null,null,null,null,null,null,null,null,null,null,{"$f":"SUM(AF17:AF19)","v":{"$error":"#REF!"}},{"$f":"SUM(AG17:AG19)","v":{"$error":"#REF!"}},{"$f":"SUM(AH17:AH19)","v":{"$error":"#REF!"}}]
[null,null,{"$f":"AF17*#REF!/T17*#REF!/#REF!*-1","v":{"$error":"#REF!"}},{"$f":"AF17*#REF!/T17*#REF!/#REF!*-1","v":{"$error":"#REF!"}},{"$f":"AF17*#REF!/T17*#REF!/#REF!*-1","v":{"$error":"#REF!"}},{"$f":"AF17*#REF!/T17*#REF!/#REF!*-1","v":{"$error":"#REF!"}},null,null,{"$f":"AF17*#REF!/T17*#REF!/#REF!*-1","v":{"$error":"#REF!"}},{"$f":"AF17*#REF!*#REF!/T17/#REF!*-1","v":{"$error":"#REF!"}},{"$f":"AF17*#REF!*#REF!/T17/#REF!*-1","v":{"$error":"#REF!"}},{"$f":"AF17*#REF!*#REF!/T17/#REF!*-1","v":{"$error":"#REF!"}},null,{"$f":"SUM(C17:L17)","v":{"$error":"#REF!"}},"Industry","EXI","EX",null,{"$error":"#REF!"},{"$f":"(#REF!+#REF!+#REF!+#REF!+#REF!)*#REF!+(#REF!+#REF!)*#REF!+#REF!*#REF!","v":{"$error":"#REF!"}},null,null,null,null,null,null,null,null,null,null,null,{"$f":"#REF!*#REF!*((#REF!+#REF!+#REF!+#REF!+#REF!)*#REF!+(#REF!+#REF!)*#REF!+#REF!*#REF!)*-1","v":{"$error":"#REF!"}},{"$f":"(S17+SUM(C17:M17))*-1","v":{"$error":"#REF!"}},{"$f":"-(C17*Emissionsfaktorer!$B$2+D17*Emissionsfaktorer!$B$3+E17*Emissionsfaktorer!$B$4+F17*Emissionsfaktorer!$B$5+G17*Emissionsfaktorer!$B$6+H17*Emissionsfaktorer!$B$7+I17*Emissionsfaktorer!$B$8+J17*Emissionsfaktorer!$B$9+K17*Emissionsfaktorer!$B$10+L17*Emissionsfaktorer!$B$11+M17*Emissionsfaktorer!$B$12)","v":{"$error":"#REF!"}}]
[null,null,{"$f":"AF18*#REF!/T18*#REF!/#REF!*-1","v":{"$error":"#REF!"}},null,{"$f":"AF18*#REF!/T18*#REF!/#REF!*-1","v":{"$error":"#REF!"}},{"$f":"AF18*#REF!/T18*#REF!/#REF!*-1","v":{"$error":"#REF!"}},null,null,{"$f":"AF18*#REF!/T18*#REF!/#REF!*-1","v":{"$error":"#REF!"}},{"$f":"AF18*#REF!/T18*#REF!/#REF!*-1","v":{"$error":"#REF!"}},{"$f":"AF18*#REF!/T18*#REF!/#REF!*-1","v":{"$error":"#REF!"}},{"$f":"AF18*#REF!/T18*#REF!/#REF!*-1","v":{"$error":"#REF!"}},null,{"$f":"SUM(C18:L18)","v":{"$error":"#REF!"}},"Transport","EXT","EX",null,{"$error":"#REF!"},{"$f":"(#REF!+#REF!+#REF!+#REF!)*#REF!+(#REF!+#REF!)*#REF!+#REF!*#REF!","v":{"$error":"#REF!"}},null,null,null,null,null,null,null,null,null,null,null,{"$f":"#REF!*#REF!*-1*((#REF!+#REF!+#REF!+#REF!)*#REF!+(#REF!+#REF!)*#REF!+#REF!*#REF!)","v":{"$error":"#REF!"}},{"$f":"(S18+SUM(C18:M18))*-1","v":{"$error":"#REF!"}},{"$f":"-(C18*Emissionsfaktorer!$B$2+D18*Emissionsfaktorer!$B$3+E18*Emissionsfaktorer!$B$4+F18*Emissionsfaktorer!$B$5+G18*Emissionsfaktorer!$B$6+H18*Emissionsfaktorer!$B$7+I18*Emissionsfaktorer!$B$8+J18*Emissionsfaktorer!$B$9+K18*Emissionsfaktorer!$B$10+L18*Emissionsfaktorer!$B$11+M18*Emissionsfaktorer!$B$12)","v":{"$error":"#REF!"}}]
[null,null,{"$f":"SUM(C20:C24)","v":{"$error":"#REF!"}},{"$f":"SUM(D20:D24)","v":0},{"$error":"#REF!"},{"$error":"#REF!"},0,0,{"$error":"#REF!"},{"$error":"#REF!"},{"$error":"#REF!"},{"$error":"#REF!"},0,{"$f":"SUM(N20:N24)","v":{"$error":"#REF!"}},"Other ","EXO","EX",null,{"$error":"#REF!"},0.8,null,{"$f":"SUM(V20:V24)","v":0},{"$f":"SUM(W20:W24)","v":0},0,0,0,0,0,0,0,0,{"$error":"#REF!"},{"$error":"#REF!"},{"$error":"#REF!"}]
[null,null,{"$f":"AF20*#REF!/T20*#REF!/#REF!*-1","v":{"$error":"#REF!"}},null,{"$f":"AF20*#REF!/T20*#REF!/#REF!*-1","v":{"$error":"#REF!"}},{"$f":"AF20*#REF!/T20*#REF!/#REF!*-1","v":{"$error":"#REF!"}},null,null,{"$f":"AF20*#REF!/T20*#REF!/#REF!*-1","v":{"$error":"#REF!"}},{"$f":"AF20*#REF!/T20*#REF!/#REF!*-1","v":{"$error":"#REF!"}},{"$f":"AF20*#REF!/T20*#REF!/#REF!*-1","v":{"$error":"#REF!"}},{"$f":"AF20*#REF!/T20*#REF!/#REF!*-1","v":{"$error":"#REF!"}},null,{"$f":"SUM(C20:L20)","v":{"$error":"#REF!"}},"Residential","EXOR","EXO",null,{"$error":"#REF!"},{"$f":"(#REF!+#REF!+#REF!+#REF!)*#REF!+(#REF!+#REF!)*#REF!+#REF!*#REF!","v":{"$error":"#REF!"}},null,null,null,null,null,null,null,null,null,null,null,{"$f":"#REF!*#REF!*((#REF!+#REF!+#REF!+#REF!)*#REF!+(#REF!+#REF!)*#REF!+#REF!*#REF!)*-1","v":{"$error":"#REF!"}},{"$f":"(N20+AF20)*-1","v":{"$error":"#REF!"}},{"$f":"-(C20*Emissionsfaktorer!$B$2+D20*Emissionsfaktorer!$B$3+E20*Emissionsfaktorer!$B$4+F20*Emissionsfaktorer!$B$5+G20*Emissionsfaktorer!$B$6+H20*Emissionsfaktorer!$B$7+I20*Emissionsfaktorer!$B$8+J20*Emissionsfaktorer!$B$9+K20*Emissionsfaktorer!$B$10+L20*Emissionsfaktorer!$B$11+M20*Emissionsfaktorer!$B$12)","v":{"$error":"#REF!"}}]
[null,null,{"$f":"AF21*#REF!/T21*#REF!/#REF!*-1","v":{"$error":"#REF!"}},null,{"$f":"AF21*#REF!/T21*#REF!/#REF!*-1","v":{"$error":"#REF!"}},{"$f":"AF21*#REF!/T21*#REF!/#REF!*-1","v":{"$error":"#REF!"}},null,null,{"$f":"AF21*#REF!/T21*#REF!/#REF!*-1","v":{"$error":"#REF!"}},{"$f":"AF21*#REF!/T21*#REF!/#REF!*-1","v":{"$error":"#REF!"}},{"$f":"AF21*#REF!/T21*#REF!/#REF!*-1","v":{"$error":"#REF!"}},{"$f":"AF21*#REF!/T21*#REF!/#REF!*-1","v":{"$error":"#REF!"}},null,{"$f":"SUM(C21:L21)","v":{"$error":"#REF!"}},"Commercial and public services","EXOC","EXO",null,{"$error":"#REF!"},{"$f":"(#REF!+#REF!+#REF!+#REF!)*#REF!+(#REF!+#REF!)*#REF!+#REF!*#REF!","v":{"$error":"#REF!"}},null,null,null,null,null,null,null,null,null,null,null,{"$f":"#REF!*#REF!*((#REF!+#REF!+#REF!+#REF!)*#REF!+(#REF!+#REF!)*#REF!+#REF!*#REF!)*-1","v":{"$error":"#REF!"}},{"$f":"(N21+AF21)*-1","v":{"$error":"#REF!"}},{"$f":"-(C21*Emissionsfaktorer!$B$2+D21*Emissionsfaktorer!$B$3+E21*Emissionsfaktorer!$B$4+F21*Emissionsfaktorer!$B$5+G21*Emissionsfaktorer!$B$6+H21*Emissionsfaktorer!$B$7+I21*Emissionsfaktorer!$B$8+J21*Emissionsfaktorer!$B$9+K21*Emissionsfaktorer!$B$10+L21*Emissionsfaktorer!$B$11+M21*Emissionsfaktorer!$B$12)","v":{"$error":"#REF!"}}]
[null,null,{"$f":"AF22*#REF!/T22*#REF!/#REF!*-1","v":{"$error":"#REF!"}},null,{"$f":"AF22*#REF!/T22*#REF!/#REF!*-1","v":{"$error":"#REF!"}},{"$f":"AF22*#REF!/T22*#REF!/#REF!*-1","v":{"$error":"#REF!"}},null,null,{"$f":"AF22*#REF!/T22*#REF!/#REF!*-1","v":{"$error":"#REF!"}},{"$f":"AF22*#REF!/T22*#REF!/#REF!*-1","v":{"$error":"#REF!"}},{"$f":"AF22*#REF!/T22*#REF!/#REF!*-1","v":{"$error":"#REF!"}},{"$f":"AF22*#REF!/T22*#REF!/#REF!*-1","v":{"$error":"#REF!"}},null,{"$f":"SUM(C22:L22)","v":{"$error":"#REF!"}},"Agriculture / forestry","EXOA","EXO",null,{"$error":"#REF!"},{"$f":"(#REF!+#REF!+#REF!+#REF!)*#REF!+(#REF!+#REF!)*#REF!+#REF!*#REF!","v":{"$error":"#REF!"}},null,null,null,null,null,null,null,null,null,null,null,{"$f":"((#REF!+#REF!+#REF!+#REF!)*#REF!+(#REF!+#REF!)*#REF!+#REF!*#REF!)*#REF!*#REF!*-1","v":{"$error":"#REF!"}},{"$f":"(N22+AF22)*-1","v":{"$error":"#REF!"}},{"$f":"-(C22*Emissionsfaktorer!$B$2+D22*Emissionsfaktorer!$B$3+E22*Emissionsfaktorer!$B$4+F22*Emissionsfaktorer!$B$5+G22*Emissionsfaktorer!$B$6+H22*Emissionsfaktorer!$B$7+I22*Emissionsfaktorer!$B$8+J22*Emissionsfaktorer!$B$9+K22*Emissionsfaktorer!$B$10+L22*Emissionsfaktorer!$B$11+M22*Emissionsfaktorer!$B$12)","v":{"$error":"#REF!"}}]
[null,null,{"$f":"AF23*#REF!/T23*#REF!/#REF!*-1","v":{"$error":"#REF!"}},null,{"$f":"AF23*#REF!/T23*#REF!/#REF!*-1","v":{"$error":"#REF!"}},{"$f":"AF23*#REF!/T23*#REF!/#REF!*-1","v":{"$error":"#REF!"}},null,null,{"$f":"AF23*#REF!/T23*#REF!/#REF!*-1","v":{"$error":"#REF!"}},{"$f":"AF23*#REF!/T23*#REF!/#REF!*-1","v":{"$error":"#REF!"}},{"$f":"AF23*#REF!/T23*#REF!/#REF!*-1","v":{"$error":"#REF!"}},{"$f":"AF23*#REF!/T23*#REF!/#REF!*-1","v":{"$error":"#REF!"}},null,{"$f":"SUM(C23:L23)","v":{"$error":"#REF!"}},"Fishing","EXOF","EXO",null,{"$error":"#REF!"},{"$f":"(#REF!+#REF!+#REF!+#REF!)*#REF!+(#REF!+#REF!)*#REF!+#REF!*#REF!","v":{"$error":"#REF!"}},null,null,null,null,null,null,null,null,null,null,null,{"$f":"((#REF!+#REF!+#REF!+#REF!)*#REF!+(#REF!+#REF!)*#REF!+#REF!*#REF!)*#REF!*#REF!*-1","v":{"$error":"#REF!"}},{"$f":"(N23+AF23)*-1","v":{"$error":"#REF!"}},{"$f":"-(C23*Emissionsfaktorer!$B$2+D23*Emissionsfaktorer!$B$3+E23*Emissionsfaktorer!$B$4+F23*Emissionsfaktorer!$B$5+G23*Emissionsfaktorer!$B$6+H23*Emissionsfaktorer!$B$7+I23*Emissionsfaktorer!$B$8+J23*Emissionsfaktorer!$B$9+K23*Emissionsfaktorer!$B$10+L23*Emissionsfaktorer!$B$11+M23*Emissionsfaktorer!$B$12)","v":{"$error":"#REF!"}}]
[null,null,{"$f":"AF24*#REF!/T24*#REF!/#REF!*-1","v":{"$error":"#REF!"}},null,{"$f":"AF24*#REF!/T24*#REF!/#REF!*-1","v":{"$error":"#REF!"}},{"$f":"AF24*#REF!/T24*#REF!/#REF!*-1","v":{"$error":"#REF!"}},null,null,{"$f":"AF24*#REF!/T24*#REF!/#REF!*-1","v":{"$error":"#REF!"}},{"$f":"AF24*#REF!/T24*#REF!/#REF!*-1","v":{"$error":"#REF!"}},{"$f":"AF24*#REF!/T24*#REF!/#REF!*-1","v":{"$error":"#REF!"}},{"$f":"AF24*#REF!/T24*#REF!/#REF!*-1","v":{"$error":"#REF!"}},null,{"$f":"SUM(C24:L24)","v":{"$error":"#REF!"}},"Non-specified","EXON","EXO",null,{"$error":"#REF!"},{"$f":"(#REF!+#REF!+#REF!+#REF!)*#REF!+(#REF!+#REF!)*#REF!+#REF!*#REF!","v":{"$error":"#REF!"}},null,null,null,null,null,null,null,null,null,null,null,{"$f":"((#REF!+#REF!+#REF!+#REF!)*#REF!+(#REF!+#REF!)*#REF!+#REF!*#REF!)*#REF!*#REF!*-1","v":{"$error":"#REF!"}},{"$f":"(N24+AF24)*-1","v":{"$error":"#REF!"}},{"$f":"-(C24*Emissionsfaktorer!$B$2+D24*Emissionsfaktorer!$B$3+E24*Emissionsfaktorer!$B$4+F24*Emissionsfaktorer!$B$5+G24*Emissionsfaktorer!$B$6+H24*Emissionsfaktorer!$B$7+I24*Emissionsfaktorer!$B$8+J24*Emissionsfaktorer!$B$9+K24*Emissionsfaktorer!$B$10+L24*Emissionsfaktorer!$B$11+M24*Emissionsfaktorer!$B$12)","v":{"$error":"#REF!"}}]
[null,null,null,null,null,null,null,null,null,null,null,null,null,{"$f":"N16","v":{"$error":"#REF!"}},"Energy Services","EN",null,null,{"$error":"#REF!"},{"$f":"AF25/N25*-1","v":{"$error":"#REF!"}},null,null,null,null,null,null,null,null,null,null,null,{"$f":"AF16","v":{"$error":"#REF!"}},{"$f":"-(S25+N25)","v":{"$error":"#REF!"}}]

{"sheet":"BL OECD Asia Oceania 2050","index":109,"n_rows":25,"n_cols":34,"rows_kept":25,"cut":false,"hidden":true,"merged":[]}
[null,"Consumption","Coal","Crude oil","Oil Products","Natual Gas","Nuclear","Hydro","Geothermal, solar, wind, etc.","Biofuels and waste","Electricity","Heat","Energy Services","Total consumption","OECD Asia Oceania 2050",null,null,"Faktor","Total production","Efficiency","Production","Coal","Crude oil","Oil Products","Natual Gas","Nuclear","Hydro","Geothermal, solar, wind, etc.","Biofuels and waste","Electricity","Heat","Energy Services","Loss","CO2-emissions"]
["ID","C ","CC","CCO","COP","CNG","CNU","CHY","CGSW","CWB","CE","CH","CES","fbrbr",null,"ID","ID Parent","factor","pbrpr","pvrkg","P ","PC","PCO","POP","PNG","PNU","PHY","PGSW","PWB","PE","PH","PES","PTAB","PCO2"]
["ID Parent",null,"C","C","C ","C ","C ","C","C","C ","C ","C ","C ",null,"Structures",null,null,null,null,null,null,"P ","P ","P ","P ","P ","P ","P","P ","P ","P ","P "]
["Factor",null,null,null,null,null,null,null,null,null,null,null,null,null,null,null,null,null,null,null,{"$f":"B4","v":0},null,null,null,null,null,null,null,null,null,null,null,{"$f":"U4","v":0},{"$f":"U4","v":0}]
[null,null,null,null,null,null,null,null,null,null,null,null,null,{"$f":"SUM(C5:M5)","v":0},"Entry fuels","ETP",null,null,{"$f":"SUM(V5:AF5)","v":{"$error":"#REF!"}},null,null,{"$f":"-(C6+C5)","v":{"$error":"#REF!"}},{"$f":"-(D6+D5)","v":{"$error":"#REF!"}},null,{"$f":"-(F6+F5)","v":{"$error":"#REF!"}},{"$f":"-(G6+G5)","v":{"$error":"#REF!"}},null,null,{"$f":"-(J6+J5)","v":{"$error":"#REF!"}}]
[null,null,{"$f":"-V6","v":{"$error":"#REF!"}},{"$f":"-W6","v":{"$error":"#REF!"}},null,{"$f":"-Y6","v":{"$error":"#REF!"}},{"$f":"-Z6","v":{"$error":"#REF!"}},null,null,{"$f":"-AC6","v":{"$error":"#REF!"}},null,null,null,{"$f":"SUM(C6:M6)","v":{"$error":"#REF!"}},"Transport of fuels","TRAP",null,null,{"$f":"SUM(V6:AF6)","v":{"$error":"#REF!"}},null,null,{"$f":"-(C16+C8)","v":{"$error":"#REF!"}},{"$f":"-(D16+D8)","v":{"$error":"#REF!"}},null,{"$f":"-(F16+F8)","v":{"$error":"#REF!"}},{"$f":"-(G16+G8)","v":{"$error":"#REF!"}},null,null,{"$f":"-(J16+J8)","v":{"$error":"#REF!"}},null,null,null,{"$f":"-(N6+S6)","v":{"$error":"#REF!"}}]
[null,null,null,null,null,null,null,null,null,null,null,null,null,0,"Entry On-Grid RE ","ELP1",null,null,{"$error":"#REF!"},null,null,null,null,null,null,null,{"$f":"-H8","v":{"$error":"#REF!"}},{"$f":"-I8","v":{"$error":"#REF!"}}]
[null,null,{"$f":"SUM(C9:C13)","v":{"$error":"#REF!"}},{"$f":"SUM(D9:D13)","v":{"$error":"#REF!"}},{"$error":"#REF!"},{"$error":"#REF!"},{"$error":"#REF!"},{"$error":"#REF!"},{"$error":"#REF!"},{"$error":"#REF!"},{"$error":"#REF!"},{"$error":"#REF!"},0,{"$error":"#REF!"},"Entry electricity, district heating and oil products","ES",null,null,{"$error":"#REF!"},null,null,{"$f":"SUM(V9:V13)","v":0},null,{"$f":"(E14+E8)*-1","v":{"$error":"#REF!"}},null,null,null,null,null,{"$f":"(K14+K8)*-1","v":{"$error":"#REF!"}},{"$f":"(L14+L8)*-1","v":{"$error":"#REF!"}},null,{"$f":"-(N8+S8)","v":{"$error":"#REF!"}},{"$f":"SUM(AH9:AH13)","v":{"$error":"#REF!"}}]
[null,null,{"$f":"-($AD$9+$H$9+$I$9)/$T$9*#REF!","v":{"$error":"#REF!"}},{"$f":"-($AD$9+$H$9+$I$9)/$T$9*#REF!","v":{"$error":"#REF!"}},{"$f":"-($AD$9+$H$9+$I$9)/$T$9*#REF!","v":{"$error":"#REF!"}},{"$f":"-($AD$9+$H$9+$I$9)/$T$9*#REF!","v":{"$error":"#REF!"}},{"$f":"-($AD$9+$H$9+$I$9)/$T$9*#REF!","v":{"$error":"#REF!"}},{"$f":"AD9*#REF!*-1","v":{"$error":"#REF!"}},{"$f":"AD9*#REF!*-1","v":{"$error":"#REF!"}},{"$f":"-($AD$9+$H$9+$I$9)/$T$9*#REF!","v":{"$error":"#REF!"}},null,null,null,{"$error":"#REF!"},"Electricity-only plants","ESEP","ES",null,{"$error":"#REF!"},{"$f":"#REF!","v":{"$error":"#REF!"}},null,null,null,null,null,null,null,null,null,{"$f":"AD8-AD10","v":{"$error":"#REF!"}},null,null,{"$f":"-(S9+N9)","v":{"$error":"#REF!"}},{"$f":"-(C9*Emissionsfaktorer!$B$2*(1-#REF!)+D9*Emissionsfaktorer!$B$3+E9*Emissionsfaktorer!$B$4*(1-#REF!)+F9*Emissionsfaktorer!$B$5*(1-#REF!)+G9*Emissionsfaktorer!$B$6+H9*Emissionsfaktorer!$B$7+I9*Emissionsfaktorer!$B$8-J9*Emissionsfaktorer!B13*#REF!+K9*Emissionsfaktorer!$B$10+L9*Emissionsfaktorer!$B$11+M9*Emissionsfaktorer!$B$12)","v":{"$error":"#REF!"}}]
[null,null,{"$f":"-($AD$10+$AE$10+$H$10+$I$10)/$T$10*#REF!","v":{"$error":"#REF!"}},{"$f":"-($AD$10+$AE$10+$H$10+$I$10)/$T$10*#REF!","v":{"$error":"#REF!"}},{"$f":"-($AD$10+$AE$10+$H$10+$I$10)/$T$10*#REF!","v":{"$error":"#REF!"}},{"$f":"-($AD$10+$AE$10+$H$10+$I$10)/$T$10*#REF!","v":{"$error":"#REF!"}},{"$f":"-($AD$10+$AE$10+$H$10+$I$10)/$T$10*#REF!","v":{"$error":"#REF!"}},null,{"$f":"(AD10+AE10)*#REF!*-1","v":{"$error":"#REF!"}},{"$f":"-($AD$10+$AE$10+$H$10+$I$10)/$T$10*#REF!","v":{"$error":"#REF!"}},null,null,null,{"$error":"#REF!"},"CHP plants","ESCHP","ES",null,{"$error":"#REF!"},{"$f":"#REF!","v":{"$error":"#REF!"}},null,null,null,null,null,null,null,null,null,{"$f":"AE10*#REF!","v":{"$error":"#REF!"}},{"$f":"AE8*#REF!","v":{"$error":"#REF!"}},null,{"$f":"-(S10+N10)","v":{"$error":"#REF!"}},{"$f":"-(C10*Emissionsfaktorer!$B$2*(1-#REF!)+D10*Emissionsfaktorer!$B$3+E10*Emissionsfaktorer!$B$4*(1-#REF!)+F10*Emissionsfaktorer!$B$5*(1-#REF!)+G10*Emissionsfaktorer!$B$6+H10*Emissionsfaktorer!$B$7+I10*Emissionsfaktorer!$B$8-J10*Emissionsfaktorer!B14*#REF!+K10*Emissionsfaktorer!$B$10+L10*Emissionsfaktorer!$B$11+M10*Emissionsfaktorer!$B$12)","v":{"$error":"#REF!"}}]
[null,null,{"$f":"-($AE$11+$H$11+$I$11)/$T$11*#REF!","v":{"$error":"#REF!"}},{"$f":"-($AE$11+$H$11+$I$11)/$T$11*#REF!","v":{"$error":"#REF!"}},{"$f":"-($AE$11+$H$11+$I$11)/$T$11*#REF!","v":{"$error":"#REF!"}},{"$f":"-($AE$11+$H$11+$I$11)/$T$11*#REF!","v":{"$error":"#REF!"}},{"$f":"-($AE$11+$H$11+$I$11)/$T$11*#REF!","v":{"$error":"#REF!"}},null,{"$f":"AE11*#REF!*-1","v":{"$error":"#REF!"}},{"$f":"-($AE$11+$H$11+$I$11)/$T$11*#REF!","v":{"$error":"#REF!"}},{"$f":"AE11*#REF!*-1","v":{"$error":"#REF!"}},null,null,{"$error":"#REF!"},"Heat Plants","ESHP","ES",null,{"$error":"#REF!"},{"$f":"#REF!","v":{"$error":"#REF!"}},null,null,null,null,null,null,null,null,null,null,{"$f":"AE8*#REF!","v":{"$error":"#REF!"}},null,{"$f":"-(S11+N11)","v":{"$error":"#REF!"}},{"$f":"-(C11*Emissionsfaktorer!$B$2+D11*Emissionsfaktorer!$B$3+E11*Emissionsfaktorer!$B$4+F11*Emissionsfaktorer!$B$5+G11*Emissionsfaktorer!$B$6+H11*Emissionsfaktorer!$B$7+I11*Emissionsfaktorer!$B$8+J11*Emissionsfaktorer!$B$9+K11*Emissionsfaktorer!$B$10+L11*Emissionsfaktorer!$B$11+M11*Emissionsfaktorer!$B$12)","v":{"$error":"#REF!"}}]
[null,null,null,{"$f":"-X12/T12*#REF!","v":{"$error":"#REF!"}},null,null,null,null,null,{"$f":"-X12/T12*#REF!","v":{"$error":"#REF!"}},null,null,null,{"$error":"#REF!"},"Oil refineries","ESOR","ES",null,{"$error":"#REF!"},{"$f":"#REF!","v":{"$error":"#REF!"}},null,null,null,{"$f":"-(E9+E10+E11+E13+E14)","v":{"$error":"#REF!"}},null,null,null,null,null,null,null,null,{"$f":"-(S12+N12)","v":{"$error":"#REF!"}},{"$f":"J12*Emissionsfaktorer!B4","v":{"$error":"#REF!"}}]
[null,null,{"$f":"N13*#REF!","v":{"$error":"#REF!"}},{"$f":"N13*#REF!","v":{"$error":"#REF!"}},{"$f":"N13*#REF!","v":{"$error":"#REF!"}},{"$f":"N13*#REF!","v":{"$error":"#REF!"}},null,null,null,{"$f":"N13*#REF!","v":{"$error":"#REF!"}},{"$f":"N13*#REF!","v":{"$error":"#REF!"}},{"$f":"N13*#REF!","v":{"$error":"#REF!"}},null,{"$f":"N16*#REF!","v":{"$error":"#REF!"}},"Energy Industry one use","ESNSP","ES",null,0,0,null,null,null,null,null,null,null,null,null,null,null,null,{"$f":"-(S13+N13)","v":{"$error":"#REF!"}},{"$f":"-(C13*Emissionsfaktorer!$B$2+D13*Emissionsfaktorer!$B$3+E13*Emissionsfaktorer!$B$4+F13*Emissionsfaktorer!$B$5+G13*Emissionsfaktorer!$B$6+H13*Emissionsfaktorer!$B$7+I13*Emissionsfaktorer!$B$8+J13*Emissionsfaktorer!$B$9+K13*Emissionsfaktorer!$B$10+L13*Emissionsfaktorer!$B$11+M13*Emissionsfaktorer!$B$12)","v":{"$error":"#REF!"}}]
[null,null,null,null,{"$f":"-X14*1","v":{"$error":"#REF!"}},null,null,null,null,null,{"$f":"-AD14*(1+#REF!)","v":{"$error":"#REF!"}},{"$f":"-AE14*(1+#REF!)","v":{"$error":"#REF!"}},null,{"$error":"#REF!"},"Transport electricity, district heating and oil products","TRAS",null,null,{"$error":"#REF!"},null,null,null,null,{"$f":"-E16","v":{"$error":"#REF!"}},null,null,null,null,null,{"$f":"-K16","v":{"$error":"#REF!"}},{"$f":"-L16","v":{"$error":"#REF!"}},null,{"$f":"-(N14+S14)","v":{"$error":"#REF!"}}]
[null,null,null,null,null,null,null,null,null,null,null,null,null,0,"Entry Off-Grid RE","ELP2",null,null,{"$error":"#REF!"},null,null,null,null,null,null,null,null,{"$f":"I16*-1","v":{"$error":"#REF!"}}]
[null,null,{"$f":"SUM(C17:C19)","v":{"$error":"#REF!"}},{"$error":"#REF!"},{"$error":"#REF!"},{"$error":"#REF!"},0,0,{"$error":"#REF!"},{"$error":"#REF!"},{"$error":"#REF!"},{"$error":"#REF!"},0,{"$f":"#REF!","v":{"$error":"#REF!"}},"Exit energy","EX",null,null,{"$error":"#REF!"},null,null,null,null,null,null,null,null,null,null,null,null,{"$f":"SUM(AF17:AF19)","v":{"$error":"#REF!"}},{"$f":"SUM(AG17:AG19)","v":{"$error":"#REF!"}},{"$f":"SUM(AH17:AH19)","v":{"$error":"#REF!"}}]
[null,null,{"$f":"AF17*#REF!/T17*#REF!/#REF!*-1","v":{"$error":"#REF!"}},{"$f":"AF17*#REF!/T17*#REF!/#REF!*-1","v":{"$error":"#REF!"}},{"$f":"AF17*#REF!/T17*#REF!/#REF!*-1","v":{"$error":"#REF!"}},{"$f":"AF17*#REF!/T17*#REF!/#REF!*-1","v":{"$error":"#REF!"}},null,null,{"$f":"AF17*#REF!/T17*#REF!/#REF!*-1","v":{"$error":"#REF!"}},{"$f":"AF17*#REF!*#REF!/T17/#REF!*-1","v":{"$error":"#REF!"}},{"$f":"AF17*#REF!*#REF!/T17/#REF!*-1","v":{"$error":"#REF!"}},{"$f":"AF17*#REF!*#REF!/T17/#REF!*-1","v":{"$error":"#REF!"}},null,{"$f":"SUM(C17:L17)","v":{"$error":"#REF!"}},"Industry","EXI","EX",null,{"$error":"#REF!"},{"$f":"(#REF!+#REF!+#REF!+#REF!+#REF!)*#REF!+(#REF!+#REF!)*#REF!+#REF!*#REF!","v":{"$error":"#REF!"}},null,null,null,null,null,null,null,null,null,null,null,{"$f":"#REF!*#REF!*((#REF!+#REF!+#REF!+#REF!+#REF!)*#REF!+(#REF!+#REF!)*#REF!+#REF!*#REF!)*-1","v":{"$error":"#REF!"}},{"$f":"(S17+SUM(C17:M17))*-1","v":{"$error":"#REF!"}},{"$f":"-(C17*Emissionsfaktorer!$B$2+D17*Emissionsfaktorer!$B$3+E17*Emissionsfaktorer!$B$4+F17*Emissionsfaktorer!$B$5+G17*Emissionsfaktorer!$B$6+H17*Emissionsfaktorer!$B$7+I17*Emissionsfaktorer!$B$8+J17*Emissionsfaktorer!$B$9+K17*Emissionsfaktorer!$B$10+L17*Emissionsfaktorer!$B$11+M17*Emissionsfaktorer!$B$12)","v":{"$error":"#REF!"}}]
[null,null,{"$f":"AF18*#REF!/T18*#REF!/#REF!*-1","v":{"$error":"#REF!"}},null,{"$f":"AF18*#REF!/T18*#REF!/#REF!*-1","v":{"$error":"#REF!"}},{"$f":"AF18*#REF!/T18*#REF!/#REF!*-1","v":{"$error":"#REF!"}},null,null,{"$f":"AF18*#REF!/T18*#REF!/#REF!*-1","v":{"$error":"#REF!"}},{"$f":"AF18*#REF!/T18*#REF!/#REF!*-1","v":{"$error":"#REF!"}},{"$f":"AF18*#REF!/T18*#REF!/#REF!*-1","v":{"$error":"#REF!"}},{"$f":"AF18*#REF!/T18*#REF!/#REF!*-1","v":{"$error":"#REF!"}},null,{"$f":"SUM(C18:L18)","v":{"$error":"#REF!"}},"Transport","EXT","EX",null,{"$error":"#REF!"},{"$f":"(#REF!+#REF!+#REF!+#REF!)*#REF!+(#REF!+#REF!)*#REF!+#REF!*#REF!","v":{"$error":"#REF!"}},null,null,null,null,null,null,null,null,null,null,null,{"$f":"#REF!*#REF!*-1*((#REF!+#REF!+#REF!+#REF!)*#REF!+(#REF!+#REF!)*#REF!+#REF!*#REF!)","v":{"$error":"#REF!"}},{"$f":"(S18+SUM(C18:M18))*-1","v":{"$error":"#REF!"}},{"$f":"-(C18*Emissionsfaktorer!$B$2+D18*Emissionsfaktorer!$B$3+E18*Emissionsfaktorer!$B$4+F18*Emissionsfaktorer!$B$5+G18*Emissionsfaktorer!$B$6+H18*Emissionsfaktorer!$B$7+I18*Emissionsfaktorer!$B$8+J18*Emissionsfaktorer!$B$9+K18*Emissionsfaktorer!$B$10+L18*Emissionsfaktorer!$B$11+M18*Emissionsfaktorer!$B$12)","v":{"$error":"#REF!"}}]
[null,null,{"$f":"SUM(C20:C24)","v":{"$error":"#REF!"}},{"$f":"SUM(D20:D24)","v":0},{"$error":"#REF!"},{"$error":"#REF!"},0,0,{"$error":"#REF!"},{"$error":"#REF!"},{"$error":"#REF!"},{"$error":"#REF!"},0,{"$f":"SUM(N20:N24)","v":{"$error":"#REF!"}},"Other ","EXO","EX",null,{"$error":"#REF!"},0.8,null,{"$f":"SUM(V20:V24)","v":0},{"$f":"SUM(W20:W24)","v":0},0,0,0,0,0,0,0,0,{"$error":"#REF!"},{"$error":"#REF!"},{"$error":"#REF!"}]
[null,null,{"$f":"AF20*#REF!/T20*#REF!/#REF!*-1","v":{"$error":"#REF!"}},null,{"$f":"AF20*#REF!/T20*#REF!/#REF!*-1","v":{"$error":"#REF!"}},{"$f":"AF20*#REF!/T20*#REF!/#REF!*-1","v":{"$error":"#REF!"}},null,null,{"$f":"AF20*#REF!/T20*#REF!/#REF!*-1","v":{"$error":"#REF!"}},{"$f":"AF20*#REF!/T20*#REF!/#REF!*-1","v":{"$error":"#REF!"}},{"$f":"AF20*#REF!/T20*#REF!/#REF!*-1","v":{"$error":"#REF!"}},{"$f":"AF20*#REF!/T20*#REF!/#REF!*-1","v":{"$error":"#REF!"}},null,{"$f":"SUM(C20:L20)","v":{"$error":"#REF!"}},"Residential","EXOR","EXO",null,{"$error":"#REF!"},{"$f":"(#REF!+#REF!+#REF!+#REF!)*#REF!+(#REF!+#REF!)*#REF!+#REF!*#REF!","v":{"$error":"#REF!"}},null,null,null,null,null,null,null,null,null,null,null,{"$f":"#REF!*#REF!*((#REF!+#REF!+#REF!+#REF!)*#REF!+(#REF!+#REF!)*#REF!+#REF!*#REF!)*-1","v":{"$error":"#REF!"}},{"$f":"(N20+AF20)*-1","v":{"$error":"#REF!"}},{"$f":"-(C20*Emissionsfaktorer!$B$2+D20*Emissionsfaktorer!$B$3+E20*Emissionsfaktorer!$B$4+F20*Emissionsfaktorer!$B$5+G20*Emissionsfaktorer!$B$6+H20*Emissionsfaktorer!$B$7+I20*Emissionsfaktorer!$B$8+J20*Emissionsfaktorer!$B$9+K20*Emissionsfaktorer!$B$10+L20*Emissionsfaktorer!$B$11+M20*Emissionsfaktorer!$B$12)","v":{"$error":"#REF!"}}]
[null,null,{"$f":"AF21*#REF!/T21*#REF!/#REF!*-1","v":{"$error":"#REF!"}},null,{"$f":"AF21*#REF!/T21*#REF!/#REF!*-1","v":{"$error":"#REF!"}},{"$f":"AF21*#REF!/T21*#REF!/#REF!*-1","v":{"$error":"#REF!"}},null,null,{"$f":"AF21*#REF!/T21*#REF!/#REF!*-1","v":{"$error":"#REF!"}},{"$f":"AF21*#REF!/T21*#REF!/#REF!*-1","v":{"$error":"#REF!"}},{"$f":"AF21*#REF!/T21*#REF!/#REF!*-1","v":{"$error":"#REF!"}},{"$f":"AF21*#REF!/T21*#REF!/#REF!*-1","v":{"$error":"#REF!"}},null,{"$f":"SUM(C21:L21)","v":{"$error":"#REF!"}},"Commercial and public services","EXOC","EXO",null,{"$error":"#REF!"},{"$f":"(#REF!+#REF!+#REF!+#REF!)*#REF!+(#REF!+#REF!)*#REF!+#REF!*#REF!","v":{"$error":"#REF!"}},null,null,null,null,null,null,null,null,null,null,null,{"$f":"#REF!*#REF!*((#REF!+#REF!+#REF!+#REF!)*#REF!+(#REF!+#REF!)*#REF!+#REF!*#REF!)*-1","v":{"$error":"#REF!"}},{"$f":"(N21+AF21)*-1","v":{"$error":"#REF!"}},{"$f":"-(C21*Emissionsfaktorer!$B$2+D21*Emissionsfaktorer!$B$3+E21*Emissionsfaktorer!$B$4+F21*Emissionsfaktorer!$B$5+G21*Emissionsfaktorer!$B$6+H21*Emissionsfaktorer!$B$7+I21*Emissionsfaktorer!$B$8+J21*Emissionsfaktorer!$B$9+K21*Emissionsfaktorer!$B$10+L21*Emissionsfaktorer!$B$11+M21*Emissionsfaktorer!$B$12)","v":{"$error":"#REF!"}}]
[null,null,{"$f":"AF22*#REF!/T22*#REF!/#REF!*-1","v":{"$error":"#REF!"}},null,{"$f":"AF22*#REF!/T22*#REF!/#REF!*-1","v":{"$error":"#REF!"}},{"$f":"AF22*#REF!/T22*#REF!/#REF!*-1","v":{"$error":"#REF!"}},null,null,{"$f":"AF22*#REF!/T22*#REF!/#REF!*-1","v":{"$error":"#REF!"}},{"$f":"AF22*#REF!/T22*#REF!/#REF!*-1","v":{"$error":"#REF!"}},{"$f":"AF22*#REF!/T22*#REF!/#REF!*-1","v":{"$error":"#REF!"}},{"$f":"AF22*#REF!/T22*#REF!/#REF!*-1","v":{"$error":"#REF!"}},null,{"$f":"SUM(C22:L22)","v":{"$error":"#REF!"}},"Agriculture / forestry","EXOA","EXO",null,{"$error":"#REF!"},{"$f":"(#REF!+#REF!+#REF!+#REF!)*#REF!+(#REF!+#REF!)*#REF!+#REF!*#REF!","v":{"$error":"#REF!"}},null,null,null,null,null,null,null,null,null,null,null,{"$f":"((#REF!+#REF!+#REF!+#REF!)*#REF!+(#REF!+#REF!)*#REF!+#REF!*#REF!)*#REF!*#REF!*-1","v":{"$error":"#REF!"}},{"$f":"(N22+AF22)*-1","v":{"$error":"#REF!"}},{"$f":"-(C22*Emissionsfaktorer!$B$2+D22*Emissionsfaktorer!$B$3+E22*Emissionsfaktorer!$B$4+F22*Emissionsfaktorer!$B$5+G22*Emissionsfaktorer!$B$6+H22*Emissionsfaktorer!$B$7+I22*Emissionsfaktorer!$B$8+J22*Emissionsfaktorer!$B$9+K22*Emissionsfaktorer!$B$10+L22*Emissionsfaktorer!$B$11+M22*Emissionsfaktorer!$B$12)","v":{"$error":"#REF!"}}]
[null,null,{"$f":"AF23*#REF!/T23*#REF!/#REF!*-1","v":{"$error":"#REF!"}},null,{"$f":"AF23*#REF!/T23*#REF!/#REF!*-1","v":{"$error":"#REF!"}},{"$f":"AF23*#REF!/T23*#REF!/#REF!*-1","v":{"$error":"#REF!"}},null,null,{"$f":"AF23*#REF!/T23*#REF!/#REF!*-1","v":{"$error":"#REF!"}},{"$f":"AF23*#REF!/T23*#REF!/#REF!*-1","v":{"$error":"#REF!"}},{"$f":"AF23*#REF!/T23*#REF!/#REF!*-1","v":{"$error":"#REF!"}},{"$f":"AF23*#REF!/T23*#REF!/#REF!*-1","v":{"$error":"#REF!"}},null,{"$f":"SUM(C23:L23)","v":{"$error":"#REF!"}},"Fishing","EXOF","EXO",null,{"$error":"#REF!"},{"$f":"(#REF!+#REF!+#REF!+#REF!)*#REF!+(#REF!+#REF!)*#REF!+#REF!*#REF!","v":{"$error":"#REF!"}},null,null,null,null,null,null,null,null,null,null,null,{"$f":"((#REF!+#REF!+#REF!+#REF!)*#REF!+(#REF!+#REF!)*#REF!+#REF!*#REF!)*#REF!*#REF!*-1","v":{"$error":"#REF!"}},{"$f":"(N23+AF23)*-1","v":{"$error":"#REF!"}},{"$f":"-(C23*Emissionsfaktorer!$B$2+D23*Emissionsfaktorer!$B$3+E23*Emissionsfaktorer!$B$4+F23*Emissionsfaktorer!$B$5+G23*Emissionsfaktorer!$B$6+H23*Emissionsfaktorer!$B$7+I23*Emissionsfaktorer!$B$8+J23*Emissionsfaktorer!$B$9+K23*Emissionsfaktorer!$B$10+L23*Emissionsfaktorer!$B$11+M23*Emissionsfaktorer!$B$12)","v":{"$error":"#REF!"}}]
[null,null,{"$f":"AF24*#REF!/T24*#REF!/#REF!*-1","v":{"$error":"#REF!"}},null,{"$f":"AF24*#REF!/T24*#REF!/#REF!*-1","v":{"$error":"#REF!"}},{"$f":"AF24*#REF!/T24*#REF!/#REF!*-1","v":{"$error":"#REF!"}},null,null,{"$f":"AF24*#REF!/T24*#REF!/#REF!*-1","v":{"$error":"#REF!"}},{"$f":"AF24*#REF!/T24*#REF!/#REF!*-1","v":{"$error":"#REF!"}},{"$f":"AF24*#REF!/T24*#REF!/#REF!*-1","v":{"$error":"#REF!"}},{"$f":"AF24*#REF!/T24*#REF!/#REF!*-1","v":{"$error":"#REF!"}},null,{"$f":"SUM(C24:L24)","v":{"$error":"#REF!"}},"Non-specified","EXON","EXO",null,{"$error":"#REF!"},{"$f":"(#REF!+#REF!+#REF!+#REF!)*#REF!+(#REF!+#REF!)*#REF!+#REF!*#REF!","v":{"$error":"#REF!"}},null,null,null,null,null,null,null,null,null,null,null,{"$f":"((#REF!+#REF!+#REF!+#REF!)*#REF!+(#REF!+#REF!)*#REF!+#REF!*#REF!)*#REF!*#REF!*-1","v":{"$error":"#REF!"}},{"$f":"(N24+AF24)*-1","v":{"$error":"#REF!"}},{"$f":"-(C24*Emissionsfaktorer!$B$2+D24*Emissionsfaktorer!$B$3+E24*Emissionsfaktorer!$B$4+F24*Emissionsfaktorer!$B$5+G24*Emissionsfaktorer!$B$6+H24*Emissionsfaktorer!$B$7+I24*Emissionsfaktorer!$B$8+J24*Emissionsfaktorer!$B$9+K24*Emissionsfaktorer!$B$10+L24*Emissionsfaktorer!$B$11+M24*Emissionsfaktorer!$B$12)","v":{"$error":"#REF!"}}]
[null,null,null,null,null,null,null,null,null,null,null,null,null,{"$f":"N16","v":{"$error":"#REF!"}},"Energy Services","EN",null,null,{"$error":"#REF!"},{"$f":"AF25/N25*-1","v":{"$error":"#REF!"}},null,null,null,null,null,null,null,null,null,null,null,{"$f":"AF16","v":{"$error":"#REF!"}},{"$f":"-(S25+N25)","v":{"$error":"#REF!"}}]

{"sheet":"OECD Asia Oceania 1995","index":110,"n_rows":32,"n_cols":12,"rows_kept":32,"cut":false,"hidden":true,"merged":[]}
[null,"Coal*","Crude oil","Oil products","Natural gas","Nuclear","Hydro","Geothermal, solar, etc.","Biofuels and waste","Electricity","Heat","Total**"]
[null,"ktoe","ktoe","ktoe","ktoe","ktoe","ktoe","ktoe","ktoe","ktoe","ktoe","ktoe"]
["Production",136016,31015,null,30892,93354,10746,6068,10600,null,null,318692]
["Imports",115550,353767,85319,59468,null,null,null,73,null,null,614177]
["Exports",-92044,-11450,-29616,-8256,null,null,null,null,-79,null,-141445]
["International marine bunkers",null,null,-13750,null,null,null,null,null,null,null,-13750]
["International aviation bunkers",null,null,-9492,null,null,null,null,null,null,null,-9492]
["Stock changes",-6337,-1871,900,-29,null,null,null,null,null,null,-7336]
["TES",153185,371461,33361,82076,93354,10746,6068,10673,-79,null,760846]
["Transfers",null,-3436,3793,null,null,null,null,null,null,null,358]
["Statistical differences",1671,-29,-4000,309,null,null,null,43,-247,null,-2253]
["Electricity plants",-82051,-15422,-41459,-45219,-93354,-10746,-4018,-2196,118200,-38,-176302]
["CHP plants",-2647,null,-58,-2291,null,null,-77,-721,1926,527,-3342]
["Heat plants",-15,null,-467,-239,null,null,null,-18,-61,728,-71]
["Gas works",-50,null,-3623,3844,null,null,null,-1,null,null,171]
["Oil refineries",null,-359129,361665,null,null,null,null,null,null,null,2535]
["Coal transformation",-27016,null,-579,-229,null,null,null,null,null,null,-27824]
["Liquefication plants",null,290,null,-333,null,null,null,null,null,null,-43]
["Other transformation",null,7382,-7560,null,null,null,null,-32,null,null,-210]
["Energy industry own use",-5639,-35,-18011,-3365,null,null,null,null,-7346,-52,-34447]
["Losses",-111,null,null,-5,null,null,null,null,-5906,-20,-6042]
["Total final consumption",37328,1082,323061,34549,null,null,1973,7748,106488,1145,513375]
["Industry",34212,39,59487,14603,null,null,121,5351,50665,null,164478]
["Transport",90,null,138126,222,null,null,null,null,1927,null,140365]
["Residential",1470,null,19514,13613,null,null,1538,2190,27211,565,66102]
["Commercial and public services",143,null,36224,4695,null,null,217,177,25458,372,67287]
["Agriculture / forestry",23,null,7849,45,null,null,97,null,924,null,8937]
["Fishing",null,null,2202,2,null,null,null,null,41,null,2245]
["Non-specified",null,null,3436,null,null,null,null,29,262,208,3936]
["Non-energy use",1390,1043,56223,1369,null,null,null,null,null,null,60025]
[]
[null,{"$f":"SUM(B9,B10:B21,B22*-1)","v":-1},{"$f":"SUM(C9,C10:C21,C22*-1)","v":0},1,-1,0,0,0,0,-1,0,1]

{"sheet":"OECD Asia Oceania 2000","index":111,"n_rows":32,"n_cols":12,"rows_kept":32,"cut":false,"hidden":true,"merged":[]}
[null,"Coal*","Crude oil","Oil products","Natural gas","Nuclear","Hydro","Geothermal, solar, etc.","Biofuels and waste","Electricity","Heat","Total**"]
[null,"ktoe","ktoe","ktoe","ktoe","ktoe","ktoe","ktoe","ktoe","ktoe","ktoe","ktoe"]
["Production",171853,37165,null,35890,112305,11082,6690,12836,null,null,387821]
["Imports",142638,385689,87258,80536,null,null,null,139,null,null,696260]
["Exports",-124409,-20727,-52449,-9265,null,null,null,null,-125,null,-206975]
["International marine bunkers",null,null,-16190,null,null,null,null,null,null,null,-16190]
["International aviation bunkers",null,null,-10997,null,null,null,null,null,null,null,-10997]
["Stock changes",4603,-2101,-2454,-181,null,null,null,null,null,null,-133]
["TES",194685,400026,5168,106980,112305,11082,6690,12975,-125,null,849785]
["Transfers",null,-2152,5476,null,null,null,null,null,null,null,3324]
["Statistical differences",-3261,-4316,-4282,553,null,null,null,56,2139,null,-9111]
["Electricity plants",-118942,-7241,-29806,-56338,-112305,-11082,-4671,-2169,137415,-38,-205178]
["CHP plants",-2777,null,-2277,-2946,null,null,-68,-835,3199,3121,-2583]
["Heat plants",-16,null,-454,-312,null,null,null,-104,-94,811,-169]
["Gas works",-135,null,-2874,3175,null,null,null,-1,null,null,165]
["Oil refineries",null,-396691,393964,null,null,null,null,null,null,null,-2727]
["Coal transformation",-29122,null,-792,-111,null,null,null,null,null,null,-30024]
["Liquefication plants"]
["Other transformation",null,11868,-11960,null,null,null,null,-26,null,null,-118]
["Energy industry own use",-5752,-20,-19135,-4329,null,null,null,null,-8384,-6,-37627]
["Losses",-6,null,null,-16,null,null,null,null,-6781,-54,-6857]
["Total final consumption",34674,1473,333028,46657,null,null,1951,9895,127369,3833,558880]
["Industry",33126,25,53012,18632,null,null,129,6946,57631,2125,171627]
["Transport",91,null,147031,329,null,null,null,null,1979,null,149430]
["Residential",609,null,22495,17938,null,null,1511,2118,30856,1102,76628]
["Commercial and public services",90,null,32222,7835,null,null,209,271,35340,606,76572]
["Agriculture / forestry",13,null,8635,57,null,null,103,null,1181,null,9989]
["Fishing",null,null,2103,1,null,null,null,null,38,null,2142]
["Non-specified",null,null,1974,null,null,null,null,560,345,null,2879]
["Non-energy use",744,1448,65556,1865,null,null,null,null,null,null,69613]
[]
[null,{"$f":"SUM(B9,B10:B21,B22*-1)","v":0},{"$f":"SUM(C9,C10:C21,C22*-1)","v":1},0,-1,0,0,0,1,0,1,0]

{"sheet":"OECD Asia Oceania 2005","index":112,"n_rows":32,"n_cols":12,"rows_kept":32,"cut":false,"hidden":true,"merged":[]}
[null,"Coal*","Crude oil","Oil products","Natural gas","Nuclear","Hydro","Geothermal, solar, etc.","Biofuels and waste","Electricity","Heat","Total**"]
[null,"ktoe","ktoe","ktoe","ktoe","ktoe","ktoe","ktoe","ktoe","ktoe","ktoe","ktoe"]
["Production",206681,28043,null,39229,117651,10255,6775,16652,null,12,425298]
["Imports",166599,370432,86851,93973,null,null,null,158,null,null,718013]
["Exports",-153836,-13829,-52395,-12383,null,null,null,null,-143,null,-232585]
["International marine bunkers",null,null,-18032,null,null,null,null,null,null,null,-18032]
["International aviation bunkers",null,null,-14207,null,null,null,null,null,null,null,-14207]
["Stock changes",1306,289,644,719,null,null,null,null,null,null,2959]
["TES",220750,384936,2861,121538,117651,10255,6775,16810,-143,12,881445]
["Transfers",null,-3135,7716,null,null,null,null,null,null,null,4581]
["Statistical differences",-69,3300,-6463,2044,null,null,null,-160,3342,null,1994]
["Electricity plants",-145487,-8208,-27305,-59865,-117651,-10255,-4933,-3468,150896,-58,-226334]
["CHP plants",-5746,null,-2070,-4725,null,null,-89,-1766,4489,4120,-5787]
["Heat plants",-15,null,-698,-508,null,null,null,-196,-99,1120,-395]
["Gas works",67,null,-1759,1847,null,null,null,-1,null,null,154]
["Oil refineries",null,-388667,387306,null,null,null,null,null,null,null,-1360]
["Coal transformation",-29810,null,-492,-57,null,null,null,null,null,null,-30359]
["Liquefication plants"]
["Other transformation",null,12920,-13021,null,null,null,null,-19,null,null,-120]
["Energy industry own use",-4735,-58,-19752,-4272,null,null,null,null,-9245,-9,-38070]
["Losses",-6,null,null,-16,null,null,null,null,-7182,-89,-7294]
["Total final consumption",34949,1089,326324,55986,null,null,1753,11201,142058,5096,578455]
["Industry",32543,43,43722,22785,null,null,137,7246,59539,2845,168860]
["Transport",184,null,149008,774,null,null,null,30,2152,null,152147]
["Residential",994,null,20829,20649,null,null,1426,1667,35122,1481,82169]
["Commercial and public services",126,null,28603,10383,null,null,160,1294,43650,770,84985]
["Agriculture / forestry",28,null,7561,71,null,null,22,null,1158,null,8840]
["Fishing",null,null,3174,1,null,null,5,null,185,null,3366]
["Non-specified",null,null,1748,null,null,null,2,965,252,null,2968]
["Non-energy use",1075,1046,71678,1322,null,null,null,null,null,null,75121]
[]
[null,{"$f":"SUM(B9,B10:B21,B22*-1)","v":0},{"$f":"SUM(C9,C10:C21,C22*-1)","v":-1},-1,0,0,0,0,-1,0,0,0]

{"sheet":"OECD Asia Oceania 2010","index":113,"n_rows":32,"n_cols":12,"rows_kept":32,"cut":false,"hidden":true,"merged":[]}
[null,"Coal*","Crude oil","Oil products","Natural gas","Nuclear","Hydro","Geothermal, solar, etc.","Biofuels and waste","Electricity","Heat","Total**"]
[null,"ktoe","ktoe","ktoe","ktoe","ktoe","ktoe","ktoe","ktoe","ktoe","ktoe","ktoe"]
["Production",251257,29679,null,54702,113819,10812,9331,20877,null,91,490568]
["Imports",195720,346255,98386,127496,null,null,null,364,null,null,768221]
["Exports",-192570,-18084,-69054,-20923,null,null,null,null,-341,null,-300973]
["International marine bunkers",null,null,-14936,null,null,null,null,null,null,null,-14936]
["International aviation bunkers",null,null,-14513,null,null,null,null,null,null,null,-14513]
["Stock changes",-6348,-1285,-275,-1248,null,null,null,null,null,null,-9155]
["TES",248059,356565,-392,160028,113819,10812,9331,21241,-341,91,919213]
["Transfers",null,-3756,7946,null,null,null,null,null,null,null,4191]
["Statistical differences",-4300,-2042,-6689,-12,null,null,null,-140,-1660,-73,-14917]
["Electricity plants",-163655,-4132,-20575,-84673,-113819,-10812,-7069,-6234,168269,-75,-242774]
["CHP plants",-5952,null,-1767,-6595,null,null,-71,-866,5145,3960,-6147]
["Heat plants",null,null,-385,-498,null,null,null,-484,-99,1159,-308]
["Gas works",9,null,-1705,1932,null,null,null,null,null,null,236]
["Oil refineries",null,-359013,358968,null,null,null,null,null,null,null,-44]
["Coal transformation",-31384,null,-534,null,null,null,null,-2,null,null,-31919]
["Liquefication plants"]
["Other transformation",null,13026,-13058,null,null,null,null,-14,null,null,-47]
["Energy industry own use",-7252,-102,-19014,-6458,null,null,null,null,-10535,-95,-43458]
["Losses",-7,null,null,-15,null,null,null,null,-7414,-52,-7488]
["Total final consumption",35517,546,302795,63708,null,null,2191,13499,153365,4915,576537]
["Industry",32748,41,33602,26033,null,null,139,8713,61582,2338,165195]
["Transport",95,null,144327,1424,null,null,null,703,2078,null,148626]
["Residential",871,null,18982,21347,null,null,1847,1536,38632,1789,85005]
["Commercial and public services",282,null,17122,13240,null,null,169,1769,49098,788,82469]
["Agriculture / forestry",44,null,6802,39,null,null,32,null,1456,null,8373]
["Fishing",null,null,2686,1,null,null,3,null,216,null,2906]
["Non-specified",null,null,1718,null,null,null,1,778,302,null,2800]
["Non-energy use",1477,505,77556,1625,null,null,null,null,null,null,81164]
[]
[null,{"$f":"SUM(B9,B10:B21,B22*-1)","v":1},{"$f":"SUM(C9,C10:C21,C22*-1)","v":0},0,1,0,0,0,2,0,0,1]

{"sheet":"OECD Asia Oceania 2015","index":114,"n_rows":32,"n_cols":12,"rows_kept":32,"cut":false,"hidden":true,"merged":[]}
[null,"Coal*","Crude oil","Oil products","Natural gas","Nuclear","Hydro","Geothermal, solar, etc.","Biofuels and waste","Electricity","Heat","Total**"]
[null,"ktoe","ktoe","ktoe","ktoe","ktoe","ktoe","ktoe","ktoe","ktoe","ktoe","ktoe"]
["Production",302071,21451,null,70696,45389,10932,14250,24630,null,64,489484]
["Imports",206976,349419,109471,141190,null,null,null,757,null,null,807813]
["Exports",-255527,-14977,-89221,-29363,null,null,null,null,-447,null,-389535]
["International marine bunkers",null,null,-14874,null,null,null,null,null,null,null,-14874]
["International aviation bunkers",null,null,-16497,null,null,null,null,null,null,null,-16497]
["Stock changes",-2717,-28,242,277,null,null,null,16,null,null,-2210]
["TES",250804,355866,-10879,182800,45389,10932,14250,25402,-447,64,874182]
["Transfers",null,-4041,8353,null,null,null,null,null,null,null,4312]
["Statistical differences",-949,1877,-1470,-970,null,null,null,-230,-1328,-354,-3424]
["Electricity plants",-167334,-4901,-18379,-101982,-45389,-10932,-12674,-7851,163220,-63,-206284]
["CHP plants",-7623,null,-2013,-7726,null,null,-75,-872,5601,4342,-8366]
["Heat plants",null,null,-122,-349,null,null,null,-474,-86,1039,8]
["Gas works",1,null,-1282,1475,null,null,null,-2,null,null,191]
["Oil refineries",null,-362815,361679,null,null,null,null,null,null,null,-1136]
["Coal transformation",-31980,null,-473,null,null,null,null,-114,null,null,-32567]
["Liquefication plants"]
["Other transformation",null,14380,-13998,-179,null,null,null,-12,null,null,191]
["Energy industry own use",-7466,-58,-19530,-6672,null,null,null,null,-9884,-95,-43705]
["Losses",-6,null,null,-18,null,null,null,null,-6616,-60,-6700]
["Total final consumption",35447,309,301886,66379,null,null,1501,15847,150460,4873,576703]
["Industry",33115,40,28490,27544,null,null,121,9856,61096,2571,162833]
["Transport",2,null,144754,1551,null,null,null,1012,2199,null,149517]
["Residential",665,null,15732,20411,null,null,1080,1468,36198,1576,77130]
["Commercial and public services",221,null,15158,13994,null,null,243,2804,48377,726,81521]
["Agriculture / forestry",47,null,5981,67,null,null,47,65,1921,null,8129]
["Fishing",null,null,2367,null,null,null,3,null,289,null,2659]
["Non-specified",null,null,1640,67,null,null,7,641,381,null,2736]
["Non-energy use",1399,269,87763,2746,null,null,null,null,null,null,92177]
[]
[null,{"$f":"SUM(B9,B10:B21,B22*-1)","v":0},{"$f":"SUM(C9,C10:C21,C22*-1)","v":-1},0,0,0,0,0,0,0,0,-1]

{"sheet":"OECD Asia Oceania 2018","index":115,"n_rows":32,"n_cols":12,"rows_kept":32,"cut":false,"hidden":true,"merged":[]}
[null,"Coal*","Crude oil","Oil products","Natural gas","Nuclear","Hydro","Geothermal, solar, etc.","Biofuels and waste","Electricity","Heat","Total**"]
[null,"ktoe","ktoe","ktoe","ktoe","ktoe","ktoe","ktoe","ktoe","ktoe","ktoe","ktoe"]
["Production",290561,16386,null,114807,51704,10872,18277,28042,null,52,530701]
["Imports",199766,342903,120355,148473,null,null,null,1402,null,null,812899]
["Exports",-248706,-12686,-96587,-72654,null,null,null,null,-504,null,-431137]
["International marine bunkers",null,null,-15183,null,null,null,null,null,null,null,-15183]
["International aviation bunkers",null,null,-19804,null,null,null,null,null,null,null,-19804]
["Stock changes",2257,2082,-1112,-1628,null,null,null,2,null,null,1601]
["TES",243878,348686,-12331,188998,51704,10872,18277,29446,-504,52,879077]
["Transfers",null,2568,1159,null,null,null,null,null,null,null,3726]
["Statistical differences",1568,1131,-4279,-19,null,null,null,-282,-762,-294,-2936]
["Electricity plants",-165571,-505,-12872,-99741,-51704,-10872,-16615,-11307,164738,-61,-204510]
["CHP plants",-6504,null,-1654,-12805,null,null,-76,-1366,8147,5405,-8853]
["Heat plants",null,null,-224,-396,null,null,null,-556,-86,1159,-103]
["Gas works",1,null,-1616,1659,null,null,null,-3,null,null,41]
["Oil refineries",null,-368891,365180,null,null,null,null,null,null,null,-3711]
["Coal transformation",-32001,null,-451,null,null,null,null,-108,null,null,-32560]
["Liquefication plants"]
["Other transformation",null,17211,-16373,-178,null,null,null,-12,null,null,647]
["Energy industry own use",-7068,-89,-17509,-9403,null,null,null,-146,-10858,-118,-45191]
["Losses",-7,null,null,-13,null,null,null,null,-7057,-60,-7138]
["Total final consumption",34297,111,299030,68100,null,null,1586,15666,153618,6082,578491]
["Industry",32204,38,25502,27538,null,null,116,10136,62504,3162,161201]
["Transport",1,null,145927,1671,null,null,null,1193,2274,null,151066]
["Residential",466,null,14976,21854,null,null,1100,1488,36002,2075,77962]
["Commercial and public services",204,null,13176,14298,null,null,306,2227,50084,844,81139]
["Agriculture / forestry",45,null,6141,57,null,null,54,70,2076,null,8443]
["Fishing",null,null,2088,1,null,null,3,null,287,null,2379]
["Non-specified",null,null,1607,95,null,null,7,551,391,null,2651]
["Non-energy use",1377,73,89614,2587,null,null,null,null,null,null,93650]
[]
[null,{"$f":"SUM(B9,B10:B21,B22*-1)","v":-1},{"$f":"SUM(C9,C10:C21,C22*-1)","v":0},0,2,0,0,0,0,0,1,-2]

{"sheet":"BL OECD Americas 2030","index":116,"n_rows":25,"n_cols":34,"rows_kept":25,"cut":false,"hidden":true,"merged":[]}
[null,"Consumption","Coal","Crude oil","Oil Products","Natual Gas","Nuclear","Hydro","Geothermal, solar, wind, etc.","Biofuels and waste","Electricity","Heat","Energy Services","Total consumption","OECD Americas 2030",null,null,"Faktor","Total production","Efficiency","Production","Coal","Crude oil","Oil Products","Natual Gas","Nuclear","Hydro","Geothermal, solar, wind, etc.","Biofuels and waste","Electricity","Heat","Energy Services","Loss","CO2-emissions"]
["ID","C ","CC","CCO","COP","CNG","CNU","CHY","CGSW","CWB","CE","CH","CES","fbrbr",null,"ID","ID Parent","factor","pbrpr","pvrkg","P ","PC","PCO","POP","PNG","PNU","PHY","PGSW","PWB","PE","PH","PES","PTAB","PCO2"]
["ID Parent",null,"C","C","C ","C ","C ","C","C","C ","C ","C ","C ",null,"Structures",null,null,null,null,null,null,"P ","P ","P ","P ","P ","P ","P","P ","P ","P ","P "]
["Factor",null,null,null,null,null,null,null,null,null,null,null,null,null,null,null,null,null,null,null,{"$f":"B4","v":0},null,null,null,null,null,null,null,null,null,null,null,{"$f":"U4","v":0},{"$f":"U4","v":0}]
[null,null,null,null,null,null,null,null,null,null,null,null,null,{"$f":"SUM(C5:M5)","v":0},"Entry fuels","ETP",null,null,{"$f":"SUM(V5:AF5)","v":{"$error":"#REF!"}},null,null,{"$f":"-(C6+C5)","v":{"$error":"#REF!"}},{"$f":"-(D6+D5)","v":{"$error":"#REF!"}},null,{"$f":"-(F6+F5)","v":{"$error":"#REF!"}},{"$f":"-(G6+G5)","v":{"$error":"#REF!"}},null,null,{"$f":"-(J6+J5)","v":{"$error":"#REF!"}}]
[null,null,{"$f":"-V6","v":{"$error":"#REF!"}},{"$f":"-W6","v":{"$error":"#REF!"}},null,{"$f":"-Y6","v":{"$error":"#REF!"}},{"$f":"-Z6","v":{"$error":"#REF!"}},null,null,{"$f":"-AC6","v":{"$error":"#REF!"}},null,null,null,{"$f":"SUM(C6:M6)","v":{"$error":"#REF!"}},"Transport of fuels","TRAP",null,null,{"$f":"SUM(V6:AF6)","v":{"$error":"#REF!"}},null,null,{"$f":"-(C16+C8)","v":{"$error":"#REF!"}},{"$f":"-(D16+D8)","v":{"$error":"#REF!"}},null,{"$f":"-(F16+F8)","v":{"$error":"#REF!"}},{"$f":"-(G16+G8)","v":{"$error":"#REF!"}},null,null,{"$f":"-(J16+J8)","v":{"$error":"#REF!"}},null,null,null,{"$f":"-(N6+S6)","v":{"$error":"#REF!"}}]
[null,null,null,null,null,null,null,null,null,null,null,null,null,0,"Entry On-Grid RE ","ELP1",null,null,{"$error":"#REF!"},null,null,null,null,null,null,null,{"$f":"-H8","v":{"$error":"#REF!"}},{"$f":"-I8","v":{"$error":"#REF!"}}]
[null,null,{"$f":"SUM(C9:C13)","v":{"$error":"#REF!"}},{"$f":"SUM(D9:D13)","v":{"$error":"#REF!"}},{"$error":"#REF!"},{"$error":"#REF!"},{"$error":"#REF!"},{"$error":"#REF!"},{"$error":"#REF!"},{"$error":"#REF!"},{"$error":"#REF!"},{"$error":"#REF!"},0,{"$error":"#REF!"},"Entry electricity, district heating and oil products","ES",null,null,{"$error":"#REF!"},null,null,{"$f":"SUM(V9:V13)","v":0},null,{"$f":"(E14+E8)*-1","v":{"$error":"#REF!"}},null,null,null,null,null,{"$f":"(K14+K8)*-1","v":{"$error":"#REF!"}},{"$f":"(L14+L8)*-1","v":{"$error":"#REF!"}},null,{"$f":"-(N8+S8)","v":{"$error":"#REF!"}},{"$f":"SUM(AH9:AH13)","v":{"$error":"#REF!"}}]
[null,null,{"$f":"-($AD$9+$H$9+$I$9)/$T$9*#REF!","v":{"$error":"#REF!"}},{"$f":"-($AD$9+$H$9+$I$9)/$T$9*#REF!","v":{"$error":"#REF!"}},{"$f":"-($AD$9+$H$9+$I$9)/$T$9*#REF!","v":{"$error":"#REF!"}},{"$f":"-($AD$9+$H$9+$I$9)/$T$9*#REF!","v":{"$error":"#REF!"}},{"$f":"-($AD$9+$H$9+$I$9)/$T$9*#REF!","v":{"$error":"#REF!"}},{"$f":"AD9*#REF!*-1","v":{"$error":"#REF!"}},{"$f":"AD9*#REF!*-1","v":{"$error":"#REF!"}},{"$f":"-($AD$9+$H$9+$I$9)/$T$9*#REF!","v":{"$error":"#REF!"}},null,null,null,{"$error":"#REF!"},"Electricity-only plants","ESEP","ES",null,{"$error":"#REF!"},{"$f":"#REF!","v":{"$error":"#REF!"}},null,null,null,null,null,null,null,null,null,{"$f":"AD8-AD10","v":{"$error":"#REF!"}},null,null,{"$f":"-(S9+N9)","v":{"$error":"#REF!"}},{"$f":"-(C9*Emissionsfaktorer!$B$2*(1-#REF!)+D9*Emissionsfaktorer!$B$3+E9*Emissionsfaktorer!$B$4*(1-#REF!)+F9*Emissionsfaktorer!$B$5*(1-#REF!)+G9*Emissionsfaktorer!$B$6+H9*Emissionsfaktorer!$B$7+I9*Emissionsfaktorer!$B$8-J9*Emissionsfaktorer!B13*#REF!+K9*Emissionsfaktorer!$B$10+L9*Emissionsfaktorer!$B$11+M9*Emissionsfaktorer!$B$12)","v":{"$error":"#REF!"}}]
[null,null,{"$f":"-($AD$10+$AE$10+$H$10+$I$10)/$T$10*#REF!","v":{"$error":"#REF!"}},{"$f":"-($AD$10+$AE$10+$H$10+$I$10)/$T$10*#REF!","v":{"$error":"#REF!"}},{"$f":"-($AD$10+$AE$10+$H$10+$I$10)/$T$10*#REF!","v":{"$error":"#REF!"}},{"$f":"-($AD$10+$AE$10+$H$10+$I$10)/$T$10*#REF!","v":{"$error":"#REF!"}},{"$f":"-($AD$10+$AE$10+$H$10+$I$10)/$T$10*#REF!","v":{"$error":"#REF!"}},null,{"$f":"(AD10+AE10)*#REF!*-1","v":{"$error":"#REF!"}},{"$f":"-($AD$10+$AE$10+$H$10+$I$10)/$T$10*#REF!","v":{"$error":"#REF!"}},null,null,null,{"$error":"#REF!"},"CHP plants","ESCHP","ES",null,{"$error":"#REF!"},{"$f":"#REF!","v":{"$error":"#REF!"}},null,null,null,null,null,null,null,null,null,{"$f":"AE10*#REF!","v":{"$error":"#REF!"}},{"$f":"AE8*#REF!","v":{"$error":"#REF!"}},null,{"$f":"-(S10+N10)","v":{"$error":"#REF!"}},{"$f":"-(C10*Emissionsfaktorer!$B$2*(1-#REF!)+D10*Emissionsfaktorer!$B$3+E10*Emissionsfaktorer!$B$4*(1-#REF!)+F10*Emissionsfaktorer!$B$5*(1-#REF!)+G10*Emissionsfaktorer!$B$6+H10*Emissionsfaktorer!$B$7+I10*Emissionsfaktorer!$B$8-J10*Emissionsfaktorer!B14*#REF!+K10*Emissionsfaktorer!$B$10+L10*Emissionsfaktorer!$B$11+M10*Emissionsfaktorer!$B$12)","v":{"$error":"#REF!"}}]
[null,null,{"$f":"-($AE$11+$H$11+$I$11)/$T$11*#REF!","v":{"$error":"#REF!"}},{"$f":"-($AE$11+$H$11+$I$11)/$T$11*#REF!","v":{"$error":"#REF!"}},{"$f":"-($AE$11+$H$11+$I$11)/$T$11*#REF!","v":{"$error":"#REF!"}},{"$f":"-($AE$11+$H$11+$I$11)/$T$11*#REF!","v":{"$error":"#REF!"}},{"$f":"-($AE$11+$H$11+$I$11)/$T$11*#REF!","v":{"$error":"#REF!"}},null,{"$f":"AE11*#REF!*-1","v":{"$error":"#REF!"}},{"$f":"-($AE$11+$H$11+$I$11)/$T$11*#REF!","v":{"$error":"#REF!"}},{"$f":"AE11*#REF!*-1","v":{"$error":"#REF!"}},null,null,{"$error":"#REF!"},"Heat Plants","ESHP","ES",null,{"$error":"#REF!"},{"$f":"#REF!","v":{"$error":"#REF!"}},null,null,null,null,null,null,null,null,null,null,{"$f":"AE8*#REF!","v":{"$error":"#REF!"}},null,{"$f":"-(S11+N11)","v":{"$error":"#REF!"}},{"$f":"-(C11*Emissionsfaktorer!$B$2+D11*Emissionsfaktorer!$B$3+E11*Emissionsfaktorer!$B$4+F11*Emissionsfaktorer!$B$5+G11*Emissionsfaktorer!$B$6+H11*Emissionsfaktorer!$B$7+I11*Emissionsfaktorer!$B$8+J11*Emissionsfaktorer!$B$9+K11*Emissionsfaktorer!$B$10+L11*Emissionsfaktorer!$B$11+M11*Emissionsfaktorer!$B$12)","v":{"$error":"#REF!"}}]
[null,null,null,{"$f":"-X12/T12*#REF!","v":{"$error":"#REF!"}},null,null,null,null,null,{"$f":"-X12/T12*#REF!","v":{"$error":"#REF!"}},null,null,null,{"$error":"#REF!"},"Oil refineries","ESOR","ES",null,{"$error":"#REF!"},{"$f":"#REF!","v":{"$error":"#REF!"}},null,null,null,{"$f":"-(E9+E10+E11+E13+E14)","v":{"$error":"#REF!"}},null,null,null,null,null,null,null,null,{"$f":"-(S12+N12)","v":{"$error":"#REF!"}},{"$f":"J12*Emissionsfaktorer!B4","v":{"$error":"#REF!"}}]
[null,null,{"$f":"N13*#REF!","v":{"$error":"#REF!"}},{"$f":"N13*#REF!","v":{"$error":"#REF!"}},{"$f":"N13*#REF!","v":{"$error":"#REF!"}},{"$f":"N13*#REF!","v":{"$error":"#REF!"}},null,null,null,{"$f":"N13*#REF!","v":{"$error":"#REF!"}},{"$f":"N13*#REF!","v":{"$error":"#REF!"}},{"$f":"N13*#REF!","v":{"$error":"#REF!"}},null,{"$f":"N16*#REF!","v":{"$error":"#REF!"}},"Energy Industry one use","ESNSP","ES",null,0,0,null,null,null,null,null,null,null,null,null,null,null,null,{"$f":"-(S13+N13)","v":{"$error":"#REF!"}},{"$f":"-(C13*Emissionsfaktorer!$B$2+D13*Emissionsfaktorer!$B$3+E13*Emissionsfaktorer!$B$4+F13*Emissionsfaktorer!$B$5+G13*Emissionsfaktorer!$B$6+H13*Emissionsfaktorer!$B$7+I13*Emissionsfaktorer!$B$8+J13*Emissionsfaktorer!$B$9+K13*Emissionsfaktorer!$B$10+L13*Emissionsfaktorer!$B$11+M13*Emissionsfaktorer!$B$12)","v":{"$error":"#REF!"}}]
[null,null,null,null,{"$f":"-X14*1","v":{"$error":"#REF!"}},null,null,null,null,null,{"$f":"-AD14*(1+#REF!)","v":{"$error":"#REF!"}},{"$f":"-AE14*(1+#REF!)","v":{"$error":"#REF!"}},null,{"$error":"#REF!"},"Transport electricity, district heating and oil products","TRAS",null,null,{"$error":"#REF!"},null,null,null,null,{"$f":"-E16","v":{"$error":"#REF!"}},null,null,null,null,null,{"$f":"-K16","v":{"$error":"#REF!"}},{"$f":"-L16","v":{"$error":"#REF!"}},null,{"$f":"-(N14+S14)","v":{"$error":"#REF!"}}]
[null,null,null,null,null,null,null,null,null,null,null,null,null,0,"Entry Off-Grid RE","ELP2",null,null,{"$error":"#REF!"},null,null,null,null,null,null,null,null,{"$f":"I16*-1","v":{"$error":"#REF!"}}]
[null,null,{"$f":"SUM(C17:C19)","v":{"$error":"#REF!"}},{"$error":"#REF!"},{"$error":"#REF!"},{"$error":"#REF!"},0,0,{"$error":"#REF!"},{"$error":"#REF!"},{"$error":"#REF!"},{"$error":"#REF!"},0,{"$f":"#REF!","v":{"$error":"#REF!"}},"Exit energy","EX",null,null,{"$error":"#REF!"},null,null,null,null,null,null,null,null,null,null,null,null,{"$f":"SUM(AF17:AF19)","v":{"$error":"#REF!"}},{"$f":"SUM(AG17:AG19)","v":{"$error":"#REF!"}},{"$f":"SUM(AH17:AH19)","v":{"$error":"#REF!"}}]
[null,null,{"$f":"AF17*#REF!/T17*#REF!/#REF!*-1","v":{"$error":"#REF!"}},{"$f":"AF17*#REF!/T17*#REF!/#REF!*-1","v":{"$error":"#REF!"}},{"$f":"AF17*#REF!/T17*#REF!/#REF!*-1","v":{"$error":"#REF!"}},{"$f":"AF17*#REF!/T17*#REF!/#REF!*-1","v":{"$error":"#REF!"}},null,null,{"$f":"AF17*#REF!/T17*#REF!/#REF!*-1","v":{"$error":"#REF!"}},{"$f":"AF17*#REF!*#REF!/T17/#REF!*-1","v":{"$error":"#REF!"}},{"$f":"AF17*#REF!*#REF!/T17/#REF!*-1","v":{"$error":"#REF!"}},{"$f":"AF17*#REF!*#REF!/T17/#REF!*-1","v":{"$error":"#REF!"}},null,{"$f":"SUM(C17:L17)","v":{"$error":"#REF!"}},"Industry","EXI","EX",null,{"$error":"#REF!"},{"$f":"(#REF!+#REF!+#REF!+#REF!+#REF!)*#REF!+(#REF!+#REF!)*#REF!+#REF!*#REF!","v":{"$error":"#REF!"}},null,null,null,null,null,null,null,null,null,null,null,{"$f":"#REF!*#REF!*((#REF!+#REF!+#REF!+#REF!+#REF!)*#REF!+(#REF!+#REF!)*#REF!+#REF!*#REF!)*-1","v":{"$error":"#REF!"}},{"$f":"(S17+SUM(C17:M17))*-1","v":{"$error":"#REF!"}},{"$f":"-(C17*Emissionsfaktorer!$B$2+D17*Emissionsfaktorer!$B$3+E17*Emissionsfaktorer!$B$4+F17*Emissionsfaktorer!$B$5+G17*Emissionsfaktorer!$B$6+H17*Emissionsfaktorer!$B$7+I17*Emissionsfaktorer!$B$8+J17*Emissionsfaktorer!$B$9+K17*Emissionsfaktorer!$B$10+L17*Emissionsfaktorer!$B$11+M17*Emissionsfaktorer!$B$12)","v":{"$error":"#REF!"}}]
[null,null,{"$f":"AF18*#REF!/T18*#REF!/#REF!*-1","v":{"$error":"#REF!"}},null,{"$f":"AF18*#REF!/T18*#REF!/#REF!*-1","v":{"$error":"#REF!"}},{"$f":"AF18*#REF!/T18*#REF!/#REF!*-1","v":{"$error":"#REF!"}},null,null,{"$f":"AF18*#REF!/T18*#REF!/#REF!*-1","v":{"$error":"#REF!"}},{"$f":"AF18*#REF!/T18*#REF!/#REF!*-1","v":{"$error":"#REF!"}},{"$f":"AF18*#REF!/T18*#REF!/#REF!*-1","v":{"$error":"#REF!"}},{"$f":"AF18*#REF!/T18*#REF!/#REF!*-1","v":{"$error":"#REF!"}},null,{"$f":"SUM(C18:L18)","v":{"$error":"#REF!"}},"Transport","EXT","EX",null,{"$error":"#REF!"},{"$f":"(#REF!+#REF!+#REF!+#REF!)*#REF!+(#REF!+#REF!)*#REF!+#REF!*#REF!","v":{"$error":"#REF!"}},null,null,null,null,null,null,null,null,null,null,null,{"$f":"#REF!*#REF!*-1*((#REF!+#REF!+#REF!+#REF!)*#REF!+(#REF!+#REF!)*#REF!+#REF!*#REF!)","v":{"$error":"#REF!"}},{"$f":"(S18+SUM(C18:M18))*-1","v":{"$error":"#REF!"}},{"$f":"-(C18*Emissionsfaktorer!$B$2+D18*Emissionsfaktorer!$B$3+E18*Emissionsfaktorer!$B$4+F18*Emissionsfaktorer!$B$5+G18*Emissionsfaktorer!$B$6+H18*Emissionsfaktorer!$B$7+I18*Emissionsfaktorer!$B$8+J18*Emissionsfaktorer!$B$9+K18*Emissionsfaktorer!$B$10+L18*Emissionsfaktorer!$B$11+M18*Emissionsfaktorer!$B$12)","v":{"$error":"#REF!"}}]
[null,null,{"$f":"SUM(C20:C24)","v":{"$error":"#REF!"}},{"$f":"SUM(D20:D24)","v":0},{"$error":"#REF!"},{"$error":"#REF!"},0,0,{"$error":"#REF!"},{"$error":"#REF!"},{"$error":"#REF!"},{"$error":"#REF!"},0,{"$f":"SUM(N20:N24)","v":{"$error":"#REF!"}},"Other ","EXO","EX",null,{"$error":"#REF!"},0.8,null,{"$f":"SUM(V20:V24)","v":0},{"$f":"SUM(W20:W24)","v":0},0,0,0,0,0,0,0,0,{"$error":"#REF!"},{"$error":"#REF!"},{"$error":"#REF!"}]
[null,null,{"$f":"AF20*#REF!/T20*#REF!/#REF!*-1","v":{"$error":"#REF!"}},null,{"$f":"AF20*#REF!/T20*#REF!/#REF!*-1","v":{"$error":"#REF!"}},{"$f":"AF20*#REF!/T20*#REF!/#REF!*-1","v":{"$error":"#REF!"}},null,null,{"$f":"AF20*#REF!/T20*#REF!/#REF!*-1","v":{"$error":"#REF!"}},{"$f":"AF20*#REF!/T20*#REF!/#REF!*-1","v":{"$error":"#REF!"}},{"$f":"AF20*#REF!/T20*#REF!/#REF!*-1","v":{"$error":"#REF!"}},{"$f":"AF20*#REF!/T20*#REF!/#REF!*-1","v":{"$error":"#REF!"}},null,{"$f":"SUM(C20:L20)","v":{"$error":"#REF!"}},"Residential","EXOR","EXO",null,{"$error":"#REF!"},{"$f":"(#REF!+#REF!+#REF!+#REF!)*#REF!+(#REF!+#REF!)*#REF!+#REF!*#REF!","v":{"$error":"#REF!"}},null,null,null,null,null,null,null,null,null,null,null,{"$f":"#REF!*#REF!*((#REF!+#REF!+#REF!+#REF!)*#REF!+(#REF!+#REF!)*#REF!+#REF!*#REF!)*-1","v":{"$error":"#REF!"}},{"$f":"(N20+AF20)*-1","v":{"$error":"#REF!"}},{"$f":"-(C20*Emissionsfaktorer!$B$2+D20*Emissionsfaktorer!$B$3+E20*Emissionsfaktorer!$B$4+F20*Emissionsfaktorer!$B$5+G20*Emissionsfaktorer!$B$6+H20*Emissionsfaktorer!$B$7+I20*Emissionsfaktorer!$B$8+J20*Emissionsfaktorer!$B$9+K20*Emissionsfaktorer!$B$10+L20*Emissionsfaktorer!$B$11+M20*Emissionsfaktorer!$B$12)","v":{"$error":"#REF!"}}]
[null,null,{"$f":"AF21*#REF!/T21*#REF!/#REF!*-1","v":{"$error":"#REF!"}},null,{"$f":"AF21*#REF!/T21*#REF!/#REF!*-1","v":{"$error":"#REF!"}},{"$f":"AF21*#REF!/T21*#REF!/#REF!*-1","v":{"$error":"#REF!"}},null,null,{"$f":"AF21*#REF!/T21*#REF!/#REF!*-1","v":{"$error":"#REF!"}},{"$f":"AF21*#REF!/T21*#REF!/#REF!*-1","v":{"$error":"#REF!"}},{"$f":"AF21*#REF!/T21*#REF!/#REF!*-1","v":{"$error":"#REF!"}},{"$f":"AF21*#REF!/T21*#REF!/#REF!*-1","v":{"$error":"#REF!"}},null,{"$f":"SUM(C21:L21)","v":{"$error":"#REF!"}},"Commercial and public services","EXOC","EXO",null,{"$error":"#REF!"},{"$f":"(#REF!+#REF!+#REF!+#REF!)*#REF!+(#REF!+#REF!)*#REF!+#REF!*#REF!","v":{"$error":"#REF!"}},null,null,null,null,null,null,null,null,null,null,null,{"$f":"#REF!*#REF!*((#REF!+#REF!+#REF!+#REF!)*#REF!+(#REF!+#REF!)*#REF!+#REF!*#REF!)*-1","v":{"$error":"#REF!"}},{"$f":"(N21+AF21)*-1","v":{"$error":"#REF!"}},{"$f":"-(C21*Emissionsfaktorer!$B$2+D21*Emissionsfaktorer!$B$3+E21*Emissionsfaktorer!$B$4+F21*Emissionsfaktorer!$B$5+G21*Emissionsfaktorer!$B$6+H21*Emissionsfaktorer!$B$7+I21*Emissionsfaktorer!$B$8+J21*Emissionsfaktorer!$B$9+K21*Emissionsfaktorer!$B$10+L21*Emissionsfaktorer!$B$11+M21*Emissionsfaktorer!$B$12)","v":{"$error":"#REF!"}}]
[null,null,{"$f":"AF22*#REF!/T22*#REF!/#REF!*-1","v":{"$error":"#REF!"}},null,{"$f":"AF22*#REF!/T22*#REF!/#REF!*-1","v":{"$error":"#REF!"}},{"$f":"AF22*#REF!/T22*#REF!/#REF!*-1","v":{"$error":"#REF!"}},null,null,{"$f":"AF22*#REF!/T22*#REF!/#REF!*-1","v":{"$error":"#REF!"}},{"$f":"AF22*#REF!/T22*#REF!/#REF!*-1","v":{"$error":"#REF!"}},{"$f":"AF22*#REF!/T22*#REF!/#REF!*-1","v":{"$error":"#REF!"}},{"$f":"AF22*#REF!/T22*#REF!/#REF!*-1","v":{"$error":"#REF!"}},null,{"$f":"SUM(C22:L22)","v":{"$error":"#REF!"}},"Agriculture / forestry","EXOA","EXO",null,{"$error":"#REF!"},{"$f":"(#REF!+#REF!+#REF!+#REF!)*#REF!+(#REF!+#REF!)*#REF!+#REF!*#REF!","v":{"$error":"#REF!"}},null,null,null,null,null,null,null,null,null,null,null,{"$f":"((#REF!+#REF!+#REF!+#REF!)*#REF!+(#REF!+#REF!)*#REF!+#REF!*#REF!)*#REF!*#REF!*-1","v":{"$error":"#REF!"}},{"$f":"(N22+AF22)*-1","v":{"$error":"#REF!"}},{"$f":"-(C22*Emissionsfaktorer!$B$2+D22*Emissionsfaktorer!$B$3+E22*Emissionsfaktorer!$B$4+F22*Emissionsfaktorer!$B$5+G22*Emissionsfaktorer!$B$6+H22*Emissionsfaktorer!$B$7+I22*Emissionsfaktorer!$B$8+J22*Emissionsfaktorer!$B$9+K22*Emissionsfaktorer!$B$10+L22*Emissionsfaktorer!$B$11+M22*Emissionsfaktorer!$B$12)","v":{"$error":"#REF!"}}]
[null,null,{"$f":"AF23*#REF!/T23*#REF!/#REF!*-1","v":{"$error":"#REF!"}},null,{"$f":"AF23*#REF!/T23*#REF!/#REF!*-1","v":{"$error":"#REF!"}},{"$f":"AF23*#REF!/T23*#REF!/#REF!*-1","v":{"$error":"#REF!"}},null,null,{"$f":"AF23*#REF!/T23*#REF!/#REF!*-1","v":{"$error":"#REF!"}},{"$f":"AF23*#REF!/T23*#REF!/#REF!*-1","v":{"$error":"#REF!"}},{"$f":"AF23*#REF!/T23*#REF!/#REF!*-1","v":{"$error":"#REF!"}},{"$f":"AF23*#REF!/T23*#REF!/#REF!*-1","v":{"$error":"#REF!"}},null,{"$f":"SUM(C23:L23)","v":{"$error":"#REF!"}},"Fishing","EXOF","EXO",null,{"$error":"#REF!"},{"$f":"(#REF!+#REF!+#REF!+#REF!)*#REF!+(#REF!+#REF!)*#REF!+#REF!*#REF!","v":{"$error":"#REF!"}},null,null,null,null,null,null,null,null,null,null,null,{"$f":"((#REF!+#REF!+#REF!+#REF!)*#REF!+(#REF!+#REF!)*#REF!+#REF!*#REF!)*#REF!*#REF!*-1","v":{"$error":"#REF!"}},{"$f":"(N23+AF23)*-1","v":{"$error":"#REF!"}},{"$f":"-(C23*Emissionsfaktorer!$B$2+D23*Emissionsfaktorer!$B$3+E23*Emissionsfaktorer!$B$4+F23*Emissionsfaktorer!$B$5+G23*Emissionsfaktorer!$B$6+H23*Emissionsfaktorer!$B$7+I23*Emissionsfaktorer!$B$8+J23*Emissionsfaktorer!$B$9+K23*Emissionsfaktorer!$B$10+L23*Emissionsfaktorer!$B$11+M23*Emissionsfaktorer!$B$12)","v":{"$error":"#REF!"}}]
[null,null,{"$f":"AF24*#REF!/T24*#REF!/#REF!*-1","v":{"$error":"#REF!"}},null,{"$f":"AF24*#REF!/T24*#REF!/#REF!*-1","v":{"$error":"#REF!"}},{"$f":"AF24*#REF!/T24*#REF!/#REF!*-1","v":{"$error":"#REF!"}},null,null,{"$f":"AF24*#REF!/T24*#REF!/#REF!*-1","v":{"$error":"#REF!"}},{"$f":"AF24*#REF!/T24*#REF!/#REF!*-1","v":{"$error":"#REF!"}},{"$f":"AF24*#REF!/T24*#REF!/#REF!*-1","v":{"$error":"#REF!"}},{"$f":"AF24*#REF!/T24*#REF!/#REF!*-1","v":{"$error":"#REF!"}},null,{"$f":"SUM(C24:L24)","v":{"$error":"#REF!"}},"Non-specified","EXON","EXO",null,{"$error":"#REF!"},{"$f":"(#REF!+#REF!+#REF!+#REF!)*#REF!+(#REF!+#REF!)*#REF!+#REF!*#REF!","v":{"$error":"#REF!"}},null,null,null,null,null,null,null,null,null,null,null,{"$f":"((#REF!+#REF!+#REF!+#REF!)*#REF!+(#REF!+#REF!)*#REF!+#REF!*#REF!)*#REF!*#REF!*-1","v":{"$error":"#REF!"}},{"$f":"(N24+AF24)*-1","v":{"$error":"#REF!"}},{"$f":"-(C24*Emissionsfaktorer!$B$2+D24*Emissionsfaktorer!$B$3+E24*Emissionsfaktorer!$B$4+F24*Emissionsfaktorer!$B$5+G24*Emissionsfaktorer!$B$6+H24*Emissionsfaktorer!$B$7+I24*Emissionsfaktorer!$B$8+J24*Emissionsfaktorer!$B$9+K24*Emissionsfaktorer!$B$10+L24*Emissionsfaktorer!$B$11+M24*Emissionsfaktorer!$B$12)","v":{"$error":"#REF!"}}]
[null,null,null,null,null,null,null,null,null,null,null,null,null,{"$f":"N16","v":{"$error":"#REF!"}},"Energy Services","EN",null,null,{"$error":"#REF!"},{"$f":"AF25/N25*-1","v":{"$error":"#REF!"}},null,null,null,null,null,null,null,null,null,null,null,{"$f":"AF16","v":{"$error":"#REF!"}},{"$f":"-(S25+N25)","v":{"$error":"#REF!"}}]

{"sheet":"BL OECD Americas 2050","index":117,"n_rows":25,"n_cols":34,"rows_kept":25,"cut":false,"hidden":true,"merged":[]}
[null,"Consumption","Coal","Crude oil","Oil Products","Natual Gas","Nuclear","Hydro","Geothermal, solar, wind, etc.","Biofuels and waste","Electricity","Heat","Energy Services","Total consumption","OECD Americas 2050",null,null,"Faktor","Total production","Efficiency","Production","Coal","Crude oil","Oil Products","Natual Gas","Nuclear","Hydro","Geothermal, solar, wind, etc.","Biofuels and waste","Electricity","Heat","Energy Services","Loss","CO2-emissions"]
["ID","C ","CC","CCO","COP","CNG","CNU","CHY","CGSW","CWB","CE","CH","CES","fbrbr",null,"ID","ID Parent","factor","pbrpr","pvrkg","P ","PC","PCO","POP","PNG","PNU","PHY","PGSW","PWB","PE","PH","PES","PTAB","PCO2"]
["ID Parent",null,"C","C","C ","C ","C ","C","C","C ","C ","C ","C ",null,"Structures",null,null,null,null,null,null,"P ","P ","P ","P ","P ","P ","P","P ","P ","P ","P "]
["Factor",null,null,null,null,null,null,null,null,null,null,null,null,null,null,null,null,null,null,null,{"$f":"B4","v":0},null,null,null,null,null,null,null,null,null,null,null,{"$f":"U4","v":0},{"$f":"U4","v":0}]
[null,null,null,null,null,null,null,null,null,null,null,null,null,{"$f":"SUM(C5:M5)","v":0},"Entry fuels","ETP",null,null,{"$f":"SUM(V5:AF5)","v":{"$error":"#REF!"}},null,null,{"$f":"-(C6+C5)","v":{"$error":"#REF!"}},{"$f":"-(D6+D5)","v":{"$error":"#REF!"}},null,{"$f":"-(F6+F5)","v":{"$error":"#REF!"}},{"$f":"-(G6+G5)","v":{"$error":"#REF!"}},null,null,{"$f":"-(J6+J5)","v":{"$error":"#REF!"}}]
[null,null,{"$f":"-V6","v":{"$error":"#REF!"}},{"$f":"-W6","v":{"$error":"#REF!"}},null,{"$f":"-Y6","v":{"$error":"#REF!"}},{"$f":"-Z6","v":{"$error":"#REF!"}},null,null,{"$f":"-AC6","v":{"$error":"#REF!"}},null,null,null,{"$f":"SUM(C6:M6)","v":{"$error":"#REF!"}},"Transport of fuels","TRAP",null,null,{"$f":"SUM(V6:AF6)","v":{"$error":"#REF!"}},null,null,{"$f":"-(C16+C8)","v":{"$error":"#REF!"}},{"$f":"-(D16+D8)","v":{"$error":"#REF!"}},null,{"$f":"-(F16+F8)","v":{"$error":"#REF!"}},{"$f":"-(G16+G8)","v":{"$error":"#REF!"}},null,null,{"$f":"-(J16+J8)","v":{"$error":"#REF!"}},null,null,null,{"$f":"-(N6+S6)","v":{"$error":"#REF!"}}]
[null,null,null,null,null,null,null,null,null,null,null,null,null,0,"Entry On-Grid RE ","ELP1",null,null,{"$error":"#REF!"},null,null,null,null,null,null,null,{"$f":"-H8","v":{"$error":"#REF!"}},{"$f":"-I8","v":{"$error":"#REF!"}}]
[null,null,{"$f":"SUM(C9:C13)","v":{"$error":"#REF!"}},{"$f":"SUM(D9:D13)","v":{"$error":"#REF!"}},{"$error":"#REF!"},{"$error":"#REF!"},{"$error":"#REF!"},{"$error":"#REF!"},{"$error":"#REF!"},{"$error":"#REF!"},{"$error":"#REF!"},{"$error":"#REF!"},0,{"$error":"#REF!"},"Entry electricity, district heating and oil products","ES",null,null,{"$error":"#REF!"},null,null,{"$f":"SUM(V9:V13)","v":0},null,{"$f":"(E14+E8)*-1","v":{"$error":"#REF!"}},null,null,null,null,null,{"$f":"(K14+K8)*-1","v":{"$error":"#REF!"}},{"$f":"(L14+L8)*-1","v":{"$error":"#REF!"}},null,{"$f":"-(N8+S8)","v":{"$error":"#REF!"}},{"$f":"SUM(AH9:AH13)","v":{"$error":"#REF!"}}]
[null,null,{"$f":"-($AD$9+$H$9+$I$9)/$T$9*#REF!","v":{"$error":"#REF!"}},{"$f":"-($AD$9+$H$9+$I$9)/$T$9*#REF!","v":{"$error":"#REF!"}},{"$f":"-($AD$9+$H$9+$I$9)/$T$9*#REF!","v":{"$error":"#REF!"}},{"$f":"-($AD$9+$H$9+$I$9)/$T$9*#REF!","v":{"$error":"#REF!"}},{"$f":"-($AD$9+$H$9+$I$9)/$T$9*#REF!","v":{"$error":"#REF!"}},{"$f":"AD9*#REF!*-1","v":{"$error":"#REF!"}},{"$f":"AD9*#REF!*-1","v":{"$error":"#REF!"}},{"$f":"-($AD$9+$H$9+$I$9)/$T$9*#REF!","v":{"$error":"#REF!"}},null,null,null,{"$error":"#REF!"},"Electricity-only plants","ESEP","ES",null,{"$error":"#REF!"},{"$f":"#REF!","v":{"$error":"#REF!"}},null,null,null,null,null,null,null,null,null,{"$f":"AD8-AD10","v":{"$error":"#REF!"}},null,null,{"$f":"-(S9+N9)","v":{"$error":"#REF!"}},{"$f":"-(C9*Emissionsfaktorer!$B$2*(1-#REF!)+D9*Emissionsfaktorer!$B$3+E9*Emissionsfaktorer!$B$4*(1-#REF!)+F9*Emissionsfaktorer!$B$5*(1-#REF!)+G9*Emissionsfaktorer!$B$6+H9*Emissionsfaktorer!$B$7+I9*Emissionsfaktorer!$B$8-J9*Emissionsfaktorer!B13*#REF!+K9*Emissionsfaktorer!$B$10+L9*Emissionsfaktorer!$B$11+M9*Emissionsfaktorer!$B$12)","v":{"$error":"#REF!"}}]
[null,null,{"$f":"-($AD$10+$AE$10+$H$10+$I$10)/$T$10*#REF!","v":{"$error":"#REF!"}},{"$f":"-($AD$10+$AE$10+$H$10+$I$10)/$T$10*#REF!","v":{"$error":"#REF!"}},{"$f":"-($AD$10+$AE$10+$H$10+$I$10)/$T$10*#REF!","v":{"$error":"#REF!"}},{"$f":"-($AD$10+$AE$10+$H$10+$I$10)/$T$10*#REF!","v":{"$error":"#REF!"}},{"$f":"-($AD$10+$AE$10+$H$10+$I$10)/$T$10*#REF!","v":{"$error":"#REF!"}},null,{"$f":"(AD10+AE10)*#REF!*-1","v":{"$error":"#REF!"}},{"$f":"-($AD$10+$AE$10+$H$10+$I$10)/$T$10*#REF!","v":{"$error":"#REF!"}},null,null,null,{"$error":"#REF!"},"CHP plants","ESCHP","ES",null,{"$error":"#REF!"},{"$f":"#REF!","v":{"$error":"#REF!"}},null,null,null,null,null,null,null,null,null,{"$f":"AE10*#REF!","v":{"$error":"#REF!"}},{"$f":"AE8*#REF!","v":{"$error":"#REF!"}},null,{"$f":"-(S10+N10)","v":{"$error":"#REF!"}},{"$f":"-(C10*Emissionsfaktorer!$B$2*(1-#REF!)+D10*Emissionsfaktorer!$B$3+E10*Emissionsfaktorer!$B$4*(1-#REF!)+F10*Emissionsfaktorer!$B$5*(1-#REF!)+G10*Emissionsfaktorer!$B$6+H10*Emissionsfaktorer!$B$7+I10*Emissionsfaktorer!$B$8-J10*Emissionsfaktorer!B14*#REF!+K10*Emissionsfaktorer!$B$10+L10*Emissionsfaktorer!$B$11+M10*Emissionsfaktorer!$B$12)","v":{"$error":"#REF!"}}]
[null,null,{"$f":"-($AE$11+$H$11+$I$11)/$T$11*#REF!","v":{"$error":"#REF!"}},{"$f":"-($AE$11+$H$11+$I$11)/$T$11*#REF!","v":{"$error":"#REF!"}},{"$f":"-($AE$11+$H$11+$I$11)/$T$11*#REF!","v":{"$error":"#REF!"}},{"$f":"-($AE$11+$H$11+$I$11)/$T$11*#REF!","v":{"$error":"#REF!"}},{"$f":"-($AE$11+$H$11+$I$11)/$T$11*#REF!","v":{"$error":"#REF!"}},null,{"$f":"AE11*#REF!*-1","v":{"$error":"#REF!"}},{"$f":"-($AE$11+$H$11+$I$11)/$T$11*#REF!","v":{"$error":"#REF!"}},{"$f":"AE11*#REF!*-1","v":{"$error":"#REF!"}},null,null,{"$error":"#REF!"},"Heat Plants","ESHP","ES",null,{"$error":"#REF!"},{"$f":"#REF!","v":{"$error":"#REF!"}},null,null,null,null,null,null,null,null,null,null,{"$f":"AE8*#REF!","v":{"$error":"#REF!"}},null,{"$f":"-(S11+N11)","v":{"$error":"#REF!"}},{"$f":"-(C11*Emissionsfaktorer!$B$2+D11*Emissionsfaktorer!$B$3+E11*Emissionsfaktorer!$B$4+F11*Emissionsfaktorer!$B$5+G11*Emissionsfaktorer!$B$6+H11*Emissionsfaktorer!$B$7+I11*Emissionsfaktorer!$B$8+J11*Emissionsfaktorer!$B$9+K11*Emissionsfaktorer!$B$10+L11*Emissionsfaktorer!$B$11+M11*Emissionsfaktorer!$B$12)","v":{"$error":"#REF!"}}]
[null,null,null,{"$f":"-X12/T12*#REF!","v":{"$error":"#REF!"}},null,null,null,null,null,{"$f":"-X12/T12*#REF!","v":{"$error":"#REF!"}},null,null,null,{"$error":"#REF!"},"Oil refineries","ESOR","ES",null,{"$error":"#REF!"},{"$f":"#REF!","v":{"$error":"#REF!"}},null,null,null,{"$f":"-(E9+E10+E11+E13+E14)","v":{"$error":"#REF!"}},null,null,null,null,null,null,null,null,{"$f":"-(S12+N12)","v":{"$error":"#REF!"}},{"$f":"J12*Emissionsfaktorer!B4","v":{"$error":"#REF!"}}]
[null,null,{"$f":"N13*#REF!","v":{"$error":"#REF!"}},{"$f":"N13*#REF!","v":{"$error":"#REF!"}},{"$f":"N13*#REF!","v":{"$error":"#REF!"}},{"$f":"N13*#REF!","v":{"$error":"#REF!"}},null,null,null,{"$f":"N13*#REF!","v":{"$error":"#REF!"}},{"$f":"N13*#REF!","v":{"$error":"#REF!"}},{"$f":"N13*#REF!","v":{"$error":"#REF!"}},null,{"$f":"N16*#REF!","v":{"$error":"#REF!"}},"Energy Industry one use","ESNSP","ES",null,0,0,null,null,null,null,null,null,null,null,null,null,null,null,{"$f":"-(S13+N13)","v":{"$error":"#REF!"}},{"$f":"-(C13*Emissionsfaktorer!$B$2+D13*Emissionsfaktorer!$B$3+E13*Emissionsfaktorer!$B$4+F13*Emissionsfaktorer!$B$5+G13*Emissionsfaktorer!$B$6+H13*Emissionsfaktorer!$B$7+I13*Emissionsfaktorer!$B$8+J13*Emissionsfaktorer!$B$9+K13*Emissionsfaktorer!$B$10+L13*Emissionsfaktorer!$B$11+M13*Emissionsfaktorer!$B$12)","v":{"$error":"#REF!"}}]
[null,null,null,null,{"$f":"-X14*1","v":{"$error":"#REF!"}},null,null,null,null,null,{"$f":"-AD14*(1+#REF!)","v":{"$error":"#REF!"}},{"$f":"-AE14*(1+#REF!)","v":{"$error":"#REF!"}},null,{"$error":"#REF!"},"Transport electricity, district heating and oil products","TRAS",null,null,{"$error":"#REF!"},null,null,null,null,{"$f":"-E16","v":{"$error":"#REF!"}},null,null,null,null,null,{"$f":"-K16","v":{"$error":"#REF!"}},{"$f":"-L16","v":{"$error":"#REF!"}},null,{"$f":"-(N14+S14)","v":{"$error":"#REF!"}}]
[null,null,null,null,null,null,null,null,null,null,null,null,null,0,"Entry Off-Grid RE","ELP2",null,null,{"$error":"#REF!"},null,null,null,null,null,null,null,null,{"$f":"I16*-1","v":{"$error":"#REF!"}}]
[null,null,{"$f":"SUM(C17:C19)","v":{"$error":"#REF!"}},{"$error":"#REF!"},{"$error":"#REF!"},{"$error":"#REF!"},0,0,{"$error":"#REF!"},{"$error":"#REF!"},{"$error":"#REF!"},{"$error":"#REF!"},0,{"$f":"#REF!","v":{"$error":"#REF!"}},"Exit energy","EX",null,null,{"$error":"#REF!"},null,null,null,null,null,null,null,null,null,null,null,null,{"$f":"SUM(AF17:AF19)","v":{"$error":"#REF!"}},{"$f":"SUM(AG17:AG19)","v":{"$error":"#REF!"}},{"$f":"SUM(AH17:AH19)","v":{"$error":"#REF!"}}]
[null,null,{"$f":"AF17*#REF!/T17*#REF!/#REF!*-1","v":{"$error":"#REF!"}},{"$f":"AF17*#REF!/T17*#REF!/#REF!*-1","v":{"$error":"#REF!"}},{"$f":"AF17*#REF!/T17*#REF!/#REF!*-1","v":{"$error":"#REF!"}},{"$f":"AF17*#REF!/T17*#REF!/#REF!*-1","v":{"$error":"#REF!"}},null,null,{"$f":"AF17*#REF!/T17*#REF!/#REF!*-1","v":{"$error":"#REF!"}},{"$f":"AF17*#REF!*#REF!/T17/#REF!*-1","v":{"$error":"#REF!"}},{"$f":"AF17*#REF!*#REF!/T17/#REF!*-1","v":{"$error":"#REF!"}},{"$f":"AF17*#REF!*#REF!/T17/#REF!*-1","v":{"$error":"#REF!"}},null,{"$f":"SUM(C17:L17)","v":{"$error":"#REF!"}},"Industry","EXI","EX",null,{"$error":"#REF!"},{"$f":"(#REF!+#REF!+#REF!+#REF!+#REF!)*#REF!+(#REF!+#REF!)*#REF!+#REF!*#REF!","v":{"$error":"#REF!"}},null,null,null,null,null,null,null,null,null,null,null,{"$f":"#REF!*#REF!*((#REF!+#REF!+#REF!+#REF!+#REF!)*#REF!+(#REF!+#REF!)*#REF!+#REF!*#REF!)*-1","v":{"$error":"#REF!"}},{"$f":"(S17+SUM(C17:M17))*-1","v":{"$error":"#REF!"}},{"$f":"-(C17*Emissionsfaktorer!$B$2+D17*Emissionsfaktorer!$B$3+E17*Emissionsfaktorer!$B$4+F17*Emissionsfaktorer!$B$5+G17*Emissionsfaktorer!$B$6+H17*Emissionsfaktorer!$B$7+I17*Emissionsfaktorer!$B$8+J17*Emissionsfaktorer!$B$9+K17*Emissionsfaktorer!$B$10+L17*Emissionsfaktorer!$B$11+M17*Emissionsfaktorer!$B$12)","v":{"$error":"#REF!"}}]
[null,null,{"$f":"AF18*#REF!/T18*#REF!/#REF!*-1","v":{"$error":"#REF!"}},null,{"$f":"AF18*#REF!/T18*#REF!/#REF!*-1","v":{"$error":"#REF!"}},{"$f":"AF18*#REF!/T18*#REF!/#REF!*-1","v":{"$error":"#REF!"}},null,null,{"$f":"AF18*#REF!/T18*#REF!/#REF!*-1","v":{"$error":"#REF!"}},{"$f":"AF18*#REF!/T18*#REF!/#REF!*-1","v":{"$error":"#REF!"}},{"$f":"AF18*#REF!/T18*#REF!/#REF!*-1","v":{"$error":"#REF!"}},{"$f":"AF18*#REF!/T18*#REF!/#REF!*-1","v":{"$error":"#REF!"}},null,{"$f":"SUM(C18:L18)","v":{"$error":"#REF!"}},"Transport","EXT","EX",null,{"$error":"#REF!"},{"$f":"(#REF!+#REF!+#REF!+#REF!)*#REF!+(#REF!+#REF!)*#REF!+#REF!*#REF!","v":{"$error":"#REF!"}},null,null,null,null,null,null,null,null,null,null,null,{"$f":"#REF!*#REF!*-1*((#REF!+#REF!+#REF!+#REF!)*#REF!+(#REF!+#REF!)*#REF!+#REF!*#REF!)","v":{"$error":"#REF!"}},{"$f":"(S18+SUM(C18:M18))*-1","v":{"$error":"#REF!"}},{"$f":"-(C18*Emissionsfaktorer!$B$2+D18*Emissionsfaktorer!$B$3+E18*Emissionsfaktorer!$B$4+F18*Emissionsfaktorer!$B$5+G18*Emissionsfaktorer!$B$6+H18*Emissionsfaktorer!$B$7+I18*Emissionsfaktorer!$B$8+J18*Emissionsfaktorer!$B$9+K18*Emissionsfaktorer!$B$10+L18*Emissionsfaktorer!$B$11+M18*Emissionsfaktorer!$B$12)","v":{"$error":"#REF!"}}]
[null,null,{"$f":"SUM(C20:C24)","v":{"$error":"#REF!"}},{"$f":"SUM(D20:D24)","v":0},{"$error":"#REF!"},{"$error":"#REF!"},0,0,{"$error":"#REF!"},{"$error":"#REF!"},{"$error":"#REF!"},{"$error":"#REF!"},0,{"$f":"SUM(N20:N24)","v":{"$error":"#REF!"}},"Other ","EXO","EX",null,{"$error":"#REF!"},0.8,null,{"$f":"SUM(V20:V24)","v":0},{"$f":"SUM(W20:W24)","v":0},0,0,0,0,0,0,0,0,{"$error":"#REF!"},{"$error":"#REF!"},{"$error":"#REF!"}]
[null,null,{"$f":"AF20*#REF!/T20*#REF!/#REF!*-1","v":{"$error":"#REF!"}},null,{"$f":"AF20*#REF!/T20*#REF!/#REF!*-1","v":{"$error":"#REF!"}},{"$f":"AF20*#REF!/T20*#REF!/#REF!*-1","v":{"$error":"#REF!"}},null,null,{"$f":"AF20*#REF!/T20*#REF!/#REF!*-1","v":{"$error":"#REF!"}},{"$f":"AF20*#REF!/T20*#REF!/#REF!*-1","v":{"$error":"#REF!"}},{"$f":"AF20*#REF!/T20*#REF!/#REF!*-1","v":{"$error":"#REF!"}},{"$f":"AF20*#REF!/T20*#REF!/#REF!*-1","v":{"$error":"#REF!"}},null,{"$f":"SUM(C20:L20)","v":{"$error":"#REF!"}},"Residential","EXOR","EXO",null,{"$error":"#REF!"},{"$f":"(#REF!+#REF!+#REF!+#REF!)*#REF!+(#REF!+#REF!)*#REF!+#REF!*#REF!","v":{"$error":"#REF!"}},null,null,null,null,null,null,null,null,null,null,null,{"$f":"#REF!*#REF!*((#REF!+#REF!+#REF!+#REF!)*#REF!+(#REF!+#REF!)*#REF!+#REF!*#REF!)*-1","v":{"$error":"#REF!"}},{"$f":"(N20+AF20)*-1","v":{"$error":"#REF!"}},{"$f":"-(C20*Emissionsfaktorer!$B$2+D20*Emissionsfaktorer!$B$3+E20*Emissionsfaktorer!$B$4+F20*Emissionsfaktorer!$B$5+G20*Emissionsfaktorer!$B$6+H20*Emissionsfaktorer!$B$7+I20*Emissionsfaktorer!$B$8+J20*Emissionsfaktorer!$B$9+K20*Emissionsfaktorer!$B$10+L20*Emissionsfaktorer!$B$11+M20*Emissionsfaktorer!$B$12)","v":{"$error":"#REF!"}}]
[null,null,{"$f":"AF21*#REF!/T21*#REF!/#REF!*-1","v":{"$error":"#REF!"}},null,{"$f":"AF21*#REF!/T21*#REF!/#REF!*-1","v":{"$error":"#REF!"}},{"$f":"AF21*#REF!/T21*#REF!/#REF!*-1","v":{"$error":"#REF!"}},null,null,{"$f":"AF21*#REF!/T21*#REF!/#REF!*-1","v":{"$error":"#REF!"}},{"$f":"AF21*#REF!/T21*#REF!/#REF!*-1","v":{"$error":"#REF!"}},{"$f":"AF21*#REF!/T21*#REF!/#REF!*-1","v":{"$error":"#REF!"}},{"$f":"AF21*#REF!/T21*#REF!/#REF!*-1","v":{"$error":"#REF!"}},null,{"$f":"SUM(C21:L21)","v":{"$error":"#REF!"}},"Commercial and public services","EXOC","EXO",null,{"$error":"#REF!"},{"$f":"(#REF!+#REF!+#REF!+#REF!)*#REF!+(#REF!+#REF!)*#REF!+#REF!*#REF!","v":{"$error":"#REF!"}},null,null,null,null,null,null,null,null,null,null,null,{"$f":"#REF!*#REF!*((#REF!+#REF!+#REF!+#REF!)*#REF!+(#REF!+#REF!)*#REF!+#REF!*#REF!)*-1","v":{"$error":"#REF!"}},{"$f":"(N21+AF21)*-1","v":{"$error":"#REF!"}},{"$f":"-(C21*Emissionsfaktorer!$B$2+D21*Emissionsfaktorer!$B$3+E21*Emissionsfaktorer!$B$4+F21*Emissionsfaktorer!$B$5+G21*Emissionsfaktorer!$B$6+H21*Emissionsfaktorer!$B$7+I21*Emissionsfaktorer!$B$8+J21*Emissionsfaktorer!$B$9+K21*Emissionsfaktorer!$B$10+L21*Emissionsfaktorer!$B$11+M21*Emissionsfaktorer!$B$12)","v":{"$error":"#REF!"}}]
[null,null,{"$f":"AF22*#REF!/T22*#REF!/#REF!*-1","v":{"$error":"#REF!"}},null,{"$f":"AF22*#REF!/T22*#REF!/#REF!*-1","v":{"$error":"#REF!"}},{"$f":"AF22*#REF!/T22*#REF!/#REF!*-1","v":{"$error":"#REF!"}},null,null,{"$f":"AF22*#REF!/T22*#REF!/#REF!*-1","v":{"$error":"#REF!"}},{"$f":"AF22*#REF!/T22*#REF!/#REF!*-1","v":{"$error":"#REF!"}},{"$f":"AF22*#REF!/T22*#REF!/#REF!*-1","v":{"$error":"#REF!"}},{"$f":"AF22*#REF!/T22*#REF!/#REF!*-1","v":{"$error":"#REF!"}},null,{"$f":"SUM(C22:L22)","v":{"$error":"#REF!"}},"Agriculture / forestry","EXOA","EXO",null,{"$error":"#REF!"},{"$f":"(#REF!+#REF!+#REF!+#REF!)*#REF!+(#REF!+#REF!)*#REF!+#REF!*#REF!","v":{"$error":"#REF!"}},null,null,null,null,null,null,null,null,null,null,null,{"$f":"((#REF!+#REF!+#REF!+#REF!)*#REF!+(#REF!+#REF!)*#REF!+#REF!*#REF!)*#REF!*#REF!*-1","v":{"$error":"#REF!"}},{"$f":"(N22+AF22)*-1","v":{"$error":"#REF!"}},{"$f":"-(C22*Emissionsfaktorer!$B$2+D22*Emissionsfaktorer!$B$3+E22*Emissionsfaktorer!$B$4+F22*Emissionsfaktorer!$B$5+G22*Emissionsfaktorer!$B$6+H22*Emissionsfaktorer!$B$7+I22*Emissionsfaktorer!$B$8+J22*Emissionsfaktorer!$B$9+K22*Emissionsfaktorer!$B$10+L22*Emissionsfaktorer!$B$11+M22*Emissionsfaktorer!$B$12)","v":{"$error":"#REF!"}}]
[null,null,{"$f":"AF23*#REF!/T23*#REF!/#REF!*-1","v":{"$error":"#REF!"}},null,{"$f":"AF23*#REF!/T23*#REF!/#REF!*-1","v":{"$error":"#REF!"}},{"$f":"AF23*#REF!/T23*#REF!/#REF!*-1","v":{"$error":"#REF!"}},null,null,{"$f":"AF23*#REF!/T23*#REF!/#REF!*-1","v":{"$error":"#REF!"}},{"$f":"AF23*#REF!/T23*#REF!/#REF!*-1","v":{"$error":"#REF!"}},{"$f":"AF23*#REF!/T23*#REF!/#REF!*-1","v":{"$error":"#REF!"}},{"$f":"AF23*#REF!/T23*#REF!/#REF!*-1","v":{"$error":"#REF!"}},null,{"$f":"SUM(C23:L23)","v":{"$error":"#REF!"}},"Fishing","EXOF","EXO",null,{"$error":"#REF!"},{"$f":"(#REF!+#REF!+#REF!+#REF!)*#REF!+(#REF!+#REF!)*#REF!+#REF!*#REF!","v":{"$error":"#REF!"}},null,null,null,null,null,null,null,null,null,null,null,{"$f":"((#REF!+#REF!+#REF!+#REF!)*#REF!+(#REF!+#REF!)*#REF!+#REF!*#REF!)*#REF!*#REF!*-1","v":{"$error":"#REF!"}},{"$f":"(N23+AF23)*-1","v":{"$error":"#REF!"}},{"$f":"-(C23*Emissionsfaktorer!$B$2+D23*Emissionsfaktorer!$B$3+E23*Emissionsfaktorer!$B$4+F23*Emissionsfaktorer!$B$5+G23*Emissionsfaktorer!$B$6+H23*Emissionsfaktorer!$B$7+I23*Emissionsfaktorer!$B$8+J23*Emissionsfaktorer!$B$9+K23*Emissionsfaktorer!$B$10+L23*Emissionsfaktorer!$B$11+M23*Emissionsfaktorer!$B$12)","v":{"$error":"#REF!"}}]
[null,null,{"$f":"AF24*#REF!/T24*#REF!/#REF!*-1","v":{"$error":"#REF!"}},null,{"$f":"AF24*#REF!/T24*#REF!/#REF!*-1","v":{"$error":"#REF!"}},{"$f":"AF24*#REF!/T24*#REF!/#REF!*-1","v":{"$error":"#REF!"}},null,null,{"$f":"AF24*#REF!/T24*#REF!/#REF!*-1","v":{"$error":"#REF!"}},{"$f":"AF24*#REF!/T24*#REF!/#REF!*-1","v":{"$error":"#REF!"}},{"$f":"AF24*#REF!/T24*#REF!/#REF!*-1","v":{"$error":"#REF!"}},{"$f":"AF24*#REF!/T24*#REF!/#REF!*-1","v":{"$error":"#REF!"}},null,{"$f":"SUM(C24:L24)","v":{"$error":"#REF!"}},"Non-specified","EXON","EXO",null,{"$error":"#REF!"},{"$f":"(#REF!+#REF!+#REF!+#REF!)*#REF!+(#REF!+#REF!)*#REF!+#REF!*#REF!","v":{"$error":"#REF!"}},null,null,null,null,null,null,null,null,null,null,null,{"$f":"((#REF!+#REF!+#REF!+#REF!)*#REF!+(#REF!+#REF!)*#REF!+#REF!*#REF!)*#REF!*#REF!*-1","v":{"$error":"#REF!"}},{"$f":"(N24+AF24)*-1","v":{"$error":"#REF!"}},{"$f":"-(C24*Emissionsfaktorer!$B$2+D24*Emissionsfaktorer!$B$3+E24*Emissionsfaktorer!$B$4+F24*Emissionsfaktorer!$B$5+G24*Emissionsfaktorer!$B$6+H24*Emissionsfaktorer!$B$7+I24*Emissionsfaktorer!$B$8+J24*Emissionsfaktorer!$B$9+K24*Emissionsfaktorer!$B$10+L24*Emissionsfaktorer!$B$11+M24*Emissionsfaktorer!$B$12)","v":{"$error":"#REF!"}}]
[null,null,null,null,null,null,null,null,null,null,null,null,null,{"$f":"N16","v":{"$error":"#REF!"}},"Energy Services","EN",null,null,{"$error":"#REF!"},{"$f":"AF25/N25*-1","v":{"$error":"#REF!"}},null,null,null,null,null,null,null,null,null,null,null,{"$f":"AF16","v":{"$error":"#REF!"}},{"$f":"-(S25+N25)","v":{"$error":"#REF!"}}]

{"sheet":"OECD Americas 1995","index":118,"n_rows":32,"n_cols":12,"rows_kept":32,"cut":false,"hidden":true,"merged":[]}
[null,"Coal*","Crude oil","Oil products","Natural gas","Nuclear","Hydro","Geothermal, solar, etc.","Biofuels and waste","Electricity","Heat","Total**"]
[null,"ktoe","ktoe","ktoe","ktoe","ktoe","ktoe","ktoe","ktoe","ktoe","ktoe","ktoe"]
["Production",575843,669588,null,589869,213745,59844,18508,96169,null,null,2223566]
["Imports",14760,457603,56204,67800,null,null,null,34,4759,null,601160]
["Exports",-80645,-135185,-56809,-68506,null,null,null,-59,-4689,null,-345893]
["International marine bunkers",null,null,-30668,null,null,null,null,null,null,null,-30668]
["International aviation bunkers",null,null,-18877,null,null,null,null,null,null,null,-18877]
["Stock changes",-2581,5522,7667,11408,null,null,null,17,null,null,22033]
["TES",507377,997527,-42482,600571,213745,59844,18508,96161,70,null,2451321]
["Transfers",null,-53546,59214,null,null,null,null,null,null,null,5668]
["Statistical differences",17615,2155,-5814,-8540,null,null,144,5,-38,-48,5478]
["Electricity plants",-454814,-415,-33892,-82054,-213683,-59844,-18221,-12254,341050,null,-534128]
["CHP plants",-15979,null,-85,-54999,-62,null,null,-31293,28568,8648,-65203]
["Heat plants",-824,null,null,-1346,null,null,null,-63,null,1895,-338]
["Gas works",-2017,null,-1314,2207,null,null,null,-34,null,null,-1158]
["Oil refineries",null,-945906,944966,null,null,null,null,null,null,null,-940]
["Coal transformation",-14825,null,null,null,null,null,null,null,null,null,-14825]
["Liquefication plants"]
["Other transformation",null,604,-87,-1428,null,null,null,-274,null,null,-1185]
["Energy industry own use",-1061,-420,-66059,-63542,null,null,null,null,-30440,-864,-162385]
["Losses",-41,null,null,null,null,null,null,null,-26883,-1468,-28392]
["Total final consumption",35431,null,854446,390869,null,null,431,52249,312327,8163,1653914]
["Industry",32085,null,41149,141290,null,null,1,20921,112741,6025,354213]
["Transport",null,null,585364,21454,null,null,null,2649,766,null,610233]
["Residential",1817,null,41199,127316,null,null,14,27261,103944,null,301552]
["Commercial and public services",1104,null,19044,80060,null,null,10,1417,93483,2135,197252]
["Agriculture / forestry",null,null,19427,492,null,null,null,null,1383,2,21304]
["Fishing",31,null,96,null,null,null,null,null,10,null,137]
["Non-specified",null,null,null,null,null,null,406,null,null,null,406]
["Non-energy use",393,null,148167,20257,null,null,null,null,null,null,168817]
[]
[null,{"$f":"SUM(B9,B10:B21,B22*-1)","v":0},{"$f":"SUM(C9,C10:C21,C22*-1)","v":-1},1,0,0,0,0,-1,0,0,-1]

{"sheet":"OECD Americas 2000","index":119,"n_rows":32,"n_cols":12,"rows_kept":32,"cut":false,"hidden":true,"merged":[]}
[null,"Coal*","Crude oil","Oil products","Natural gas","Nuclear","Hydro","Geothermal, solar, etc.","Biofuels and waste","Electricity","Heat","Total**"]
[null,"ktoe","ktoe","ktoe","ktoe","ktoe","ktoe","ktoe","ktoe","ktoe","ktoe","ktoe"]
["Production",577185,665651,null,630294,228963,57039,20312,100727,null,null,2280172]
["Imports",30025,581543,105970,95190,null,null,null,64,5692,null,818485]
["Exports",-57614,-177985,-64570,-88462,null,null,null,-89,-5663,null,-394383]
["International marine bunkers",null,null,-30911,null,null,null,null,null,null,null,-30911]
["International aviation bunkers",null,null,-23382,null,null,null,null,null,null,null,-23382]
["Stock changes",25993,1952,-212,25665,null,null,null,51,null,null,53448]
["TES",575590,1071161,-13106,662686,228963,57039,20312,100754,29,null,2703427]
["Transfers",null,-54140,62996,null,null,null,null,null,null,null,8856]
["Statistical differences",14883,-4740,24789,-6092,null,null,null,233,-1659,-48,27365]
["Electricity plants",-514168,-501,-74803,-110730,-228963,-57039,-18309,-12040,388128,null,-628426]
["CHP plants",-21221,null,-9029,-45917,null,null,null,-12296,31238,8560,-48665]
["Heat plants",null,null,null,null,null,null,null,-63,null,33,-30]
["Gas works",-1828,null,-1147,1960,null,null,null,-5,null,null,-1020]
["Oil refineries",null,-1011919,1016284,null,null,null,null,null,null,null,4364]
["Coal transformation",-13643,null,null,null,null,null,null,null,null,null,-13643]
["Liquefication plants"]
["Other transformation",null,490,-47,-1456,null,null,null,-278,null,null,-1292]
["Energy industry own use",-1858,-350,-65907,-71174,null,null,null,null,-33311,-1291,-173891]
["Losses",-37,null,null,null,null,null,null,null,-26466,-1160,-27664]
["Total final consumption",37718,null,940029,429276,null,null,2003,76305,357959,6094,1849384]
["Industry",34994,null,41646,169028,null,null,113,46267,125001,4977,422025]
["Transport",null,null,657738,19952,null,null,null,3321,882,null,681893]
["Residential",1388,null,43878,130817,null,null,1682,23976,118056,null,319796]
["Commercial and public services",909,null,19884,84216,null,null,208,1243,112486,1116,220062]
["Agriculture / forestry",null,null,19047,586,null,null,null,null,1505,1,21140]
["Fishing",9,null,168,null,null,null,null,null,14,null,191]
["Non-specified",null,null,null,null,null,null,null,1497,15,null,1513]
["Non-energy use",418,null,157668,24678,null,null,null,null,null,null,182763]
[]
[null,{"$f":"SUM(B9,B10:B21,B22*-1)","v":0},{"$f":"SUM(C9,C10:C21,C22*-1)","v":1},1,1,0,0,0,0,0,0,-3]

{"sheet":"OECD Americas 2005","index":120,"n_rows":32,"n_cols":12,"rows_kept":32,"cut":false,"hidden":true,"merged":[]}
[null,"Coal*","Crude oil","Oil products","Natural gas","Nuclear","Hydro","Geothermal, solar, etc.","Biofuels and waste","Electricity","Heat","Total**"]
[null,"ktoe","ktoe","ktoe","ktoe","ktoe","ktoe","ktoe","ktoe","ktoe","ktoe","ktoe"]
["Production",607185,663358,null,616234,238039,59205,18086,103823,null,null,2305931]
["Imports",39931,659478,156222,121667,null,null,null,439,5709,null,983446]
["Exports",-46449,-197555,-81789,-104307,null,null,null,-264,-5562,null,-435925]
["International marine bunkers",null,null,-28579,null,null,null,null,null,null,null,-28579]
["International aviation bunkers",null,null,-27084,null,null,null,null,null,null,null,-27084]
["Stock changes",2625,-7969,1704,7685,null,null,null,36,null,null,4082]
["TES",603292,1117312,20475,641279,238039,59205,18086,104035,147,null,2801871]
["Transfers",null,-62165,66417,null,null,null,null,null,null,null,4252]
["Statistical differences",-18041,-12466,-1691,5438,null,null,null,-1,-2784,350,-29194]
["Electricity plants",-520585,null,-48134,-134574,-238039,-59205,-15916,-14391,416465,null,-614380]
["CHP plants",-15932,null,-5923,-51187,null,null,null,-10890,30036,6492,-47404]
["Heat plants",null,null,null,null,null,null,null,-71,null,39,-33]
["Gas works",-1790,null,-1100,1966,null,null,null,null,null,null,-925]
["Oil refineries",null,-1044558,1047079,null,null,null,null,null,null,null,2521]
["Coal transformation",-5871,null,-6,null,null,null,null,null,null,null,-5877]
["Liquefication plants"]
["Other transformation",null,1876,-27,-1736,null,null,null,-277,null,null,-164]
["Energy industry own use",-2568,null,-69340,-85270,null,null,null,null,-31908,-1990,-191076]
["Losses",-21,null,null,-5058,null,null,null,null,-28655,-716,-34450]
["Total final consumption",38484,null,1007750,370857,null,null,2170,78404,383302,4175,1885142]
["Industry",35420,null,50514,125292,null,null,112,43706,107137,3428,365610]
["Transport",null,null,704255,18510,null,null,null,8251,1016,null,732032]
["Residential",55,null,39674,127624,null,null,1682,24202,134224,null,327462]
["Commercial and public services",2117,null,20703,79977,null,null,375,2055,121964,746,227937]
["Agriculture / forestry",430,null,22479,2264,null,null,null,189,5104,1,30467]
["Fishing",12,null,98,15,null,null,null,null,11,null,135]
["Non-specified",null,null,null,null,null,null,null,null,13845,null,13846]
["Non-energy use",451,null,170027,17175,null,null,null,null,null,null,187652]
[]
[null,{"$f":"SUM(B9,B10:B21,B22*-1)","v":0},{"$f":"SUM(C9,C10:C21,C22*-1)","v":-1},0,1,0,0,0,1,-1,0,-1]

{"sheet":"OECD Americas 2010","index":121,"n_rows":32,"n_cols":12,"rows_kept":32,"cut":false,"hidden":true,"merged":[]}
[null,"Coal*","Crude oil","Oil products","Natural gas","Nuclear","Hydro","Geothermal, solar, etc.","Biofuels and waste","Electricity","Heat","Total**"]
[null,"ktoe","ktoe","ktoe","ktoe","ktoe","ktoe","ktoe","ktoe","ktoe","ktoe","ktoe"]
["Production",574045,670630,null,668342,243745,57822,23666,116371,null,null,2354620]
["Imports",28599,591111,133419,121297,null,null,null,662,5611,null,880699]
["Exports",-68467,-190900,-136380,-106091,null,null,null,-1308,-5564,null,-508709]
["International marine bunkers",null,null,-27904,null,null,null,null,null,null,null,-27904]
["International aviation bunkers",null,null,-26196,null,null,null,null,null,null,null,-26196]
["Stock changes",9251,-3089,1550,6932,null,null,null,-97,null,null,14546]
["TES",543427,1067752,-55510,690480,243745,57822,23666,115628,47,null,2687056]
["Transfers",null,-58433,63870,null,null,null,null,null,null,null,5437]
["Statistical differences",-1835,-9171,6481,10066,null,null,null,-1630,-1615,-140,2156]
["Electricity plants",-480634,null,-22318,-181889,-243745,-57822,-21355,-15536,425315,null,-597983]
["CHP plants",-13429,null,-2964,-45815,null,null,null,-7688,29825,12624,-27447]
["Heat plants",null,null,null,null,null,null,null,-174,null,94,-80]
["Gas works",-1908,null,-821,1846,null,null,null,-9,null,null,-893]
["Oil refineries",null,-999469,1013514,null,null,null,null,null,null,null,14045]
["Coal transformation",-8970,null,null,null,null,null,null,null,null,null,-8970]
["Liquefication plants"]
["Other transformation",null,2925,-81,-2733,null,null,null,-274,null,null,-163]
["Energy industry own use",-2123,null,-67695,-91259,null,null,null,-1,-34694,-4046,-199817]
["Losses",-19,null,null,-1547,null,null,null,null,-28901,-1458,-31925]
["Total final consumption",34511,3604,934475,379149,null,null,2311,90315,389977,7075,1841416]
["Industry",32640,60,44224,135200,null,null,5,37109,99781,5679,354698]
["Transport",null,32,670243,18797,null,null,null,24519,1042,null,714633]
["Residential",39,555,31200,125347,null,null,407,25646,143115,null,326309]
["Commercial and public services",1517,98,18703,81815,null,null,1859,1685,127849,1393,234919]
["Agriculture / forestry",null,82,22601,2061,null,null,null,1357,4859,null,30960]
["Fishing",5,null,275,2,null,null,null,null,7,null,288]
["Non-specified",null,null,null,null,null,null,40,null,13324,4,13367]
["Non-energy use",310,2777,147228,15927,null,null,null,null,null,null,166242]
[]
[null,{"$f":"SUM(B9,B10:B21,B22*-1)","v":-2},{"$f":"SUM(C9,C10:C21,C22*-1)","v":0},1,0,0,0,0,1,0,-1,0]

{"sheet":"OECD Americas 2015","index":122,"n_rows":32,"n_cols":12,"rows_kept":32,"cut":false,"hidden":true,"merged":[]}
[null,"Coal*","Crude oil","Oil products","Natural gas","Nuclear","Hydro","Geothermal, solar, etc.","Biofuels and waste","Electricity","Heat","Total**"]
[null,"ktoe","ktoe","ktoe","ktoe","ktoe","ktoe","ktoe","ktoe","ktoe","ktoe","ktoe"]
["Production",469173,940007,null,811031,245883,59146,38494,132011,null,null,2695745]
["Imports",22495,469040,128928,112759,null,null,null,3342,7407,null,743971]
["Exports",-62438,-269522,-204549,-106390,null,null,null,-2956,-6854,null,-652709]
["International marine bunkers",null,null,-18025,null,null,null,null,-175,null,null,-18200]
["International aviation bunkers",null,null,-28583,null,null,null,null,null,null,null,-28583]
["Stock changes",-18532,-11885,-5567,-14266,null,null,null,-516,null,null,-50766]
["TES",410699,1127640,-127796,803134,245883,59146,38494,131705,554,null,2689459]
["Transfers",null,-92900,100472,null,null,null,null,null,null,null,7571]
["Statistical differences",-950,-13725,20786,-1208,null,null,null,75,-415,100,4664]
["Electricity plants",-361953,null,-16046,-243091,-245883,-59146,-35642,-18380,428736,null,-551405]
["CHP plants",-8196,null,-3287,-50115,null,null,null,-11357,30506,10452,-31997]
["Heat plants",-1,null,null,null,null,null,null,-189,null,103,-87]
["Gas works",-1985,null,-769,1559,null,null,null,-1,null,null,-1196]
["Oil refineries",null,-1025097,997990,null,null,null,null,null,null,null,-27106]
["Coal transformation",-9510,null,null,null,null,null,null,null,null,null,-9510]
["Liquefication plants"]
["Other transformation",null,8384,-157,-7595,null,null,null,-73,null,null,560]
["Energy industry own use",-1860,null,-55761,-102237,null,null,null,-148,-34914,-3332,-198251]
["Losses",-15,null,null,-31,null,null,null,-1,-28627,-1199,-29873]
["Total final consumption",26229,4302,915433,400416,null,null,2852,101631,395840,6125,1852828]
["Industry",25340,null,35082,149393,null,null,11,39599,99997,4906,354328]
["Transport",null,null,678357,20232,null,null,null,36805,1531,null,736925]
["Residential",9,null,24378,124460,null,null,615,21837,140993,null,312293]
["Commercial and public services",680,null,15278,84802,null,null,2149,2197,131701,1199,238007]
["Agriculture / forestry",null,null,23001,2290,null,null,null,1193,5011,null,31495]
["Fishing",null,null,210,4,null,null,null,null,9,null,223]
["Non-specified",null,null,null,null,null,null,77,null,16598,20,16694]
["Non-energy use",200,4302,139127,19235,null,null,null,null,null,null,162863]
[]
[null,{"$f":"SUM(B9,B10:B21,B22*-1)","v":0},{"$f":"SUM(C9,C10:C21,C22*-1)","v":0},-1,0,0,0,0,0,0,-1,1]

{"sheet":"OECD Americas 2018","index":123,"n_rows":32,"n_cols":14,"rows_kept":32,"cut":false,"hidden":true,"merged":[]}
[null,"Coal*","Crude oil","Oil products","Natural gas","Nuclear","Hydro","Geothermal, solar, etc.","Biofuels and waste","Electricity","Heat","Total**"]
[null,"ktoe","ktoe","ktoe","ktoe","ktoe","ktoe","ktoe","ktoe","ktoe","ktoe","ktoe"]
["Production",407755,1058425,null,900523,249025,63400,52471,141984,null,null,2873584]
["Imports",21403,485283,155240,128020,null,null,null,2595,6467,null,799007]
["Exports",-88809,-387396,-249771,-151891,null,null,null,-5619,-6662,null,-890147]
["International marine bunkers",null,null,-23148,null,null,null,null,-137,null,null,-23286]
["International aviation bunkers",null,null,-31124,null,null,null,null,null,null,null,-31124]
["Stock changes",14724,-2753,293,7977,null,null,null,-248,null,null,19993]
["TES",355073,1153559,-148510,884629,249025,63400,52471,138575,-195,null,2748027]
["Transfers",null,-112955,124315,null,null,null,null,null,null,null,11360]
["Statistical differences",164,1160,21744,173,null,null,null,327,1499,193,25259]
["Electricity plants",-313810,null,-17472,-273724,-249025,-63400,-48548,-17946,443702,null,-540223,null,{"$f":"(B12*Emissionsfaktorer!B$2+D12*Emissionsfaktorer!B$4+E12*Emissionsfaktorer!B$5)*0.041872*-1","v":1957.1847924799999}]
["CHP plants",-6267,null,-2561,-47573,null,null,null,-11971,29739,11773,-26860,null,{"$f":"(B13*Emissionsfaktorer!B$2+D13*Emissionsfaktorer!B$4+E13*Emissionsfaktorer!B$5)*0.041872*-1","v":146.62159126400002}]
["Heat plants",-1,null,null,null,null,null,null,-189,null,103,-87,null,{"$f":"(B14*Emissionsfaktorer!B$2+D14*Emissionsfaktorer!B$4+E14*Emissionsfaktorer!B$5)*0.041872*-1","v":3.9778399999999998E-3}]
["Gas works",-1963,null,-780,1319,null,null,null,null,null,null,-1423,null,{"$f":"(B15*Emissionsfaktorer!B$2+D15*Emissionsfaktorer!B$4+E15*Emissionsfaktorer!B$5)*0.041872*-1","v":7.1426095039999993}]
["Oil refineries",null,-1044918,1018631,null,null,null,null,null,null,null,-26287,null,{"$f":"(B16*Emissionsfaktorer!B$2+D16*Emissionsfaktorer!B$4+E16*Emissionsfaktorer!B$5)*0.041872*-1","v":-3241.5609096319995}]
["Coal transformation",-8441,null,-1,null,null,null,null,null,null,null,-8442,null,{"$f":"(B17*Emissionsfaktorer!B$2+D17*Emissionsfaktorer!B$4+E17*Emissionsfaktorer!B$5)*0.041872*-1","v":33.580129712000002}]
["Liquefication plants",null,null,null,null,null,null,null,null,null,null,null,null,{"$f":"(B18*Emissionsfaktorer!B$2+D18*Emissionsfaktorer!B$4+E18*Emissionsfaktorer!B$5)*0.041872*-1","v":0}]
["Other transformation",null,8850,-34,-8267,null,null,null,-143,null,null,405,null,{"$f":"(B19*Emissionsfaktorer!B$2+D19*Emissionsfaktorer!B$4+E19*Emissionsfaktorer!B$5)*0.041872*-1","v":19.839079215999998}]
["Energy industry own use",-1708,null,-51552,-106569,null,null,null,-119,-38169,-3818,-201935,null,{"$f":"(B20*Emissionsfaktorer!B$2+D20*Emissionsfaktorer!B$4+E20*Emissionsfaktorer!B$5)*0.041872*-1","v":425.19529544}]
["Losses",-17,null,null,-69,null,null,null,null,-25425,-1365,-26876,null,{"$f":"(B21*Emissionsfaktorer!B$2+D21*Emissionsfaktorer!B$4+E21*Emissionsfaktorer!B$5)*0.041872*-1","v":0.23230585600000001}]
["Total final consumption",23031,5696,943780,449919,null,null,3924,108534,411151,6886,1952920,null,{"$f":"(B22*Emissionsfaktorer!B$2+D22*Emissionsfaktorer!B$4+E22*Emissionsfaktorer!B$5)*0.041872","v":4168.801778176}]
["Industry",22399,null,36549,163815,null,null,16,43115,98926,5530,370350,null,{"$f":"(B23*Emissionsfaktorer!B$2+D23*Emissionsfaktorer!B$4+E23*Emissionsfaktorer!B$5)*0.041872","v":596.38641324799994}]
["Transport",null,null,702325,25187,null,null,null,39585,1932,null,769028,null,{"$f":"(B24*Emissionsfaktorer!B$2+D24*Emissionsfaktorer!B$4+E24*Emissionsfaktorer!B$5)*0.041872","v":2295.1030960479998}]
["Residential",8,null,23761,134746,null,null,1923,21968,147125,null,329531,null,{"$f":"(B25*Emissionsfaktorer!B$2+D25*Emissionsfaktorer!B$4+E25*Emissionsfaktorer!B$5)*0.041872","v":397.244604896}]
["Commercial and public services",426,null,14665,95381,null,null,1883,2415,134065,1336,250172,null,{"$f":"(B26*Emissionsfaktorer!B$2+D26*Emissionsfaktorer!B$4+E26*Emissionsfaktorer!B$5)*0.041872","v":276.00879294400005}]
["Agriculture / forestry",null,null,23392,2447,null,null,null,1450,6029,null,33318,null,{"$f":"(B27*Emissionsfaktorer!B$2+D27*Emissionsfaktorer!B$4+E27*Emissionsfaktorer!B$5)*0.041872","v":80.279971312000001}]
["Fishing",1,null,237,2,null,null,null,null,11,null,251,null,{"$f":"(B28*Emissionsfaktorer!B$2+D28*Emissionsfaktorer!B$4+E28*Emissionsfaktorer!B$5)*0.041872","v":0.76294971199999995}]
["Non-specified",null,null,null,null,null,null,102,null,23062,20,23183,null,{"$f":"(B29*Emissionsfaktorer!B$2+D29*Emissionsfaktorer!B$4+E29*Emissionsfaktorer!B$5)*0.041872","v":0}]
["Non-energy use",197,5696,142851,28342,null,null,null,null,null,null,177086,null,{"$f":"(B30*Emissionsfaktorer!B$2+D30*Emissionsfaktorer!B$4+E30*Emissionsfaktorer!B$5)*0.041872","v":523.01833671999998}]
[null,null,null,null,null,null,null,null,null,null,null,null,null,{"$f":"(B31*Emissionsfaktorer!B$2+D31*Emissionsfaktorer!B$4+E31*Emissionsfaktorer!B$5)*0.041872*-1","v":0}]
[null,{"$f":"SUM(B9,B10:B21,B22*-1)","v":-1},{"$f":"SUM(C9,C10:C21,C22*-1)","v":0},0,0,0,0,-1,0,0,0,-2]

{"sheet":"Meta data","index":124,"n_rows":8,"n_cols":2,"rows_kept":8,"cut":false,"hidden":true,"merged":[]}
[]
["Culture","da-DK"]
["Navn","World e2g-balance 2050"]
["Type","Års"]
["Energi Enhed","PJ"]
["CO2 Enhed","mio. Ton"]
["Tab Sum"]
["CO2 Sum"]

{"sheet":"Størrelse på strømme","index":125,"n_rows":27,"n_cols":5,"rows_kept":27,"cut":false,"hidden":true,"merged":[]}
[]
[]
["Niveau 1"]
[null,"Størrelse","Energi","Under kasser","Energi/%"]
["Udgang transport af brændsel",50,null,1,{"$f":"(C5)/(B5-D5*4)","v":0}]
["Indgang On-Grid VE",14,null,null,{"$f":"(C6)/(B6-D6*4)","v":0}]
["Indgang el, fjernvarme og olieprodukter",60,null,5,0]
["Udgang el, fjernvarme og olieprodukter",50,null,5,0]
["Under el, fjernvarme og olieprodukter",5,null,null,0]
["Indgang transport af el, fjernvarme og olieprodukter",50,null,null,0]
["Indgang Off-Grid VE",10,null,null,0]
["Exit Energy",60,null,5,0]
["Tab konvertering",24,null,null,0]
["Tab slutforbrug",24,null,null,0]
["Tab transport af el mv.",7.6,null,null,0]
[]
[]
["Indgang el, varme  og olieprodukter",60,null,4,{"$f":"(C18)/(B18-D18*10)","v":0}]
["Tab indgang el, varme og olieprodukter",25,null,null,{"$f":"(C19)/(B19-D19*10)","v":0}]
["Udgang energi",60,null,3,0]
["Tab udgang",25,null,null,0]
["Energitjenester",60,null,4,0]
["Tab energitjenester",25,null,null,0]
["Transport brændsler",50,null,2,0]
["Tab transport af brændsler",25,null,null,0]
["Transport af el, varme og olieprodukter",50,null,2,0]
["Tab transport af el, varme og olieprodukter",25,null,null,0]